{"text_format":"1","workbook":"xlsx","n_sheets":12,"sheets":["Infos","Périmètre","Comprendre la codification","ABJ - Code produit","Param masqué","Codes éco-part","Codes","PMCB - Grille d'éco-part","PMCB - Grille forfaitaire","Codes petits producteurs","ABJ - Grille d'éco-part","Régime simplifié PMCB"],"not_rendered":{"charts":0,"images":3,"macros":1,"external_links":1,"defined_names":71,"comments":0,"pivot_tables":0},"unopened":[],"bounds":{"document_bytes":16777216,"sheet_cells":100000,"rows_first":2000,"rows_last":500,"rows_between":2000,"halvings":0,"cell_chars":16384,"cell_head_chars":4096},"cells_cut":0,"cells_raw":0,"read":"whole","date_system":"1900"}

{"sheet":"Infos","index":0,"n_rows":32,"n_cols":1,"rows_kept":32,"cut":false,"hidden":false,"merged":[[0,0,3,0]]}
["Présentation du générateur de codes d'éco-participation"]
[]
[]
[]
[]
["Créer les codes pour l'application de l'éco-participation sur les Articles de Bricolage et de Jardin (ABJ)"]
["Version 1.6 - 25 juillet 2023"]
["Ajout des codes produits seaux et auges\nRetrait des produits soumis à la REP PMCB (avis aux producteurs PMCB mai 2023)"]
[]
["A qui s’adresse cet outil ?"]
["Cet outil s'adresse aux metteurs sur le marché d'Articles de Bricolage et de Jardin (ABJ)"]
[]
["A quoi sert-il ? "]
["Ce fichier permet de générer les codes produits qui servent à déclarer les mises en marché.\nCes codes produits permettent d'appliquer le tarif de l'éco-participation aux Articles de Bricolage et de Jardin (ABJ) en fonction de leurs caractéristiques."]
["Pour comprendre comment est constitué ce code produit à 11 chiffres, cliquez sur l’onglet « Comprendre la codification »"]
[]
["Comment générer un code produit ? "]
["Pour générer un code produit cliquez sur l’onglet « Générateur code produit »\t"]
["Attention : Pour être certain de renseigner les bons codes lors de votre déclaration, utilisez l'onglet « Générateur code produit » et la fonction « copier-coller » en sélectionnant « collage spécial valeur absolue ».\n"]
[]
["Déclarer l’éco-participation"]
[]
["A quel moment faire votre déclaration ?  "]
["La première déclaration à partir des codes produits sera à réaliser en avril 2023 pour les mises en marché du 1er trimestre 2023. "]
["Remarque importante pour les ABJ : une déclaration simplifiée devra être réalisée en janvier 2023 sur la base du CA HT des mises en marché de décembre 2022. Toutes les informations sont à retrouver dans le guide adhérent. "]
["Pour les déclarations trimestrielles, celles-ci doivent être faites le mois suivant chaque trimestre calendaire (avril pour le T1, juillet pour le T2, octobre pour le T3 et janvier pour le T4)."]
[]
["Comment faire votre déclaration (avec les codes produits) ?"]
["La déclaration des mises en marché avec les codes produits se fait par saisie ou chargement d'un fichier* format .csv sur l'Extranet : https://espace-services.eco-mobilier.fr/\n*Vous pouvez télécharger le fichier type dans la rubrique Déclarations."]
[]
[]
["> Pour savoir comment effectuer votre déclaration, consultez le mode opératoire complet : https://espace-services.eco-mobilier.fr/mode-operatoire-declarer"]

{"sheet":"Périmètre","index":1,"n_rows":392,"n_cols":8,"rows_kept":392,"cut":false,"hidden":false,"merged":[[366,1,366,4],[5,1,5,4],[0,1,0,4],[190,1,190,4]]}
[null,{"$f":"MID(CELL(\"filename\",A1),FIND(\"]\",CELL(\"filename\",A1))+1,256)","v":{"$error":"#VALUE!"}}]
[]
[]
[null,"ARTICLES DE BRICOLAGE ET DE JARDIN - ABJ",null,null,"POUR INFORMATION - AGREMENT EN COURS (fin 2027)"]
[]
[null,"Articles de bricolage"]
[]
[null,100,"Outillage à main et leurs accessoires"]
[]
[null,null,"Rayon","Catégorie","Exemples de produits (non-exhaustif)"]
[null,null,{"$f":"$B$6","v":"Articles de bricolage"},{"$f":"$C$8","v":"Outillage à main et leurs accessoires"},"abrasifs en feuilles, en roulleaux…)"]
[null,null,"Articles de bricolage",{"$f":"$C$8","v":"Outillage à main et leurs accessoires"},"agrafeuse"]
[null,null,"Articles de bricolage",{"$f":"$C$8","v":"Outillage à main et leurs accessoires"},"arrache-liteaux"]
[null,null,"Articles de bricolage",{"$f":"$C$8","v":"Outillage à main et leurs accessoires"},"bande de ponçage"]
[null,null,"Articles de bricolage","Outillage à main et leurs accessoires","barre à creuser"]
[null,null,"Articles de bricolage","Outillage à main et leurs accessoires","barre à mine"]
[null,null,"Articles de bricolage","Outillage à main et leurs accessoires","bédane"]
[null,null,"Articles de bricolage","Outillage à main et leurs accessoires","boites et scies a onglets"]
[null,null,"Articles de bricolage","Outillage à main et leurs accessoires","burin"]
[null,null,"Articles de bricolage","Outillage à main et leurs accessoires","cale de ponçage"]
[null,null,"Articles de bricolage","Outillage à main et leurs accessoires","chevillette"]
[null,null,"Articles de bricolage",{"$f":"$C$8","v":"Outillage à main et leurs accessoires"},"ciseaux"]
[null,null,"Articles de bricolage",{"$f":"$C$8","v":"Outillage à main et leurs accessoires"},"ciseaux à bois"]
[null,null,"Articles de bricolage","Outillage à main et leurs accessoires","ciseaux à brique"]
[null,null,"Articles de bricolage","Outillage à main et leurs accessoires","Cle a molette"]
[null,null,{"$f":"$B$6","v":"Articles de bricolage"},{"$f":"$C$8","v":"Outillage à main et leurs accessoires"},"clé à pipe"]
[null,null,"Articles de bricolage","Outillage à main et leurs accessoires","clé diverses"]
[null,null,"Articles de bricolage","Outillage à main et leurs accessoires","clé dynamométrique"]
[null,null,"Articles de bricolage","Outillage à main et leurs accessoires","clé mixte"]
[null,null,"Articles de bricolage","Outillage à main et leurs accessoires","Cle suedoise ou cle serre tube"]
[null,null,"Articles de bricolage","Outillage à main et leurs accessoires","cliquets"]
[null,null,"Articles de bricolage","Outillage à main et leurs accessoires","coupe tube"]
[null,null,"Articles de bricolage","Outillage à main et leurs accessoires","Couteau"]
[null,null,"Articles de bricolage","Outillage à main et leurs accessoires","couteau à asphalte"]
[null,null,"Articles de bricolage","Outillage à main et leurs accessoires","couteau à enduire"]
[null,null,"Articles de bricolage","Outillage à main et leurs accessoires","couteau de bricolage , couteau de poche"]
[null,null,"Articles de bricolage","Outillage à main et leurs accessoires","cutter"]
[null,null,"Articles de bricolage","Outillage à main et leurs accessoires","douilles"]
[null,null,"Articles de bricolage","Outillage à main et leurs accessoires","embouts de vissage"]
[null,null,"Articles de bricolage","Outillage à main et leurs accessoires","emporte pieces"]
[null,null,"Articles de bricolage","Outillage à main et leurs accessoires","éponge abrasive"]
[null,null,"Articles de bricolage",{"$f":"$C$8","v":"Outillage à main et leurs accessoires"},"Eponge gros travaux"]
[null,null,"Articles de bricolage",{"$f":"$C$8","v":"Outillage à main et leurs accessoires"},"equerre (outil)"]
[null,null,"Articles de bricolage",{"$f":"$C$8","v":"Outillage à main et leurs accessoires"},"etais"]
[null,null,"Articles de bricolage",{"$f":"$C$8","v":"Outillage à main et leurs accessoires"},"etancheur"]
[null,null,"Articles de bricolage","Outillage à main et leurs accessoires","Extracteur et lisseur de joint"]
[null,null,"Articles de bricolage",{"$f":"$C$8","v":"Outillage à main et leurs accessoires"},"fil à plomb"]
[null,null,"Articles de bricolage",{"$f":"$C$8","v":"Outillage à main et leurs accessoires"},"grattoirs"]
[null,null,"Articles de bricolage",{"$f":"$C$8","v":"Outillage à main et leurs accessoires"},"grattoirs à béton"]
[null,null,"Articles de bricolage",{"$f":"$C$8","v":"Outillage à main et leurs accessoires"},"griffe à cintrer"]
[null,null,"Articles de bricolage","Outillage à main et leurs accessoires","griffe de zingueur"]
[null,null,"Articles de bricolage","Outillage à main et leurs accessoires","lame"]
[null,null,"Articles de bricolage","Outillage à main et leurs accessoires","lame de scie"]
[null,null,"Articles de bricolage","Outillage à main et leurs accessoires","limes et limes de précision"]
[null,null,"Articles de bricolage","Outillage à main et leurs accessoires","lisseur de joints"]
[null,null,"Articles de bricolage","Outillage à main et leurs accessoires","Machoire a sertir"]
[null,null,"Articles de bricolage","Outillage à main et leurs accessoires","maillet"]
[null,null,"Articles de bricolage","Outillage à main et leurs accessoires","maillet de pavage"]
[null,null,"Articles de bricolage","Outillage à main et leurs accessoires","marteau"]
[null,null,"Articles de bricolage","Outillage à main et leurs accessoires","marteau de pavage"]
[null,null,"Articles de bricolage","Outillage à main et leurs accessoires","masses"]
[null,null,"Articles de bricolage",{"$f":"$C$8","v":"Outillage à main et leurs accessoires"},"massette"]
[null,null,"Articles de bricolage","Outillage à main et leurs accessoires","mesure de précision"]
[null,null,"Articles de bricolage","Outillage à main et leurs accessoires","Metre"]
[null,null,"Articles de bricolage","Outillage à main et leurs accessoires","métrologie"]
[null,null,"Articles de bricolage","Outillage à main et leurs accessoires","niveau à bulle"]
[null,null,"Articles de bricolage","Outillage à main et leurs accessoires","Niveaux"]
[null,null,"Articles de bricolage","Outillage à main et leurs accessoires","outillage aep"]
[null,null,"Articles de bricolage","Outillage à main et leurs accessoires","outillage de fontainerie"]
[null,null,"Articles de bricolage","Outillage à main et leurs accessoires","outillage d'électricien"]
[null,null,"Articles de bricolage","Outillage à main et leurs accessoires","outillage du couvreur"]
[null,null,"Articles de bricolage","Outillage à main et leurs accessoires","outillage du maçon"]
[null,null,"Articles de bricolage","Outillage à main et leurs accessoires","outillage pour le travail du bois"]
[null,null,"Articles de bricolage","Outillage à main et leurs accessoires","outillage spécifique du plâtrier-plaquiste"]
[null,null,"Articles de bricolage","Outillage à main et leurs accessoires","outils de mesure et de traçage"]
[null,null,"Articles de bricolage","Outillage à main et leurs accessoires","outils du plombier"]
[null,null,"Articles de bricolage","Outillage à main et leurs accessoires","outils et accessoires du carreleur"]
[null,null,"Articles de bricolage","Outillage à main et leurs accessoires","outils pour travaux d'étanchéité"]
[null,null,"Articles de bricolage","Outillage à main et leurs accessoires","ouvre-caisse"]
[null,null,"Articles de bricolage","Outillage à main et leurs accessoires","pied de biche"]
[null,null,"Articles de bricolage","Outillage à main et leurs accessoires","Pince"]
[null,null,"Articles de bricolage","Outillage à main et leurs accessoires","pince à bec"]
[null,null,"Articles de bricolage","Outillage à main et leurs accessoires","pince à décoffrer"]
[null,null,"Articles de bricolage","Outillage à main et leurs accessoires","pince à sertir"]
[null,null,"Articles de bricolage","Outillage à main et leurs accessoires","pince coupe-boulon"]
[null,null,"Articles de bricolage","Outillage à main et leurs accessoires","pince de carrelleur"]
[null,null,"Articles de bricolage","Outillage à main et leurs accessoires","pince monseigneur"]
[null,null,{"$f":"$B$6","v":"Articles de bricolage"},"Outillage à main et leurs accessoires","pince rivet"]
[null,null,"Articles de bricolage","Outillage à main et leurs accessoires","pioche à bec, pioche de terrassement"]
[null,null,"Articles de bricolage","Outillage à main et leurs accessoires","pioche de terrassement"]
[null,null,"Articles de bricolage",{"$f":"$C$8","v":"Outillage à main et leurs accessoires"},"pistolet à cartouche"]
[null,null,"Articles de bricolage","Outillage à main et leurs accessoires","pistolet à colle"]
[null,null,"Articles de bricolage","Outillage à main et leurs accessoires","pistolet à poche"]
[null,null,"Articles de bricolage","Outillage à main et leurs accessoires","pointe à tracer"]
[null,null,"Articles de bricolage","Outillage à main et leurs accessoires","pointeau"]
[null,null,"Articles de bricolage","Outillage à main et leurs accessoires","pointerolle"]
[null,null,"Articles de bricolage","Outillage à main et leurs accessoires","pointes"]
[null,null,"Articles de bricolage","Outillage à main et leurs accessoires","presses"]
[null,null,"Articles de bricolage","Outillage à main et leurs accessoires","rabot"]
[null,null,"Articles de bricolage","Outillage à main et leurs accessoires","rape"]
[null,null,"Articles de bricolage","Outillage à main et leurs accessoires","Regle de bricolage "]
[null,null,"Articles de bricolage","Outillage à main et leurs accessoires","règle aluminium"]
[null,null,"Articles de bricolage","Outillage à main et leurs accessoires","riflard"]
[null,null,"Articles de bricolage","Outillage à main et leurs accessoires","scie à bois"]
[null,null,"Articles de bricolage","Outillage à main et leurs accessoires","scie à métaux"]
[null,null,{"$f":"$B$6","v":"Articles de bricolage"},{"$f":"$C$8","v":"Outillage à main et leurs accessoires"},"serre-joint"]
[null,null,{"$f":"$B$6","v":"Articles de bricolage"},{"$f":"$C$8","v":"Outillage à main et leurs accessoires"},"souflette"]
[null,null,"Articles de bricolage","Outillage à main et leurs accessoires","taloche"]
[null,null,{"$f":"$B$6","v":"Articles de bricolage"},{"$f":"$C$8","v":"Outillage à main et leurs accessoires"},"tamis"]
[null,null,{"$f":"$B$6","v":"Articles de bricolage"},{"$f":"$C$8","v":"Outillage à main et leurs accessoires"},"tenaille"]
[null,null,{"$f":"$B$6","v":"Articles de bricolage"},{"$f":"$C$8","v":"Outillage à main et leurs accessoires"},"tournevis"]
[null,null,"Articles de bricolage","Outillage à main et leurs accessoires","traçage et topographie"]
[null,null,{"$f":"$B$6","v":"Articles de bricolage"},{"$f":"$C$8","v":"Outillage à main et leurs accessoires"},"treteaux de sciage"]
[null,null,"Articles de bricolage","Outillage à main et leurs accessoires","Truelle"]
[null,null,"Articles de bricolage","Outillage à main et leurs accessoires","trusquin"]
[]
[]
[null,101,"Gros objets et machines non électriques et non thermiques et leurs accessoires"]
[]
[null,null,"Rayon","Catégorie","Exemples de produits (non-exhaustif)"]
[null,null,{"$f":"$B$6","v":"Articles de bricolage"},{"$f":"$C$118","v":"Gros objets et machines non électriques et non thermiques et leurs accessoires"},"boites encastrement pour appareillage et accessoires"]
[null,null,"Articles de bricolage","Gros objets et machines non électriques et non thermiques et leurs accessoires","chariot de manutention"]
[null,null,"Articles de bricolage","Gros objets et machines non électriques et non thermiques et leurs accessoires","Coupe carreaux"]
[null,null,"Articles de bricolage","Gros objets et machines non électriques et non thermiques et leurs accessoires","coupe carreaux manuel"]
[null,null,"Articles de bricolage","Gros objets et machines non électriques et non thermiques et leurs accessoires","enclumes"]
[null,null,{"$f":"$B$6","v":"Articles de bricolage"},{"$f":"$C$118","v":"Gros objets et machines non électriques et non thermiques et leurs accessoires"},"etaux"]
[null,null,{"$f":"$B$6","v":"Articles de bricolage"},{"$f":"$C$118","v":"Gros objets et machines non électriques et non thermiques et leurs accessoires"},"extracteur"]
[null,null,"Articles de bricolage","Gros objets et machines non électriques et non thermiques et leurs accessoires","leviers de force"]
[null,null,"Articles de bricolage","Gros objets et machines non électriques et non thermiques et leurs accessoires","lissarde à béton"]
[null,null,"Articles de bricolage","Gros objets et machines non électriques et non thermiques et leurs accessoires","marteau burineur"]
[null,null,"Articles de bricolage","Gros objets et machines non électriques et non thermiques et leurs accessoires","mesure longue"]
[null,null,"Articles de bricolage","Gros objets et machines non électriques et non thermiques et leurs accessoires","mire"]
[null,null,"Articles de bricolage","Gros objets et machines non électriques et non thermiques et leurs accessoires","nivelle pour mire"]
[null,null,"Articles de bricolage","Gros objets et machines non électriques et non thermiques et leurs accessoires","outillage de serrage et découpage"]
[null,null,"Articles de bricolage","Gros objets et machines non électriques et non thermiques et leurs accessoires","outillage lourd de carreleur"]
[null,null,"Articles de bricolage","Gros objets et machines non électriques et non thermiques et leurs accessoires","outillage pour tuyauterie"]
[null,null,"Articles de bricolage","Gros objets et machines non électriques et non thermiques et leurs accessoires","outils de terrassement"]
[null,null,"Articles de bricolage","Gros objets et machines non électriques et non thermiques et leurs accessoires","outils pneumatiques"]
[null,null,"Articles de bricolage","Gros objets et machines non électriques et non thermiques et leurs accessoires","Pistolet à clou (hors EEE)"]
[null,null,{"$f":"$B$6","v":"Articles de bricolage"},{"$f":"$C$118","v":"Gros objets et machines non électriques et non thermiques et leurs accessoires"},"racleur pehd"]
[null,null,"Articles de bricolage","Gros objets et machines non électriques et non thermiques et leurs accessoires","règle à niveau"]
[]
[]
[null,102,"Outils et supports de travail en hauteur"]
[]
[null,null,"Rayon","Catégorie","Exemples de produits (non-exhaustif)"]
[null,null,{"$f":"$B$6","v":"Articles de bricolage"},{"$f":"$C$144","v":"Outils et supports de travail en hauteur"},"accessoires de levage"]
[null,null,"Articles de bricolage","Outils et supports de travail en hauteur","accessoires de manutention"]
[null,null,"Articles de bricolage","Outils et supports de travail en hauteur","anneau de levage"]
[null,null,"Articles de bricolage","Outils et supports de travail en hauteur","crochet de levage"]
[null,null,"Articles de bricolage","Outils et supports de travail en hauteur","échafaudages et structures tubulaires"]
[null,null,"Articles de bricolage","Outils et supports de travail en hauteur","échafaudages mobiles"]
[null,null,{"$f":"$B$6","v":"Articles de bricolage"},{"$f":"$C$144","v":"Outils et supports de travail en hauteur"},"Echelle"]
[null,null,{"$f":"$B$6","v":"Articles de bricolage"},{"$f":"$C$144","v":"Outils et supports de travail en hauteur"},"echelle coulissante"]
[null,null,{"$f":"$B$6","v":"Articles de bricolage"},{"$f":"$C$144","v":"Outils et supports de travail en hauteur"},"echelle simple"]
[null,null,"Articles de bricolage","Outils et supports de travail en hauteur","echelle transformable"]
[null,null,"Articles de bricolage","Outils et supports de travail en hauteur","échelles téléscopiques "]
[null,null,"Articles de bricolage","Outils et supports de travail en hauteur","échelles pour chantiers"]
[null,null,"Articles de bricolage","Outils et supports de travail en hauteur","Escabeau"]
[null,null,"Articles de bricolage","Outils et supports de travail en hauteur","marche pied, marchepied"]
[null,null,"Articles de bricolage","Outils et supports de travail en hauteur","Marche pieds"]
[null,null,"Articles de bricolage","Outils et supports de travail en hauteur","tables élévatrices"]
[null,null,"Articles de bricolage","Outils et supports de travail en hauteur","treuil"]
[]
[]
[null,103,"Equipement personnel et accessoires de protection de bricolage"]
[]
[null,null,"Rayon","Catégorie","Exemples de produits (non-exhaustif)"]
[null,null,{"$f":"$B$6","v":"Articles de bricolage"},{"$f":"$C$166","v":"Equipement personnel et accessoires de protection de bricolage"},"bouchons anti-bruit"]
[null,null,"Articles de bricolage",{"$f":"$C$166","v":"Equipement personnel et accessoires de protection de bricolage"},"cartouches pour masques"]
[null,null,"Articles de bricolage","Equipement personnel et accessoires de protection de bricolage","casque de soudeur"]
[null,null,"Articles de bricolage","Equipement personnel et accessoires de protection de bricolage","casques de chantier"]
[null,null,{"$f":"$B$6","v":"Articles de bricolage"},{"$f":"$C$166","v":"Equipement personnel et accessoires de protection de bricolage"},"Casque de protection"]
[null,null,"Articles de bricolage","Equipement personnel et accessoires de protection de bricolage","chaussure de protection (ISO 20346 et 20345 : SB, SBP, S1, S1P, S2 et S3)"]
[null,null,"Articles de bricolage","Equipement personnel et accessoires de protection de bricolage","equipement du corps (visière, genouillère, jambière…)"]
[null,null,"Articles de bricolage","Equipement personnel et accessoires de protection de bricolage","gants de protection pour le bricolage"]
[null,null,"Articles de bricolage","Equipement personnel et accessoires de protection de bricolage","Lunettes de protection"]
[null,null,"Articles de bricolage","Equipement personnel et accessoires de protection de bricolage","masques"]
[null,null,"Articles de bricolage","Equipement personnel et accessoires de protection de bricolage","protection auditive"]
[null,null,"Articles de bricolage","Equipement personnel et accessoires de protection de bricolage","protection des yeux"]
[null,null,"Articles de bricolage","Equipement personnel et accessoires de protection de bricolage","Protection voies respiratoires"]
[]
[null,104,"Bâches, housses, filets et films de bricolage"]
[]
[null,null,"Rayon","Catégorie","Exemples de produits (non-exhaustif)"]
[null,null,{"$f":"B6","v":"Articles de bricolage"},{"$f":"$C$183","v":"Bâches, housses, filets et films de bricolage"},"bâche de bricolage"]
[]
[null,null,null,null,null,null,null,{"$f":"TRIM((LOWER(E188)))","v":""}]
[null,null," ",null,null,null,null,{"$f":"TRIM((LOWER(E189)))","v":""}]
[null,null,null,null,null,null,null,{"$f":"TRIM((LOWER(E190)))","v":""}]
[null,"Entretien et aménagement du jardin",null,null,null,null,null,{"$f":"TRIM((LOWER(E191)))","v":""}]
[null,null,null,null,null,null,null,{"$f":"TRIM((LOWER(E192)))","v":""}]
[null,150,"Outils à main d’entretien du jardin et petits accessoires",null,null,null,null,""]
[]
[null,null,"Rayon","Catégorie","Exemples de produits (non-exhaustif)"]
[null,null,{"$f":"$B$191","v":"Entretien et aménagement du jardin"},{"$f":"$C$193","v":"Outils à main d’entretien du jardin et petits accessoires"},"accessoires de culture"]
[null,null,"Entretien et aménagement du jardin","Outils à main d’entretien du jardin et petits accessoires","arrosage goutte à goutte"]
[null,null,"Entretien et aménagement du jardin","Outils à main d’entretien du jardin et petits accessoires","arroseur"]
[null,null,"Entretien et aménagement du jardin","Outils à main d’entretien du jardin et petits accessoires","Arrosoir"]
[null,null,"Entretien et aménagement du jardin","Outils à main d’entretien du jardin et petits accessoires","autres grands outils de jardin"]
[null,null,"Entretien et aménagement du jardin","Outils à main d’entretien du jardin et petits accessoires","balai à gazon"]
[null,null,"Entretien et aménagement du jardin","Outils à main d’entretien du jardin et petits accessoires","Balai de jardin"]
[null,null,"Entretien et aménagement du jardin","Outils à main d’entretien du jardin et petits accessoires","Beche"]
[null,null,"Entretien et aménagement du jardin","Outils à main d’entretien du jardin et petits accessoires","bisaigue"]
[null,null,"Entretien et aménagement du jardin","Outils à main d’entretien du jardin et petits accessoires","Brosse"]
[null,null,{"$f":"$B$191","v":"Entretien et aménagement du jardin"},{"$f":"$C$193","v":"Outils à main d’entretien du jardin et petits accessoires"},"bucheronnage"]
[null,null,"Entretien et aménagement du jardin","Outils à main d’entretien du jardin et petits accessoires","buse"]
[null,null,"Entretien et aménagement du jardin","Outils à main d’entretien du jardin et petits accessoires","Cisaille"]
[null,null,"Entretien et aménagement du jardin","Outils à main d’entretien du jardin et petits accessoires","cognée"]
[null,null,"Entretien et aménagement du jardin","Outils à main d’entretien du jardin et petits accessoires","coin éclateur"]
[null,null,"Entretien et aménagement du jardin","Outils à main d’entretien du jardin et petits accessoires","composteur"]
[null,null,"Entretien et aménagement du jardin","Outils à main d’entretien du jardin et petits accessoires","Coupe branche"]
[null,null,"Entretien et aménagement du jardin","Outils à main d’entretien du jardin et petits accessoires","coupe-bordure"]
[null,null,"Entretien et aménagement du jardin","Outils à main d’entretien du jardin et petits accessoires","cueille fruits"]
[null,null,"Entretien et aménagement du jardin","Outils à main d’entretien du jardin et petits accessoires","Devidoir enrouleur"]
[null,null,"Entretien et aménagement du jardin","Outils à main d’entretien du jardin et petits accessoires","divers arrosage et pulvérisation"]
[null,null,"Entretien et aménagement du jardin","Outils à main d’entretien du jardin et petits accessoires","enrouleurs de tuyau d'arrosage"]
[null,null,"Entretien et aménagement du jardin","Outils à main d’entretien du jardin et petits accessoires","epuisette"]
[null,null,"Entretien et aménagement du jardin","Outils à main d’entretien du jardin et petits accessoires","équipements d’entretien du jardin"]
[null,null,"Entretien et aménagement du jardin","Outils à main d’entretien du jardin et petits accessoires","faucheuse - débroussailleuse"]
[null,null,"Entretien et aménagement du jardin","Outils à main d’entretien du jardin et petits accessoires","faux / faucille"]
[null,null,"Entretien et aménagement du jardin","Outils à main d’entretien du jardin et petits accessoires","fendeur de bûche"]
[null,null,"Entretien et aménagement du jardin","Outils à main d’entretien du jardin et petits accessoires","Fourche"]
[null,null,"Entretien et aménagement du jardin","Outils à main d’entretien du jardin et petits accessoires","goutteur"]
[null,null,"Entretien et aménagement du jardin","Outils à main d’entretien du jardin et petits accessoires","Griffe"]
[null,null,"Entretien et aménagement du jardin","Outils à main d’entretien du jardin et petits accessoires","Hache"]
[null,null,"Entretien et aménagement du jardin","Outils à main d’entretien du jardin et petits accessoires","hâchette"]
[null,null,"Entretien et aménagement du jardin","Outils à main d’entretien du jardin et petits accessoires","lame de sécateur"]
[null,null,"Entretien et aménagement du jardin","Outils à main d’entretien du jardin et petits accessoires","manches d'outils "]
[null,null,"Entretien et aménagement du jardin","Outils à main d’entretien du jardin et petits accessoires","merlin de bûcheron"]
[null,null,"Entretien et aménagement du jardin","Outils à main d’entretien du jardin et petits accessoires","panier de plantation"]
[null,null,"Entretien et aménagement du jardin","Outils à main d’entretien du jardin et petits accessoires","Pelle"]
[null,null,"Entretien et aménagement du jardin","Outils à main d’entretien du jardin et petits accessoires","pelle, pelle à neige"]
[null,null,"Entretien et aménagement du jardin","Outils à main d’entretien du jardin et petits accessoires","petit outil de jardin"]
[null,null,"Entretien et aménagement du jardin","Outils à main d’entretien du jardin et petits accessoires","Pioche"]
[null,null,"Entretien et aménagement du jardin","Outils à main d’entretien du jardin et petits accessoires","pistolet"]
[null,null,"Entretien et aménagement du jardin","Outils à main d’entretien du jardin et petits accessoires","Pistolet arroseur"]
[null,null,"Entretien et aménagement du jardin","Outils à main d’entretien du jardin et petits accessoires","Pluviometre"]
[null,null,"Entretien et aménagement du jardin","Outils à main d’entretien du jardin et petits accessoires","pompe à bras "]
[null,null,"Entretien et aménagement du jardin","Outils à main d’entretien du jardin et petits accessoires","pulvérisateur"]
[null,null,"Entretien et aménagement du jardin","Outils à main d’entretien du jardin et petits accessoires","Rateau"]
[null,null,"Entretien et aménagement du jardin","Outils à main d’entretien du jardin et petits accessoires","sacs à déchets de jardin"]
[null,null,"Entretien et aménagement du jardin","Outils à main d’entretien du jardin et petits accessoires","Scie "]
[null,null,"Entretien et aménagement du jardin","Outils à main d’entretien du jardin et petits accessoires","scie à bûche"]
[null,null,"Entretien et aménagement du jardin","Outils à main d’entretien du jardin et petits accessoires","scie arboricole"]
[null,null,"Entretien et aménagement du jardin","Outils à main d’entretien du jardin et petits accessoires","scie de jardin"]
[null,null,"Entretien et aménagement du jardin","Outils à main d’entretien du jardin et petits accessoires","scie pour coupe-branches"]
[null,null,"Entretien et aménagement du jardin","Outils à main d’entretien du jardin et petits accessoires","Secateur"]
[null,null,"Entretien et aménagement du jardin","Outils à main d’entretien du jardin et petits accessoires","Serfouette"]
[null,null,"Entretien et aménagement du jardin","Outils à main d’entretien du jardin et petits accessoires","taillanderie"]
[null,null,"Entretien et aménagement du jardin","Outils à main d’entretien du jardin et petits accessoires","taille-haie"]
[null,null,"Entretien et aménagement du jardin","Outils à main d’entretien du jardin et petits accessoires","Thermometre"]
[null,null,"Entretien et aménagement du jardin","Outils à main d’entretien du jardin et petits accessoires","transplantoir"]
[null,null,"Entretien et aménagement du jardin","Outils à main d’entretien du jardin et petits accessoires","Transplantoir/deplantoir"]
[null,null,"Entretien et aménagement du jardin","Outils à main d’entretien du jardin et petits accessoires","Tuyaux d'arrosage"]
[]
[]
[null,151,"Equipement personnel et accessoires de protection de jardinage"]
[]
[null,null,"Rayon","Catégorie","Exemples de produits (non-exhaustif)"]
[null,null,{"$f":"$B$191","v":"Entretien et aménagement du jardin"},{"$f":"$C$258","v":"Equipement personnel et accessoires de protection de jardinage"},"combinaison de protection (phytosanitaire…)"]
[null,null,{"$f":"$B$191","v":"Entretien et aménagement du jardin"},{"$f":"$C$258","v":"Equipement personnel et accessoires de protection de jardinage"},"gants de jardinage"]
[]
[null,152,"Pots de fleur et contenants"]
[]
[null,null,"Rayon","Catégorie","Exemples de produits (non-exhaustif)"]
[null,null,{"$f":"$B$191","v":"Entretien et aménagement du jardin"},{"$f":"$C$264","v":"Pots de fleur et contenants"},"auge"]
[null,null,"Entretien et aménagement du jardin","Pots de fleur et contenants","Bac à arbuste"]
[null,null,"Entretien et aménagement du jardin","Pots de fleur et contenants","bac à fleur"]
[null,null,"Entretien et aménagement du jardin","Pots de fleur et contenants","Bac à fleurs"]
[null,null,"Entretien et aménagement du jardin","Pots de fleur et contenants","bacs"]
[null,null,"Entretien et aménagement du jardin","Pots de fleur et contenants","Balconniere"]
[null,null,"Entretien et aménagement du jardin","Pots de fleur et contenants","balconnière"]
[null,null,"Entretien et aménagement du jardin","Pots de fleur et contenants","bassin"]
[null,null,"Entretien et aménagement du jardin","Pots de fleur et contenants","Bassine"]
[null,null,"Entretien et aménagement du jardin","Pots de fleur et contenants","Carre potager"]
[null,null,"Entretien et aménagement du jardin","Pots de fleur et contenants","citernes"]
[null,null,"Entretien et aménagement du jardin","Pots de fleur et contenants","contenants"]
[null,null,"Entretien et aménagement du jardin","Pots de fleur et contenants","Cuve"]
[null,null,{"$f":"$B$191","v":"Entretien et aménagement du jardin"},{"$f":"$C$264","v":"Pots de fleur et contenants"},"fûts"]
[null,null,"Entretien et aménagement du jardin","Pots de fleur et contenants","Jardiniere"]
[null,null,"Entretien et aménagement du jardin","Pots de fleur et contenants","Pot"]
[null,null,{"$f":"$B$191","v":"Entretien et aménagement du jardin"},{"$f":"$C$264","v":"Pots de fleur et contenants"},"Pot de fleurs"]
[null,null,"Entretien et aménagement du jardin","Pots de fleur et contenants","poterie"]
[null,null,"Entretien et aménagement du jardin","Pots de fleur et contenants","Recuperateur d'eau"]
[null,null,"Entretien et aménagement du jardin","Pots de fleur et contenants","réservoirs externes"]
[null,null,"Entretien et aménagement du jardin","Pots de fleur et contenants","Seau"]
[null,null,"Entretien et aménagement du jardin","Pots de fleur et contenants","Soucoupe (fleur)"]
[null,null,"Entretien et aménagement du jardin","Pots de fleur et contenants","soucoupe de jardinières"]
[null,null,"Entretien et aménagement du jardin","Pots de fleur et contenants","vase de jardin"]
[]
[]
[null,153,"Bâches, housses, filets et films de jardinage"]
[]
[null,null,"Rayon","Catégorie","Exemples de produits (non-exhaustif)"]
[null,null,{"$f":"$B$191","v":"Entretien et aménagement du jardin"},{"$f":"$C$293","v":"Bâches, housses, filets et films de jardinage"},"bâche"]
[null,null,{"$f":"$B$191","v":"Entretien et aménagement du jardin"},{"$f":"$C$293","v":"Bâches, housses, filets et films de jardinage"},"bâche de protection"]
[null,null,{"$f":"$B$191","v":"Entretien et aménagement du jardin"},{"$f":"$C$293","v":"Bâches, housses, filets et films de jardinage"},"filet, filets de protection des cultures"]
[null,null,{"$f":"$B$191","v":"Entretien et aménagement du jardin"},{"$f":"$C$293","v":"Bâches, housses, filets et films de jardinage"},"film et toile de paillage"]
[null,null,{"$f":"$B$191","v":"Entretien et aménagement du jardin"},{"$f":"$C$293","v":"Bâches, housses, filets et films de jardinage"},"film de serre, housse serre"]
[null,null,"Entretien et aménagement du jardin","Bâches, housses, filets et films de jardinage","film géotextile (hors autres films)"]
[null,null,"Entretien et aménagement du jardin","Bâches, housses, filets et films de jardinage","housse bbq"]
[null,null,{"$f":"$B$191","v":"Entretien et aménagement du jardin"},{"$f":"$C$293","v":"Bâches, housses, filets et films de jardinage"},"housse parasol"]
[null,null,{"$f":"$B$191","v":"Entretien et aménagement du jardin"},{"$f":"$C$293","v":"Bâches, housses, filets et films de jardinage"},"toile de paillage"]
[]
[null,154,"Equipements de plein air et leurs accessoires (hors bâches, filets, housses)"]
[]
[null,null,"Rayon","Catégorie","Exemples de produits (non-exhaustif)"]
[null,null,{"$f":"$B$191","v":"Entretien et aménagement du jardin"},{"$f":"$C$306","v":"Equipements de plein air et leurs accessoires (hors bâches, filets, housses)"},"accessoires de barbecue (bbq) : coffret, tuyau …"]
[null,null,"Entretien et aménagement du jardin","Equipements de plein air et leurs accessoires (hors bâches, filets, housses)","barbecue (feu de bois)"]
[null,null,"Entretien et aménagement du jardin","Equipements de plein air et leurs accessoires (hors bâches, filets, housses)","Barbecue au gaz"]
[null,null,"Entretien et aménagement du jardin","Equipements de plein air et leurs accessoires (hors bâches, filets, housses)","barbecue fumoir"]
[null,null,"Entretien et aménagement du jardin","Equipements de plein air et leurs accessoires (hors bâches, filets, housses)","Broche"]
[null,null,"Entretien et aménagement du jardin","Equipements de plein air et leurs accessoires (hors bâches, filets, housses)","Clapier"]
[null,null,"Entretien et aménagement du jardin","Equipements de plein air et leurs accessoires (hors bâches, filets, housses)","Coffret barbecue (hors de cuisine)"]
[null,null,"Entretien et aménagement du jardin","Equipements de plein air et leurs accessoires (hors bâches, filets, housses)","eléments de cuisine extérieure"]
[null,null,{"$f":"$B$191","v":"Entretien et aménagement du jardin"},{"$f":"$C$306","v":"Equipements de plein air et leurs accessoires (hors bâches, filets, housses)"},"enrouleur de bâche"]
[null,null,"Entretien et aménagement du jardin","Equipements de plein air et leurs accessoires (hors bâches, filets, housses)","four à bois de jardin"]
[null,null,"Entretien et aménagement du jardin","Equipements de plein air et leurs accessoires (hors bâches, filets, housses)","gazon artificiel ménager"]
[null,null,"Entretien et aménagement du jardin","Equipements de plein air et leurs accessoires (hors bâches, filets, housses)","Gicleur"]
[null,null,"Entretien et aménagement du jardin","Equipements de plein air et leurs accessoires (hors bâches, filets, housses)","Grilloir"]
[null,null,"Entretien et aménagement du jardin","Equipements de plein air et leurs accessoires (hors bâches, filets, housses)","Hotel a insecte"]
[null,null,"Entretien et aménagement du jardin","Equipements de plein air et leurs accessoires (hors bâches, filets, housses)","Housse"]
[null,null,"Entretien et aménagement du jardin","Equipements de plein air et leurs accessoires (hors bâches, filets, housses)","Mangeoire"]
[null,null,"Entretien et aménagement du jardin","Equipements de plein air et leurs accessoires (hors bâches, filets, housses)","Niche"]
[null,null,"Entretien et aménagement du jardin","Equipements de plein air et leurs accessoires (hors bâches, filets, housses)","Nichoir"]
[null,null,{"$f":"$B$191","v":"Entretien et aménagement du jardin"},{"$f":"$C$306","v":"Equipements de plein air et leurs accessoires (hors bâches, filets, housses)"},"Nid et maison pour animaux"]
[null,null,"Entretien et aménagement du jardin","Equipements de plein air et leurs accessoires (hors bâches, filets, housses)","Parasol"]
[null,null,"Entretien et aménagement du jardin","Equipements de plein air et leurs accessoires (hors bâches, filets, housses)","parasol chauffant (gaz)"]
[null,null,"Entretien et aménagement du jardin","Equipements de plein air et leurs accessoires (hors bâches, filets, housses)","pied de parasol, dalle"]
[null,null,"Entretien et aménagement du jardin","Equipements de plein air et leurs accessoires (hors bâches, filets, housses)","Plancha au gaz"]
[null,null,"Entretien et aménagement du jardin","Equipements de plein air et leurs accessoires (hors bâches, filets, housses)","Poulailler"]
[null,null,"Entretien et aménagement du jardin","Equipements de plein air et leurs accessoires (hors bâches, filets, housses)","Ruche"]
[null,null,"Entretien et aménagement du jardin","Equipements de plein air et leurs accessoires (hors bâches, filets, housses)","table de culture"]
[null,null,"Entretien et aménagement du jardin","Equipements de plein air et leurs accessoires (hors bâches, filets, housses)","tuteur"]
[null,null,"Entretien et aménagement du jardin","Equipements de plein air et leurs accessoires (hors bâches, filets, housses)","Tuyaux de barbecue"]
[]
[null,155,"Structures extérieures non-maçonnées"]
[]
[null,null,"Rayon","Catégorie","Exemples de produits (non-exhaustif)"]
[null,null,{"$f":"$B$191","v":"Entretien et aménagement du jardin"},{"$f":"$C$338","v":"Structures extérieures non-maçonnées"},"Abri de jardin"]
[null,null,"Entretien et aménagement du jardin","Structures extérieures non-maçonnées","abris à bûches"]
[null,null,"Entretien et aménagement du jardin","Structures extérieures non-maçonnées","abris d'armoire"]
[null,null,"Entretien et aménagement du jardin","Structures extérieures non-maçonnées","abris de jardin (<5m²)"]
[null,null,"Entretien et aménagement du jardin","Structures extérieures non-maçonnées","abris non maçonnés"]
[null,null,"Entretien et aménagement du jardin","Structures extérieures non-maçonnées","abris pour poubelles"]
[null,null,"Entretien et aménagement du jardin","Structures extérieures non-maçonnées","abris pour robot tondeuse"]
[null,null,"Entretien et aménagement du jardin","Structures extérieures non-maçonnées","appentis"]
[null,null,{"$f":"$B$191","v":"Entretien et aménagement du jardin"},{"$f":"$C$338","v":"Structures extérieures non-maçonnées"},"Arche"]
[null,null,"Entretien et aménagement du jardin","Structures extérieures non-maçonnées","bordures"]
[null,null,"Entretien et aménagement du jardin","Structures extérieures non-maçonnées","Brouette"]
[null,null,"Entretien et aménagement du jardin","Structures extérieures non-maçonnées","Cache poubelle"]
[null,null,"Entretien et aménagement du jardin","Structures extérieures non-maçonnées","Carport dans le cadre du decret"]
[null,null,"Entretien et aménagement du jardin","Structures extérieures non-maçonnées","carport non maçonné"]
[null,null,"Entretien et aménagement du jardin","Structures extérieures non-maçonnées","chalets non maçonnés"]
[null,null,"Entretien et aménagement du jardin","Structures extérieures non-maçonnées","garage non maçonné"]
[null,null,"Entretien et aménagement du jardin","Structures extérieures non-maçonnées","gloriette non maçonnée"]
[null,null,"Entretien et aménagement du jardin","Structures extérieures non-maçonnées","kiosque non maçonné"]
[null,null,"Entretien et aménagement du jardin","Structures extérieures non-maçonnées","pergola non maçonnée"]
[null,null,"Entretien et aménagement du jardin","Structures extérieures non-maçonnées","potager urbain"]
[null,null,"Entretien et aménagement du jardin","Structures extérieures non-maçonnées","Serre"]
[null,null,"Entretien et aménagement du jardin","Structures extérieures non-maçonnées","serre de jardin"]
[null,null,{"$f":"$B$191","v":"Entretien et aménagement du jardin"},{"$f":"$C$338","v":"Structures extérieures non-maçonnées"},"Tonnelle"]
[null,null,{"$f":"$B$191","v":"Entretien et aménagement du jardin"},{"$f":"$C$338","v":"Structures extérieures non-maçonnées"},"treillis",null,null,{"$f":"TRIM((LOWER(E364)))","v":"treillis"}]
[]
[]
[null,"Produits électriques, électroniques, thermiques relevant des REPs DEEE ou ABJ thermique (hors ecomaison)"]
[]
[null,"HORS P.","Produits hors ecomaison"]
[]
[null,null,"Rayon","Catégorie","Exemples de produits (non-exhaustif)"]
[null,null,{"$f":"$B$367","v":"Produits électriques, électroniques, thermiques relevant des REPs DEEE ou ABJ thermique (hors ecomaison)"},{"$f":"$C$369","v":"Produits hors ecomaison"},"lampe"]
[null,null,"Produits électriques, électroniques, thermiques relevant des REPs DEEE ou ABJ thermique (hors ecomaison)","Produits hors ecomaison","prise"]
[null,null,"Produits électriques, électroniques, thermiques relevant des REPs DEEE ou ABJ thermique (hors ecomaison)","Produits hors ecomaison","ampoule"]
[null,null,"Produits électriques, électroniques, thermiques relevant des REPs DEEE ou ABJ thermique (hors ecomaison)","Produits hors ecomaison","électrique"]
[null,null,{"$f":"$B$367","v":"Produits électriques, électroniques, thermiques relevant des REPs DEEE ou ABJ thermique (hors ecomaison)"},{"$f":"$C$369","v":"Produits hors ecomaison"},"LED"]
[null,null,{"$f":"$B$367","v":"Produits électriques, électroniques, thermiques relevant des REPs DEEE ou ABJ thermique (hors ecomaison)"},{"$f":"$C$369","v":"Produits hors ecomaison"},"éclairage"]
[null,null,{"$f":"$B$367","v":"Produits électriques, électroniques, thermiques relevant des REPs DEEE ou ABJ thermique (hors ecomaison)"},{"$f":"$C$369","v":"Produits hors ecomaison"},"appliques"]
[null,null,{"$f":"$B$367","v":"Produits électriques, électroniques, thermiques relevant des REPs DEEE ou ABJ thermique (hors ecomaison)"},{"$f":"$C$369","v":"Produits hors ecomaison"},"lampadaire"]
[null,null,"Produits électriques, électroniques, thermiques relevant des REPs DEEE ou ABJ thermique (hors ecomaison)","Produits hors ecomaison","thermique"]
[null,null,"Produits électriques, électroniques, thermiques relevant des REPs DEEE ou ABJ thermique (hors ecomaison)","Produits hors ecomaison","électroportatif"]
[null,null,{"$f":"$B$367","v":"Produits électriques, électroniques, thermiques relevant des REPs DEEE ou ABJ thermique (hors ecomaison)"},{"$f":"$C$369","v":"Produits hors ecomaison"},"batterie"]
[null,null,"Produits électriques, électroniques, thermiques relevant des REPs DEEE ou ABJ thermique (hors ecomaison)","Produits hors ecomaison","tondeuse"]
[null,null,{"$f":"$B$367","v":"Produits électriques, électroniques, thermiques relevant des REPs DEEE ou ABJ thermique (hors ecomaison)"},{"$f":"$C$369","v":"Produits hors ecomaison"},"tronçonneuse"]
[null,null,"Produits électriques, électroniques, thermiques relevant des REPs DEEE ou ABJ thermique (hors ecomaison)","Produits hors ecomaison","débroussailleuse"]
[null,null,"Produits électriques, électroniques, thermiques relevant des REPs DEEE ou ABJ thermique (hors ecomaison)","Produits hors ecomaison","kit d'expo"]
[null,null,"Produits électriques, électroniques, thermiques relevant des REPs DEEE ou ABJ thermique (hors ecomaison)","Produits hors ecomaison"]
[null,null,"Produits électriques, électroniques, thermiques relevant des REPs DEEE ou ABJ thermique (hors ecomaison)","Produits hors ecomaison"]
[null,null,"Produits électriques, électroniques, thermiques relevant des REPs DEEE ou ABJ thermique (hors ecomaison)","Produits hors ecomaison"]
[null,null,"Produits électriques, électroniques, thermiques relevant des REPs DEEE ou ABJ thermique (hors ecomaison)","Produits hors ecomaison"]
[null,null,"Produits électriques, électroniques, thermiques relevant des REPs DEEE ou ABJ thermique (hors ecomaison)","Produits hors ecomaison"]
[null,null,"Produits électriques, électroniques, thermiques relevant des REPs DEEE ou ABJ thermique (hors ecomaison)","Produits hors ecomaison"]

{"sheet":"Comprendre la codification","index":2,"n_rows":147,"n_cols":7,"rows_kept":147,"cut":false,"hidden":false,"merged":[[0,1,0,5],[128,1,128,5],[7,1,7,5],[19,1,19,5],[26,1,26,5],[44,1,44,5]]}
[null,"Système de codification ecomaison"]
[]
[]
[null,"► Un outil de création de tables de correspondance entre votre catalogue et le catalogue produit ecomaison est disponible"]
[null,"► Les codifications DEA ne sont pas représentées ci-dessous"]
[]
[]
[null,"Structure générale du code"]
[]
[]
[]
[]
[]
[]
[]
[]
[]
[]
[]
[null,"Code Rayon : XX 000 00 000 0"]
[]
[null,"REP","_","Rayon","_2","Code Rayon"]
[]
[null,"Articles Bricolage et Jardin - ABJ",null,"Articles de bricolage",null,21]
[null,"Articles Bricolage et Jardin - ABJ",null,"Entretien et aménagement du jardin",null,22]
[]
[null,"Code Catégorie Produit : 00 XXX 00 000 0"]
[]
[null,"REP","_","Rayon","Catégorie","Code Produit"]
[]
[null,"ABJ",null,{"$f":"$D$24","v":"Articles de bricolage"},"Outillage à main et leurs accessoires",100]
[]
[null,"ABJ",null,{"$f":"$D$24","v":"Articles de bricolage"},"Gros objets et machines non électriques et non thermiques et leurs accessoires",{"$f":"F31+1","v":101}]
[null,"ABJ",null,"Articles de bricolage","Outils et supports de travail en hauteur",{"$f":"F33+1","v":102}]
[null,"ABJ",null,"Articles de bricolage","Equipement personnel et accessoires de protection de bricolage",103]
[null,"ABJ",null,"Articles de bricolage","Bâches, housses, filets et films de bricolage",104]
[null,"ABJ",null,"Articles de bricolage","Seaux, auges et contenants",{"$f":"IF(D37=D36,F36+1,ROUNDUP((F36+1)*2,-1)/2)","v":105}]
[null,"ABJ",null,{"$f":"$D$25","v":"Entretien et aménagement du jardin"},"Outils à main d’entretien du jardin et petits accessoires",150]
[null,"ABJ",null,{"$f":"$D$25","v":"Entretien et aménagement du jardin"},"Equipement personnel et accessoires de protection de jardinage",{"$f":"F38+1","v":151}]
[null,"ABJ",null,{"$f":"$D$25","v":"Entretien et aménagement du jardin"},"Pots de fleur et contenants",{"$f":"F39+1","v":152}]
[null,"ABJ",null,"Entretien et aménagement du jardin","Bâches, housses, filets et films de jardinage",153]
[null,"ABJ",null,"Entretien et aménagement du jardin","Equipements de plein air et leurs accessoires (hors bâches, filets, housses)",154]
[null,"ABJ",null,"Entretien et aménagement du jardin","Structures extérieures non-maçonnées",155]
[]
[null,"Code Matériaux : 00 000 XX 000 0"]
[]
[null,"Type de matériaux","_","Matériaux","Exemples de matériaux","Code matériaux","Colonne1"]
[]
[null,"1 - Métal",null,"Métal >90%","Ferreux (Acier, Acier inoxydable, Fer forgé, Fonte, Acier au carbone, acier zingué, tole, alliages…) et non-ferreux (Aluminium, plomb, zinc, étain, chrome, cuivre, bronze, argent, zamac, nickel, titane, laiton...)",28]
[null,"1 - Métal",null,"Assemblage avec métal >50% et autres matériaux","Assemblage métal-bois, métal-plastique, métal-inertes …","02"]
[]
[null,"2 - Bois et dérivés de bois",null,"Massif et assimilés certifiés >90%","Toutes essences (douglas, sapin, chène, hêtre, pin maritime, pin sylvestre, moabi , mélèze, teak, épicea ...), dont contreplaqué, contrecollé, lamellé, plaqué",52]
[null,"2 - Bois et dérivés de bois",null,"Massif et assimilés certifiés >75%","Toutes essences (douglas, sapin, chène, hêtre, pin maritime, pin sylvestre, moabi , mélèze, teak, épicea ...), dont contreplaqué, contrecollé, lamellé, plaqué",20]
[null,"2 - Bois et dérivés de bois",null,"Massif et assimilés >90%","Toutes essences (douglas, sapin, chène, hêtre, pin maritime, pin sylvestre, moabi , mélèze, teak, épicea ...), dont contreplaqué, contrecollé, lamellé, plaqué",53]
[null,"2 - Bois et dérivés de bois",null,"Massif et assimilés >75%","Toutes essences (douglas, sapin, chène, hêtre, pin maritime, pin sylvestre, moabi , mélèze, teak, épicea ...), dont contreplaqué, contrecollé, lamellé, plaqué",21]
[null,"2 - Bois et dérivés de bois",null,"Panneaux de particules ou OSB certifiés >90%","Panneaux de particules, OSB",59]
[null,"2 - Bois et dérivés de bois",null,"Panneaux de particules ou OSB certifiés >75%","Panneaux de particules, OSB",60]
[null,"2 - Bois et dérivés de bois",null,"Panneaux de particules ou OSB >90%","Panneaux de particules, OSB",61]
[null,"2 - Bois et dérivés de bois",null,"Panneaux de particules ou OSB >75%","Panneaux de particules, OSB",25]
[null,"2 - Bois et dérivés de bois",null,"Dérivés de bois >90%","Bois composite, MDF, HDF, alvéolaire, stratifé, HPL….",62]
[null,"2 - Bois et dérivés de bois",null,"Assemblage de bois, dérivés de bois à plus de 50% avec d'autres matériaux ou bois composite (hors verre)","Assemblage bois-métal, bois-plastique …","01"]
[]
[null,"3 - Papier carton",null,"Papier carton >50% avec d'autres matériaux (hors verre)","Papier, Carton, Compact, Papier Kraft","19"]
[]
[null,"4 - Matériaux et fibres d'origine végétal ou animal autres que bois et papier, carton",null,"Matériaux bio sourcés ou textiles non synthétiques >90%","Tiges végétales (bambou, rotin, osiers, jute, paille, liège), textiles naturels d'origine végétale non mélangés (coton, lin, chanvre, soie, ramie, fibres de noix de coco, rafia…)",55]
[null,"4 - Matériaux et fibres d'origine végétal ou animal autres que bois et papier, carton",null,"Matériaux bio sourcés ou textiles non synthétiques >50%","Assemblage de matériaux bio sourcés avec du plastique, du métal …","04"]
[null,"4 - Matériaux et fibres d'origine végétal ou animal autres que bois et papier, carton",null,"Caoutchouc naturel >90%","Caoutchouc, latex",63]
[null,"4 - Matériaux et fibres d'origine végétal ou animal autres que bois et papier, carton",null,"Caoutchouc naturel >50%","Caoutchouc, latex",64]
[null,"4 - Matériaux et fibres d'origine végétal ou animal autres que bois et papier, carton",null,"Matériaux d'origine animale >50%","Matières textiles ou rembourrages d'origine animale (laine, feutre, mohair, plumes, duvets, poils, cuirs...)","06"]
[]
[null,"5 - Plastique, matériaux et fibres synthétiques",null,"Plastiques (mono résine) >90%","Plastiques et autres matériaux synthétiques : acrylique, PP, PE, PS, XPS, EPS, PER, Nylon, Polyamide, PU, PVC, vinyle, époxy, fibres synthétiques, PL, matériaux composites, carbone….",41]
[null,"5 - Plastique, matériaux et fibres synthétiques",null,"PE ou PP ou mélange PP/PE >90%","Polyéthylène (PE), Polypropylène (PP), mélange PP/PE",45]
[null,"5 - Plastique, matériaux et fibres synthétiques",null,"PVC >90%",null,48]
[null,"5 - Plastique, matériaux et fibres synthétiques",null,"Polyterephtalate d'Ethylène (PET) >90%",null,42]
[null,"5 - Plastique, matériaux et fibres synthétiques",null,"ABS >90%",null,46]
[null,"5 - Plastique, matériaux et fibres synthétiques",null,"Polystyrène >90%",null,47]
[null,"5 - Plastique, matériaux et fibres synthétiques",null,"Plastiques ou autres matériaux synthétiques >50%","Assemblage de matériaux et textiles synthétiques, ensemble","05"]
[null,"5 - Plastique, matériaux et fibres synthétiques",null,"Caoutchouc synthétique >90%","Caoutchouc",49]
[null,"5 - Plastique, matériaux et fibres synthétiques",null,"Eléments contenant du latex","Latex",10]
[null,"5 - Plastique, matériaux et fibres synthétiques",null,"Assemblage caoutchouc synthétique ou latex >50% avec d'autres matériaux","Caoutchouc, latex avec d'autres matériaux synthétiques, du bois, du métal …",40]
[null,"5 - Plastique, matériaux et fibres synthétiques",null,"Matériaux ou fibres synthétiques >90%","Polyamides, nylon, polyester (PES) et polyterephtalate d'Ethylène (PET), viscose, polyester, élastane, mousses …",65]
[null,"5 - Plastique, matériaux et fibres synthétiques",null,"Textile et rembourrage en polyester >90%","Polyester",66]
[null,"5 - Plastique, matériaux et fibres synthétiques",null,"Eléments contenant de la mousse",null,"09"]
[null,"5 - Plastique, matériaux et fibres synthétiques",null,"Eléments textiles contenant des ressorts",null,11]
[null,"5 - Plastique, matériaux et fibres synthétiques",null,"Assemblage matériaux ou fibres synthétiques >50% avec d'autres matériaux","Assemblage de matériaux et textiles synthétiques avec du métal, du bois …",67]
[]
[null,"6 - Verre et parois vitrées",null,"Verre >90%","Verre plat, brique de verre …",68]
[null,"6 - Verre et parois vitrées",null,"Assemblage verre à plus de 50% avec métal","Assemblage de verre avec des métaux",70]
[null,"6 - Verre et parois vitrées",null,"Assemblage verre à plus de 50% avec Inerte","Assemblage de verre avec de l'inerte",71]
[null,"6 - Verre et parois vitrées",null,"Assemblage verre à plus de 50% avec bois ou dérivés de bois","Assemblage de verre avec du bois ou des matériaux biosourcés",72]
[null,"6 - Verre et parois vitrées",null,"Assemblage verre à plus de 50% avec plastique","Assemblage de verre avec du plastique",73]
[null,"6 - Verre et parois vitrées",null,"Miroir >90%","Miroir",69]
[]
[null,"7 - Plâtre",null,"Plâtre >90%","Matière en plâtre, plaque de plâtre (placo) et fibre gypse",75]
[null,"7 - Plâtre",null,"Plâtre >50%","Elément composé majoritaitement de plâtre et associé à d'autres matériaux",76]
[]
[null,"8- Laines de verre et laines de roches",null,"Laines de roche à plus de 90 %","Matière isolante fabriquée à partir d'un matériau naturel issu de l'activité volcanique",77]
[null,"8- Laines de verre et laines de roches",null,"Laine de verre à plus de 90 %","Matière composée de fils de verre, utilisé comme filtrant ou isolant",78]
[null,"8- Laines de verre et laines de roches",null,"Assemblage de laines de verre ou laines de roches à plus de 50% et d'autres matériaux","Elément composé majoritaitement de laine minérale",79]
[]
[null,"9 - Membranes bitumineuses",null,"Membranes bitumineuses à plus de 90 %","Membrane d'étanchéité synthétique",80]
[]
[null,"10 - Autres mix matériaux ou matériaux non classés ou non spécifiés",null,"Assemblage dont la composition conjointe en bois, dérivés de bois et en métal dépasse 90%",null,81]
[null,"10 - Autres mix matériaux ou matériaux non classés ou non spécifiés",null,"Assemblage de 3 matériaux ou plus sans un matériau à plus de 50%","Elément composé de parties en matériaux divers avec souvent mais non exclusivement une partie de plastique ou de textile synthétique",82]
[null,"10 - Autres mix matériaux ou matériaux non classés ou non spécifiés",null,"Non connu ou non spécifié par l'entreprise","Non connu ou non spécifié par l'entreprise","00"]
[]
[null,"11 - Mortiers, enduits, peintures, vernis, résines, produits de préparation",null,"Produits liquides, y.c. dangereux >90%","Sous couches, préparation des sols et étanchéité, Peintures extérieures, Traitement des sols et toitures, Peintures intérieures, Colles et adhésifs, Résines PU et expansive (aérosol), Mastics, joints et mousses PU, Adjuvants, Traitement des bois, Traitement des matériaux  (aérosol), Traitement des matériaux hors bois, Vernis et vitrificateurs et dérivés, Vernis et vitrificateurs et dérivés (aérosols), Enduits poudre, Enduits pate",83]
[]
[null,"12 - Matériaux inertes",null,"Assemblage de matériaux avec de l'inerte >50%",null,"08"]
[null,"12 - Matériaux inertes",null,"Composites et autres matériaux minéraux reconstitués >50%",null,15]
[null,"12 - Matériaux inertes",null,"Ardoise >90%","Ardoise",84]
[null,"12 - Matériaux inertes",null,"Granulats hors pierre >90%","Matière minérale de petite taille (granulats, gravillons, sable, grave, gravier, moellon, concassé, …) hors pierre",85]
[null,"12 - Matériaux inertes",null,"Pierre calcaire >90%","Matière minérale de grosse taille, hors granulats, gravillons, sable et hors pierres spécifiques comme l'ardoise",86]
[null,"12 - Matériaux inertes",null,"Lave >90%",null,87]
[null,"12 - Matériaux inertes",null,"Mélange bitumineux >90%","Matière liquide à base de bitume",88]
[null,"12 - Matériaux inertes",null,"Terre cuite ou crue >90%","Matière terre cuite",89]
[null,"12 - Matériaux inertes",null,"Béton >90%","Assemblage de granulats (graviers, gravillons, sables, etc.), d'un liant (ciment, bitume, argile) d'adjuvants et d'eau",74]
[null,"12 - Matériaux inertes",null,"Béton cellulaire >90%",null,96]
[null,"12 - Matériaux inertes",null,"Ciment >90%",null,90]
[null,"12 - Matériaux inertes",null,"Granit >90%",null,91]
[null,"12 - Matériaux inertes",null,"Céramique >90%","Matière à base de faïence ou grès",97]
[null,"12 - Matériaux inertes",null,"Mortier >90%",null,92]
[null,"12 - Matériaux inertes",null,"Adjuvants >90%",null,93]
[null,"12 - Matériaux inertes",null,"Grès >90%",null,94]
[null,"12 - Matériaux inertes",null,"Chaux >90%",null,95]
[null,"12 - Matériaux inertes",null,"Pierre artificielle >90%","Matériau obtenu par moulage d'agrégats divers, charges et liants (béton, pierre reconstituée) ou par synthèse chimique",98]
[]
[]
[null,"Code Mesure : 00 000 00 XXX 0"]
[]
[null,"Type de mesure","concat","Mode de calcul","Périmètres produits d'application","Code Mesure"]
[null,null,{"$f":"Tbl_Code_Mesure[[#This Row],[Mode de calcul]]&Tbl_Code_Mesure[[#This Row],[Périmètres produits d''application]]","v":""}]
[null,"Général",{"$f":"Tbl_Code_Mesure[[#This Row],[Mode de calcul]]&Tbl_Code_Mesure[[#This Row],[Périmètres produits d''application]]","v":"€ / TonneEléments de toutes dimensions et poids"},"€ / Tonne","Eléments de toutes dimensions et poids","000"]
[null,"Général",{"$f":"Tbl_Code_Mesure[[#This Row],[Mode de calcul]]&Tbl_Code_Mesure[[#This Row],[Périmètres produits d''application]]","v":"€ / UnitéInférieur strictement à 0,5 kg"},"€ / Unité","Inférieur strictement à 0,5 kg","020"]
[null,"Général",{"$f":"Tbl_Code_Mesure[[#This Row],[Mode de calcul]]&Tbl_Code_Mesure[[#This Row],[Périmètres produits d''application]]","v":"€ / UnitéCompris entre 0,5 kg et 1 kg exclus"},"€ / Unité","Compris entre 0,5 kg et 1 kg exclus","021"]
[null,"Général",{"$f":"Tbl_Code_Mesure[[#This Row],[Mode de calcul]]&Tbl_Code_Mesure[[#This Row],[Périmètres produits d''application]]","v":"€ / UnitéCompris entre 1 kg et 2 kg exclus"},"€ / Unité","Compris entre 1 kg et 2 kg exclus","022"]
[null,"Général",{"$f":"Tbl_Code_Mesure[[#This Row],[Mode de calcul]]&Tbl_Code_Mesure[[#This Row],[Périmètres produits d''application]]","v":"€ / UnitéCompris entre 2 kg et 3 kg exclus"},"€ / Unité","Compris entre 2 kg et 3 kg exclus","052"]
[null,"Général",{"$f":"Tbl_Code_Mesure[[#This Row],[Mode de calcul]]&Tbl_Code_Mesure[[#This Row],[Périmètres produits d''application]]","v":"€ / UnitéCompris entre 3 kg et 5 kg exclus"},"€ / Unité","Compris entre 3 kg et 5 kg exclus","053"]
[null,"Général",{"$f":"Tbl_Code_Mesure[[#This Row],[Mode de calcul]]&Tbl_Code_Mesure[[#This Row],[Périmètres produits d''application]]","v":"€ / UnitéCompris entre 5 kg et 7 kg exclus"},"€ / Unité","Compris entre 5 kg et 7 kg exclus","054"]
[null,"Général",{"$f":"Tbl_Code_Mesure[[#This Row],[Mode de calcul]]&Tbl_Code_Mesure[[#This Row],[Périmètres produits d''application]]","v":"€ / UnitéCompris entre 7 kg et 10 kg exclus"},"€ / Unité","Compris entre 7 kg et 10 kg exclus","055"]
[null,"Général",{"$f":"Tbl_Code_Mesure[[#This Row],[Mode de calcul]]&Tbl_Code_Mesure[[#This Row],[Périmètres produits d''application]]","v":"€ / UnitéCompris entre 10 kg et 15 kg exclus"},"€ / Unité","Compris entre 10 kg et 15 kg exclus","056"]
[null,"Général",{"$f":"Tbl_Code_Mesure[[#This Row],[Mode de calcul]]&Tbl_Code_Mesure[[#This Row],[Périmètres produits d''application]]","v":"€ / UnitéCompris entre 15 kg et 20 kg exclus"},"€ / Unité","Compris entre 15 kg et 20 kg exclus","057"]
[null,"Général",{"$f":"Tbl_Code_Mesure[[#This Row],[Mode de calcul]]&Tbl_Code_Mesure[[#This Row],[Périmètres produits d''application]]","v":"€ / UnitéCompris entre 20 kg et 25 kg exclus"},"€ / Unité","Compris entre 20 kg et 25 kg exclus","058"]
[null,"Général",{"$f":"Tbl_Code_Mesure[[#This Row],[Mode de calcul]]&Tbl_Code_Mesure[[#This Row],[Périmètres produits d''application]]","v":"€ / UnitéCompris entre 25 kg et 30 kg exclus"},"€ / Unité","Compris entre 25 kg et 30 kg exclus","059"]
[null,"Général",{"$f":"Tbl_Code_Mesure[[#This Row],[Mode de calcul]]&Tbl_Code_Mesure[[#This Row],[Périmètres produits d''application]]","v":"€ / UnitéCompris entre 30 kg et 40 kg exclus"},"€ / Unité","Compris entre 30 kg et 40 kg exclus","027"]
[null,"Général",{"$f":"Tbl_Code_Mesure[[#This Row],[Mode de calcul]]&Tbl_Code_Mesure[[#This Row],[Périmètres produits d''application]]","v":"€ / UnitéCompris entre 40 kg et 50 kg exclus"},"€ / Unité","Compris entre 40 kg et 50 kg exclus","060"]
[null,"Général",{"$f":"Tbl_Code_Mesure[[#This Row],[Mode de calcul]]&Tbl_Code_Mesure[[#This Row],[Périmètres produits d''application]]","v":"€ / Lot de 10Lot de 10 unités"},"€ / Lot de 10","Lot de 10 unités","090"]

{"sheet":"ABJ - Code produit","index":3,"n_rows":28,"n_cols":11,"rows_kept":28,"cut":false,"hidden":false,"merged":[[0,0,0,6],[21,0,22,0],[1,0,1,6],[33,3,35,6],[13,0,13,2],[32,0,32,6],[24,0,24,2]]}
["Générateur de code produit - ABJ",null,null,null,null,null,null,"MASQUER","MASQUER",null,{"$f":"Infos!$A$7","v":"Version 1.6 - 25 juillet 2023"}]
["Sélectionner les éléments dans les cases vertes\nPenser à actionner le bouton \"RESET\" avant de faire une nouvelle génération. \nLe montant TTC de l’éco-participation est donné à titre indicatif ; le barème applicable est le barème HT. "]
[]
[null,null,null,null,null,null,"Code:",null,"A"]
[]
["1 - Choisissez un rayon :",null,null,null,null,null,{"$f":"IF(D6=\"\",\"\",VLOOKUP(D6,'Param masqué'!$D$3:$E$4,2,FALSE))","v":""},{"$f":"LEFT(A6,1)+0","v":1},{"$f":"I4&\"_\"&G6","v":"A_"}]
[]
[{"$f":"H6+1&\" - Choisissez une catégorie de produit : \"","v":"2 - Choisissez une catégorie de produit : "},null,null,null,"_",null,{"$f":"IF(D8=\"\",\"\",VLOOKUP(D8,'Param masqué'!$J$3:$K$15,2,FALSE))","v":""},{"$f":"LEFT(A8,1)+0","v":2},{"$f":"I4&\"_\"&G8","v":"A_"}]
[]
[{"$f":"H8+1&\" - Choisissez votre famille de matériaux :\"","v":"3 - Choisissez votre famille de matériaux :"},null,null,null,null,null,null,{"$f":"LEFT(A10,1)+0","v":3},{"$f":"IFERROR(VLOOKUP($D$10,'Param masqué'!$AT$2:$AU$13,2,FALSE),0)","v":0}]
[null,null,null,null,null,null,null,null,{"$f":"IF(D10=\"Prix en fonction d'une autre unité fonctionelle\",I8&\"F\",\"\")","v":""}]
[{"$f":"H10+1&\" - Choisissez un matériau : \"","v":"4 - Choisissez un matériau : "},null,null,null,null,null,{"$f":"IF(D12=\"\",\"\",VLOOKUP(D12,'Param masqué'!$R$3:$T$79,3,FALSE))","v":""},{"$f":"LEFT(A12,1)+0","v":4},{"$f":"IF($D$10=\"Prix en fonction d'une autre unité fonctionelle\",VLOOKUP(I11,'Param masqué'!AG:AJ,4,FALSE),VLOOKUP(I8,'Param masqué'!AG:AJ,4,FALSE))","v":{"$error":"#N/A"}}]
[]
[{"$f":"H12+1&\" - Choisissez la caractéristique (ou conditionnement) en fonction du type de produit : \"","v":"5 - Choisissez la caractéristique (ou conditionnement) en fonction du type de produit : "},null,null,null,null,null,{"$f":"IF(D14=\"\",\"\",VLOOKUP(D14,'Param masqué'!$AD$1:$AE$16,2,FALSE))","v":""},{"$f":"LEFT(A14,1)+0","v":5}]
[]
[null,null,null,{"$f":"IF($G$8=155,\"Attention, ce produit relève peut-être d'une autre filière REP. Pensez à bien vérifier son appartenance à la REP ABJ\",\"\")","v":""}]
[]
["D'où le code produit:",null,null,{"$f":"IF(OR(D14=\"\",D12=\"\",D8=\"\",D6=\"\"),\"\",CONCATENATE(G6,G8,G12,G14,0))","v":""}]
[null,null,null,{"$f":"IF(D18=\"\",\"\",D6&\" - \"&D8&\" en \"&D12&\" \"&D14)","v":""}]
[{"$f":"IF(D10=\"forfait\",\"Le montant de l'éco-participation (€/conditionnement retenu)\",\"Le montant de l'éco-participation (€/T) est :\")","v":"Le montant de l'éco-participation (€/T) est :"}]
[null,null,null,null,null,null,"et son code éco-participation associé:"]
["Vous pouvez le paramétrer le taux de TVA",null,"HT :",{"$f":"IFERROR(VLOOKUP('ABJ - Code produit'!$D$18,Codes!$C:$J,8,FALSE),\"\")","v":""},null,{"$f":"IFERROR(VLOOKUP('ABJ - Code produit'!$D$18,Codes!$C:$J,7,FALSE),\"\")","v":""},{"$f":"IFERROR(VLOOKUP(D18,Codes!$C:$L,10,FALSE),\"\")","v":""}]
[null,0.2,"TTC :",{"$f":"IF(D22=\"\",\"\",D22*(1+$B$23))","v":""},null,{"$f":"IFERROR(VLOOKUP('ABJ - Code produit'!$D$18,Codes!$C:$J,7,FALSE),\"\")","v":""}]
[]
[{"$f":"IF(F22=\"€ / Tonne\",\"Indiquez  ici le poids de votre produit en kg :\",\"\")","v":""}]
[]
[null,null,null,{"$f":"IFERROR(IF(D25=\"\",\"\",IF(F22=\"€ / Tonne\",IF(D25*D22/1000<0.01,\"Attention, le prix unitaire calculé est inférieur à 1ct, vous ne pouvez pas afficher l'éco-participation unitaire\",\"\"),\"\")),\"\")","v":""}]
[null,null,{"$f":"IF(F22=\"€ / Tonne\",\"soit :\",\"\")","v":""},{"$f":"IFERROR(IF(D25=\"\",\"\",IF(F22=\"€ / Tonne\",IF(D25*D22/1000<0.01,\"<0,01€\",D25*D22/1000),D25*D22)),\"\")","v":""},null,{"$f":"IF(F22=\"€ / Tonne\",\"HT\",\"\")","v":""}]

{"sheet":"Param masqué","index":4,"n_rows":175,"n_cols":54,"rows_kept":175,"cut":false,"hidden":true,"merged":[[174,1,174,4]]}
[null,"REP","_","Rayon","Code Rayon",null,"REP","_","Rayon","Catégorie","Code Produit",null,null,null,null,null,"Type de matériaux","Matériaux","Exemples de matériaux","Code matériaux",null,null,"A_100",null,null,null,null,"Type de mesure","Mode de calcul","Périmètres produits d'application","Code Mesure",null,"code produit","Tranches de dimensions","unité","meta cat",null,null,null,"Typo","Tranches de dimensions","Code",null,null,null,null,null,null,null,null,"Cat1"]
[null,null,null,null,null,null,null,null,null,null,null,null,null,null,null,null,null,null,null,null,null,null,"1 - Métal",{"$f":"VLOOKUP(W2,$AT$2:$AU$13,2,FALSE)","v":"Cat_1"},null,null,null,null,null,null,null,"100","A_100","Eléments de toutes dimensions et poids","€ / Tonne","Dim_2",null,null,null,"Dim_1","Eléments de toutes dimensions et poids (T)","000",null,null,null,"1 - Métal","Cat_1",1,null,28,"Métal >90%",{"$f":"VLOOKUP(AY2,'Comprendre la codification'!$D$49:$F$126,3,FALSE)","v":28},null,"Prix au poids"]
[{"$f":"E3","v":21},"Articles Bricolage et Jardin - ABJ","A","Articles de bricolage",{"$f":"VLOOKUP(D3,'Comprendre la codification'!$D$20:$F$25,3,FALSE)","v":21},null,"ABJ",{"$f":"\"A_\"&VLOOKUP(I3,$D$3:$E$4,2,FALSE)","v":"A_21"},"Articles de bricolage","Outillage à main et leurs accessoires",{"$f":"VLOOKUP(J3,'Comprendre la codification'!$E$27:$F$43,2,FALSE)","v":100},null,"1 - Métal","MAT_1",1,"MAT_1","1 - Métal","Métal >90%","Ferreux (Acier, Acier inoxydable, Fer forgé, Fonte, Acier au carbone, acier zingué, tole, alliages…) et non-ferreux (Aluminium, plomb, zinc, étain, chrome, cuivre, bronze, argent, zamac, nickel, titane, laiton...)",{"$f":"VLOOKUP(R3,'Comprendre la codification'!$D$45:$F$126,3,FALSE)","v":28},null,null,"2 - Bois et dérivés de bois",{"$f":"VLOOKUP(W3,$AT$2:$AU$13,2,FALSE)","v":"Cat_2"},null,null,null,"Général","€ / Tonne","Eléments de toutes dimensions et poids (T)","000","101","A_101","Eléments de toutes dimensions et poids","€ / Tonne","Dim_1",null,null,null,"Dim_1","Inférieur strictement à 0,5 kg","020",null,null,null,"2 - Bois et dérivés de bois","Cat_2",2,null,"02","Assemblage avec métal >50% et autres matériaux",{"$f":"VLOOKUP(AY3,'Comprendre la codification'!$D$49:$F$126,3,FALSE)","v":"02"},null,"Prix en fonction d'une autre unité fonctionelle"]
[{"$f":"E4","v":22},"Articles Bricolage et Jardin - ABJ","A","Entretien et aménagement du jardin",{"$f":"VLOOKUP(D4,'Comprendre la codification'!$D$20:$F$25,3,FALSE)","v":22},null,"ABJ","A_21","Articles de bricolage","Gros objets et machines non électriques et non thermiques et leurs accessoires",{"$f":"VLOOKUP(J4,'Comprendre la codification'!$E$27:$F$43,2,FALSE)","v":101},null,"2 - Bois et dérivés de bois","MAT_2",2,"MAT_1","1 - Métal","Assemblage avec métal >50% et autres matériaux","Assemblage métal-bois, métal-plastique, métal-inertes …",{"$f":"VLOOKUP(R4,'Comprendre la codification'!$D$45:$F$126,3,FALSE)","v":"02"},null,null,"3 - Papier carton","Cat_3",null,null,null,null,null,"Inférieur strictement à 0,5 kg","020","102","A_102","Eléments de toutes dimensions et poids","€ / Tonne","Dim_1",null,null,null,"Dim_1","Compris entre 0,5 kg et 1 kg exclus","021",null,null,null,"3 - Papier carton","Cat_3",3,null,null,"Cat2"]
[null,null,null,null,null,null,"ABJ","A_21","Articles de bricolage","Outils et supports de travail en hauteur",{"$f":"VLOOKUP(J5,'Comprendre la codification'!$E$27:$F$43,2,FALSE)","v":102},null,"3 - Papier carton","MAT_3",3,null,null,null,null,null,null,null,"4 - Matériaux et fibres d'origine végétal ou animal autres que bois et papier, carton","Cat_4",null,null,null,null,null,"Compris entre 0,5 kg et 1 kg exclus","021","103","A_103","Eléments de toutes dimensions et poids","€ / Tonne","Dim_2",null,null,null,"Dim_1","Compris entre 1 kg et 2 kg exclus","022",null,null,null,"4 - Matériaux et fibres d'origine végétal ou animal autres que bois et papier, carton","Cat_4",4,null,52,"Massif et assimilés certifiés >90%",{"$f":"VLOOKUP(AY5,'Comprendre la codification'!$D$49:$F$126,3,FALSE)","v":52}]
[null,null,null,null,null,null,"ABJ","A_21","Articles de bricolage","Equipement personnel et accessoires de protection de bricolage",{"$f":"VLOOKUP(J6,'Comprendre la codification'!$E$27:$F$43,2,FALSE)","v":103},null,"4 - Matériaux et fibres d'origine végétal ou animal autres que bois et papier, carton","MAT_4",4,"MAT_2","2 - Bois et dérivés de bois","Massif et assimilés certifiés >90%","Toutes essences (douglas, sapin, chène, hêtre, pin maritime, pin sylvestre, moabi , mélèze, teak, épicea ...), dont contreplaqué, contrecollé, lamellé, plaqué",{"$f":"VLOOKUP(R6,'Comprendre la codification'!$D$45:$F$126,3,FALSE)","v":52},null,null,"5 - Plastique, matériaux et fibres synthétiques","Cat_5",null,null,null,null,null,"Compris entre 1 kg et 2 kg exclus","022","104","A_104","Eléments de toutes dimensions et poids","€ / Tonne","Dim_2",null,null,null,"Dim_1","Compris entre 2 kg et 3 kg exclus","052",null,null,null,"5 - Plastique, matériaux et fibres synthétiques","Cat_5",5,null,20,"Massif et assimilés certifiés >75%",{"$f":"VLOOKUP(AY6,'Comprendre la codification'!$D$49:$F$126,3,FALSE)","v":20}]
[null,null,null,null,null,null,"ABJ","A_21","Articles de bricolage","Bâches, housses, filets et films de bricolage",{"$f":"VLOOKUP(J7,'Comprendre la codification'!$E$27:$F$43,2,FALSE)","v":104},null,"5 - Plastique, matériaux et fibres synthétiques","MAT_5",5,"MAT_2","2 - Bois et dérivés de bois","Massif et assimilés certifiés >75%","Toutes essences (douglas, sapin, chène, hêtre, pin maritime, pin sylvestre, moabi , mélèze, teak, épicea ...), dont contreplaqué, contrecollé, lamellé, plaqué",{"$f":"VLOOKUP(R7,'Comprendre la codification'!$D$45:$F$126,3,FALSE)","v":20},null,null,"6 - Verre et parois vitrées","Cat_6",null,null,null,null,null,"Compris entre 2 kg et 3 kg exclus","052","105","A_105","Eléments de toutes dimensions et poids","€ / Tonne","Dim_2",null,null,null,"Dim_1","Compris entre 3 kg et 5 kg exclus","053",null,null,null,"6 - Verre et parois vitrées","Cat_6",6,null,53,"Massif et assimilés >90%",{"$f":"VLOOKUP(AY7,'Comprendre la codification'!$D$49:$F$126,3,FALSE)","v":53}]
[null,null,null,null,null,null,"ABJ",{"$f":"\"A_\"&VLOOKUP(I8,$D$3:$E$4,2,FALSE)","v":"A_21"},"Articles de bricolage","Seaux, auges et contenants",{"$f":"VLOOKUP(J8,'Comprendre la codification'!$E$27:$F$43,2,FALSE)","v":105},null,"6 - Verre et parois vitrées","MAT_6",6,"MAT_2","2 - Bois et dérivés de bois","Massif et assimilés >90%","Toutes essences (douglas, sapin, chène, hêtre, pin maritime, pin sylvestre, moabi , mélèze, teak, épicea ...), dont contreplaqué, contrecollé, lamellé, plaqué",{"$f":"VLOOKUP(R8,'Comprendre la codification'!$D$45:$F$126,3,FALSE)","v":53},null,null,"10 - Autres mix matériaux ou matériaux non classés ou non spécifiés","Cat_10",null,null,null,null,null,"Compris entre 3 kg et 5 kg exclus","053","150","A_150","Eléments de toutes dimensions et poids","€ / Tonne","Dim_2",null,null,null,"Dim_1","Compris entre 5 kg et 7 kg exclus","054",null,null,null,"7 - Plâtre (Cat. e du décret)","Cat_7",7,null,21,"Massif et assimilés >75%",{"$f":"VLOOKUP(AY8,'Comprendre la codification'!$D$49:$F$126,3,FALSE)","v":21}]
[null,null,null,null,null,null,"ABJ","A_22","Entretien et aménagement du jardin","Outils à main d’entretien du jardin et petits accessoires",{"$f":"VLOOKUP(J9,'Comprendre la codification'!$E$27:$F$43,2,FALSE)","v":150},null,"7 - Plâtre","MAT_7",7,"MAT_2","2 - Bois et dérivés de bois","Massif et assimilés >75%","Toutes essences (douglas, sapin, chène, hêtre, pin maritime, pin sylvestre, moabi , mélèze, teak, épicea ...), dont contreplaqué, contrecollé, lamellé, plaqué",{"$f":"VLOOKUP(R9,'Comprendre la codification'!$D$45:$F$126,3,FALSE)","v":21},null,null,"A_101",null,null,null,null,null,null,"Compris entre 5 kg et 7 kg exclus","054","151","A_151","Eléments de toutes dimensions et poids","€ / Tonne","Dim_2",null,null,null,"Dim_1","Compris entre 7 kg et 10 kg exclus","055",null,null,null,"8- Laines de verre et laines de roches (Cat. h et i du décret)","Cat_8",8,null,59,"Panneaux de particules ou OSB certifiés >90%",{"$f":"VLOOKUP(AY9,'Comprendre la codification'!$D$49:$F$126,3,FALSE)","v":59}]
[null,null,null,null,null,null,"ABJ","A_22","Entretien et aménagement du jardin","Equipement personnel et accessoires de protection de jardinage",{"$f":"VLOOKUP(J10,'Comprendre la codification'!$E$27:$F$43,2,FALSE)","v":151},null,"8 - Laines de verre et laines de roches","MAT_8",8,"MAT_2","2 - Bois et dérivés de bois","Panneaux de particules ou OSB certifiés >90%","Panneaux de particules, OSB",{"$f":"VLOOKUP(R10,'Comprendre la codification'!$D$45:$F$126,3,FALSE)","v":59},null,null,"1 - Métal",{"$f":"VLOOKUP(W10,$AT$2:$AU$13,2,FALSE)","v":"Cat_1"},null,null,null,null,null,"Compris entre 7 kg et 10 kg exclus","055","152","A_152","Eléments de toutes dimensions et poids","€ / Tonne","Dim_3",null,null,null,"Dim_1","Compris entre 10 kg et 15 kg exclus","056",null,null,null,"9 - Membranes bitumineuses (Cat. g du décret)","Cat_9",9,null,60,"Panneaux de particules ou OSB certifiés >75%",{"$f":"VLOOKUP(AY10,'Comprendre la codification'!$D$49:$F$126,3,FALSE)","v":60}]
[null,null,null,null,null,null,"ABJ","A_22","Entretien et aménagement du jardin","Pots de fleur et contenants",{"$f":"VLOOKUP(J11,'Comprendre la codification'!$E$27:$F$43,2,FALSE)","v":152},null,"9 - Membranes bitumineuses","MAT_9",9,"MAT_2","2 - Bois et dérivés de bois","Panneaux de particules ou OSB certifiés >75%","Panneaux de particules, OSB",{"$f":"VLOOKUP(R11,'Comprendre la codification'!$D$45:$F$126,3,FALSE)","v":60},null,null,"2 - Bois et dérivés de bois","Cat_2",null,null,null,null,null,"Compris entre 10 kg et 15 kg exclus","056","153","A_153","Eléments de toutes dimensions et poids","€ / Tonne","Dim_2",null,null,null,"Dim_1","Compris entre 15 kg et 20 kg exclus","057",null,null,null,"10 - Autres mix matériaux ou matériaux non classés ou non spécifiés","Cat_10",10,null,61,"Panneaux de particules ou OSB >90%",{"$f":"VLOOKUP(AY11,'Comprendre la codification'!$D$49:$F$126,3,FALSE)","v":61}]
[null,null,null,null,null,null,"ABJ","A_22","Entretien et aménagement du jardin","Bâches, housses, filets et films de jardinage",{"$f":"VLOOKUP(J12,'Comprendre la codification'!$E$27:$F$43,2,FALSE)","v":153},null,"10 - Autres mix matériaux ou matériaux non classés ou non spécifiés","MAT_10",10,"MAT_2","2 - Bois et dérivés de bois","Panneaux de particules ou OSB >90%","Panneaux de particules, OSB",{"$f":"VLOOKUP(R12,'Comprendre la codification'!$D$45:$F$126,3,FALSE)","v":61},null,null,"3 - Papier carton","Cat_3",null,null,null,null,null,"Compris entre 15 kg et 20 kg exclus","057","154","A_154","Eléments de toutes dimensions et poids","€ / Tonne","Dim_1",null,null,null,"Dim_1","Compris entre 20 kg et 25 kg exclus","058",null,null,null,"11 - Mortiers, enduits, peintures, vernis, résines, produits de préparation (Cat. c du décret)","Cat_11",11,null,25,"Panneaux de particules ou OSB >75%",{"$f":"VLOOKUP(AY12,'Comprendre la codification'!$D$49:$F$126,3,FALSE)","v":25}]
[null,null,null,null,null,null,"ABJ","A_22","Entretien et aménagement du jardin","Equipements de plein air et leurs accessoires (hors bâches, filets, housses)",{"$f":"VLOOKUP(J13,'Comprendre la codification'!$E$27:$F$43,2,FALSE)","v":154},null,"11 - Mortiers, enduits, peintures, vernis, résines, produits de préparation","MAT_11",11,"MAT_2","2 - Bois et dérivés de bois","Panneaux de particules ou OSB >75%","Panneaux de particules, OSB",{"$f":"VLOOKUP(R13,'Comprendre la codification'!$D$45:$F$126,3,FALSE)","v":25},null,null,"4 - Matériaux et fibres d'origine végétal ou animal autres que bois et papier, carton","Cat_4",null,null,null,null,null,"Compris entre 20 kg et 25 kg exclus","058","155","A_155","Eléments de toutes dimensions et poids","€ / Tonne","Dim_1",null,null,null,"Dim_1","Compris entre 25 kg et 30 kg exclus","059",null,null,null,"12 - Matériaux inertes","Cat_12",12,null,62,"Dérivés de bois >90%",{"$f":"VLOOKUP(AY13,'Comprendre la codification'!$D$49:$F$126,3,FALSE)","v":62}]
[null,null,null,null,null,null,"ABJ","A_22","Entretien et aménagement du jardin","Structures extérieures non-maçonnées",{"$f":"VLOOKUP(J14,'Comprendre la codification'!$E$27:$F$43,2,FALSE)","v":155},null,"12 - Matériaux inertes","MAT_12",12,"MAT_2","2 - Bois et dérivés de bois","Dérivés de bois >90%","Bois composite, MDF, HDF, alvéolaire, stratifé, HPL….",{"$f":"VLOOKUP(R14,'Comprendre la codification'!$D$45:$F$126,3,FALSE)","v":62},null,null,"5 - Plastique, matériaux et fibres synthétiques","Cat_5",null,null,null,null,null,"Compris entre 25 kg et 30 kg exclus","059",null,null,null,null,null,null,null,null,"Dim_1","Compris entre 30 kg et 40 kg exclus","027",null,null,null,null,null,null,null,"01","Assemblage de bois, dérivés de bois à plus de 50% avec d'autres matériaux ou bois composite (hors verre)",{"$f":"VLOOKUP(AY14,'Comprendre la codification'!$D$49:$F$126,3,FALSE)","v":"01"}]
[null,null,null,null,null,null,null,null,null,null,null,null,null,null,null,"MAT_2","2 - Bois et dérivés de bois","Assemblage de bois, dérivés de bois à plus de 50% avec d'autres matériaux ou bois composite (hors verre)","Assemblage bois-métal, bois-plastique …",{"$f":"VLOOKUP(R15,'Comprendre la codification'!$D$45:$F$126,3,FALSE)","v":"01"},null,null,"6 - Verre et parois vitrées","Cat_6",null,null,null,null,null,"Compris entre 30 kg et 40 kg exclus","027",null,null,null,null,null,null,null,null,"Dim_1","Compris entre 40 kg et 50 kg exclus","060",null,null,null,null,null,null,null,null,"Cat3"]
[null,null,null,null,null,null,null,null,null,null,null,null,null,null,null,null,null,null,null,null,null,null,"10 - Autres mix matériaux ou matériaux non classés ou non spécifiés","Cat_10",null,null,null,null,null,"Compris entre 40 kg et 50 kg exclus","060",null,null,null,null,null,null,null,null,"Dim_2","Eléments de toutes dimensions et poids (T)","000",null,null,null,null,null,null,null,"19","Papier carton >50% avec d'autres matériaux (hors verre)",{"$f":"VLOOKUP(AY16,'Comprendre la codification'!$D$49:$F$126,3,FALSE)","v":"19"}]
[null,null,null,null,null,null,null,null,null,null,null,null,null,null,null,"MAT_3","3 - Papier carton","Papier carton >50% avec d'autres matériaux (hors verre)","Papier, Carton, Compact, Papier Kraft",{"$f":"VLOOKUP(R17,'Comprendre la codification'!$D$45:$F$126,3,FALSE)","v":"19"},null,null,"12 - Matériaux inertes","Cat_12",null,null,null,null,null,null,null,null,null,null,null,null,null,null,null,"Dim_2","Inférieur strictement à 0,5 kg","020",null,null,null,null,null,null,null,null,"Cat4"]
[null,null,null,null,null,null,null,null,null,null,null,null,null,null,null,null,null,null,null,null,null,null,"A_103",null,null,null,null,null,null,null,null,null,null,null,null,null,null,null,null,"Dim_2","Compris entre 0,5 kg et 1 kg exclus","021",null,null,null,null,null,null,null,64,"Caoutchouc naturel >50%",{"$f":"VLOOKUP(AY18,'Comprendre la codification'!$D$49:$F$126,3,FALSE)","v":64}]
[null,null,null,null,null,null,null,null,null,null,null,null,null,null,null,"MAT_4","4 - Matériaux et fibres d'origine végétal ou animal autres que bois et papier, carton","Matériaux bio sourcés ou textiles non synthétiques >90%","Tiges végétales (bambou, rotin, osiers, jute, paille, liège), textiles naturels d'origine végétale non mélangés (coton, lin, chanvre, soie, ramie, fibres de noix de coco, rafia…)",{"$f":"VLOOKUP(R19,'Comprendre la codification'!$D$45:$F$126,3,FALSE)","v":55},null,null,"1 - Métal",{"$f":"VLOOKUP(W19,$AT$2:$AU$13,2,FALSE)","v":"Cat_1"},null,null,null,null,null,null,null,null,null,null,null,null,null,null,null,"Dim_2","Compris entre 1 kg et 2 kg exclus","022",null,null,null,null,null,null,null,63,"Caoutchouc naturel >90%",{"$f":"VLOOKUP(AY19,'Comprendre la codification'!$D$49:$F$126,3,FALSE)","v":63}]
[null,null,null,null,null,null,null,null,null,null,null,null,null,null,null,"MAT_4","4 - Matériaux et fibres d'origine végétal ou animal autres que bois et papier, carton","Matériaux bio sourcés ou textiles non synthétiques >50%","Assemblage de matériaux bio sourcés avec du plastique, du métal …",{"$f":"VLOOKUP(R20,'Comprendre la codification'!$D$45:$F$126,3,FALSE)","v":"04"},null,null,"2 - Bois et dérivés de bois","Cat_2",null,null,null,null,null,null,null,null,null,null,null,null,null,null,null,"Dim_2","Compris entre 2 kg et 3 kg exclus","052",null,null,null,null,null,null,null,"04","Matériaux bio sourcés ou textiles non synthétiques >50%",{"$f":"VLOOKUP(AY20,'Comprendre la codification'!$D$49:$F$126,3,FALSE)","v":"04"}]
[null,null,null,null,null,null,null,null,null,null,null,null,null,null,null,"MAT_4","4 - Matériaux et fibres d'origine végétal ou animal autres que bois et papier, carton","Caoutchouc naturel >90%","Caoutchouc, latex",{"$f":"VLOOKUP(R21,'Comprendre la codification'!$D$45:$F$126,3,FALSE)","v":63},null,null,"3 - Papier carton","Cat_3",null,null,null,null,null,null,null,null,null,null,null,null,null,null,null,"Dim_2","Compris entre 3 kg et 5 kg exclus","053",null,null,null,null,null,null,null,55,"Matériaux bio sourcés ou textiles non synthétiques >90%",{"$f":"VLOOKUP(AY21,'Comprendre la codification'!$D$49:$F$126,3,FALSE)","v":55}]
[null,null,null,null,null,null,null,null,null,null,null,null,null,null,null,"MAT_4","4 - Matériaux et fibres d'origine végétal ou animal autres que bois et papier, carton","Caoutchouc naturel >50%","Caoutchouc, latex",{"$f":"VLOOKUP(R22,'Comprendre la codification'!$D$45:$F$126,3,FALSE)","v":64},null,null,"4 - Matériaux et fibres d'origine végétal ou animal autres que bois et papier, carton","Cat_4",null,null,null,null,null,null,null,null,null,null,null,null,null,null,null,"Dim_2","Compris entre 5 kg et 7 kg exclus","054",null,null,null,null,null,null,null,"06","Matériaux d'origine animale >50%",{"$f":"VLOOKUP(AY22,'Comprendre la codification'!$D$49:$F$126,3,FALSE)","v":"06"}]
[null,null,null,null,null,null,null,null,null,null,null,null,null,null,null,"MAT_4","4 - Matériaux et fibres d'origine végétal ou animal autres que bois et papier, carton","Matériaux d'origine animale >50%","Matières textiles ou rembourrages d'origine animale (laine, feutre, mohair, plumes, duvets, poils, cuirs...)",{"$f":"VLOOKUP(R23,'Comprendre la codification'!$D$45:$F$126,3,FALSE)","v":"06"},null,null,"5 - Plastique, matériaux et fibres synthétiques","Cat_5",null,null,null,null,null,null,null,null,null,null,null,null,null,null,null,"Dim_3","Eléments de toutes dimensions et poids (T)","000",null,null,null,null,null,null,null,null,"Cat5"]
[null,null,null,null,null,null,null,null,null,null,null,null,null,null,null,null,null,null,null,null,null,null,"6 - Verre et parois vitrées","Cat_6",null,null,null,null,null,null,null,null,null,null,null,null,null,null,null,"Dim_3","Inférieur strictement à 0,5 kg","020",null,null,null,null,null,null,null,41,"Plastiques (mono résine) >90%",{"$f":"VLOOKUP(AY24,'Comprendre la codification'!$D$49:$F$126,3,FALSE)","v":41}]
[null,null,null,null,null,null,null,null,null,null,null,null,null,null,null,"MAT_5","5 - Plastique, matériaux et fibres synthétiques","Plastiques (mono résine) >90%","Plastiques et autres matériaux synthétiques : acrylique, PP, PE, PS, XPS, EPS, PER, Nylon, Polyamide, PU, PVC, vinyle, époxy, fibres synthétiques, PL, matériaux composites, carbone….",{"$f":"VLOOKUP(R25,'Comprendre la codification'!$D$45:$F$126,3,FALSE)","v":41},null,null,"10 - Autres mix matériaux ou matériaux non classés ou non spécifiés","Cat_10",null,null,null,null,null,null,null,null,null,null,null,null,null,null,null,"Dim_3","Compris entre 0,5 kg et 1 kg exclus","021",null,null,null,null,null,null,null,45,"PE ou PP ou mélange PP/PE >90%",{"$f":"VLOOKUP(AY25,'Comprendre la codification'!$D$49:$F$126,3,FALSE)","v":45}]
[null,null,null,null,null,null,null,null,null,null,null,null,null,null,null,"MAT_5","5 - Plastique, matériaux et fibres synthétiques","PE ou PP ou mélange PP/PE >90%","Polyéthylène (PE), Polypropylène (PP), mélange PP/PE",{"$f":"VLOOKUP(R26,'Comprendre la codification'!$D$45:$F$126,3,FALSE)","v":45},null,null,"A_104",null,null,null,null,null,null,null,null,null,null,null,null,null,null,null,null,"Dim_3","Compris entre 1 kg et 2 kg exclus","022",null,null,null,null,null,null,null,46,"ABS >90%",{"$f":"VLOOKUP(AY26,'Comprendre la codification'!$D$49:$F$126,3,FALSE)","v":46}]
[null,null,null,null,null,null,null,null,null,null,null,null,null,null,null,"MAT_5","5 - Plastique, matériaux et fibres synthétiques","PVC >90%",null,{"$f":"VLOOKUP(R27,'Comprendre la codification'!$D$45:$F$126,3,FALSE)","v":48},null,null,"3 - Papier carton",{"$f":"VLOOKUP(W27,$AT$2:$AU$13,2,FALSE)","v":"Cat_3"},null,null,null,null,null,null,null,null,null,null,null,null,null,null,null,"Dim_3","Compris entre 2 kg et 3 kg exclus","052",null,null,null,null,null,null,null,48,"PVC >90%",{"$f":"VLOOKUP(AY27,'Comprendre la codification'!$D$49:$F$126,3,FALSE)","v":48}]
[null,null,null,null,null,null,null,null,null,null,null,null,null,null,null,"MAT_5","5 - Plastique, matériaux et fibres synthétiques","Polyterephtalate d'Ethylène (PET) >90%",null,{"$f":"VLOOKUP(R28,'Comprendre la codification'!$D$45:$F$126,3,FALSE)","v":42},null,null,"4 - Matériaux et fibres d'origine végétal ou animal autres que bois et papier, carton","Cat_4",null,null,null,null,null,null,null,null,null,null,null,null,null,null,null,"Dim_3","Compris entre 3 kg et 5 kg exclus","053",null,null,null,null,null,null,null,47,"Polystyrène >90%",{"$f":"VLOOKUP(AY28,'Comprendre la codification'!$D$49:$F$126,3,FALSE)","v":47}]
[null,null,null,null,null,null,null,null,null,null,null,null,null,null,null,"MAT_5","5 - Plastique, matériaux et fibres synthétiques","ABS >90%",null,{"$f":"VLOOKUP(R29,'Comprendre la codification'!$D$45:$F$126,3,FALSE)","v":46},null,null,"5 - Plastique, matériaux et fibres synthétiques","Cat_5",null,null,null,null,null,null,null,null,null,null,null,null,null,null,null,"Dim_3","Compris entre 5 kg et 7 kg exclus","054",null,null,null,null,null,null,null,42,"Polyterephtalate d'Ethylène (PET) >90%",{"$f":"VLOOKUP(AY29,'Comprendre la codification'!$D$49:$F$126,3,FALSE)","v":42}]
[null,null,null,null,null,null,null,null,null,null,null,null,null,null,null,"MAT_5","5 - Plastique, matériaux et fibres synthétiques","Polystyrène >90%",null,{"$f":"VLOOKUP(R30,'Comprendre la codification'!$D$45:$F$126,3,FALSE)","v":47},null,null,"10 - Autres mix matériaux ou matériaux non classés ou non spécifiés","Cat_10",null,null,null,null,null,null,null,null,null,null,null,null,null,null,null,"Dim_3","Compris entre 7 kg et 10 kg exclus","055",null,null,null,null,null,null,null,49,"Caoutchouc synthétique >90%",{"$f":"VLOOKUP(AY30,'Comprendre la codification'!$D$49:$F$126,3,FALSE)","v":49}]
[null,null,null,null,null,null,null,null,null,null,null,null,null,null,null,"MAT_5","5 - Plastique, matériaux et fibres synthétiques","Plastiques ou autres matériaux synthétiques >50%","Assemblage de matériaux et textiles synthétiques, ensemble",{"$f":"VLOOKUP(R31,'Comprendre la codification'!$D$45:$F$126,3,FALSE)","v":"05"},null,null,"A_102",null,null,null,null,null,null,null,null,null,null,null,null,null,null,null,null,"Dim_3","Compris entre 10 kg et 15 kg exclus","056",null,null,null,null,null,null,null,65,"Matériaux ou fibres synthétiques >90%",{"$f":"VLOOKUP(AY31,'Comprendre la codification'!$D$49:$F$126,3,FALSE)","v":65}]
[null,null,null,null,null,null,null,null,null,null,null,null,null,null,null,"MAT_5","5 - Plastique, matériaux et fibres synthétiques","Caoutchouc synthétique >90%","Caoutchouc",{"$f":"VLOOKUP(R32,'Comprendre la codification'!$D$45:$F$126,3,FALSE)","v":49},null,null,"1 - Métal",{"$f":"VLOOKUP(W32,$AT$2:$AU$13,2,FALSE)","v":"Cat_1"},null,null,null,null,null,null,null,null,null,null,null,null,null,null,null,"Dim_3","Compris entre 15 kg et 20 kg exclus","057",null,null,null,null,null,null,null,"05","Plastiques ou autres matériaux synthétiques >50%",{"$f":"VLOOKUP(AY32,'Comprendre la codification'!$D$49:$F$126,3,FALSE)","v":"05"}]
[null,null,null,null,null,null,null,null,null,null,null,null,null,null,null,"MAT_5","5 - Plastique, matériaux et fibres synthétiques","Eléments contenant du latex","Latex",{"$f":"VLOOKUP(R33,'Comprendre la codification'!$D$45:$F$126,3,FALSE)","v":10},null,null,"2 - Bois et dérivés de bois","Cat_2",null,null,null,null,null,null,null,null,null,null,null,null,null,null,null,null,null,null,null,null,null,null,null,null,null,40,"Assemblage caoutchouc synthétique ou latex >50% avec d'autres matériaux",{"$f":"VLOOKUP(AY33,'Comprendre la codification'!$D$49:$F$126,3,FALSE)","v":40}]
[null,null,null,null,null,null,null,null,null,null,null,null,null,null,null,"MAT_5","5 - Plastique, matériaux et fibres synthétiques","Assemblage caoutchouc synthétique ou latex >50% avec d'autres matériaux","Caoutchouc, latex avec d'autres matériaux synthétiques, du bois, du métal …",{"$f":"VLOOKUP(R34,'Comprendre la codification'!$D$45:$F$126,3,FALSE)","v":40},null,null,"3 - Papier carton","Cat_3",null,null,null,null,null,null,null,null,null,null,null,null,null,null,null,null,null,null,null,null,null,null,null,null,null,67,"Assemblage matériaux ou fibres synthétiques >50% avec d'autres matériaux",{"$f":"VLOOKUP(AY34,'Comprendre la codification'!$D$49:$F$126,3,FALSE)","v":67}]
[null,null,null,null,null,null,null,null,null,null,null,null,null,null,null,"MAT_5","5 - Plastique, matériaux et fibres synthétiques","Matériaux ou fibres synthétiques >90%","Polyamides, nylon, polyester (PES) et polyterephtalate d'Ethylène (PET), viscose, polyester, élastane, mousses …",{"$f":"VLOOKUP(R35,'Comprendre la codification'!$D$45:$F$126,3,FALSE)","v":65},null,null,"4 - Matériaux et fibres d'origine végétal ou animal autres que bois et papier, carton","Cat_4",null,null,null,null,null,null,null,null,null,null,null,null,null,null,null,null,null,null,null,null,null,null,null,null,null,null,"Cat6"]
[null,null,null,null,null,null,null,null,null,null,null,null,null,null,null,"MAT_5","5 - Plastique, matériaux et fibres synthétiques","Textile et rembourrage en polyester >90%","Polyester",{"$f":"VLOOKUP(R36,'Comprendre la codification'!$D$45:$F$126,3,FALSE)","v":66},null,null,"5 - Plastique, matériaux et fibres synthétiques","Cat_5",null,null,null,null,null,null,null,null,null,null,null,null,null,null,null,null,null,null,null,null,null,null,null,null,null,72,"Assemblage verre à plus de 50% avec bois ou dérivés de bois",{"$f":"VLOOKUP(AY36,'Comprendre la codification'!$D$49:$F$126,3,FALSE)","v":72}]
[null,null,null,null,null,null,null,null,null,null,null,null,null,null,null,"MAT_5","5 - Plastique, matériaux et fibres synthétiques","Eléments contenant de la mousse",null,{"$f":"VLOOKUP(R37,'Comprendre la codification'!$D$45:$F$126,3,FALSE)","v":"09"},null,null,"6 - Verre et parois vitrées","Cat_6",null,null,null,null,null,null,null,null,null,null,null,null,null,null,null,null,null,null,null,null,null,null,null,null,null,71,"Assemblage verre à plus de 50% avec Inerte",{"$f":"VLOOKUP(AY37,'Comprendre la codification'!$D$49:$F$126,3,FALSE)","v":71}]
[null,null,null,null,null,null,null,null,null,null,null,null,null,null,null,"MAT_5","5 - Plastique, matériaux et fibres synthétiques","Eléments textiles contenant des ressorts",null,{"$f":"VLOOKUP(R38,'Comprendre la codification'!$D$45:$F$126,3,FALSE)","v":11},null,null,"10 - Autres mix matériaux ou matériaux non classés ou non spécifiés","Cat_10",null,null,null,null,null,null,null,null,null,null,null,null,null,null,null,null,null,null,null,null,null,null,null,null,null,70,"Assemblage verre à plus de 50% avec métal",{"$f":"VLOOKUP(AY38,'Comprendre la codification'!$D$49:$F$126,3,FALSE)","v":70}]
[null,null,null,null,null,null,null,null,null,null,null,null,null,null,null,"MAT_5","5 - Plastique, matériaux et fibres synthétiques","Assemblage matériaux ou fibres synthétiques >50% avec d'autres matériaux","Assemblage de matériaux et textiles synthétiques avec du métal, du bois …",{"$f":"VLOOKUP(R39,'Comprendre la codification'!$D$45:$F$126,3,FALSE)","v":67},null,null,"12 - Matériaux inertes","Cat_12",null,null,null,null,null,null,null,null,null,null,null,null,null,null,null,null,null,null,null,null,null,null,null,null,null,73,"Assemblage verre à plus de 50% avec plastique",{"$f":"VLOOKUP(AY39,'Comprendre la codification'!$D$49:$F$126,3,FALSE)","v":73}]
[null,null,null,null,null,null,null,null,null,null,null,null,null,null,null,null,null,null,null,null,null,null,"A_153",null,null,null,null,null,null,null,null,null,null,null,null,null,null,null,null,null,null,null,null,null,null,null,null,null,null,68,"Verre >90%",{"$f":"VLOOKUP(AY40,'Comprendre la codification'!$D$49:$F$126,3,FALSE)","v":68}]
[null,null,null,null,null,null,null,null,null,null,null,null,null,null,null,"MAT_6","6 - Verre et parois vitrées","Verre >90%","Verre plat, brique de verre …",{"$f":"VLOOKUP(R41,'Comprendre la codification'!$D$45:$F$126,3,FALSE)","v":68},null,null,"3 - Papier carton",{"$f":"VLOOKUP(W41,$AT$2:$AU$13,2,FALSE)","v":"Cat_3"},null,null,null,null,null,null,null,null,null,null,null,null,null,null,null,null,null,null,null,null,null,null,null,null,null,null,"Cat7"]
[null,null,null,null,null,null,null,null,null,null,null,null,null,null,null,"MAT_6","6 - Verre et parois vitrées","Assemblage verre à plus de 50% avec métal","Assemblage de verre avec des métaux",{"$f":"VLOOKUP(R42,'Comprendre la codification'!$D$45:$F$126,3,FALSE)","v":70},null,null,"4 - Matériaux et fibres d'origine végétal ou animal autres que bois et papier, carton","Cat_4",null,null,null,null,null,null,null,null,null,null,null,null,null,null,null,null,null,null,null,null,null,null,null,null,null,75,"Plâtre >90%",{"$f":"VLOOKUP(AY42,'Comprendre la codification'!$D$49:$F$126,3,FALSE)","v":75}]
[null,null,null,null,null,null,null,null,null,null,null,null,null,null,null,"MAT_6","6 - Verre et parois vitrées","Assemblage verre à plus de 50% avec Inerte","Assemblage de verre avec de l'inerte",{"$f":"VLOOKUP(R43,'Comprendre la codification'!$D$45:$F$126,3,FALSE)","v":71},null,null,"5 - Plastique, matériaux et fibres synthétiques","Cat_5",null,null,null,null,null,null,null,null,null,null,null,null,null,null,null,null,null,null,null,null,null,null,null,null,null,76,"Plâtre >50%",{"$f":"VLOOKUP(AY43,'Comprendre la codification'!$D$49:$F$126,3,FALSE)","v":76}]
[null,null,null,null,null,null,null,null,null,null,null,null,null,null,null,"MAT_6","6 - Verre et parois vitrées","Assemblage verre à plus de 50% avec bois ou dérivés de bois","Assemblage de verre avec du bois ou des matériaux biosourcés",{"$f":"VLOOKUP(R44,'Comprendre la codification'!$D$45:$F$126,3,FALSE)","v":72},null,null,"10 - Autres mix matériaux ou matériaux non classés ou non spécifiés","Cat_10",null,null,null,null,null,null,null,null,null,null,null,null,null,null,null,null,null,null,null,null,null,null,null,null,null,null,"Cat8"]
[null,null,null,null,null,null,null,null,null,null,null,null,null,null,null,"MAT_6","6 - Verre et parois vitrées","Assemblage verre à plus de 50% avec plastique","Assemblage de verre avec du plastique",{"$f":"VLOOKUP(R45,'Comprendre la codification'!$D$45:$F$126,3,FALSE)","v":73},null,null,"A_151",null,null,null,null,null,null,null,null,null,null,null,null,null,null,null,null,null,null,null,null,null,null,null,null,null,null,77,"Laines de roche à plus de 90 %",{"$f":"VLOOKUP(AY45,'Comprendre la codification'!$D$49:$F$126,3,FALSE)","v":77}]
[null,null,null,null,null,null,null,null,null,null,null,null,null,null,null,"MAT_6","6 - Verre et parois vitrées","Miroir >90%","Miroir",{"$f":"VLOOKUP(R46,'Comprendre la codification'!$D$45:$F$126,3,FALSE)","v":69},null,null,"1 - Métal",{"$f":"VLOOKUP(W46,$AT$2:$AU$13,2,FALSE)","v":"Cat_1"},null,null,null,null,null,null,null,null,null,null,null,null,null,null,null,null,null,null,null,null,null,null,null,null,null,78,"Laine de verre à plus de 90 %",{"$f":"VLOOKUP(AY46,'Comprendre la codification'!$D$49:$F$126,3,FALSE)","v":78}]
[null,null,null,null,null,null,null,null,null,null,null,null,null,null,null,null,null,null,null,null,null,null,"2 - Bois et dérivés de bois","Cat_2",null,null,null,null,null,null,null,null,null,null,null,null,null,null,null,null,null,null,null,null,null,null,null,null,null,79,"Assemblage de laines de verre ou laines de roches à plus de 50% et d'autres matériaux",{"$f":"VLOOKUP(AY47,'Comprendre la codification'!$D$49:$F$126,3,FALSE)","v":79}]
[null,null,null,null,null,null,null,null,null,null,null,null,null,null,null,"MAT_7","7 - Plâtre","Plâtre >90%","Matière en plâtre, plaque de plâtre (placo) et fibre gypse",{"$f":"VLOOKUP(R48,'Comprendre la codification'!$D$45:$F$126,3,FALSE)","v":75},null,null,"3 - Papier carton","Cat_3",null,null,null,null,null,null,null,null,null,null,null,null,null,null,null,null,null,null,null,null,null,null,null,null,null,null,"Cat9"]
[null,null,null,null,null,null,null,null,null,null,null,null,null,null,null,"MAT_7","7 - Plâtre","Plâtre >50%","Elément composé majoritaitement de plâtre et associé à d'autres matériaux",{"$f":"VLOOKUP(R49,'Comprendre la codification'!$D$45:$F$126,3,FALSE)","v":76},null,null,"4 - Matériaux et fibres d'origine végétal ou animal autres que bois et papier, carton","Cat_4",null,null,null,null,null,null,null,null,null,null,null,null,null,null,null,null,null,null,null,null,null,null,null,null,null,80,"Membranes bitumineuses à plus de 90 %",{"$f":"VLOOKUP(AY49,'Comprendre la codification'!$D$49:$F$126,3,FALSE)","v":80}]
[null,null,null,null,null,null,null,null,null,null,null,null,null,null,null,null,null,null,null,null,null,null,"5 - Plastique, matériaux et fibres synthétiques","Cat_5",null,null,null,null,null,null,null,null,null,null,null,null,null,null,null,null,null,null,null,null,null,null,null,null,null,null,"Cat10"]
[null,null,null,null,null,null,null,null,null,null,null,null,null,null,null,"MAT_8","8 - Laines de verre et laines de roches","Laines de roche à plus de 90 %","Matière isolante fabriquée à partir d'un matériau naturel issu de l'activité volcanique",{"$f":"VLOOKUP(R51,'Comprendre la codification'!$D$45:$F$126,3,FALSE)","v":77},null,null,"6 - Verre et parois vitrées","Cat_6",null,null,null,null,null,null,null,null,null,null,null,null,null,null,null,null,null,null,null,null,null,null,null,null,null,82,"Assemblage de 3 matériaux ou plus sans un matériau à plus de 50%",{"$f":"VLOOKUP(AY51,'Comprendre la codification'!$D$49:$F$126,3,FALSE)","v":82}]
[null,null,null,null,null,null,null,null,null,null,null,null,null,null,null,"MAT_8","8 - Laines de verre et laines de roches","Laine de verre à plus de 90 %","Matière composée de fils de verre, utilisé comme filtrant ou isolant",{"$f":"VLOOKUP(R52,'Comprendre la codification'!$D$45:$F$126,3,FALSE)","v":78},null,null,"10 - Autres mix matériaux ou matériaux non classés ou non spécifiés","Cat_10",null,null,null,null,null,null,null,null,null,null,null,null,null,null,null,null,null,null,null,null,null,null,null,null,null,"00","Non connu ou non spécifié par l'entreprise",{"$f":"VLOOKUP(AY52,'Comprendre la codification'!$D$49:$F$126,3,FALSE)","v":"00"}]
[null,null,null,null,null,null,null,null,null,null,null,null,null,null,null,"MAT_8","8 - Laines de verre et laines de roches","Assemblage de laines de verre ou laines de roches à plus de 50% et d'autres matériaux","Elément composé majoritaitement de laine minérale",{"$f":"VLOOKUP(R53,'Comprendre la codification'!$D$45:$F$126,3,FALSE)","v":79},null,null,"A_154",null,null,null,null,null,null,null,null,null,null,null,null,null,null,null,null,null,null,null,null,null,null,null,null,null,null,null,"Cat12"]
[null,null,null,null,null,null,null,null,null,null,null,null,null,null,null,null,null,null,null,null,null,null,"1 - Métal",{"$f":"VLOOKUP(W54,$AT$2:$AU$13,2,FALSE)","v":"Cat_1"},null,null,null,null,null,null,null,null,null,null,null,null,null,null,null,null,null,null,null,null,null,null,null,null,null,84,"Ardoise >90%",{"$f":"VLOOKUP(AY54,'Comprendre la codification'!$D$49:$F$126,3,FALSE)","v":84}]
[null,null,null,null,null,null,null,null,null,null,null,null,null,null,null,"MAT_9","9 - Membranes bitumineuses","Membranes bitumineuses à plus de 90 %","Membrane d'étanchéité synthétique",{"$f":"VLOOKUP(R55,'Comprendre la codification'!$D$45:$F$126,3,FALSE)","v":80},null,null,"2 - Bois et dérivés de bois","Cat_2",null,null,null,null,null,null,null,null,null,null,null,null,null,null,null,null,null,null,null,null,null,null,null,null,null,"08","Assemblage de matériaux avec de l'inerte >50%",{"$f":"VLOOKUP(AY55,'Comprendre la codification'!$D$49:$F$126,3,FALSE)","v":"08"}]
[null,null,null,null,null,null,null,null,null,null,null,null,null,null,null,null,null,null,null,null,null,null,"3 - Papier carton","Cat_3",null,null,null,null,null,null,null,null,null,null,null,null,null,null,null,null,null,null,null,null,null,null,null,null,null,74,"Béton >90%",{"$f":"VLOOKUP(AY56,'Comprendre la codification'!$D$49:$F$126,3,FALSE)","v":74}]
[null,null,null,null,null,null,null,null,null,null,null,null,null,null,null,"MAT_10","10 - Autres mix matériaux ou matériaux non classés ou non spécifiés","Assemblage dont la composition conjointe en bois, dérivés de bois et en métal dépasse 90%",null,{"$f":"VLOOKUP(R57,'Comprendre la codification'!$D$45:$F$126,3,FALSE)","v":81},null,null,"4 - Matériaux et fibres d'origine végétal ou animal autres que bois et papier, carton","Cat_4",null,null,null,null,null,null,null,null,null,null,null,null,null,null,null,null,null,null,null,null,null,null,null,null,null,97,"Céramique >90%",{"$f":"VLOOKUP(AY57,'Comprendre la codification'!$D$49:$F$126,3,FALSE)","v":97}]
[null,null,null,null,null,null,null,null,null,null,null,null,null,null,null,"MAT_10","10 - Autres mix matériaux ou matériaux non classés ou non spécifiés","Assemblage de 3 matériaux ou plus sans un matériau à plus de 50%","Elément composé de parties en matériaux divers avec souvent mais non exclusivement une partie de plastique ou de textile synthétique",{"$f":"VLOOKUP(R58,'Comprendre la codification'!$D$45:$F$126,3,FALSE)","v":82},null,null,"5 - Plastique, matériaux et fibres synthétiques","Cat_5",null,null,null,null,null,null,null,null,null,null,null,null,null,null,null,null,null,null,null,null,null,null,null,null,null,90,"Ciment >90%",{"$f":"VLOOKUP(AY58,'Comprendre la codification'!$D$49:$F$126,3,FALSE)","v":90}]
[null,null,null,null,null,null,null,null,null,null,null,null,null,null,null,"MAT_10","10 - Autres mix matériaux ou matériaux non classés ou non spécifiés","Non connu ou non spécifié par l'entreprise","Non connu ou non spécifié par l'entreprise",{"$f":"VLOOKUP(R59,'Comprendre la codification'!$D$45:$F$126,3,FALSE)","v":"00"},null,null,"6 - Verre et parois vitrées","Cat_6",null,null,null,null,null,null,null,null,null,null,null,null,null,null,null,null,null,null,null,null,null,null,null,null,null,15,"Composites et autres matériaux minéraux reconstitués >50%",{"$f":"VLOOKUP(AY59,'Comprendre la codification'!$D$49:$F$126,3,FALSE)","v":15}]
[null,null,null,null,null,null,null,null,null,null,null,null,null,null,null,null,null,null,null,null,null,null,"10 - Autres mix matériaux ou matériaux non classés ou non spécifiés","Cat_10",null,null,null,null,null,null,null,null,null,null,null,null,null,null,null,null,null,null,null,null,null,null,null,null,null,91,"Granit >90%",{"$f":"VLOOKUP(AY60,'Comprendre la codification'!$D$49:$F$126,3,FALSE)","v":91}]
[null,null,null,null,null,null,null,null,null,null,null,null,null,null,null,"MAT_11","11 - Mortiers, enduits, peintures, vernis, résines, produits de préparation","Produits liquides, y.c. dangereux >90%","Sous couches, préparation des sols et étanchéité, Peintures extérieures, Traitement des sols et toitures, Peintures intérieures, Colles et adhésifs, Résines PU et expansive (aérosol), Mastics, joints et mousses PU, Adjuvants, Traitement des bois, Traitement des matériaux  (aérosol), Traitement des matériaux hors bois, Vernis et vitrificateurs et dérivés, Vernis et vitrificateurs et dérivés (aérosols), Enduits poudre, Enduits pate",{"$f":"VLOOKUP(R61,'Comprendre la codification'!$D$45:$F$126,3,FALSE)","v":83},null,null,"12 - Matériaux inertes","Cat_12",null,null,null,null,null,null,null,null,null,null,null,null,null,null,null,null,null,null,null,null,null,null,null,null,null,94,"Grès >90%",{"$f":"VLOOKUP(AY61,'Comprendre la codification'!$D$49:$F$126,3,FALSE)","v":94}]
[null,null,null,null,null,null,null,null,null,null,null,null,null,null,null,null,null,null,null,null,null,null,"A_150",null,null,null,null,null,null,null,null,null,null,null,null,null,null,null,null,null,null,null,null,null,null,null,null,null,null,87,"Lave >90%",{"$f":"VLOOKUP(AY62,'Comprendre la codification'!$D$49:$F$126,3,FALSE)","v":87}]
[null,null,null,null,null,null,null,null,null,null,null,null,null,null,null,"MAT_12","12 - Matériaux inertes","Assemblage de matériaux avec de l'inerte >50%",null,{"$f":"VLOOKUP(R63,'Comprendre la codification'!$D$45:$F$126,3,FALSE)","v":"08"},null,null,"1 - Métal",{"$f":"VLOOKUP(W63,$AT$2:$AU$13,2,FALSE)","v":"Cat_1"},null,null,null,null,null,null,null,null,null,null,null,null,null,null,null,null,null,null,null,null,null,null,null,null,null,98,"Pierre artificielle >90%",{"$f":"VLOOKUP(AY63,'Comprendre la codification'!$D$49:$F$126,3,FALSE)","v":98}]
[null,null,null,null,null,null,null,null,null,null,null,null,null,null,null,"MAT_12","12 - Matériaux inertes","Composites et autres matériaux minéraux reconstitués >50%",null,{"$f":"VLOOKUP(R64,'Comprendre la codification'!$D$45:$F$126,3,FALSE)","v":15},null,null,"2 - Bois et dérivés de bois","Cat_2",null,null,null,null,null,null,null,null,null,null,null,null,null,null,null,null,null,null,null,null,null,null,null,null,null,86,"Pierre calcaire >90%",{"$f":"VLOOKUP(AY64,'Comprendre la codification'!$D$49:$F$126,3,FALSE)","v":86}]
[null,null,null,null,null,null,null,null,null,null,null,null,null,null,null,"MAT_12","12 - Matériaux inertes","Ardoise >90%","Ardoise",{"$f":"VLOOKUP(R65,'Comprendre la codification'!$D$45:$F$126,3,FALSE)","v":84},null,null,"3 - Papier carton","Cat_3",null,null,null,null,null,null,null,null,null,null,null,null,null,null,null,null,null,null,null,null,null,null,null,null,null,89,"Terre cuite ou crue >90%",{"$f":"VLOOKUP(AY65,'Comprendre la codification'!$D$49:$F$126,3,FALSE)","v":89}]
[null,null,null,null,null,null,null,null,null,null,null,null,null,null,null,"MAT_12","12 - Matériaux inertes","Granulats hors pierre >90%","Matière minérale de petite taille (granulats, gravillons, sable, grave, gravier, moellon, concassé, …) hors pierre",{"$f":"VLOOKUP(R66,'Comprendre la codification'!$D$45:$F$126,3,FALSE)","v":85},null,null,"4 - Matériaux et fibres d'origine végétal ou animal autres que bois et papier, carton","Cat_4"]
[null,null,null,null,null,null,null,null,null,null,null,null,null,null,null,"MAT_12","12 - Matériaux inertes","Pierre calcaire >90%","Matière minérale de grosse taille, hors granulats, gravillons, sable et hors pierres spécifiques comme l'ardoise",{"$f":"VLOOKUP(R67,'Comprendre la codification'!$D$45:$F$126,3,FALSE)","v":86},null,null,"5 - Plastique, matériaux et fibres synthétiques","Cat_5"]
[null,null,null,null,null,null,null,null,null,null,null,null,null,null,null,"MAT_12","12 - Matériaux inertes","Lave >90%",null,{"$f":"VLOOKUP(R68,'Comprendre la codification'!$D$45:$F$126,3,FALSE)","v":87},null,null,"6 - Verre et parois vitrées","Cat_6"]
[null,null,null,null,null,null,null,null,null,null,null,null,null,null,null,"MAT_12","12 - Matériaux inertes","Mélange bitumineux >90%","Matière liquide à base de bitume",{"$f":"VLOOKUP(R69,'Comprendre la codification'!$D$45:$F$126,3,FALSE)","v":88},null,null,"10 - Autres mix matériaux ou matériaux non classés ou non spécifiés","Cat_10"]
[null,null,null,null,null,null,null,null,null,null,null,null,null,null,null,"MAT_12","12 - Matériaux inertes","Terre cuite ou crue >90%","Matière terre cuite",{"$f":"VLOOKUP(R70,'Comprendre la codification'!$D$45:$F$126,3,FALSE)","v":89},null,null,"A_152"]
[null,null,null,null,null,null,null,null,null,null,null,null,null,null,null,"MAT_12","12 - Matériaux inertes","Béton >90%","Assemblage de granulats (graviers, gravillons, sables, etc.), d'un liant (ciment, bitume, argile) d'adjuvants et d'eau",{"$f":"VLOOKUP(R71,'Comprendre la codification'!$D$45:$F$126,3,FALSE)","v":74},null,null,"1 - Métal",{"$f":"VLOOKUP(W71,$AT$2:$AU$13,2,FALSE)","v":"Cat_1"}]
[null,null,null,null,null,null,null,null,null,null,null,null,null,null,null,"MAT_12","12 - Matériaux inertes","Béton cellulaire >90%",null,{"$f":"VLOOKUP(R72,'Comprendre la codification'!$D$45:$F$126,3,FALSE)","v":96},null,null,"2 - Bois et dérivés de bois","Cat_2"]
[null,null,null,null,null,null,null,null,null,null,null,null,null,null,null,"MAT_12","12 - Matériaux inertes","Ciment >90%",null,{"$f":"VLOOKUP(R73,'Comprendre la codification'!$D$45:$F$126,3,FALSE)","v":90},null,null,"3 - Papier carton","Cat_3"]
[null,null,null,null,null,null,null,null,null,null,null,null,null,null,null,"MAT_12","12 - Matériaux inertes","Granit >90%","Matière à base de faïence ou grès",{"$f":"VLOOKUP(R74,'Comprendre la codification'!$D$45:$F$126,3,FALSE)","v":91},null,null,"4 - Matériaux et fibres d'origine végétal ou animal autres que bois et papier, carton","Cat_4"]
[null,null,null,null,null,null,null,null,null,null,null,null,null,null,null,"MAT_12","12 - Matériaux inertes","Céramique >90%",null,{"$f":"VLOOKUP(R75,'Comprendre la codification'!$D$45:$F$126,3,FALSE)","v":97},null,null,"5 - Plastique, matériaux et fibres synthétiques","Cat_5"]
[null,null,null,null,null,null,null,null,null,null,null,null,null,null,null,"MAT_12","12 - Matériaux inertes","Mortier >90%",null,{"$f":"VLOOKUP(R76,'Comprendre la codification'!$D$45:$F$126,3,FALSE)","v":92},null,null,"6 - Verre et parois vitrées","Cat_6"]
[null,null,null,null,null,null,null,null,null,null,null,null,null,null,null,"MAT_12","12 - Matériaux inertes","Adjuvants >90%",null,{"$f":"VLOOKUP(R77,'Comprendre la codification'!$D$45:$F$126,3,FALSE)","v":93},null,null,"10 - Autres mix matériaux ou matériaux non classés ou non spécifiés","Cat_10"]
[null,null,null,null,null,null,null,null,null,null,null,null,null,null,null,"MAT_12","12 - Matériaux inertes","Grès >90%",null,{"$f":"VLOOKUP(R78,'Comprendre la codification'!$D$45:$F$126,3,FALSE)","v":94},null,null,"12 - Matériaux inertes","Cat_12"]
[null,null,null,null,null,null,null,null,null,null,null,null,null,null,null,"MAT_12","12 - Matériaux inertes","Chaux >90%","Matériau obtenu par moulage d'agrégats divers, charges et liants (béton, pierre reconstituée) ou par synthèse chimique",{"$f":"VLOOKUP(R79,'Comprendre la codification'!$D$45:$F$126,3,FALSE)","v":95},null,null,"A_155"]
[null,null,null,null,null,null,null,null,null,null,null,null,null,null,null,"MAT_12","12 - Matériaux inertes","Pierre artificielle >90%",null,{"$f":"VLOOKUP(R80,'Comprendre la codification'!$D$45:$F$126,3,FALSE)","v":98},null,null,"1 - Métal",{"$f":"VLOOKUP(W80,$AT$2:$AU$13,2,FALSE)","v":"Cat_1"}]
[null,null,null,null,null,null,null,null,null,null,null,null,null,null,null,null,null,null,null,null,null,null,"2 - Bois et dérivés de bois","Cat_2"]
[null,null,null,null,null,null,null,null,null,null,null,null,null,null,null,null,null,null,null,null,null,null,"3 - Papier carton","Cat_3"]
[null,null,null,null,null,null,null,null,null,null,null,null,null,null,null,null,null,null,null,null,null,null,"4 - Matériaux et fibres d'origine végétal ou animal autres que bois et papier, carton","Cat_4"]
[null,null,null,null,null,null,null,null,null,null,null,null,null,null,null,null,null,null,null,null,null,null,"5 - Plastique, matériaux et fibres synthétiques","Cat_5"]
[null,null,null,null,null,null,null,null,null,null,null,null,null,null,null,null,null,null,null,null,null,null,"6 - Verre et parois vitrées","Cat_6"]
[null,null,null,null,null,null,null,null,null,null,null,null,null,null,null,null,null,null,null,null,null,null,"10 - Autres mix matériaux ou matériaux non classés ou non spécifiés","Cat_10"]
[null,null,null,null,null,null,null,null,null,null,null,null,null,null,null,null,null,null,null,null,null,null,"12 - Matériaux inertes","Cat_12"]
[]
[null,null,null,null,null,null,null,null,null,null,null,null,null,null,null,null,null,null,null,null,null,null,"A_105"]
[null,null,null,null,null,null,null,null,null,null,null,null,null,null,null,null,null,null,null,null,null,null,"1 - Métal",{"$f":"VLOOKUP(W90,$AT$2:$AU$13,2,FALSE)","v":"Cat_1"}]
[null,null,null,null,null,null,null,null,null,null,null,null,null,null,null,null,null,null,null,null,null,null,"2 - Bois et dérivés de bois","Cat_2"]
[null,null,null,null,null,null,null,null,null,null,null,null,null,null,null,null,null,null,null,null,null,null,"3 - Papier carton","Cat_3"]
[null,null,null,null,null,null,null,null,null,null,null,null,null,null,null,null,null,null,null,null,null,null,"4 - Matériaux et fibres d'origine végétal ou animal autres que bois et papier, carton","Cat_4"]
[null,null,null,null,null,null,null,null,null,null,null,null,null,null,null,null,null,null,null,null,null,null,"5 - Plastique, matériaux et fibres synthétiques","Cat_5"]
[null,null,null,null,null,null,null,null,null,null,null,null,null,null,null,null,null,null,null,null,null,null,"6 - Verre et parois vitrées","Cat_6"]
[null,null,null,null,null,null,null,null,null,null,null,null,null,null,null,null,null,null,null,null,null,null,"10 - Autres mix matériaux ou matériaux non classés ou non spécifiés","Cat_10"]
[null,null,null,null,null,null,null,null,null,null,null,null,null,null,null,null,null,null,null,null,null,null,"12 - Matériaux inertes","Cat_12"]
[]
[]
[]
[]
[]
[]
[]
[]
[]
[]
[]
[]
[]
[]
[]
[]
[]
[]
[]
[]
[]
[]
[]
[]
[]
[]
[]
[]
[]
[]
[]
[]
[]
[]
[]
[]
[]
[]
[]
[]
[]
[]
[]
[]
[]
[]
[]
[]
[]
[]
[]
[]
[]
[]
[]
[]
[]
[]
[]
[]
[]
[]
[]
[]
[]
[]
[]
[]
[]
[]
[]
[]
[]
[]
[]
[]
[null,null,null,"Textile et rembourrage en polyester >90%"]
[null,"Code Mesure : 00 000 00 XXX 0"]

{"sheet":"Codes éco-part","index":5,"n_rows":487,"n_cols":6,"rows_kept":487,"cut":false,"hidden":false,"merged":[[0,1,0,3],[1,1,2,3]]}
[null,"Codes éco-participation communs aux 4 filières",null,null,null,0]
[null,"La table ci-dessous contient les codes éco-participations et \nles montants correspondants pour 2023"]
[]
[]
[null,"Code éco-participation","Montant € HT / article","Montant € TTC / article \n(TVA à 20%)"]
[null,"002",0.04,0.05,{"$f":"B6","v":"002"}]
[null,"003",0.08,0.1,{"$f":"B7","v":"003"}]
[null,"004",0.13,0.16,"004"]
[null,"005",0.17,0.2,"005"]
[null,"006",0.33,0.4,"006"]
[null,"008",0.83000000000000018,1,"008"]
[null,"009",1.25,1.5,"009"]
[null,"010",1.67,2,"010"]
[null,"011",2.08,2.5,"011"]
[null,"012",2.5,3,"012"]
[null,"013",2.92,3.5,"013"]
[null,"014",3.3299999999999992,4,"014"]
[null,"015",3.75,4.5,"015"]
[null,"016",4.17,5,"016"]
[null,"017",5.42,6.5,"017"]
[null,"018",5.83,7,"018"]
[null,"019",6.67,8,"019"]
[null,"020",7.5,9,"020"]
[null,"021",8.33,10,"021"]
[null,"022",10.83,13,"022"]
[null,"023",15,18,"023"]
[null,"024",19.170000000000009,23,"024"]
[null,"026",27.5,33,"026"]
[null,"027",31.67,38,"027"]
[null,"029",40,48,"029"]
[null,"032",52.5,63,"032"]
[null,"036",69.169999999999987,83,"036"]
[null,"042",5,6,"042"]
[null,"043",0.34,0.41,"043"]
[null,"044",0.68,0.82,"044"]
[null,"047",0.02,0.02,"047"]
[null,"048",0.05,0.06,"048"]
[null,"049",0.09,0.11,"049"]
[null,"050",0.15,0.18,"050"]
[null,"051",0.21,0.25,"051"]
[null,"053",0.5,0.6,"053"]
[null,"054",0.92,1.1000000000000001,"054"]
[null,"055",0.96,1.1499999999999999,"055"]
[null,"056",1,1.2,"056"]
[null,"057",1.42,1.7,"057"]
[null,"058",1.46,1.75,"058"]
[null,"059",1.5,1.8,"059"]
[null,"060",1.92,2.2999999999999998,"060"]
[null,"061",2,2.4,"061"]
[null,"062",2.33,2.8,"062"]
[null,"065",4.58,5.5,"065"]
[null,"067",7.08,8.5,"067"]
[null,"068",7.92,9.5,"068"]
[null,"069",8.75,10.5,"069"]
[null,"070",9.17,11,"070"]
[null,"072",12.5,15,"072"]
[null,"073",17.5,21,"073"]
[null,"074",21.67,26,"074"]
[null,"075",26.67,32,"075"]
[null,"079",51.67,62,"079"]
[null,"080",61.67,74,"080"]
[null,"083",76.669999999999987,92,"083"]
[null,"084",86.669999999999987,104,"084"]
[null,"088",106.67,128,"088"]
[null,"092",0.03,0.04,"092"]
[null,"094",0.1,0.12,"094"]
[null,"095",0.25,0.3,"095"]
[null,"096",0.06,7.0000000000000007E-2,"096"]
[null,"097",0.12,0.14000000000000001,"097"]
[null,"098",0.14000000000000001,0.17,"098"]
[null,"099",0.16,0.19,{"$f":"B71","v":"099"}]
[null,"100",0.18,0.22,"100"]
[null,"101",0.2,0.24,"101"]
[null,"103",0.27,0.32,"103"]
[null,"104",0.31,0.37,"104"]
[null,"105",0.4,0.48,"105"]
[null,"106",0.46,0.55000000000000004,"106"]
[null,"107",0.47,0.56000000000000005,"107"]
[null,"108",0.49,0.59,"108"]
[null,"109",0.51,0.61,"109"]
[null,"110",0.66999999999999982,0.8,"110"]
[null,"111",0.69,0.83000000000000018,"111"]
[null,"112",0.81,0.97,"112"]
[null,"113",1.08,1.3,"113"]
[null,"114",1.21,1.45,"114"]
[null,"115",1.33,1.6,"115"]
[null,"116",1.71,2.0499999999999998,"116"]
[null,"117",1.83,2.2000000000000002,"117"]
[null,"118",2.25,2.7,"118"]
[null,"119",2.67,3.2,"119"]
[null,"120",2.75,3.3,"120"]
[null,"121",3.08,3.7,"121"]
[null,"122",3.25,3.9,"122"]
[null,"123",3.58,4.3,"123"]
[null,"124",3.67,4.4000000000000004,"124"]
[null,"125",3.92,4.7,"125"]
[null,"126",4.42,5.3,"126"]
[null,"127",4.5,5.4,"127"]
[null,"128",4.67,5.6,"128"]
[null,"129",4.75,5.7,"129"]
[null,"130",4.83,5.8,"130"]
[null,"131",5.17,6.2,"131"]
[null,"132",5.33,6.4,"132"]
[null,"133",5.58,6.7,"133"]
[null,"134",6.08,7.3,"134"]
[null,"135",6.25,7.5,"135"]
[null,"136",6.92,8.3000000000000007,"136"]
[null,"137",8.83,10.6,"137"]
[null,"138",10,12,"138"]
[null,"139",10.42,12.5,"139"]
[null,"140",11.25,13.5,"140"]
[null,"141",11.67,14,"141"]
[null,"142",13.33,16,"142"]
[null,"143",14.17,17,"143"]
[null,"144",15.42,18.5,"144"]
[null,"145",16.25,19.5,"145"]
[null,"146",17.079999999999991,20.5,"146"]
[null,"147",18.329999999999991,22,"147"]
[null,"148",20,24,"148"]
[null,"149",20.83,25,"149"]
[null,"150",22.5,27,"150"]
[null,"151",25,30,"151"]
[null,"152",26.92,32.300000000000011,"152"]
[null,"153",30,36,"153"]
[null,"154",30.83,37,"154"]
[null,"155",31.25,37.5,"155"]
[null,"156",32.17,38.6,"156"]
[null,"157",32.5,39,"157"]
[null,"158",34.17,41,"158"]
[null,"159",35,42,"159"]
[null,"160",35.42,42.5,"160"]
[null,"161",37.42,44.9,"161"]
[null,"162",37.5,45,"162"]
[null,"163",39.17,47,"163"]
[null,"164",42.5,51,{"$f":"B135","v":"164"}]
[null,"165",42.67,51.2,"165"]
[null,"166",42.92,51.5,"166"]
[null,"167",43.33,52,"167"]
[null,"168",43.75,52.5,"168"]
[null,"169",45,54,"169"]
[null,"170",45.42,54.5,"170"]
[null,"171",47.5,57,"171"]
[null,"172",47.92,57.5,"172"]
[null,"173",50,60,"173"]
[null,"174",50.42,60.5,"174"]
[null,"175",53.17,63.8,"175"]
[null,"176",55.42,66.5,"176"]
[null,"177",55.83,67,"177"]
[null,"178",56.25,67.5,"178"]
[null,"179",58.42,70.099999999999994,"179"]
[null,"180",60,72,"180"]
[null,"181",60.42,72.5,"181"]
[null,"182",62.5,75,"182"]
[null,"183",63.67,76.400000000000006,"183"]
[null,"184",64.169999999999987,77,"184"]
[null,"185",65.42,78.5,"185"]
[null,"186",68.33,82,"186"]
[null,"187",68.75,82.5,"187"]
[null,"188",68.92,82.7,"188"]
[null,"189",72.5,87,"189"]
[null,"190",72.92,87.5,"190"]
[null,"191",74.169999999999987,89,"191"]
[null,"192",75,90,"192"]
[null,"193",75.42,90.5,"193"]
[null,"194",77.92,93.5,"194"]
[null,"195",79.42,95.3,"195"]
[null,"196",80.83,97,"196"]
[null,"197",81.25,97.5,"197"]
[null,"198",84.169999999999987,101,"198"]
[null,"199",84.669999999999987,101.6,"199"]
[null,"200",85,102,"200"]
[null,"201",85.42,102.5,"201"]
[null,"202",87.5,105,"202"]
[null,"203",89.92,107.9,"203"]
[null,"204",93.75,112.5,"204"]
[null,"205",95.169999999999987,114.2,"205"]
[null,"206",95.42,114.5,"206"]
[null,"207",100,120,"207"]
[null,"208",100.42,120.5,"208"]
[null,"209",104.17,125,"209"]
[null,"210",105.42,126.5,"210"]
[null,"211",105.67,126.8,"211"]
[null,"212",106.25,127.5,"212"]
[null,"213",110.92,133.1,"213"]
[null,"214",112.5,135,"214"]
[null,"215",112.92,135.5,"215"]
[null,"216",115.42,138.5,"216"]
[null,"217",117.92,141.5,"217"]
[null,"218",118.75,142.5,"218"]
[null,"219",121.67,146,"219"]
[null,"220",125,150,"220"]
[null,"221",125.42,150.5,"221"]
[null,"222",129.16999999999999,155,"222"]
[null,"223",130.41999999999999,156.5,"223"]
[null,"224",131.25,157.5,"224"]
[null,"225",135.41999999999999,162.5,"225"]
[null,"226",139.16999999999999,167,"226"]
[null,"227",140.41999999999999,168.5,"227"]
[null,"228",145.41999999999999,174.5,{"$f":"B199","v":"228"}]
[null,"229",147.91999999999999,177.5,"229"]
[null,"230",151.66999999999999,182,"230"]
[null,"231",155.41999999999999,186.5,"231"]
[null,"232",156.66999999999999,188,"232"]
[null,"233",162.91999999999999,195.5,"233"]
[null,"235",165.42,198.5,"235"]
[null,"236",174.17,209,"236"]
[null,"237",175.42,210.5,"237"]
[null,"238",182.92,219.5,"238"]
[null,"240",185.42,222.5,"240"]
[null,"241",195.42,234.5,"241"]
[null,"242",196.67,236,"242"]
[null,"243",205.42,246.5,"243"]
[null,"244",207.92,249.5,"244"]
[null,"245",219.17,263,"245"]
[null,"246",230.42,276.5,"246"]
[null,"247",7.0000000000000007E-2,0.08,"247"]
[null,"248",0.24,0.29000000000000009,"248"]
[null,"249",3.39,4.07,"249"]
[null,"250",12.1,14.52,"250"]
[null,"251",16.940000000000001,20.329999999999998,"251"]
[null,"252",21.78,26.14,"252"]
[null,"253",0.39,0.47,"253"]
[null,"254",0.59,0.71,"254"]
[null,"255",0.73,0.88,"255"]
[null,"256",1.7,2.04,"256"]
[null,"257",2.1800000000000002,2.62,"257"]
[null,"258",4.3600000000000003,5.23,"258"]
[null,"259",24.2,29.04,"259"]
[null,"260",0.01,0.01,"260"]
[null,"261",7.26,8.7100000000000009,"261"]
[null,"262",0.11,0.13,"262"]
[null,"263",0.22,0.26,"263"]
[null,"264",5.09,6.11,"264"]
[null,"265",18.149999999999999,21.78,"265"]
[null,"266",25.41,30.49,"266"]
[null,"267",32.67,39.200000000000003,"267"]
[null,"268",0.37,0.44,"268"]
[null,"269",0.88,1.06,"269"]
[null,"270",1.0900000000000001,1.31,"270"]
[null,"271",1.82,2.1800000000000002,"271"]
[null,"272",2.5499999999999998,3.06,"272"]
[null,"273",3.27,3.92,"273"]
[null,"274",4,4.8,"274"]
[null,"275",6.54,7.85,"275"]
[null,"276",36.299999999999997,43.56,"276"]
[null,"277",10.89,13.07,"277"]
[null,"278",6.1,7.32,"278"]
[null,"279",30.5,36.6,"279"]
[null,"280",39.21,47.05,"280"]
[null,"281",0.44,0.53,"281"]
[null,"282",0.7,0.84,"282"]
[null,"283",1.05,1.26,"283"]
[null,"284",1.31,1.57,"284"]
[null,"285",3.05,3.66,"285"]
[null,"286",3.93,4.72,"286"]
[null,"287",4.8,5.76,"287"]
[null,"288",7.85,9.42,"288"]
[null,"289",43.56,52.27,"289"]
[null,"290",13.07,15.68,"290"]
[null,"291",0.19,0.23,"291"]
[null,"292",0.38,0.46,"292"]
[null,"293",8.81,10.57,"293"]
[null,"294",31.46,37.75,{"$f":"B263","v":"294"}]
[null,"295",44.05,52.86,"295"]
[null,"296",56.63,67.959999999999994,"296"]
[null,"297",0.63,0.76,"297"]
[null,"298",1.01,1.21,"298"]
[null,"299",1.52,1.82,"299"]
[null,"300",1.89,2.27,"300"]
[null,"301",3.15,3.78,"301"]
[null,"302",4.41,5.29,"302"]
[null,"303",5.67,6.8,"303"]
[null,"304",6.93,8.32,"304"]
[null,"305",11.33,13.6,"305"]
[null,"306",62.92,75.5,"306"]
[null,"307",18.88,22.66,"307"]
[null,"308",10.85,13.02,"308"]
[null,"309",38.72,46.46,"309"]
[null,"310",54.21,65.05,"310"]
[null,"311",69.7,83.64,"311"]
[null,"312",0.78,0.94,"312"]
[null,"313",1.24,1.49,"313"]
[null,"314",1.86,2.23,"314"]
[null,"315",3.88,4.66,"315"]
[null,"316",5.43,6.52,"316"]
[null,"317",6.97,8.36,"317"]
[null,"318",8.52,10.220000000000001,"318"]
[null,"319",13.94,16.73,"319"]
[null,"320",77.44,92.93,"320"]
[null,"321",23.24,27.89,"321"]
[null,"322",7,8.4,"322"]
[null,"323",0.23,{"$f":"C292*1.2","v":0.27600000000000002},"323"]
[null,"324",0.28999999999999998,0.34799999999999998,"324"]
[null,"325",0.45,0.54,"325"]
[null,"326",0.56999999999999995,0.68399999999999994,"326"]
[null,"327",0.6,0.72,"327"]
[null,"328",0.75,0.89999999999999991,"328"]
[null,"329",0.85,1.02,"329"]
[null,"330",0.9,1.08,"330"]
[null,"331",1.1299999999999999,1.3559999999999999,"331"]
[null,"332",1.35,1.62,"332"]
[null,"333",1.41,1.6919999999999999,"333"]
[null,"334",1.69,2.028,"334"]
[null,"335",1.88,2.2559999999999998,"335"]
[null,"336",1.97,2.3639999999999999,"336"]
[null,"337",2.35,2.82,"337"]
[null,"338",2.54,3.048,"338"]
[null,"339",2.63,3.1559999999999997,"339"]
[null,"340",2.82,3.3839999999999999,"340"]
[null,"341",3.1,3.7199999999999998,"341"]
[null,"342",3.29,3.948,"342"]
[null,"343",3.38,4.056,"343"]
[null,"344",3.94,4.7279999999999998,"344"]
[null,"345",4.13,4.9559999999999995,"345"]
[null,"346",4.22,5.0639999999999992,"346"]
[null,"347",5.07,6.0840000000000005,"347"]
[null,"348",5.16,6.1920000000000002,"348"]
[null,"349",5.25,6.3,"349"]
[null,"350",6.19,7.4279999999999999,"350"]
[null,"351",6.57,7.8840000000000003,"351"]
[null,"352",6.75,8.1,"352"]
[null,"353",7.32,8.7840000000000007,"353"]
[null,"354",7.88,9.4559999999999995,"354"]
[null,"355",8.25,{"$f":"C324*1.2","v":9.9},"355"]
[null,"356",8.44,10.127999999999998,"356"]
[null,"357",9.57,11.484,"357"]
[null,"358",9.75,11.7,{"$f":"B327","v":"358"}]
[null,"359",10.130000000000001,12.156000000000001,"359"]
[null,"360",10.32,12.384,"360"]
[null,"361",10.69,12.827999999999999,"361"]
[null,"362",12.19,14.627999999999998,"362"]
[null,"363",12.38,14.856,"363"]
[null,"364",12.75,15.299999999999999,"364"]
[null,"365",14.07,16.884,"365"]
[null,"366",14.25,17.099999999999998,"366"]
[null,"367",14.63,17.556000000000001,"367"]
[null,"368",15.19,18.227999999999998,"368"]
[null,"369",15.94,19.128,"369"]
[null,"370",16.5,19.8,"370"]
[null,"371",16.88,20.255999999999997,"371"]
[null,"372",17.82,21.384,"372"]
[null,"373",19.13,22.956,"373"]
[null,"374",19.690000000000001,23.628,"374"]
[null,"375",20.25,24.3,"375"]
[null,"376",20.63,24.755999999999997,"376"]
[null,"377",21.38,25.655999999999999,"377"]
[null,"378",24.75,29.7,"378"]
[null,"379",25.32,30.384,"379"]
[null,"380",26.25,31.5,"380"]
[null,"381",30.38,36.455999999999996,"381"]
[null,"382",32.82,39.384,"382"]
[null,"383",33.75,40.5,"383"]
[null,"384",33.76,40.511999999999993,"384"]
[null,"385",39.380000000000003,47.256,"385"]
[null,"386",42.19,50.627999999999993,"386"]
[null,"387",50.63,{"$f":"C356*1.2","v":60.756},"387"]
[null,"388",56.26,67.512,"388"]
[null,"389",67.510000000000005,81.012,"389"]
[null,"390",2.2000000000000002,2.64,"390"]
[null,"391",4.84,5.8079999999999998,"391"]
[null,"392",6.78,8.1359999999999992,"392"]
[null,"393",8.7100000000000009,10.452,"393"]
[null,"394",1.74,2.0880000000000001,"394"]
[null,"395",9.68,11.616,"395"]
[null,"396",3.81,4.5720000000000001,"396"]
[null,"397",3.3,3.9599999999999995,"397"]
[null,"398",10.16,12.192,"398"]
[null,"399",2.62,3.1440000000000001,"399"]
[null,"400",2.88,3.456,"400"]
[null,"401",14.52,17.423999999999999,"401"]
[null,"402",5.72,6.8639999999999999,"402"]
[null,"403",5.23,6.2760000000000007,"403"]
[null,"404",15.25,18.3,"404"]
[null,"405",21.35,25.62,"405"]
[null,"406",27.45,32.94,"406"]
[null,"407",3.73,4.476,"407"]
[null,"408",4.33,5.1959999999999997,"408"]
[null,"409",6.39,7.6679999999999993,"409"]
[null,"410",30.49,36.587999999999994,"410"]
[null,"411",10.11,12.132,"411"]
[null,"412",7.55,9.0599999999999987,"412"]
[null,"413",22.02,26.423999999999999,"413"]
[null,"414",30.84,37.007999999999996,"414"]
[null,"415",39.64,47.567999999999998,"415"]
[null,"416",5.39,6.4679999999999991,"416"]
[null,"417",9.23,11.076000000000001,"417"]
[null,"418",44.04,52.847999999999999,"418"]
[null,"419",14.61,{"$f":"C388*1.2","v":17.532},"419"]
[null,"420",9.3000000000000007,11.16,"420"]
[null,"421",27.1,32.520000000000003,"421"]
[null,"422",37.950000000000003,45.54,{"$f":"B391","v":"422"}]
[null,"423",48.79,58.547999999999995,"423"]
[null,"424",6.62,7.944,"424"]
[null,"425",7.69,9.2279999999999998,"425"]
[null,"426",11.35,13.62,"426"]
[null,"427",17.98,21.576000000000001,"427"]
[null,"428",12.71,15.252000000000001,"428"]
[null,"429",17.79,21.347999999999999,"429"]
[null,"430",22.87,27.443999999999999,"430"]
[null,"431",3.11,3.7319999999999998,"431"]
[null,"432",3.61,4.3319999999999999,"432"]
[null,"433",8.43,10.116,"433"]
[null,"434",3.68,4.4160000000000004,"434"]
[null,"435",8.86,10.632,"435"]
[null,"436",12.4,14.879999999999999,"436"]
[null,"437",2.84,3.4079999999999999,"437"]
[null,"438",3.17,3.8039999999999998,"438"]
[null,"439",17.72,21.263999999999999,"439"]
[null,"440",6.6,7.919999999999999,"440"]
[null,"441",1.7999999999999999E-2,2.1599999999999998E-2,"441"]
[null,"442",8.5999999999999993E-2,0.10319999999999999,"442"]
[null,"443",0.105,0.126,"443"]
[null,"444",0.14299999999999999,0.17159999999999997,"444"]
[null,"445",0.26,0.312,"445"]
[null,"446",0.3,0.36,"446"]
[null,"447",0.32,0.38400000000000001,"447"]
[null,"448",0.35,0.42,"448"]
[null,"449",0.36,0.432,"449"]
[null,"450",0.42,0.504,"450"]
[null,"451",0.53,{"$f":"C420*1.2","v":0.63600000000000001},"451"]
[null,"452",0.64,0.76800000000000002,"452"]
[null,"453",0.66,0.79200000000000004,"453"]
[null,"454",0.72,0.86399999999999999,"454"]
[null,"455",0.76,0.91199999999999992,"455"]
[null,"456",0.8,0.96,"456"]
[null,"457",0.84,1.008,"457"]
[null,"458",0.94,1.1279999999999999,"458"]
[null,"459",0.98,1.1759999999999999,"459"]
[null,"460",1.1499999999999999,1.38,"460"]
[null,"461",1.18,1.4159999999999999,"461"]
[null,"462",1.38,1.6559999999999999,"462"]
[null,"463",1.4,1.68,"463"]
[null,"464",1.57,1.8839999999999999,"464"]
[null,"465",1.68,2.016,"465"]
[null,"466",1.77,2.1240000000000001,"466"]
[null,"467",1.81,2.1720000000000002,"467"]
[null,"468",2.09,2.5079999999999996,"468"]
[null,"469",2.21,2.6519999999999997,"469"]
[null,"470",2.42,2.9039999999999999,"470"]
[null,"471",2.4300000000000002,2.9159999999999999,"471"]
[null,"472",2.74,3.2880000000000003,"472"]
[null,"473",2.78,3.3359999999999999,"473"]
[null,"474",3,3.5999999999999996,"474"]
[null,"475",3.07,3.6839999999999997,"475"]
[null,"476",3.2,3.84,"476"]
[null,"477",3.82,4.5839999999999996,"477"]
[null,"478",4.57,5.484,"478"]
[null,"479",5.14,6.1679999999999993,"479"]
[null,"480",5.7,6.84,"480"]
[null,"481",5.84,7.008,"481"]
[null,"482",7.46,8.952,"482"]
[null,"483",8,{"$f":"C452*1.2","v":9.6},"483"]
[null,"484",9,10.799999999999999,"484"]
[null,"485",12,14.399999999999999,"485"]
[null,"486",13,15.6,{"$f":"B455","v":"486"}]
[null,"487",17,20.399999999999999,"487"]
[null,"488",29,34.799999999999997,"488"]
[null,"489",41,49.199999999999996,"489"]
[null,"490",55,66,"490"]
[null,"491",70,84,"491"]
[null,"492",71,85.2,"492"]
[null,"493",76,91.2,"493"]
[null,"494",86,103.2,"494"]
[null,"495",130,156,"495"]
[null,"496",165,198,"496"]
[null,"497",170,204,"497"]
[null,"498",215,258,"498"]
[null,"499",5.0000000000000001E-3,6.0000000000000001E-3,"499"]
[null,"500",0.54,0.64800000000000002,"500"]
[null,"501",0.86,1.032,"501"]
[null,"502",1.51,1.8119999999999998,"502"]
[null,"503",0.41,0.49199999999999994,"503"]
[null,"504",1.1599999999999999,1.3919999999999999,"504"]
[null,"505",1.2,1.44,"505"]
[null,"506",0.43,0.51600000000000001,"506"]
[null,"507",1.19,1.4279999999999999,"507"]
[null,"508",3.4,4.08,"508"]
[null,"509",0.52,0.624,"509"]
[null,"510",0.91,1.0920000000000001,"510"]
[null,"511",1.3,1.56,"511"]
[null,"512",1.95,2.34,"512"]
[null,"513",2.6,3.12,"513"]
[null,"514",4.4000000000000004,5.28,"514"]
[null,"515",4.3,{"$f":"C484*1.2","v":5.1599999999999993},"515"]
[null,"516",15.05,18.059999999999999,{"$f":"B485","v":"516"}]
[null,"517",10.199999999999999,12.239999999999998,"517"]
[null,"518",150,180,"518"]

{"sheet":"Codes","index":6,"n_rows":5039,"n_cols":13,"rows_kept":5039,"cut":false,"hidden":false,"merged":[]}
["REP","Cat. REP","Code Ecomaison","Code Ecominéro","Rayon","Catégorie de produits","Matériaux","Tranches de dimensions","Mesure","Tarifs","Eco-participation 2023","Code Eco part","Tarif TTC"]
["REP ABJ",3,"21100000000",null,"Articles de bricolage","Outillage à main et leurs accessoires","Non connu ou non spécifié par l'entreprise","Eléments de toutes dimensions et poids","€ / Tonne",215,215,{"$f":"VLOOKUP(J2,'Codes éco-part'!$C:$E,3,FALSE)","v":"498"},{"$f":"J2*1.2","v":258}]
["REP ABJ",3,"21100000200",null,"Articles de bricolage","Outillage à main et leurs accessoires","Non connu ou non spécifié par l'entreprise","Inférieur strictement à 0,5 kg","€/unité",0.05,0.05,{"$f":"VLOOKUP(J3,'Codes éco-part'!$C:$E,3,FALSE)","v":"048"},0.06]
["REP ABJ",3,"21100000210",null,"Articles de bricolage","Outillage à main et leurs accessoires","Non connu ou non spécifié par l'entreprise","Compris entre 0,5 kg et 1 kg exclus","€/unité",0.16,0.16,{"$f":"VLOOKUP(J4,'Codes éco-part'!$C:$E,3,FALSE)","v":"099"},0.192]
["REP ABJ",3,"21100000220",null,"Articles de bricolage","Outillage à main et leurs accessoires","Non connu ou non spécifié par l'entreprise","Compris entre 1 kg et 2 kg exclus","€/unité",0.32,0.32,{"$f":"VLOOKUP(J5,'Codes éco-part'!$C:$E,3,FALSE)","v":"447"},0.38400000000000001]
["REP ABJ",3,"21100000520",null,"Articles de bricolage","Outillage à main et leurs accessoires","Non connu ou non spécifié par l'entreprise","Compris entre 2 kg et 3 kg exclus","€/unité",0.54,0.54,{"$f":"VLOOKUP(J6,'Codes éco-part'!$C:$E,3,FALSE)","v":"500"},0.64800000000000002]
["REP ABJ",3,"21100000530",null,"Articles de bricolage","Outillage à main et leurs accessoires","Non connu ou non spécifié par l'entreprise","Compris entre 3 kg et 5 kg exclus","€/unité",0.86,0.86,{"$f":"VLOOKUP(J7,'Codes éco-part'!$C:$E,3,FALSE)","v":"501"},1.032]
["REP ABJ",3,"21100000540",null,"Articles de bricolage","Outillage à main et leurs accessoires","Non connu ou non spécifié par l'entreprise","Compris entre 5 kg et 7 kg exclus","€/unité",1.51,1.51,{"$f":"VLOOKUP(J8,'Codes éco-part'!$C:$E,3,FALSE)","v":"502"},1.8119999999999998]
["REP ABJ",3,"21100000900",null,"Articles de bricolage","Outillage à main et leurs accessoires","Non connu ou non spécifié par l'entreprise","Lot de 10","€/Lot",4.3,4.3,{"$f":"VLOOKUP(J9,'Codes éco-part'!$C:$E,3,FALSE)","v":"515"},5.1599999999999993]
["REP ABJ",3,"21100010000",null,"Articles de bricolage","Outillage à main et leurs accessoires","Assemblage de bois, dérivés de bois à plus de 50% avec d'autres matériaux ou bois composite (hors verre)","Eléments de toutes dimensions et poids","€ / Tonne",45,45,{"$f":"VLOOKUP(J10,'Codes éco-part'!$C:$E,3,FALSE)","v":"169"},54]
["REP ABJ",3,"21100010200",null,"Articles de bricolage","Outillage à main et leurs accessoires","Assemblage de bois, dérivés de bois à plus de 50% avec d'autres matériaux ou bois composite (hors verre)","Inférieur strictement à 0,5 kg","€/unité",0.01,0.01,{"$f":"VLOOKUP(J11,'Codes éco-part'!$C:$E,3,FALSE)","v":"260"},1.2E-2]
["REP ABJ",3,"21100010210",null,"Articles de bricolage","Outillage à main et leurs accessoires","Assemblage de bois, dérivés de bois à plus de 50% avec d'autres matériaux ou bois composite (hors verre)","Compris entre 0,5 kg et 1 kg exclus","€/unité",0.03,0.03,{"$f":"VLOOKUP(J12,'Codes éco-part'!$C:$E,3,FALSE)","v":"092"},3.5999999999999997E-2]
["REP ABJ",3,"21100010220",null,"Articles de bricolage","Outillage à main et leurs accessoires","Assemblage de bois, dérivés de bois à plus de 50% avec d'autres matériaux ou bois composite (hors verre)","Compris entre 1 kg et 2 kg exclus","€/unité",7.0000000000000007E-2,7.0000000000000007E-2,{"$f":"VLOOKUP(J13,'Codes éco-part'!$C:$E,3,FALSE)","v":"247"},8.4000000000000005E-2]
["REP ABJ",3,"21100010520",null,"Articles de bricolage","Outillage à main et leurs accessoires","Assemblage de bois, dérivés de bois à plus de 50% avec d'autres matériaux ou bois composite (hors verre)","Compris entre 2 kg et 3 kg exclus","€/unité",0.11,0.11,{"$f":"VLOOKUP(J14,'Codes éco-part'!$C:$E,3,FALSE)","v":"262"},0.13200000000000001]
["REP ABJ",3,"21100010530",null,"Articles de bricolage","Outillage à main et leurs accessoires","Assemblage de bois, dérivés de bois à plus de 50% avec d'autres matériaux ou bois composite (hors verre)","Compris entre 3 kg et 5 kg exclus","€/unité",0.18,0.18,{"$f":"VLOOKUP(J15,'Codes éco-part'!$C:$E,3,FALSE)","v":"100"},0.216]
["REP ABJ",3,"21100010540",null,"Articles de bricolage","Outillage à main et leurs accessoires","Assemblage de bois, dérivés de bois à plus de 50% avec d'autres matériaux ou bois composite (hors verre)","Compris entre 5 kg et 7 kg exclus","€/unité",0.32,0.32,{"$f":"VLOOKUP(J16,'Codes éco-part'!$C:$E,3,FALSE)","v":"447"},0.38400000000000001]
["REP ABJ",3,"21100020000",null,"Articles de bricolage","Outillage à main et leurs accessoires","Assemblage avec métal >50% et autres matériaux","Eléments de toutes dimensions et poids","€ / Tonne",10,10,{"$f":"VLOOKUP(J17,'Codes éco-part'!$C:$E,3,FALSE)","v":"138"},12]
["REP ABJ",3,"21100020200",null,"Articles de bricolage","Outillage à main et leurs accessoires","Assemblage avec métal >50% et autres matériaux","Inférieur strictement à 0,5 kg","€/unité",0.01,0.01,{"$f":"VLOOKUP(J18,'Codes éco-part'!$C:$E,3,FALSE)","v":"260"},1.2E-2]
["REP ABJ",3,"21100020210",null,"Articles de bricolage","Outillage à main et leurs accessoires","Assemblage avec métal >50% et autres matériaux","Compris entre 0,5 kg et 1 kg exclus","€/unité",0.01,0.01,{"$f":"VLOOKUP(J19,'Codes éco-part'!$C:$E,3,FALSE)","v":"260"},1.2E-2]
["REP ABJ",3,"21100020220",null,"Articles de bricolage","Outillage à main et leurs accessoires","Assemblage avec métal >50% et autres matériaux","Compris entre 1 kg et 2 kg exclus","€/unité",0.02,0.02,{"$f":"VLOOKUP(J20,'Codes éco-part'!$C:$E,3,FALSE)","v":"047"},2.4E-2]
["REP ABJ",3,"21100020520",null,"Articles de bricolage","Outillage à main et leurs accessoires","Assemblage avec métal >50% et autres matériaux","Compris entre 2 kg et 3 kg exclus","€/unité",0.03,0.03,{"$f":"VLOOKUP(J21,'Codes éco-part'!$C:$E,3,FALSE)","v":"092"},3.5999999999999997E-2]
["REP ABJ",3,"21100020530",null,"Articles de bricolage","Outillage à main et leurs accessoires","Assemblage avec métal >50% et autres matériaux","Compris entre 3 kg et 5 kg exclus","€/unité",0.04,0.04,{"$f":"VLOOKUP(J22,'Codes éco-part'!$C:$E,3,FALSE)","v":"002"},4.8000000000000001E-2]
["REP ABJ",3,"21100020540",null,"Articles de bricolage","Outillage à main et leurs accessoires","Assemblage avec métal >50% et autres matériaux","Compris entre 5 kg et 7 kg exclus","€/unité",7.0000000000000007E-2,7.0000000000000007E-2,{"$f":"VLOOKUP(J23,'Codes éco-part'!$C:$E,3,FALSE)","v":"247"},8.4000000000000005E-2]
["REP ABJ",3,"21100040000",null,"Articles de bricolage","Outillage à main et leurs accessoires","Matériaux bio sourcés ou textiles non synthétiques >50%","Eléments de toutes dimensions et poids","€ / Tonne",215,215,{"$f":"VLOOKUP(J24,'Codes éco-part'!$C:$E,3,FALSE)","v":"498"},258]
["REP ABJ",3,"21100040200",null,"Articles de bricolage","Outillage à main et leurs accessoires","Matériaux bio sourcés ou textiles non synthétiques >50%","Inférieur strictement à 0,5 kg","€/unité",0.05,0.05,{"$f":"VLOOKUP(J25,'Codes éco-part'!$C:$E,3,FALSE)","v":"048"},0.06]
["REP ABJ",3,"21100040210",null,"Articles de bricolage","Outillage à main et leurs accessoires","Matériaux bio sourcés ou textiles non synthétiques >50%","Compris entre 0,5 kg et 1 kg exclus","€/unité",0.16,0.16,{"$f":"VLOOKUP(J26,'Codes éco-part'!$C:$E,3,FALSE)","v":"099"},0.192]
["REP ABJ",3,"21100040220",null,"Articles de bricolage","Outillage à main et leurs accessoires","Matériaux bio sourcés ou textiles non synthétiques >50%","Compris entre 1 kg et 2 kg exclus","€/unité",0.32,0.32,{"$f":"VLOOKUP(J27,'Codes éco-part'!$C:$E,3,FALSE)","v":"447"},0.38400000000000001]
["REP ABJ",3,"21100040520",null,"Articles de bricolage","Outillage à main et leurs accessoires","Matériaux bio sourcés ou textiles non synthétiques >50%","Compris entre 2 kg et 3 kg exclus","€/unité",0.54,0.54,{"$f":"VLOOKUP(J28,'Codes éco-part'!$C:$E,3,FALSE)","v":"500"},0.64800000000000002]
["REP ABJ",3,"21100040530",null,"Articles de bricolage","Outillage à main et leurs accessoires","Matériaux bio sourcés ou textiles non synthétiques >50%","Compris entre 3 kg et 5 kg exclus","€/unité",0.86,0.86,{"$f":"VLOOKUP(J29,'Codes éco-part'!$C:$E,3,FALSE)","v":"501"},1.032]
["REP ABJ",3,"21100040540",null,"Articles de bricolage","Outillage à main et leurs accessoires","Matériaux bio sourcés ou textiles non synthétiques >50%","Compris entre 5 kg et 7 kg exclus","€/unité",1.51,1.51,{"$f":"VLOOKUP(J30,'Codes éco-part'!$C:$E,3,FALSE)","v":"502"},1.8119999999999998]
["REP ABJ",3,"21100050000",null,"Articles de bricolage","Outillage à main et leurs accessoires","Plastiques ou autres matériaux synthétiques >50%","Eléments de toutes dimensions et poids","€ / Tonne",215,215,{"$f":"VLOOKUP(J31,'Codes éco-part'!$C:$E,3,FALSE)","v":"498"},258]
["REP ABJ",3,"21100050200",null,"Articles de bricolage","Outillage à main et leurs accessoires","Plastiques ou autres matériaux synthétiques >50%","Inférieur strictement à 0,5 kg","€/unité",0.05,0.05,{"$f":"VLOOKUP(J32,'Codes éco-part'!$C:$E,3,FALSE)","v":"048"},0.06]
["REP ABJ",3,"21100050210",null,"Articles de bricolage","Outillage à main et leurs accessoires","Plastiques ou autres matériaux synthétiques >50%","Compris entre 0,5 kg et 1 kg exclus","€/unité",0.16,0.16,{"$f":"VLOOKUP(J33,'Codes éco-part'!$C:$E,3,FALSE)","v":"099"},0.192]
["REP ABJ",3,"21100050220",null,"Articles de bricolage","Outillage à main et leurs accessoires","Plastiques ou autres matériaux synthétiques >50%","Compris entre 1 kg et 2 kg exclus","€/unité",0.32,0.32,{"$f":"VLOOKUP(J34,'Codes éco-part'!$C:$E,3,FALSE)","v":"447"},0.38400000000000001]
["REP ABJ",3,"21100050520",null,"Articles de bricolage","Outillage à main et leurs accessoires","Plastiques ou autres matériaux synthétiques >50%","Compris entre 2 kg et 3 kg exclus","€/unité",0.54,0.54,{"$f":"VLOOKUP(J35,'Codes éco-part'!$C:$E,3,FALSE)","v":"500"},0.64800000000000002]
["REP ABJ",3,"21100050530",null,"Articles de bricolage","Outillage à main et leurs accessoires","Plastiques ou autres matériaux synthétiques >50%","Compris entre 3 kg et 5 kg exclus","€/unité",0.86,0.86,{"$f":"VLOOKUP(J36,'Codes éco-part'!$C:$E,3,FALSE)","v":"501"},1.032]
["REP ABJ",3,"21100050540",null,"Articles de bricolage","Outillage à main et leurs accessoires","Plastiques ou autres matériaux synthétiques >50%","Compris entre 5 kg et 7 kg exclus","€/unité",1.51,1.51,{"$f":"VLOOKUP(J37,'Codes éco-part'!$C:$E,3,FALSE)","v":"502"},1.8119999999999998]
["REP ABJ",3,"21100060000",null,"Articles de bricolage","Outillage à main et leurs accessoires","Matériaux d'origine animale >50%","Eléments de toutes dimensions et poids","€ / Tonne",215,215,{"$f":"VLOOKUP(J38,'Codes éco-part'!$C:$E,3,FALSE)","v":"498"},258]
["REP ABJ",3,"21100060200",null,"Articles de bricolage","Outillage à main et leurs accessoires","Matériaux d'origine animale >50%","Inférieur strictement à 0,5 kg","€/unité",0.05,0.05,{"$f":"VLOOKUP(J39,'Codes éco-part'!$C:$E,3,FALSE)","v":"048"},0.06]
["REP ABJ",3,"21100060210",null,"Articles de bricolage","Outillage à main et leurs accessoires","Matériaux d'origine animale >50%","Compris entre 0,5 kg et 1 kg exclus","€/unité",0.16,0.16,{"$f":"VLOOKUP(J40,'Codes éco-part'!$C:$E,3,FALSE)","v":"099"},0.192]
["REP ABJ",3,"21100060220",null,"Articles de bricolage","Outillage à main et leurs accessoires","Matériaux d'origine animale >50%","Compris entre 1 kg et 2 kg exclus","€/unité",0.32,0.32,{"$f":"VLOOKUP(J41,'Codes éco-part'!$C:$E,3,FALSE)","v":"447"},0.38400000000000001]
["REP ABJ",3,"21100060520",null,"Articles de bricolage","Outillage à main et leurs accessoires","Matériaux d'origine animale >50%","Compris entre 2 kg et 3 kg exclus","€/unité",0.54,0.54,{"$f":"VLOOKUP(J42,'Codes éco-part'!$C:$E,3,FALSE)","v":"500"},0.64800000000000002]
["REP ABJ",3,"21100060530",null,"Articles de bricolage","Outillage à main et leurs accessoires","Matériaux d'origine animale >50%","Compris entre 3 kg et 5 kg exclus","€/unité",0.86,0.86,{"$f":"VLOOKUP(J43,'Codes éco-part'!$C:$E,3,FALSE)","v":"501"},1.032]
["REP ABJ",3,"21100060540",null,"Articles de bricolage","Outillage à main et leurs accessoires","Matériaux d'origine animale >50%","Compris entre 5 kg et 7 kg exclus","€/unité",1.51,1.51,{"$f":"VLOOKUP(J44,'Codes éco-part'!$C:$E,3,FALSE)","v":"502"},1.8119999999999998]
["REP ABJ",3,"21100190000",null,"Articles de bricolage","Outillage à main et leurs accessoires","Papier carton >50% avec d'autres matériaux (hors verre)","Eléments de toutes dimensions et poids","€ / Tonne",215,215,{"$f":"VLOOKUP(J45,'Codes éco-part'!$C:$E,3,FALSE)","v":"498"},258]
["REP ABJ",3,"21100190200",null,"Articles de bricolage","Outillage à main et leurs accessoires","Papier carton >50% avec d'autres matériaux (hors verre)","Inférieur strictement à 0,5 kg","€/unité",0.05,0.05,{"$f":"VLOOKUP(J46,'Codes éco-part'!$C:$E,3,FALSE)","v":"048"},0.06]
["REP ABJ",3,"21100190210",null,"Articles de bricolage","Outillage à main et leurs accessoires","Papier carton >50% avec d'autres matériaux (hors verre)","Compris entre 0,5 kg et 1 kg exclus","€/unité",0.16,0.16,{"$f":"VLOOKUP(J47,'Codes éco-part'!$C:$E,3,FALSE)","v":"099"},0.192]
["REP ABJ",3,"21100190220",null,"Articles de bricolage","Outillage à main et leurs accessoires","Papier carton >50% avec d'autres matériaux (hors verre)","Compris entre 1 kg et 2 kg exclus","€/unité",0.32,0.32,{"$f":"VLOOKUP(J48,'Codes éco-part'!$C:$E,3,FALSE)","v":"447"},0.38400000000000001]
["REP ABJ",3,"21100190520",null,"Articles de bricolage","Outillage à main et leurs accessoires","Papier carton >50% avec d'autres matériaux (hors verre)","Compris entre 2 kg et 3 kg exclus","€/unité",0.54,0.54,{"$f":"VLOOKUP(J49,'Codes éco-part'!$C:$E,3,FALSE)","v":"500"},0.64800000000000002]
["REP ABJ",3,"21100190530",null,"Articles de bricolage","Outillage à main et leurs accessoires","Papier carton >50% avec d'autres matériaux (hors verre)","Compris entre 3 kg et 5 kg exclus","€/unité",0.86,0.86,{"$f":"VLOOKUP(J50,'Codes éco-part'!$C:$E,3,FALSE)","v":"501"},1.032]
["REP ABJ",3,"21100190540",null,"Articles de bricolage","Outillage à main et leurs accessoires","Papier carton >50% avec d'autres matériaux (hors verre)","Compris entre 5 kg et 7 kg exclus","€/unité",1.51,1.51,{"$f":"VLOOKUP(J51,'Codes éco-part'!$C:$E,3,FALSE)","v":"502"},1.8119999999999998]
["REP ABJ",3,"21100200000",null,"Articles de bricolage","Outillage à main et leurs accessoires","Massif et assimilés certifiés >75%","Eléments de toutes dimensions et poids","€ / Tonne",45,45,{"$f":"VLOOKUP(J52,'Codes éco-part'!$C:$E,3,FALSE)","v":"169"},54]
["REP ABJ",3,"21100200200",null,"Articles de bricolage","Outillage à main et leurs accessoires","Massif et assimilés certifiés >75%","Inférieur strictement à 0,5 kg","€/unité",0.01,0.01,{"$f":"VLOOKUP(J53,'Codes éco-part'!$C:$E,3,FALSE)","v":"260"},1.2E-2]
["REP ABJ",3,"21100200210",null,"Articles de bricolage","Outillage à main et leurs accessoires","Massif et assimilés certifiés >75%","Compris entre 0,5 kg et 1 kg exclus","€/unité",0.03,0.03,{"$f":"VLOOKUP(J54,'Codes éco-part'!$C:$E,3,FALSE)","v":"092"},3.5999999999999997E-2]
["REP ABJ",3,"21100200220",null,"Articles de bricolage","Outillage à main et leurs accessoires","Massif et assimilés certifiés >75%","Compris entre 1 kg et 2 kg exclus","€/unité",7.0000000000000007E-2,7.0000000000000007E-2,{"$f":"VLOOKUP(J55,'Codes éco-part'!$C:$E,3,FALSE)","v":"247"},8.4000000000000005E-2]
["REP ABJ",3,"21100200520",null,"Articles de bricolage","Outillage à main et leurs accessoires","Massif et assimilés certifiés >75%","Compris entre 2 kg et 3 kg exclus","€/unité",0.11,0.11,{"$f":"VLOOKUP(J56,'Codes éco-part'!$C:$E,3,FALSE)","v":"262"},0.13200000000000001]
["REP ABJ",3,"21100200530",null,"Articles de bricolage","Outillage à main et leurs accessoires","Massif et assimilés certifiés >75%","Compris entre 3 kg et 5 kg exclus","€/unité",0.18,0.18,{"$f":"VLOOKUP(J57,'Codes éco-part'!$C:$E,3,FALSE)","v":"100"},0.216]
["REP ABJ",3,"21100200540",null,"Articles de bricolage","Outillage à main et leurs accessoires","Massif et assimilés certifiés >75%","Compris entre 5 kg et 7 kg exclus","€/unité",0.32,0.32,{"$f":"VLOOKUP(J58,'Codes éco-part'!$C:$E,3,FALSE)","v":"447"},0.38400000000000001]
["REP ABJ",3,"21100210000",null,"Articles de bricolage","Outillage à main et leurs accessoires","Massif et assimilés >75%","Eléments de toutes dimensions et poids","€ / Tonne",45,45,{"$f":"VLOOKUP(J59,'Codes éco-part'!$C:$E,3,FALSE)","v":"169"},54]
["REP ABJ",3,"21100210200",null,"Articles de bricolage","Outillage à main et leurs accessoires","Massif et assimilés >75%","Inférieur strictement à 0,5 kg","€/unité",0.01,0.01,{"$f":"VLOOKUP(J60,'Codes éco-part'!$C:$E,3,FALSE)","v":"260"},1.2E-2]
["REP ABJ",3,"21100210210",null,"Articles de bricolage","Outillage à main et leurs accessoires","Massif et assimilés >75%","Compris entre 0,5 kg et 1 kg exclus","€/unité",0.03,0.03,{"$f":"VLOOKUP(J61,'Codes éco-part'!$C:$E,3,FALSE)","v":"092"},3.5999999999999997E-2]
["REP ABJ",3,"21100210220",null,"Articles de bricolage","Outillage à main et leurs accessoires","Massif et assimilés >75%","Compris entre 1 kg et 2 kg exclus","€/unité",7.0000000000000007E-2,7.0000000000000007E-2,{"$f":"VLOOKUP(J62,'Codes éco-part'!$C:$E,3,FALSE)","v":"247"},8.4000000000000005E-2]
["REP ABJ",3,"21100210520",null,"Articles de bricolage","Outillage à main et leurs accessoires","Massif et assimilés >75%","Compris entre 2 kg et 3 kg exclus","€/unité",0.11,0.11,{"$f":"VLOOKUP(J63,'Codes éco-part'!$C:$E,3,FALSE)","v":"262"},0.13200000000000001]
["REP ABJ",3,"21100210530",null,"Articles de bricolage","Outillage à main et leurs accessoires","Massif et assimilés >75%","Compris entre 3 kg et 5 kg exclus","€/unité",0.18,0.18,{"$f":"VLOOKUP(J64,'Codes éco-part'!$C:$E,3,FALSE)","v":"100"},0.216]
["REP ABJ",3,"21100210540",null,"Articles de bricolage","Outillage à main et leurs accessoires","Massif et assimilés >75%","Compris entre 5 kg et 7 kg exclus","€/unité",0.32,0.32,{"$f":"VLOOKUP(J65,'Codes éco-part'!$C:$E,3,FALSE)","v":"447"},0.38400000000000001]
["REP ABJ",3,"21100250000",null,"Articles de bricolage","Outillage à main et leurs accessoires","Panneaux de particules ou OSB >75%","Eléments de toutes dimensions et poids","€ / Tonne",45,45,{"$f":"VLOOKUP(J66,'Codes éco-part'!$C:$E,3,FALSE)","v":"169"},{"$f":"J66*1.2","v":54}]
["REP ABJ",3,"21100250200",null,"Articles de bricolage","Outillage à main et leurs accessoires","Panneaux de particules ou OSB >75%","Inférieur strictement à 0,5 kg","€/unité",0.01,0.01,{"$f":"VLOOKUP(J67,'Codes éco-part'!$C:$E,3,FALSE)","v":"260"},1.2E-2]
["REP ABJ",3,"21100250210",null,"Articles de bricolage","Outillage à main et leurs accessoires","Panneaux de particules ou OSB >75%","Compris entre 0,5 kg et 1 kg exclus","€/unité",0.03,0.03,{"$f":"VLOOKUP(J68,'Codes éco-part'!$C:$E,3,FALSE)","v":"092"},3.5999999999999997E-2]
["REP ABJ",3,"21100250220",null,"Articles de bricolage","Outillage à main et leurs accessoires","Panneaux de particules ou OSB >75%","Compris entre 1 kg et 2 kg exclus","€/unité",7.0000000000000007E-2,7.0000000000000007E-2,{"$f":"VLOOKUP(J69,'Codes éco-part'!$C:$E,3,FALSE)","v":"247"},8.4000000000000005E-2]
["REP ABJ",3,"21100250520",null,"Articles de bricolage","Outillage à main et leurs accessoires","Panneaux de particules ou OSB >75%","Compris entre 2 kg et 3 kg exclus","€/unité",0.11,0.11,{"$f":"VLOOKUP(J70,'Codes éco-part'!$C:$E,3,FALSE)","v":"262"},0.13200000000000001]
["REP ABJ",3,"21100250530",null,"Articles de bricolage","Outillage à main et leurs accessoires","Panneaux de particules ou OSB >75%","Compris entre 3 kg et 5 kg exclus","€/unité",0.18,0.18,{"$f":"VLOOKUP(J71,'Codes éco-part'!$C:$E,3,FALSE)","v":"100"},0.216]
["REP ABJ",3,"21100250540",null,"Articles de bricolage","Outillage à main et leurs accessoires","Panneaux de particules ou OSB >75%","Compris entre 5 kg et 7 kg exclus","€/unité",0.32,0.32,{"$f":"VLOOKUP(J72,'Codes éco-part'!$C:$E,3,FALSE)","v":"447"},0.38400000000000001]
["REP ABJ",3,"21100280000",null,"Articles de bricolage","Outillage à main et leurs accessoires","Métal >90%","Eléments de toutes dimensions et poids","€ / Tonne",10,10,{"$f":"VLOOKUP(J73,'Codes éco-part'!$C:$E,3,FALSE)","v":"138"},12]
["REP ABJ",3,"21100280200",null,"Articles de bricolage","Outillage à main et leurs accessoires","Métal >90%","Inférieur strictement à 0,5 kg","€/unité",0.01,0.01,{"$f":"VLOOKUP(J74,'Codes éco-part'!$C:$E,3,FALSE)","v":"260"},1.2E-2]
["REP ABJ",3,"21100280210",null,"Articles de bricolage","Outillage à main et leurs accessoires","Métal >90%","Compris entre 0,5 kg et 1 kg exclus","€/unité",0.01,0.01,{"$f":"VLOOKUP(J75,'Codes éco-part'!$C:$E,3,FALSE)","v":"260"},1.2E-2]
["REP ABJ",3,"21100280220",null,"Articles de bricolage","Outillage à main et leurs accessoires","Métal >90%","Compris entre 1 kg et 2 kg exclus","€/unité",0.02,0.02,{"$f":"VLOOKUP(J76,'Codes éco-part'!$C:$E,3,FALSE)","v":"047"},2.4E-2]
["REP ABJ",3,"21100280520",null,"Articles de bricolage","Outillage à main et leurs accessoires","Métal >90%","Compris entre 2 kg et 3 kg exclus","€/unité",0.03,0.03,{"$f":"VLOOKUP(J77,'Codes éco-part'!$C:$E,3,FALSE)","v":"092"},3.5999999999999997E-2]
["REP ABJ",3,"21100280530",null,"Articles de bricolage","Outillage à main et leurs accessoires","Métal >90%","Compris entre 3 kg et 5 kg exclus","€/unité",0.04,0.04,{"$f":"VLOOKUP(J78,'Codes éco-part'!$C:$E,3,FALSE)","v":"002"},4.8000000000000001E-2]
["REP ABJ",3,"21100280540",null,"Articles de bricolage","Outillage à main et leurs accessoires","Métal >90%","Compris entre 5 kg et 7 kg exclus","€/unité",7.0000000000000007E-2,7.0000000000000007E-2,{"$f":"VLOOKUP(J79,'Codes éco-part'!$C:$E,3,FALSE)","v":"247"},8.4000000000000005E-2]
["REP ABJ",3,"21100400000",null,"Articles de bricolage","Outillage à main et leurs accessoires","Assemblage caoutchouc synthétique ou latex >50% avec d'autres matériaux","Eléments de toutes dimensions et poids","€ / Tonne",215,215,{"$f":"VLOOKUP(J80,'Codes éco-part'!$C:$E,3,FALSE)","v":"498"},258]
["REP ABJ",3,"21100400200",null,"Articles de bricolage","Outillage à main et leurs accessoires","Assemblage caoutchouc synthétique ou latex >50% avec d'autres matériaux","Inférieur strictement à 0,5 kg","€/unité",0.05,0.05,{"$f":"VLOOKUP(J81,'Codes éco-part'!$C:$E,3,FALSE)","v":"048"},0.06]
["REP ABJ",3,"21100400210",null,"Articles de bricolage","Outillage à main et leurs accessoires","Assemblage caoutchouc synthétique ou latex >50% avec d'autres matériaux","Compris entre 0,5 kg et 1 kg exclus","€/unité",0.16,0.16,{"$f":"VLOOKUP(J82,'Codes éco-part'!$C:$E,3,FALSE)","v":"099"},0.192]
["REP ABJ",3,"21100400220",null,"Articles de bricolage","Outillage à main et leurs accessoires","Assemblage caoutchouc synthétique ou latex >50% avec d'autres matériaux","Compris entre 1 kg et 2 kg exclus","€/unité",0.32,0.32,{"$f":"VLOOKUP(J83,'Codes éco-part'!$C:$E,3,FALSE)","v":"447"},0.38400000000000001]
["REP ABJ",3,"21100400520",null,"Articles de bricolage","Outillage à main et leurs accessoires","Assemblage caoutchouc synthétique ou latex >50% avec d'autres matériaux","Compris entre 2 kg et 3 kg exclus","€/unité",0.54,0.54,{"$f":"VLOOKUP(J84,'Codes éco-part'!$C:$E,3,FALSE)","v":"500"},0.64800000000000002]
["REP ABJ",3,"21100400530",null,"Articles de bricolage","Outillage à main et leurs accessoires","Assemblage caoutchouc synthétique ou latex >50% avec d'autres matériaux","Compris entre 3 kg et 5 kg exclus","€/unité",0.86,0.86,{"$f":"VLOOKUP(J85,'Codes éco-part'!$C:$E,3,FALSE)","v":"501"},1.032]
["REP ABJ",3,"21100400540",null,"Articles de bricolage","Outillage à main et leurs accessoires","Assemblage caoutchouc synthétique ou latex >50% avec d'autres matériaux","Compris entre 5 kg et 7 kg exclus","€/unité",1.51,1.51,{"$f":"VLOOKUP(J86,'Codes éco-part'!$C:$E,3,FALSE)","v":"502"},1.8119999999999998]
["REP ABJ",3,"21100410000",null,"Articles de bricolage","Outillage à main et leurs accessoires","Plastiques (mono résine) >90%","Eléments de toutes dimensions et poids","€ / Tonne",165,165,{"$f":"VLOOKUP(J87,'Codes éco-part'!$C:$E,3,FALSE)","v":"496"},198]
["REP ABJ",3,"21100410200",null,"Articles de bricolage","Outillage à main et leurs accessoires","Plastiques (mono résine) >90%","Inférieur strictement à 0,5 kg","€/unité",0.04,0.04,{"$f":"VLOOKUP(J88,'Codes éco-part'!$C:$E,3,FALSE)","v":"002"},4.8000000000000001E-2]
["REP ABJ",3,"21100410210",null,"Articles de bricolage","Outillage à main et leurs accessoires","Plastiques (mono résine) >90%","Compris entre 0,5 kg et 1 kg exclus","€/unité",0.12,0.12,{"$f":"VLOOKUP(J89,'Codes éco-part'!$C:$E,3,FALSE)","v":"097"},0.14399999999999999]
["REP ABJ",3,"21100410220",null,"Articles de bricolage","Outillage à main et leurs accessoires","Plastiques (mono résine) >90%","Compris entre 1 kg et 2 kg exclus","€/unité",0.25,0.25,{"$f":"VLOOKUP(J90,'Codes éco-part'!$C:$E,3,FALSE)","v":"095"},0.3]
["REP ABJ",3,"21100410520",null,"Articles de bricolage","Outillage à main et leurs accessoires","Plastiques (mono résine) >90%","Compris entre 2 kg et 3 kg exclus","€/unité",0.41,0.41,{"$f":"VLOOKUP(J91,'Codes éco-part'!$C:$E,3,FALSE)","v":"503"},0.49199999999999994]
["REP ABJ",3,"21100410530",null,"Articles de bricolage","Outillage à main et leurs accessoires","Plastiques (mono résine) >90%","Compris entre 3 kg et 5 kg exclus","€/unité",0.66,0.66,{"$f":"VLOOKUP(J92,'Codes éco-part'!$C:$E,3,FALSE)","v":"453"},0.79200000000000004]
["REP ABJ",3,"21100410540",null,"Articles de bricolage","Outillage à main et leurs accessoires","Plastiques (mono résine) >90%","Compris entre 5 kg et 7 kg exclus","€/unité",1.1599999999999999,1.1599999999999999,{"$f":"VLOOKUP(J93,'Codes éco-part'!$C:$E,3,FALSE)","v":"504"},1.3919999999999999]
["REP ABJ",3,"21100420000",null,"Articles de bricolage","Outillage à main et leurs accessoires","Polyterephtalate d'Ethylène (PET) >90%","Eléments de toutes dimensions et poids","€ / Tonne",165,165,{"$f":"VLOOKUP(J94,'Codes éco-part'!$C:$E,3,FALSE)","v":"496"},198]
["REP ABJ",3,"21100420200",null,"Articles de bricolage","Outillage à main et leurs accessoires","Polyterephtalate d'Ethylène (PET) >90%","Inférieur strictement à 0,5 kg","€/unité",0.04,0.04,{"$f":"VLOOKUP(J95,'Codes éco-part'!$C:$E,3,FALSE)","v":"002"},4.8000000000000001E-2]
["REP ABJ",3,"21100420210",null,"Articles de bricolage","Outillage à main et leurs accessoires","Polyterephtalate d'Ethylène (PET) >90%","Compris entre 0,5 kg et 1 kg exclus","€/unité",0.12,0.12,{"$f":"VLOOKUP(J96,'Codes éco-part'!$C:$E,3,FALSE)","v":"097"},0.14399999999999999]
["REP ABJ",3,"21100420220",null,"Articles de bricolage","Outillage à main et leurs accessoires","Polyterephtalate d'Ethylène (PET) >90%","Compris entre 1 kg et 2 kg exclus","€/unité",0.25,0.25,{"$f":"VLOOKUP(J97,'Codes éco-part'!$C:$E,3,FALSE)","v":"095"},0.3]
["REP ABJ",3,"21100420520",null,"Articles de bricolage","Outillage à main et leurs accessoires","Polyterephtalate d'Ethylène (PET) >90%","Compris entre 2 kg et 3 kg exclus","€/unité",0.41,0.41,{"$f":"VLOOKUP(J98,'Codes éco-part'!$C:$E,3,FALSE)","v":"503"},0.49199999999999994]
["REP ABJ",3,"21100420530",null,"Articles de bricolage","Outillage à main et leurs accessoires","Polyterephtalate d'Ethylène (PET) >90%","Compris entre 3 kg et 5 kg exclus","€/unité",0.66,0.66,{"$f":"VLOOKUP(J99,'Codes éco-part'!$C:$E,3,FALSE)","v":"453"},0.79200000000000004]
["REP ABJ",3,"21100420540",null,"Articles de bricolage","Outillage à main et leurs accessoires","Polyterephtalate d'Ethylène (PET) >90%","Compris entre 5 kg et 7 kg exclus","€/unité",1.1599999999999999,1.1599999999999999,{"$f":"VLOOKUP(J100,'Codes éco-part'!$C:$E,3,FALSE)","v":"504"},1.3919999999999999]
["REP ABJ",3,"21100450000",null,"Articles de bricolage","Outillage à main et leurs accessoires","PE ou PP ou mélange PP/PE >90%","Eléments de toutes dimensions et poids","€ / Tonne",165,165,{"$f":"VLOOKUP(J101,'Codes éco-part'!$C:$E,3,FALSE)","v":"496"},198]
["REP ABJ",3,"21100450200",null,"Articles de bricolage","Outillage à main et leurs accessoires","PE ou PP ou mélange PP/PE >90%","Inférieur strictement à 0,5 kg","€/unité",0.04,0.04,{"$f":"VLOOKUP(J102,'Codes éco-part'!$C:$E,3,FALSE)","v":"002"},4.8000000000000001E-2]
["REP ABJ",3,"21100450210",null,"Articles de bricolage","Outillage à main et leurs accessoires","PE ou PP ou mélange PP/PE >90%","Compris entre 0,5 kg et 1 kg exclus","€/unité",0.12,0.12,{"$f":"VLOOKUP(J103,'Codes éco-part'!$C:$E,3,FALSE)","v":"097"},0.14399999999999999]
["REP ABJ",3,"21100450220",null,"Articles de bricolage","Outillage à main et leurs accessoires","PE ou PP ou mélange PP/PE >90%","Compris entre 1 kg et 2 kg exclus","€/unité",0.25,0.25,{"$f":"VLOOKUP(J104,'Codes éco-part'!$C:$E,3,FALSE)","v":"095"},0.3]
["REP ABJ",3,"21100450520",null,"Articles de bricolage","Outillage à main et leurs accessoires","PE ou PP ou mélange PP/PE >90%","Compris entre 2 kg et 3 kg exclus","€/unité",0.41,0.41,{"$f":"VLOOKUP(J105,'Codes éco-part'!$C:$E,3,FALSE)","v":"503"},0.49199999999999994]
["REP ABJ",3,"21100450530",null,"Articles de bricolage","Outillage à main et leurs accessoires","PE ou PP ou mélange PP/PE >90%","Compris entre 3 kg et 5 kg exclus","€/unité",0.66,0.66,{"$f":"VLOOKUP(J106,'Codes éco-part'!$C:$E,3,FALSE)","v":"453"},0.79200000000000004]
["REP ABJ",3,"21100450540",null,"Articles de bricolage","Outillage à main et leurs accessoires","PE ou PP ou mélange PP/PE >90%","Compris entre 5 kg et 7 kg exclus","€/unité",1.1599999999999999,1.1599999999999999,{"$f":"VLOOKUP(J107,'Codes éco-part'!$C:$E,3,FALSE)","v":"504"},1.3919999999999999]
["REP ABJ",3,"21100460000",null,"Articles de bricolage","Outillage à main et leurs accessoires","ABS >90%","Eléments de toutes dimensions et poids","€ / Tonne",165,165,{"$f":"VLOOKUP(J108,'Codes éco-part'!$C:$E,3,FALSE)","v":"496"},198]
["REP ABJ",3,"21100460200",null,"Articles de bricolage","Outillage à main et leurs accessoires","ABS >90%","Inférieur strictement à 0,5 kg","€/unité",0.04,0.04,{"$f":"VLOOKUP(J109,'Codes éco-part'!$C:$E,3,FALSE)","v":"002"},4.8000000000000001E-2]
["REP ABJ",3,"21100460210",null,"Articles de bricolage","Outillage à main et leurs accessoires","ABS >90%","Compris entre 0,5 kg et 1 kg exclus","€/unité",0.12,0.12,{"$f":"VLOOKUP(J110,'Codes éco-part'!$C:$E,3,FALSE)","v":"097"},0.14399999999999999]
["REP ABJ",3,"21100460220",null,"Articles de bricolage","Outillage à main et leurs accessoires","ABS >90%","Compris entre 1 kg et 2 kg exclus","€/unité",0.25,0.25,{"$f":"VLOOKUP(J111,'Codes éco-part'!$C:$E,3,FALSE)","v":"095"},0.3]
["REP ABJ",3,"21100460520",null,"Articles de bricolage","Outillage à main et leurs accessoires","ABS >90%","Compris entre 2 kg et 3 kg exclus","€/unité",0.41,0.41,{"$f":"VLOOKUP(J112,'Codes éco-part'!$C:$E,3,FALSE)","v":"503"},0.49199999999999994]
["REP ABJ",3,"21100460530",null,"Articles de bricolage","Outillage à main et leurs accessoires","ABS >90%","Compris entre 3 kg et 5 kg exclus","€/unité",0.66,0.66,{"$f":"VLOOKUP(J113,'Codes éco-part'!$C:$E,3,FALSE)","v":"453"},0.79200000000000004]
["REP ABJ",3,"21100460540",null,"Articles de bricolage","Outillage à main et leurs accessoires","ABS >90%","Compris entre 5 kg et 7 kg exclus","€/unité",1.1599999999999999,1.1599999999999999,{"$f":"VLOOKUP(J114,'Codes éco-part'!$C:$E,3,FALSE)","v":"504"},1.3919999999999999]
["REP ABJ",3,"21100470000",null,"Articles de bricolage","Outillage à main et leurs accessoires","Polystyrène >90%","Eléments de toutes dimensions et poids","€ / Tonne",165,165,{"$f":"VLOOKUP(J115,'Codes éco-part'!$C:$E,3,FALSE)","v":"496"},198]
["REP ABJ",3,"21100470200",null,"Articles de bricolage","Outillage à main et leurs accessoires","Polystyrène >90%","Inférieur strictement à 0,5 kg","€/unité",0.04,0.04,{"$f":"VLOOKUP(J116,'Codes éco-part'!$C:$E,3,FALSE)","v":"002"},4.8000000000000001E-2]
["REP ABJ",3,"21100470210",null,"Articles de bricolage","Outillage à main et leurs accessoires","Polystyrène >90%","Compris entre 0,5 kg et 1 kg exclus","€/unité",0.12,0.12,{"$f":"VLOOKUP(J117,'Codes éco-part'!$C:$E,3,FALSE)","v":"097"},0.14399999999999999]
["REP ABJ",3,"21100470220",null,"Articles de bricolage","Outillage à main et leurs accessoires","Polystyrène >90%","Compris entre 1 kg et 2 kg exclus","€/unité",0.25,0.25,{"$f":"VLOOKUP(J118,'Codes éco-part'!$C:$E,3,FALSE)","v":"095"},0.3]
["REP ABJ",3,"21100470520",null,"Articles de bricolage","Outillage à main et leurs accessoires","Polystyrène >90%","Compris entre 2 kg et 3 kg exclus","€/unité",0.41,0.41,{"$f":"VLOOKUP(J119,'Codes éco-part'!$C:$E,3,FALSE)","v":"503"},0.49199999999999994]
["REP ABJ",3,"21100470530",null,"Articles de bricolage","Outillage à main et leurs accessoires","Polystyrène >90%","Compris entre 3 kg et 5 kg exclus","€/unité",0.66,0.66,{"$f":"VLOOKUP(J120,'Codes éco-part'!$C:$E,3,FALSE)","v":"453"},0.79200000000000004]
["REP ABJ",3,"21100470540",null,"Articles de bricolage","Outillage à main et leurs accessoires","Polystyrène >90%","Compris entre 5 kg et 7 kg exclus","€/unité",1.1599999999999999,1.1599999999999999,{"$f":"VLOOKUP(J121,'Codes éco-part'!$C:$E,3,FALSE)","v":"504"},1.3919999999999999]
["REP ABJ",3,"21100480000",null,"Articles de bricolage","Outillage à main et leurs accessoires","PVC >90%","Eléments de toutes dimensions et poids","€ / Tonne",165,165,{"$f":"VLOOKUP(J122,'Codes éco-part'!$C:$E,3,FALSE)","v":"496"},198]
["REP ABJ",3,"21100480200",null,"Articles de bricolage","Outillage à main et leurs accessoires","PVC >90%","Inférieur strictement à 0,5 kg","€/unité",0.04,0.04,{"$f":"VLOOKUP(J123,'Codes éco-part'!$C:$E,3,FALSE)","v":"002"},4.8000000000000001E-2]
["REP ABJ",3,"21100480210",null,"Articles de bricolage","Outillage à main et leurs accessoires","PVC >90%","Compris entre 0,5 kg et 1 kg exclus","€/unité",0.12,0.12,{"$f":"VLOOKUP(J124,'Codes éco-part'!$C:$E,3,FALSE)","v":"097"},0.14399999999999999]
["REP ABJ",3,"21100480220",null,"Articles de bricolage","Outillage à main et leurs accessoires","PVC >90%","Compris entre 1 kg et 2 kg exclus","€/unité",0.25,0.25,{"$f":"VLOOKUP(J125,'Codes éco-part'!$C:$E,3,FALSE)","v":"095"},0.3]
["REP ABJ",3,"21100480520",null,"Articles de bricolage","Outillage à main et leurs accessoires","PVC >90%","Compris entre 2 kg et 3 kg exclus","€/unité",0.41,0.41,{"$f":"VLOOKUP(J126,'Codes éco-part'!$C:$E,3,FALSE)","v":"503"},0.49199999999999994]
["REP ABJ",3,"21100480530",null,"Articles de bricolage","Outillage à main et leurs accessoires","PVC >90%","Compris entre 3 kg et 5 kg exclus","€/unité",0.66,0.66,{"$f":"VLOOKUP(J127,'Codes éco-part'!$C:$E,3,FALSE)","v":"453"},0.79200000000000004]
["REP ABJ",3,"21100480540",null,"Articles de bricolage","Outillage à main et leurs accessoires","PVC >90%","Compris entre 5 kg et 7 kg exclus","€/unité",1.1599999999999999,1.1599999999999999,{"$f":"VLOOKUP(J128,'Codes éco-part'!$C:$E,3,FALSE)","v":"504"},1.3919999999999999]
["REP ABJ",3,"21100490000",null,"Articles de bricolage","Outillage à main et leurs accessoires","Caoutchouc synthétique >90%","Eléments de toutes dimensions et poids","€ / Tonne",165,165,{"$f":"VLOOKUP(J129,'Codes éco-part'!$C:$E,3,FALSE)","v":"496"},198]
["REP ABJ",3,"21100490200",null,"Articles de bricolage","Outillage à main et leurs accessoires","Caoutchouc synthétique >90%","Inférieur strictement à 0,5 kg","€/unité",0.04,0.04,{"$f":"VLOOKUP(J130,'Codes éco-part'!$C:$E,3,FALSE)","v":"002"},{"$f":"J130*1.2","v":4.8000000000000001E-2}]
["REP ABJ",3,"21100490210",null,"Articles de bricolage","Outillage à main et leurs accessoires","Caoutchouc synthétique >90%","Compris entre 0,5 kg et 1 kg exclus","€/unité",0.12,0.12,{"$f":"VLOOKUP(J131,'Codes éco-part'!$C:$E,3,FALSE)","v":"097"},0.14399999999999999]
["REP ABJ",3,"21100490220",null,"Articles de bricolage","Outillage à main et leurs accessoires","Caoutchouc synthétique >90%","Compris entre 1 kg et 2 kg exclus","€/unité",0.25,0.25,{"$f":"VLOOKUP(J132,'Codes éco-part'!$C:$E,3,FALSE)","v":"095"},0.3]
["REP ABJ",3,"21100490520",null,"Articles de bricolage","Outillage à main et leurs accessoires","Caoutchouc synthétique >90%","Compris entre 2 kg et 3 kg exclus","€/unité",0.41,0.41,{"$f":"VLOOKUP(J133,'Codes éco-part'!$C:$E,3,FALSE)","v":"503"},0.49199999999999994]
["REP ABJ",3,"21100490530",null,"Articles de bricolage","Outillage à main et leurs accessoires","Caoutchouc synthétique >90%","Compris entre 3 kg et 5 kg exclus","€/unité",0.66,0.66,{"$f":"VLOOKUP(J134,'Codes éco-part'!$C:$E,3,FALSE)","v":"453"},0.79200000000000004]
["REP ABJ",3,"21100490540",null,"Articles de bricolage","Outillage à main et leurs accessoires","Caoutchouc synthétique >90%","Compris entre 5 kg et 7 kg exclus","€/unité",1.1599999999999999,1.1599999999999999,{"$f":"VLOOKUP(J135,'Codes éco-part'!$C:$E,3,FALSE)","v":"504"},1.3919999999999999]
["REP ABJ",3,"21100520000",null,"Articles de bricolage","Outillage à main et leurs accessoires","Massif et assimilés certifiés >90%","Eléments de toutes dimensions et poids","€ / Tonne",45,45,{"$f":"VLOOKUP(J136,'Codes éco-part'!$C:$E,3,FALSE)","v":"169"},54]
["REP ABJ",3,"21100520200",null,"Articles de bricolage","Outillage à main et leurs accessoires","Massif et assimilés certifiés >90%","Inférieur strictement à 0,5 kg","€/unité",0.01,0.01,{"$f":"VLOOKUP(J137,'Codes éco-part'!$C:$E,3,FALSE)","v":"260"},1.2E-2]
["REP ABJ",3,"21100520210",null,"Articles de bricolage","Outillage à main et leurs accessoires","Massif et assimilés certifiés >90%","Compris entre 0,5 kg et 1 kg exclus","€/unité",0.03,0.03,{"$f":"VLOOKUP(J138,'Codes éco-part'!$C:$E,3,FALSE)","v":"092"},3.5999999999999997E-2]
["REP ABJ",3,"21100520220",null,"Articles de bricolage","Outillage à main et leurs accessoires","Massif et assimilés certifiés >90%","Compris entre 1 kg et 2 kg exclus","€/unité",7.0000000000000007E-2,7.0000000000000007E-2,{"$f":"VLOOKUP(J139,'Codes éco-part'!$C:$E,3,FALSE)","v":"247"},8.4000000000000005E-2]
["REP ABJ",3,"21100520520",null,"Articles de bricolage","Outillage à main et leurs accessoires","Massif et assimilés certifiés >90%","Compris entre 2 kg et 3 kg exclus","€/unité",0.11,0.11,{"$f":"VLOOKUP(J140,'Codes éco-part'!$C:$E,3,FALSE)","v":"262"},0.13200000000000001]
["REP ABJ",3,"21100520530",null,"Articles de bricolage","Outillage à main et leurs accessoires","Massif et assimilés certifiés >90%","Compris entre 3 kg et 5 kg exclus","€/unité",0.18,0.18,{"$f":"VLOOKUP(J141,'Codes éco-part'!$C:$E,3,FALSE)","v":"100"},0.216]
["REP ABJ",3,"21100520540",null,"Articles de bricolage","Outillage à main et leurs accessoires","Massif et assimilés certifiés >90%","Compris entre 5 kg et 7 kg exclus","€/unité",0.32,0.32,{"$f":"VLOOKUP(J142,'Codes éco-part'!$C:$E,3,FALSE)","v":"447"},0.38400000000000001]
["REP ABJ",3,"21100530000",null,"Articles de bricolage","Outillage à main et leurs accessoires","Massif et assimilés >90%","Eléments de toutes dimensions et poids","€ / Tonne",45,45,{"$f":"VLOOKUP(J143,'Codes éco-part'!$C:$E,3,FALSE)","v":"169"},54]
["REP ABJ",3,"21100530200",null,"Articles de bricolage","Outillage à main et leurs accessoires","Massif et assimilés >90%","Inférieur strictement à 0,5 kg","€/unité",0.01,0.01,{"$f":"VLOOKUP(J144,'Codes éco-part'!$C:$E,3,FALSE)","v":"260"},1.2E-2]
["REP ABJ",3,"21100530210",null,"Articles de bricolage","Outillage à main et leurs accessoires","Massif et assimilés >90%","Compris entre 0,5 kg et 1 kg exclus","€/unité",0.03,0.03,{"$f":"VLOOKUP(J145,'Codes éco-part'!$C:$E,3,FALSE)","v":"092"},3.5999999999999997E-2]
["REP ABJ",3,"21100530220",null,"Articles de bricolage","Outillage à main et leurs accessoires","Massif et assimilés >90%","Compris entre 1 kg et 2 kg exclus","€/unité",7.0000000000000007E-2,7.0000000000000007E-2,{"$f":"VLOOKUP(J146,'Codes éco-part'!$C:$E,3,FALSE)","v":"247"},8.4000000000000005E-2]
["REP ABJ",3,"21100530520",null,"Articles de bricolage","Outillage à main et leurs accessoires","Massif et assimilés >90%","Compris entre 2 kg et 3 kg exclus","€/unité",0.11,0.11,{"$f":"VLOOKUP(J147,'Codes éco-part'!$C:$E,3,FALSE)","v":"262"},0.13200000000000001]
["REP ABJ",3,"21100530530",null,"Articles de bricolage","Outillage à main et leurs accessoires","Massif et assimilés >90%","Compris entre 3 kg et 5 kg exclus","€/unité",0.18,0.18,{"$f":"VLOOKUP(J148,'Codes éco-part'!$C:$E,3,FALSE)","v":"100"},0.216]
["REP ABJ",3,"21100530540",null,"Articles de bricolage","Outillage à main et leurs accessoires","Massif et assimilés >90%","Compris entre 5 kg et 7 kg exclus","€/unité",0.32,0.32,{"$f":"VLOOKUP(J149,'Codes éco-part'!$C:$E,3,FALSE)","v":"447"},0.38400000000000001]
["REP ABJ",3,"21100550000",null,"Articles de bricolage","Outillage à main et leurs accessoires","Matériaux bio sourcés ou textiles non synthétiques >90%","Eléments de toutes dimensions et poids","€ / Tonne",50,50,{"$f":"VLOOKUP(J150,'Codes éco-part'!$C:$E,3,FALSE)","v":"173"},60]
["REP ABJ",3,"21100550200",null,"Articles de bricolage","Outillage à main et leurs accessoires","Matériaux bio sourcés ou textiles non synthétiques >90%","Inférieur strictement à 0,5 kg","€/unité",0.01,0.01,{"$f":"VLOOKUP(J151,'Codes éco-part'!$C:$E,3,FALSE)","v":"260"},1.2E-2]
["REP ABJ",3,"21100550210",null,"Articles de bricolage","Outillage à main et leurs accessoires","Matériaux bio sourcés ou textiles non synthétiques >90%","Compris entre 0,5 kg et 1 kg exclus","€/unité",0.04,0.04,{"$f":"VLOOKUP(J152,'Codes éco-part'!$C:$E,3,FALSE)","v":"002"},4.8000000000000001E-2]
["REP ABJ",3,"21100550220",null,"Articles de bricolage","Outillage à main et leurs accessoires","Matériaux bio sourcés ou textiles non synthétiques >90%","Compris entre 1 kg et 2 kg exclus","€/unité",0.08,0.08,{"$f":"VLOOKUP(J153,'Codes éco-part'!$C:$E,3,FALSE)","v":"003"},9.6000000000000002E-2]
["REP ABJ",3,"21100550520",null,"Articles de bricolage","Outillage à main et leurs accessoires","Matériaux bio sourcés ou textiles non synthétiques >90%","Compris entre 2 kg et 3 kg exclus","€/unité",0.13,0.13,{"$f":"VLOOKUP(J154,'Codes éco-part'!$C:$E,3,FALSE)","v":"004"},0.156]
["REP ABJ",3,"21100550530",null,"Articles de bricolage","Outillage à main et leurs accessoires","Matériaux bio sourcés ou textiles non synthétiques >90%","Compris entre 3 kg et 5 kg exclus","€/unité",0.2,0.2,{"$f":"VLOOKUP(J155,'Codes éco-part'!$C:$E,3,FALSE)","v":"101"},0.24]
["REP ABJ",3,"21100550540",null,"Articles de bricolage","Outillage à main et leurs accessoires","Matériaux bio sourcés ou textiles non synthétiques >90%","Compris entre 5 kg et 7 kg exclus","€/unité",0.35,0.35,{"$f":"VLOOKUP(J156,'Codes éco-part'!$C:$E,3,FALSE)","v":"448"},0.42]
["REP ABJ",3,"21100590000",null,"Articles de bricolage","Outillage à main et leurs accessoires","Panneaux de particules ou OSB certifiés >90%","Eléments de toutes dimensions et poids","€ / Tonne",45,45,{"$f":"VLOOKUP(J157,'Codes éco-part'!$C:$E,3,FALSE)","v":"169"},54]
["REP ABJ",3,"21100590200",null,"Articles de bricolage","Outillage à main et leurs accessoires","Panneaux de particules ou OSB certifiés >90%","Inférieur strictement à 0,5 kg","€/unité",0.01,0.01,{"$f":"VLOOKUP(J158,'Codes éco-part'!$C:$E,3,FALSE)","v":"260"},1.2E-2]
["REP ABJ",3,"21100590210",null,"Articles de bricolage","Outillage à main et leurs accessoires","Panneaux de particules ou OSB certifiés >90%","Compris entre 0,5 kg et 1 kg exclus","€/unité",0.03,0.03,{"$f":"VLOOKUP(J159,'Codes éco-part'!$C:$E,3,FALSE)","v":"092"},3.5999999999999997E-2]
["REP ABJ",3,"21100590220",null,"Articles de bricolage","Outillage à main et leurs accessoires","Panneaux de particules ou OSB certifiés >90%","Compris entre 1 kg et 2 kg exclus","€/unité",7.0000000000000007E-2,7.0000000000000007E-2,{"$f":"VLOOKUP(J160,'Codes éco-part'!$C:$E,3,FALSE)","v":"247"},8.4000000000000005E-2]
["REP ABJ",3,"21100590520",null,"Articles de bricolage","Outillage à main et leurs accessoires","Panneaux de particules ou OSB certifiés >90%","Compris entre 2 kg et 3 kg exclus","€/unité",0.11,0.11,{"$f":"VLOOKUP(J161,'Codes éco-part'!$C:$E,3,FALSE)","v":"262"},0.13200000000000001]
["REP ABJ",3,"21100590530",null,"Articles de bricolage","Outillage à main et leurs accessoires","Panneaux de particules ou OSB certifiés >90%","Compris entre 3 kg et 5 kg exclus","€/unité",0.18,0.18,{"$f":"VLOOKUP(J162,'Codes éco-part'!$C:$E,3,FALSE)","v":"100"},0.216]
["REP ABJ",3,"21100590540",null,"Articles de bricolage","Outillage à main et leurs accessoires","Panneaux de particules ou OSB certifiés >90%","Compris entre 5 kg et 7 kg exclus","€/unité",0.32,0.32,{"$f":"VLOOKUP(J163,'Codes éco-part'!$C:$E,3,FALSE)","v":"447"},0.38400000000000001]
["REP ABJ",3,"21100600000",null,"Articles de bricolage","Outillage à main et leurs accessoires","Panneaux de particules ou OSB certifiés >75%","Eléments de toutes dimensions et poids","€ / Tonne",45,45,{"$f":"VLOOKUP(J164,'Codes éco-part'!$C:$E,3,FALSE)","v":"169"},54]
["REP ABJ",3,"21100600200",null,"Articles de bricolage","Outillage à main et leurs accessoires","Panneaux de particules ou OSB certifiés >75%","Inférieur strictement à 0,5 kg","€/unité",0.01,0.01,{"$f":"VLOOKUP(J165,'Codes éco-part'!$C:$E,3,FALSE)","v":"260"},1.2E-2]
["REP ABJ",3,"21100600210",null,"Articles de bricolage","Outillage à main et leurs accessoires","Panneaux de particules ou OSB certifiés >75%","Compris entre 0,5 kg et 1 kg exclus","€/unité",0.03,0.03,{"$f":"VLOOKUP(J166,'Codes éco-part'!$C:$E,3,FALSE)","v":"092"},3.5999999999999997E-2]
["REP ABJ",3,"21100600220",null,"Articles de bricolage","Outillage à main et leurs accessoires","Panneaux de particules ou OSB certifiés >75%","Compris entre 1 kg et 2 kg exclus","€/unité",7.0000000000000007E-2,7.0000000000000007E-2,{"$f":"VLOOKUP(J167,'Codes éco-part'!$C:$E,3,FALSE)","v":"247"},8.4000000000000005E-2]
["REP ABJ",3,"21100600520",null,"Articles de bricolage","Outillage à main et leurs accessoires","Panneaux de particules ou OSB certifiés >75%","Compris entre 2 kg et 3 kg exclus","€/unité",0.11,0.11,{"$f":"VLOOKUP(J168,'Codes éco-part'!$C:$E,3,FALSE)","v":"262"},0.13200000000000001]
["REP ABJ",3,"21100600530",null,"Articles de bricolage","Outillage à main et leurs accessoires","Panneaux de particules ou OSB certifiés >75%","Compris entre 3 kg et 5 kg exclus","€/unité",0.18,0.18,{"$f":"VLOOKUP(J169,'Codes éco-part'!$C:$E,3,FALSE)","v":"100"},0.216]
["REP ABJ",3,"21100600540",null,"Articles de bricolage","Outillage à main et leurs accessoires","Panneaux de particules ou OSB certifiés >75%","Compris entre 5 kg et 7 kg exclus","€/unité",0.32,0.32,{"$f":"VLOOKUP(J170,'Codes éco-part'!$C:$E,3,FALSE)","v":"447"},0.38400000000000001]
["REP ABJ",3,"21100610000",null,"Articles de bricolage","Outillage à main et leurs accessoires","Panneaux de particules ou OSB >90%","Eléments de toutes dimensions et poids","€ / Tonne",45,45,{"$f":"VLOOKUP(J171,'Codes éco-part'!$C:$E,3,FALSE)","v":"169"},54]
["REP ABJ",3,"21100610200",null,"Articles de bricolage","Outillage à main et leurs accessoires","Panneaux de particules ou OSB >90%","Inférieur strictement à 0,5 kg","€/unité",0.01,0.01,{"$f":"VLOOKUP(J172,'Codes éco-part'!$C:$E,3,FALSE)","v":"260"},1.2E-2]
["REP ABJ",3,"21100610210",null,"Articles de bricolage","Outillage à main et leurs accessoires","Panneaux de particules ou OSB >90%","Compris entre 0,5 kg et 1 kg exclus","€/unité",0.03,0.03,{"$f":"VLOOKUP(J173,'Codes éco-part'!$C:$E,3,FALSE)","v":"092"},3.5999999999999997E-2]
["REP ABJ",3,"21100610220",null,"Articles de bricolage","Outillage à main et leurs accessoires","Panneaux de particules ou OSB >90%","Compris entre 1 kg et 2 kg exclus","€/unité",7.0000000000000007E-2,7.0000000000000007E-2,{"$f":"VLOOKUP(J174,'Codes éco-part'!$C:$E,3,FALSE)","v":"247"},8.4000000000000005E-2]
["REP ABJ",3,"21100610520",null,"Articles de bricolage","Outillage à main et leurs accessoires","Panneaux de particules ou OSB >90%","Compris entre 2 kg et 3 kg exclus","€/unité",0.11,0.11,{"$f":"VLOOKUP(J175,'Codes éco-part'!$C:$E,3,FALSE)","v":"262"},0.13200000000000001]
["REP ABJ",3,"21100610530",null,"Articles de bricolage","Outillage à main et leurs accessoires","Panneaux de particules ou OSB >90%","Compris entre 3 kg et 5 kg exclus","€/unité",0.18,0.18,{"$f":"VLOOKUP(J176,'Codes éco-part'!$C:$E,3,FALSE)","v":"100"},0.216]
["REP ABJ",3,"21100610540",null,"Articles de bricolage","Outillage à main et leurs accessoires","Panneaux de particules ou OSB >90%","Compris entre 5 kg et 7 kg exclus","€/unité",0.32,0.32,{"$f":"VLOOKUP(J177,'Codes éco-part'!$C:$E,3,FALSE)","v":"447"},0.38400000000000001]
["REP ABJ",3,"21100620000",null,"Articles de bricolage","Outillage à main et leurs accessoires","Dérivés de bois >90%","Eléments de toutes dimensions et poids","€ / Tonne",45,45,{"$f":"VLOOKUP(J178,'Codes éco-part'!$C:$E,3,FALSE)","v":"169"},54]
["REP ABJ",3,"21100620200",null,"Articles de bricolage","Outillage à main et leurs accessoires","Dérivés de bois >90%","Inférieur strictement à 0,5 kg","€/unité",0.01,0.01,{"$f":"VLOOKUP(J179,'Codes éco-part'!$C:$E,3,FALSE)","v":"260"},1.2E-2]
["REP ABJ",3,"21100620210",null,"Articles de bricolage","Outillage à main et leurs accessoires","Dérivés de bois >90%","Compris entre 0,5 kg et 1 kg exclus","€/unité",0.03,0.03,{"$f":"VLOOKUP(J180,'Codes éco-part'!$C:$E,3,FALSE)","v":"092"},3.5999999999999997E-2]
["REP ABJ",3,"21100620220",null,"Articles de bricolage","Outillage à main et leurs accessoires","Dérivés de bois >90%","Compris entre 1 kg et 2 kg exclus","€/unité",7.0000000000000007E-2,7.0000000000000007E-2,{"$f":"VLOOKUP(J181,'Codes éco-part'!$C:$E,3,FALSE)","v":"247"},8.4000000000000005E-2]
["REP ABJ",3,"21100620520",null,"Articles de bricolage","Outillage à main et leurs accessoires","Dérivés de bois >90%","Compris entre 2 kg et 3 kg exclus","€/unité",0.11,0.11,{"$f":"VLOOKUP(J182,'Codes éco-part'!$C:$E,3,FALSE)","v":"262"},0.13200000000000001]
["REP ABJ",3,"21100620530",null,"Articles de bricolage","Outillage à main et leurs accessoires","Dérivés de bois >90%","Compris entre 3 kg et 5 kg exclus","€/unité",0.18,0.18,{"$f":"VLOOKUP(J183,'Codes éco-part'!$C:$E,3,FALSE)","v":"100"},0.216]
["REP ABJ",3,"21100620540",null,"Articles de bricolage","Outillage à main et leurs accessoires","Dérivés de bois >90%","Compris entre 5 kg et 7 kg exclus","€/unité",0.32,0.32,{"$f":"VLOOKUP(J184,'Codes éco-part'!$C:$E,3,FALSE)","v":"447"},0.38400000000000001]
["REP ABJ",3,"21100630000",null,"Articles de bricolage","Outillage à main et leurs accessoires","Caoutchouc naturel >90%","Eléments de toutes dimensions et poids","€ / Tonne",50,50,{"$f":"VLOOKUP(J185,'Codes éco-part'!$C:$E,3,FALSE)","v":"173"},60]
["REP ABJ",3,"21100630200",null,"Articles de bricolage","Outillage à main et leurs accessoires","Caoutchouc naturel >90%","Inférieur strictement à 0,5 kg","€/unité",0.01,0.01,{"$f":"VLOOKUP(J186,'Codes éco-part'!$C:$E,3,FALSE)","v":"260"},1.2E-2]
["REP ABJ",3,"21100630210",null,"Articles de bricolage","Outillage à main et leurs accessoires","Caoutchouc naturel >90%","Compris entre 0,5 kg et 1 kg exclus","€/unité",0.04,0.04,{"$f":"VLOOKUP(J187,'Codes éco-part'!$C:$E,3,FALSE)","v":"002"},4.8000000000000001E-2]
["REP ABJ",3,"21100630220",null,"Articles de bricolage","Outillage à main et leurs accessoires","Caoutchouc naturel >90%","Compris entre 1 kg et 2 kg exclus","€/unité",0.08,0.08,{"$f":"VLOOKUP(J188,'Codes éco-part'!$C:$E,3,FALSE)","v":"003"},9.6000000000000002E-2]
["REP ABJ",3,"21100630520",null,"Articles de bricolage","Outillage à main et leurs accessoires","Caoutchouc naturel >90%","Compris entre 2 kg et 3 kg exclus","€/unité",0.13,0.13,{"$f":"VLOOKUP(J189,'Codes éco-part'!$C:$E,3,FALSE)","v":"004"},0.156]
["REP ABJ",3,"21100630530",null,"Articles de bricolage","Outillage à main et leurs accessoires","Caoutchouc naturel >90%","Compris entre 3 kg et 5 kg exclus","€/unité",0.2,0.2,{"$f":"VLOOKUP(J190,'Codes éco-part'!$C:$E,3,FALSE)","v":"101"},0.24]
["REP ABJ",3,"21100630540",null,"Articles de bricolage","Outillage à main et leurs accessoires","Caoutchouc naturel >90%","Compris entre 5 kg et 7 kg exclus","€/unité",0.35,0.35,{"$f":"VLOOKUP(J191,'Codes éco-part'!$C:$E,3,FALSE)","v":"448"},0.42]
["REP ABJ",3,"21100640000",null,"Articles de bricolage","Outillage à main et leurs accessoires","Caoutchouc naturel >50%","Eléments de toutes dimensions et poids","€ / Tonne",215,215,{"$f":"VLOOKUP(J192,'Codes éco-part'!$C:$E,3,FALSE)","v":"498"},258]
["REP ABJ",3,"21100640200",null,"Articles de bricolage","Outillage à main et leurs accessoires","Caoutchouc naturel >50%","Inférieur strictement à 0,5 kg","€/unité",0.05,0.05,{"$f":"VLOOKUP(J193,'Codes éco-part'!$C:$E,3,FALSE)","v":"048"},0.06]
["REP ABJ",3,"21100640210",null,"Articles de bricolage","Outillage à main et leurs accessoires","Caoutchouc naturel >50%","Compris entre 0,5 kg et 1 kg exclus","€/unité",0.16,0.16,{"$f":"VLOOKUP(J194,'Codes éco-part'!$C:$E,3,FALSE)","v":"099"},{"$f":"J194*1.2","v":0.192}]
["REP ABJ",3,"21100640220",null,"Articles de bricolage","Outillage à main et leurs accessoires","Caoutchouc naturel >50%","Compris entre 1 kg et 2 kg exclus","€/unité",0.32,0.32,{"$f":"VLOOKUP(J195,'Codes éco-part'!$C:$E,3,FALSE)","v":"447"},0.38400000000000001]
["REP ABJ",3,"21100640520",null,"Articles de bricolage","Outillage à main et leurs accessoires","Caoutchouc naturel >50%","Compris entre 2 kg et 3 kg exclus","€/unité",0.54,0.54,{"$f":"VLOOKUP(J196,'Codes éco-part'!$C:$E,3,FALSE)","v":"500"},0.64800000000000002]
["REP ABJ",3,"21100640530",null,"Articles de bricolage","Outillage à main et leurs accessoires","Caoutchouc naturel >50%","Compris entre 3 kg et 5 kg exclus","€/unité",0.86,0.86,{"$f":"VLOOKUP(J197,'Codes éco-part'!$C:$E,3,FALSE)","v":"501"},1.032]
["REP ABJ",3,"21100640540",null,"Articles de bricolage","Outillage à main et leurs accessoires","Caoutchouc naturel >50%","Compris entre 5 kg et 7 kg exclus","€/unité",1.51,1.51,{"$f":"VLOOKUP(J198,'Codes éco-part'!$C:$E,3,FALSE)","v":"502"},1.8119999999999998]
["REP ABJ",3,"21100650000",null,"Articles de bricolage","Outillage à main et leurs accessoires","Matériaux ou fibres synthétiques >90%","Eléments de toutes dimensions et poids","€ / Tonne",165,165,{"$f":"VLOOKUP(J199,'Codes éco-part'!$C:$E,3,FALSE)","v":"496"},198]
["REP ABJ",3,"21100650200",null,"Articles de bricolage","Outillage à main et leurs accessoires","Matériaux ou fibres synthétiques >90%","Inférieur strictement à 0,5 kg","€/unité",0.04,0.04,{"$f":"VLOOKUP(J200,'Codes éco-part'!$C:$E,3,FALSE)","v":"002"},4.8000000000000001E-2]
["REP ABJ",3,"21100650210",null,"Articles de bricolage","Outillage à main et leurs accessoires","Matériaux ou fibres synthétiques >90%","Compris entre 0,5 kg et 1 kg exclus","€/unité",0.12,0.12,{"$f":"VLOOKUP(J201,'Codes éco-part'!$C:$E,3,FALSE)","v":"097"},0.14399999999999999]
["REP ABJ",3,"21100650220",null,"Articles de bricolage","Outillage à main et leurs accessoires","Matériaux ou fibres synthétiques >90%","Compris entre 1 kg et 2 kg exclus","€/unité",0.25,0.25,{"$f":"VLOOKUP(J202,'Codes éco-part'!$C:$E,3,FALSE)","v":"095"},0.3]
["REP ABJ",3,"21100650520",null,"Articles de bricolage","Outillage à main et leurs accessoires","Matériaux ou fibres synthétiques >90%","Compris entre 2 kg et 3 kg exclus","€/unité",0.41,0.41,{"$f":"VLOOKUP(J203,'Codes éco-part'!$C:$E,3,FALSE)","v":"503"},0.49199999999999994]
["REP ABJ",3,"21100650530",null,"Articles de bricolage","Outillage à main et leurs accessoires","Matériaux ou fibres synthétiques >90%","Compris entre 3 kg et 5 kg exclus","€/unité",0.66,0.66,{"$f":"VLOOKUP(J204,'Codes éco-part'!$C:$E,3,FALSE)","v":"453"},0.79200000000000004]
["REP ABJ",3,"21100650540",null,"Articles de bricolage","Outillage à main et leurs accessoires","Matériaux ou fibres synthétiques >90%","Compris entre 5 kg et 7 kg exclus","€/unité",1.1599999999999999,1.1599999999999999,{"$f":"VLOOKUP(J205,'Codes éco-part'!$C:$E,3,FALSE)","v":"504"},1.3919999999999999]
["REP ABJ",3,"21100670000",null,"Articles de bricolage","Outillage à main et leurs accessoires","Assemblage matériaux ou fibres synthétiques >50% avec d'autres matériaux","Eléments de toutes dimensions et poids","€ / Tonne",215,215,{"$f":"VLOOKUP(J206,'Codes éco-part'!$C:$E,3,FALSE)","v":"498"},258]
["REP ABJ",3,"21100670200",null,"Articles de bricolage","Outillage à main et leurs accessoires","Assemblage matériaux ou fibres synthétiques >50% avec d'autres matériaux","Inférieur strictement à 0,5 kg","€/unité",0.05,0.05,{"$f":"VLOOKUP(J207,'Codes éco-part'!$C:$E,3,FALSE)","v":"048"},0.06]
["REP ABJ",3,"21100670210",null,"Articles de bricolage","Outillage à main et leurs accessoires","Assemblage matériaux ou fibres synthétiques >50% avec d'autres matériaux","Compris entre 0,5 kg et 1 kg exclus","€/unité",0.16,0.16,{"$f":"VLOOKUP(J208,'Codes éco-part'!$C:$E,3,FALSE)","v":"099"},0.192]
["REP ABJ",3,"21100670220",null,"Articles de bricolage","Outillage à main et leurs accessoires","Assemblage matériaux ou fibres synthétiques >50% avec d'autres matériaux","Compris entre 1 kg et 2 kg exclus","€/unité",0.32,0.32,{"$f":"VLOOKUP(J209,'Codes éco-part'!$C:$E,3,FALSE)","v":"447"},0.38400000000000001]
["REP ABJ",3,"21100670520",null,"Articles de bricolage","Outillage à main et leurs accessoires","Assemblage matériaux ou fibres synthétiques >50% avec d'autres matériaux","Compris entre 2 kg et 3 kg exclus","€/unité",0.54,0.54,{"$f":"VLOOKUP(J210,'Codes éco-part'!$C:$E,3,FALSE)","v":"500"},0.64800000000000002]
["REP ABJ",3,"21100670530",null,"Articles de bricolage","Outillage à main et leurs accessoires","Assemblage matériaux ou fibres synthétiques >50% avec d'autres matériaux","Compris entre 3 kg et 5 kg exclus","€/unité",0.86,0.86,{"$f":"VLOOKUP(J211,'Codes éco-part'!$C:$E,3,FALSE)","v":"501"},1.032]
["REP ABJ",3,"21100670540",null,"Articles de bricolage","Outillage à main et leurs accessoires","Assemblage matériaux ou fibres synthétiques >50% avec d'autres matériaux","Compris entre 5 kg et 7 kg exclus","€/unité",1.51,1.51,{"$f":"VLOOKUP(J212,'Codes éco-part'!$C:$E,3,FALSE)","v":"502"},1.8119999999999998]
["REP ABJ",3,"21100680000",null,"Articles de bricolage","Outillage à main et leurs accessoires","Verre >90%","Eléments de toutes dimensions et poids","€ / Tonne",5,5,{"$f":"VLOOKUP(J213,'Codes éco-part'!$C:$E,3,FALSE)","v":"042"},6]
["REP ABJ",3,"21100680200",null,"Articles de bricolage","Outillage à main et leurs accessoires","Verre >90%","Inférieur strictement à 0,5 kg","€/unité",0.01,0.01,{"$f":"VLOOKUP(J214,'Codes éco-part'!$C:$E,3,FALSE)","v":"260"},1.2E-2]
["REP ABJ",3,"21100680210",null,"Articles de bricolage","Outillage à main et leurs accessoires","Verre >90%","Compris entre 0,5 kg et 1 kg exclus","€/unité",0.01,0.01,{"$f":"VLOOKUP(J215,'Codes éco-part'!$C:$E,3,FALSE)","v":"260"},1.2E-2]
["REP ABJ",3,"21100680220",null,"Articles de bricolage","Outillage à main et leurs accessoires","Verre >90%","Compris entre 1 kg et 2 kg exclus","€/unité",0.01,0.01,{"$f":"VLOOKUP(J216,'Codes éco-part'!$C:$E,3,FALSE)","v":"260"},1.2E-2]
["REP ABJ",3,"21100680520",null,"Articles de bricolage","Outillage à main et leurs accessoires","Verre >90%","Compris entre 2 kg et 3 kg exclus","€/unité",0.01,0.01,{"$f":"VLOOKUP(J217,'Codes éco-part'!$C:$E,3,FALSE)","v":"260"},1.2E-2]
["REP ABJ",3,"21100680530",null,"Articles de bricolage","Outillage à main et leurs accessoires","Verre >90%","Compris entre 3 kg et 5 kg exclus","€/unité",0.02,0.02,{"$f":"VLOOKUP(J218,'Codes éco-part'!$C:$E,3,FALSE)","v":"047"},2.4E-2]
["REP ABJ",3,"21100680540",null,"Articles de bricolage","Outillage à main et leurs accessoires","Verre >90%","Compris entre 5 kg et 7 kg exclus","€/unité",0.04,0.04,{"$f":"VLOOKUP(J219,'Codes éco-part'!$C:$E,3,FALSE)","v":"002"},4.8000000000000001E-2]
["REP ABJ",3,"21100700000",null,"Articles de bricolage","Outillage à main et leurs accessoires","Assemblage verre à plus de 50% avec métal","Eléments de toutes dimensions et poids","€ / Tonne",215,215,{"$f":"VLOOKUP(J220,'Codes éco-part'!$C:$E,3,FALSE)","v":"498"},258]
["REP ABJ",3,"21100700200",null,"Articles de bricolage","Outillage à main et leurs accessoires","Assemblage verre à plus de 50% avec métal","Inférieur strictement à 0,5 kg","€/unité",0.05,0.05,{"$f":"VLOOKUP(J221,'Codes éco-part'!$C:$E,3,FALSE)","v":"048"},0.06]
["REP ABJ",3,"21100700210",null,"Articles de bricolage","Outillage à main et leurs accessoires","Assemblage verre à plus de 50% avec métal","Compris entre 0,5 kg et 1 kg exclus","€/unité",0.16,0.16,{"$f":"VLOOKUP(J222,'Codes éco-part'!$C:$E,3,FALSE)","v":"099"},0.192]
["REP ABJ",3,"21100700220",null,"Articles de bricolage","Outillage à main et leurs accessoires","Assemblage verre à plus de 50% avec métal","Compris entre 1 kg et 2 kg exclus","€/unité",0.32,0.32,{"$f":"VLOOKUP(J223,'Codes éco-part'!$C:$E,3,FALSE)","v":"447"},0.38400000000000001]
["REP ABJ",3,"21100700520",null,"Articles de bricolage","Outillage à main et leurs accessoires","Assemblage verre à plus de 50% avec métal","Compris entre 2 kg et 3 kg exclus","€/unité",0.54,0.54,{"$f":"VLOOKUP(J224,'Codes éco-part'!$C:$E,3,FALSE)","v":"500"},0.64800000000000002]
["REP ABJ",3,"21100700530",null,"Articles de bricolage","Outillage à main et leurs accessoires","Assemblage verre à plus de 50% avec métal","Compris entre 3 kg et 5 kg exclus","€/unité",0.86,0.86,{"$f":"VLOOKUP(J225,'Codes éco-part'!$C:$E,3,FALSE)","v":"501"},1.032]
["REP ABJ",3,"21100700540",null,"Articles de bricolage","Outillage à main et leurs accessoires","Assemblage verre à plus de 50% avec métal","Compris entre 5 kg et 7 kg exclus","€/unité",1.51,1.51,{"$f":"VLOOKUP(J226,'Codes éco-part'!$C:$E,3,FALSE)","v":"502"},1.8119999999999998]
["REP ABJ",3,"21100710000",null,"Articles de bricolage","Outillage à main et leurs accessoires","Assemblage verre à plus de 50% avec Inerte","Eléments de toutes dimensions et poids","€ / Tonne",215,215,{"$f":"VLOOKUP(J227,'Codes éco-part'!$C:$E,3,FALSE)","v":"498"},258]
["REP ABJ",3,"21100710200",null,"Articles de bricolage","Outillage à main et leurs accessoires","Assemblage verre à plus de 50% avec Inerte","Inférieur strictement à 0,5 kg","€/unité",0.05,0.05,{"$f":"VLOOKUP(J228,'Codes éco-part'!$C:$E,3,FALSE)","v":"048"},0.06]
["REP ABJ",3,"21100710210",null,"Articles de bricolage","Outillage à main et leurs accessoires","Assemblage verre à plus de 50% avec Inerte","Compris entre 0,5 kg et 1 kg exclus","€/unité",0.16,0.16,{"$f":"VLOOKUP(J229,'Codes éco-part'!$C:$E,3,FALSE)","v":"099"},0.192]
["REP ABJ",3,"21100710220",null,"Articles de bricolage","Outillage à main et leurs accessoires","Assemblage verre à plus de 50% avec Inerte","Compris entre 1 kg et 2 kg exclus","€/unité",0.32,0.32,{"$f":"VLOOKUP(J230,'Codes éco-part'!$C:$E,3,FALSE)","v":"447"},0.38400000000000001]
["REP ABJ",3,"21100710520",null,"Articles de bricolage","Outillage à main et leurs accessoires","Assemblage verre à plus de 50% avec Inerte","Compris entre 2 kg et 3 kg exclus","€/unité",0.54,0.54,{"$f":"VLOOKUP(J231,'Codes éco-part'!$C:$E,3,FALSE)","v":"500"},0.64800000000000002]
["REP ABJ",3,"21100710530",null,"Articles de bricolage","Outillage à main et leurs accessoires","Assemblage verre à plus de 50% avec Inerte","Compris entre 3 kg et 5 kg exclus","€/unité",0.86,0.86,{"$f":"VLOOKUP(J232,'Codes éco-part'!$C:$E,3,FALSE)","v":"501"},1.032]
["REP ABJ",3,"21100710540",null,"Articles de bricolage","Outillage à main et leurs accessoires","Assemblage verre à plus de 50% avec Inerte","Compris entre 5 kg et 7 kg exclus","€/unité",1.51,1.51,{"$f":"VLOOKUP(J233,'Codes éco-part'!$C:$E,3,FALSE)","v":"502"},1.8119999999999998]
["REP ABJ",3,"21100720000",null,"Articles de bricolage","Outillage à main et leurs accessoires","Assemblage verre à plus de 50% avec bois ou dérivés de bois","Eléments de toutes dimensions et poids","€ / Tonne",215,215,{"$f":"VLOOKUP(J234,'Codes éco-part'!$C:$E,3,FALSE)","v":"498"},258]
["REP ABJ",3,"21100720200",null,"Articles de bricolage","Outillage à main et leurs accessoires","Assemblage verre à plus de 50% avec bois ou dérivés de bois","Inférieur strictement à 0,5 kg","€/unité",0.05,0.05,{"$f":"VLOOKUP(J235,'Codes éco-part'!$C:$E,3,FALSE)","v":"048"},0.06]
["REP ABJ",3,"21100720210",null,"Articles de bricolage","Outillage à main et leurs accessoires","Assemblage verre à plus de 50% avec bois ou dérivés de bois","Compris entre 0,5 kg et 1 kg exclus","€/unité",0.16,0.16,{"$f":"VLOOKUP(J236,'Codes éco-part'!$C:$E,3,FALSE)","v":"099"},0.192]
["REP ABJ",3,"21100720220",null,"Articles de bricolage","Outillage à main et leurs accessoires","Assemblage verre à plus de 50% avec bois ou dérivés de bois","Compris entre 1 kg et 2 kg exclus","€/unité",0.32,0.32,{"$f":"VLOOKUP(J237,'Codes éco-part'!$C:$E,3,FALSE)","v":"447"},0.38400000000000001]
["REP ABJ",3,"21100720520",null,"Articles de bricolage","Outillage à main et leurs accessoires","Assemblage verre à plus de 50% avec bois ou dérivés de bois","Compris entre 2 kg et 3 kg exclus","€/unité",0.54,0.54,{"$f":"VLOOKUP(J238,'Codes éco-part'!$C:$E,3,FALSE)","v":"500"},0.64800000000000002]
["REP ABJ",3,"21100720530",null,"Articles de bricolage","Outillage à main et leurs accessoires","Assemblage verre à plus de 50% avec bois ou dérivés de bois","Compris entre 3 kg et 5 kg exclus","€/unité",0.86,0.86,{"$f":"VLOOKUP(J239,'Codes éco-part'!$C:$E,3,FALSE)","v":"501"},1.032]
["REP ABJ",3,"21100720540",null,"Articles de bricolage","Outillage à main et leurs accessoires","Assemblage verre à plus de 50% avec bois ou dérivés de bois","Compris entre 5 kg et 7 kg exclus","€/unité",1.51,1.51,{"$f":"VLOOKUP(J240,'Codes éco-part'!$C:$E,3,FALSE)","v":"502"},1.8119999999999998]
["REP ABJ",3,"21100730000",null,"Articles de bricolage","Outillage à main et leurs accessoires","Assemblage verre à plus de 50% avec plastique","Eléments de toutes dimensions et poids","€ / Tonne",215,215,{"$f":"VLOOKUP(J241,'Codes éco-part'!$C:$E,3,FALSE)","v":"498"},258]
["REP ABJ",3,"21100730200",null,"Articles de bricolage","Outillage à main et leurs accessoires","Assemblage verre à plus de 50% avec plastique","Inférieur strictement à 0,5 kg","€/unité",0.05,0.05,{"$f":"VLOOKUP(J242,'Codes éco-part'!$C:$E,3,FALSE)","v":"048"},0.06]
["REP ABJ",3,"21100730210",null,"Articles de bricolage","Outillage à main et leurs accessoires","Assemblage verre à plus de 50% avec plastique","Compris entre 0,5 kg et 1 kg exclus","€/unité",0.16,0.16,{"$f":"VLOOKUP(J243,'Codes éco-part'!$C:$E,3,FALSE)","v":"099"},0.192]
["REP ABJ",3,"21100730220",null,"Articles de bricolage","Outillage à main et leurs accessoires","Assemblage verre à plus de 50% avec plastique","Compris entre 1 kg et 2 kg exclus","€/unité",0.32,0.32,{"$f":"VLOOKUP(J244,'Codes éco-part'!$C:$E,3,FALSE)","v":"447"},0.38400000000000001]
["REP ABJ",3,"21100730520",null,"Articles de bricolage","Outillage à main et leurs accessoires","Assemblage verre à plus de 50% avec plastique","Compris entre 2 kg et 3 kg exclus","€/unité",0.54,0.54,{"$f":"VLOOKUP(J245,'Codes éco-part'!$C:$E,3,FALSE)","v":"500"},0.64800000000000002]
["REP ABJ",3,"21100730530",null,"Articles de bricolage","Outillage à main et leurs accessoires","Assemblage verre à plus de 50% avec plastique","Compris entre 3 kg et 5 kg exclus","€/unité",0.86,0.86,{"$f":"VLOOKUP(J246,'Codes éco-part'!$C:$E,3,FALSE)","v":"501"},1.032]
["REP ABJ",3,"21100730540",null,"Articles de bricolage","Outillage à main et leurs accessoires","Assemblage verre à plus de 50% avec plastique","Compris entre 5 kg et 7 kg exclus","€/unité",1.51,1.51,{"$f":"VLOOKUP(J247,'Codes éco-part'!$C:$E,3,FALSE)","v":"502"},1.8119999999999998]
["REP ABJ",3,"21100810000",null,"Articles de bricolage","Outillage à main et leurs accessoires","Assemblage dont la composition conjointe en bois, dérivés de bois et en métal dépasse 90%","Eléments de toutes dimensions et poids","€ / Tonne",45,45,{"$f":"VLOOKUP(J248,'Codes éco-part'!$C:$E,3,FALSE)","v":"169"},54]
["REP ABJ",3,"21100810200",null,"Articles de bricolage","Outillage à main et leurs accessoires","Assemblage dont la composition conjointe en bois, dérivés de bois et en métal dépasse 90%","Inférieur strictement à 0,5 kg","€/unité",0.01,0.01,{"$f":"VLOOKUP(J249,'Codes éco-part'!$C:$E,3,FALSE)","v":"260"},1.2E-2]
["REP ABJ",3,"21100810210",null,"Articles de bricolage","Outillage à main et leurs accessoires","Assemblage dont la composition conjointe en bois, dérivés de bois et en métal dépasse 90%","Compris entre 0,5 kg et 1 kg exclus","€/unité",0.03,0.03,{"$f":"VLOOKUP(J250,'Codes éco-part'!$C:$E,3,FALSE)","v":"092"},3.5999999999999997E-2]
["REP ABJ",3,"21100810220",null,"Articles de bricolage","Outillage à main et leurs accessoires","Assemblage dont la composition conjointe en bois, dérivés de bois et en métal dépasse 90%","Compris entre 1 kg et 2 kg exclus","€/unité",7.0000000000000007E-2,7.0000000000000007E-2,{"$f":"VLOOKUP(J251,'Codes éco-part'!$C:$E,3,FALSE)","v":"247"},8.4000000000000005E-2]
["REP ABJ",3,"21100810520",null,"Articles de bricolage","Outillage à main et leurs accessoires","Assemblage dont la composition conjointe en bois, dérivés de bois et en métal dépasse 90%","Compris entre 2 kg et 3 kg exclus","€/unité",0.11,0.11,{"$f":"VLOOKUP(J252,'Codes éco-part'!$C:$E,3,FALSE)","v":"262"},0.13200000000000001]
["REP ABJ",3,"21100810530",null,"Articles de bricolage","Outillage à main et leurs accessoires","Assemblage dont la composition conjointe en bois, dérivés de bois et en métal dépasse 90%","Compris entre 3 kg et 5 kg exclus","€/unité",0.18,0.18,{"$f":"VLOOKUP(J253,'Codes éco-part'!$C:$E,3,FALSE)","v":"100"},0.216]
["REP ABJ",3,"21100810540",null,"Articles de bricolage","Outillage à main et leurs accessoires","Assemblage dont la composition conjointe en bois, dérivés de bois et en métal dépasse 90%","Compris entre 5 kg et 7 kg exclus","€/unité",0.32,0.32,{"$f":"VLOOKUP(J254,'Codes éco-part'!$C:$E,3,FALSE)","v":"447"},0.38400000000000001]
["REP ABJ",3,"21100820000",null,"Articles de bricolage","Outillage à main et leurs accessoires","Assemblage de 3 matériaux ou plus sans un matériau à plus de 50%","Eléments de toutes dimensions et poids","€ / Tonne",215,215,{"$f":"VLOOKUP(J255,'Codes éco-part'!$C:$E,3,FALSE)","v":"498"},258]
["REP ABJ",3,"21100820200",null,"Articles de bricolage","Outillage à main et leurs accessoires","Assemblage de 3 matériaux ou plus sans un matériau à plus de 50%","Inférieur strictement à 0,5 kg","€/unité",0.05,0.05,{"$f":"VLOOKUP(J256,'Codes éco-part'!$C:$E,3,FALSE)","v":"048"},0.06]
["REP ABJ",3,"21100820210",null,"Articles de bricolage","Outillage à main et leurs accessoires","Assemblage de 3 matériaux ou plus sans un matériau à plus de 50%","Compris entre 0,5 kg et 1 kg exclus","€/unité",0.16,0.16,{"$f":"VLOOKUP(J257,'Codes éco-part'!$C:$E,3,FALSE)","v":"099"},0.192]
["REP ABJ",3,"21100820220",null,"Articles de bricolage","Outillage à main et leurs accessoires","Assemblage de 3 matériaux ou plus sans un matériau à plus de 50%","Compris entre 1 kg et 2 kg exclus","€/unité",0.32,0.32,{"$f":"VLOOKUP(J258,'Codes éco-part'!$C:$E,3,FALSE)","v":"447"},{"$f":"J258*1.2","v":0.38400000000000001}]
["REP ABJ",3,"21100820520",null,"Articles de bricolage","Outillage à main et leurs accessoires","Assemblage de 3 matériaux ou plus sans un matériau à plus de 50%","Compris entre 2 kg et 3 kg exclus","€/unité",0.54,0.54,{"$f":"VLOOKUP(J259,'Codes éco-part'!$C:$E,3,FALSE)","v":"500"},0.64800000000000002]
["REP ABJ",3,"21100820530",null,"Articles de bricolage","Outillage à main et leurs accessoires","Assemblage de 3 matériaux ou plus sans un matériau à plus de 50%","Compris entre 3 kg et 5 kg exclus","€/unité",0.86,0.86,{"$f":"VLOOKUP(J260,'Codes éco-part'!$C:$E,3,FALSE)","v":"501"},1.032]
["REP ABJ",3,"21100820540",null,"Articles de bricolage","Outillage à main et leurs accessoires","Assemblage de 3 matériaux ou plus sans un matériau à plus de 50%","Compris entre 5 kg et 7 kg exclus","€/unité",1.51,1.51,{"$f":"VLOOKUP(J261,'Codes éco-part'!$C:$E,3,FALSE)","v":"502"},1.8119999999999998]
["REP ABJ",3,"21101000000",null,"Articles de bricolage","Gros objets et machines non électriques et non thermiques et leurs accessoires","Non connu ou non spécifié par l'entreprise","Eléments de toutes dimensions et poids","€ / Tonne",75,75,{"$f":"VLOOKUP(J262,'Codes éco-part'!$C:$E,3,FALSE)","v":"192"},90]
["REP ABJ",3,"21101000200",null,"Articles de bricolage","Gros objets et machines non électriques et non thermiques et leurs accessoires","Non connu ou non spécifié par l'entreprise","Inférieur strictement à 0,5 kg","€/unité",0.02,0.02,{"$f":"VLOOKUP(J263,'Codes éco-part'!$C:$E,3,FALSE)","v":"047"},2.4E-2]
["REP ABJ",3,"21101000210",null,"Articles de bricolage","Gros objets et machines non électriques et non thermiques et leurs accessoires","Non connu ou non spécifié par l'entreprise","Compris entre 0,5 kg et 1 kg exclus","€/unité",0.06,0.06,{"$f":"VLOOKUP(J264,'Codes éco-part'!$C:$E,3,FALSE)","v":"096"},7.1999999999999995E-2]
["REP ABJ",3,"21101000220",null,"Articles de bricolage","Gros objets et machines non électriques et non thermiques et leurs accessoires","Non connu ou non spécifié par l'entreprise","Compris entre 1 kg et 2 kg exclus","€/unité",0.11,0.11,{"$f":"VLOOKUP(J265,'Codes éco-part'!$C:$E,3,FALSE)","v":"262"},0.13200000000000001]
["REP ABJ",3,"21101000270",null,"Articles de bricolage","Gros objets et machines non électriques et non thermiques et leurs accessoires","Non connu ou non spécifié par l'entreprise","Compris entre 30 kg et 40 kg exclus","€/unité",3,3,{"$f":"VLOOKUP(J266,'Codes éco-part'!$C:$E,3,FALSE)","v":"474"},3.5999999999999996]
["REP ABJ",3,"21101000520",null,"Articles de bricolage","Gros objets et machines non électriques et non thermiques et leurs accessoires","Non connu ou non spécifié par l'entreprise","Compris entre 2 kg et 3 kg exclus","€/unité",0.19,0.19,{"$f":"VLOOKUP(J267,'Codes éco-part'!$C:$E,3,FALSE)","v":"291"},0.22799999999999998]
["REP ABJ",3,"21101000530",null,"Articles de bricolage","Gros objets et machines non électriques et non thermiques et leurs accessoires","Non connu ou non spécifié par l'entreprise","Compris entre 3 kg et 5 kg exclus","€/unité",0.3,0.3,{"$f":"VLOOKUP(J268,'Codes éco-part'!$C:$E,3,FALSE)","v":"446"},0.36]
["REP ABJ",3,"21101000540",null,"Articles de bricolage","Gros objets et machines non électriques et non thermiques et leurs accessoires","Non connu ou non spécifié par l'entreprise","Compris entre 5 kg et 7 kg exclus","€/unité",0.53,0.53,{"$f":"VLOOKUP(J269,'Codes éco-part'!$C:$E,3,FALSE)","v":"451"},0.63600000000000001]
["REP ABJ",3,"21101000550",null,"Articles de bricolage","Gros objets et machines non électriques et non thermiques et leurs accessoires","Non connu ou non spécifié par l'entreprise","Compris entre 7 kg et 10 kg exclus","€/unité",0.75,0.75,{"$f":"VLOOKUP(J270,'Codes éco-part'!$C:$E,3,FALSE)","v":"328"},0.89999999999999991]
["REP ABJ",3,"21101000560",null,"Articles de bricolage","Gros objets et machines non électriques et non thermiques et leurs accessoires","Non connu ou non spécifié par l'entreprise","Compris entre 10 kg et 15 kg exclus","€/unité",1.1299999999999999,1.1299999999999999,{"$f":"VLOOKUP(J271,'Codes éco-part'!$C:$E,3,FALSE)","v":"331"},1.3559999999999999]
["REP ABJ",3,"21101000570",null,"Articles de bricolage","Gros objets et machines non électriques et non thermiques et leurs accessoires","Non connu ou non spécifié par l'entreprise","Compris entre 15 kg et 20 kg exclus","€/unité",1.5,1.5,{"$f":"VLOOKUP(J272,'Codes éco-part'!$C:$E,3,FALSE)","v":"059"},1.7999999999999998]
["REP ABJ",3,"21101000580",null,"Articles de bricolage","Gros objets et machines non électriques et non thermiques et leurs accessoires","Non connu ou non spécifié par l'entreprise","Compris entre 20 kg et 25 kg exclus","€/unité",1.88,1.88,{"$f":"VLOOKUP(J273,'Codes éco-part'!$C:$E,3,FALSE)","v":"335"},2.2559999999999998]
["REP ABJ",3,"21101000590",null,"Articles de bricolage","Gros objets et machines non électriques et non thermiques et leurs accessoires","Non connu ou non spécifié par l'entreprise","Compris entre 25 kg et 30 kg exclus","€/unité",2.25,2.25,{"$f":"VLOOKUP(J274,'Codes éco-part'!$C:$E,3,FALSE)","v":"118"},2.6999999999999997]
["REP ABJ",3,"21101000600",null,"Articles de bricolage","Gros objets et machines non électriques et non thermiques et leurs accessoires","Non connu ou non spécifié par l'entreprise","Compris entre 40 kg et 50 kg exclus","€/unité",3.75,3.75,{"$f":"VLOOKUP(J275,'Codes éco-part'!$C:$E,3,FALSE)","v":"015"},4.5]
["REP ABJ",3,"21101000900",null,"Articles de bricolage","Gros objets et machines non électriques et non thermiques et leurs accessoires","Non connu ou non spécifié par l'entreprise","Lot de 10","€/Lot",11.25,11.25,{"$f":"VLOOKUP(J276,'Codes éco-part'!$C:$E,3,FALSE)","v":"140"},13.5]
["REP ABJ",3,"21101010000",null,"Articles de bricolage","Gros objets et machines non électriques et non thermiques et leurs accessoires","Assemblage de bois, dérivés de bois à plus de 50% avec d'autres matériaux ou bois composite (hors verre)","Eléments de toutes dimensions et poids","€ / Tonne",10,10,{"$f":"VLOOKUP(J277,'Codes éco-part'!$C:$E,3,FALSE)","v":"138"},12]
["REP ABJ",3,"21101010200",null,"Articles de bricolage","Gros objets et machines non électriques et non thermiques et leurs accessoires","Assemblage de bois, dérivés de bois à plus de 50% avec d'autres matériaux ou bois composite (hors verre)","Inférieur strictement à 0,5 kg","€/unité",0.01,0.01,{"$f":"VLOOKUP(J278,'Codes éco-part'!$C:$E,3,FALSE)","v":"260"},1.2E-2]
["REP ABJ",3,"21101010210",null,"Articles de bricolage","Gros objets et machines non électriques et non thermiques et leurs accessoires","Assemblage de bois, dérivés de bois à plus de 50% avec d'autres matériaux ou bois composite (hors verre)","Compris entre 0,5 kg et 1 kg exclus","€/unité",0.01,0.01,{"$f":"VLOOKUP(J279,'Codes éco-part'!$C:$E,3,FALSE)","v":"260"},1.2E-2]
["REP ABJ",3,"21101010220",null,"Articles de bricolage","Gros objets et machines non électriques et non thermiques et leurs accessoires","Assemblage de bois, dérivés de bois à plus de 50% avec d'autres matériaux ou bois composite (hors verre)","Compris entre 1 kg et 2 kg exclus","€/unité",0.02,0.02,{"$f":"VLOOKUP(J280,'Codes éco-part'!$C:$E,3,FALSE)","v":"047"},2.4E-2]
["REP ABJ",3,"21101010270",null,"Articles de bricolage","Gros objets et machines non électriques et non thermiques et leurs accessoires","Assemblage de bois, dérivés de bois à plus de 50% avec d'autres matériaux ou bois composite (hors verre)","Compris entre 30 kg et 40 kg exclus","€/unité",0.4,0.4,{"$f":"VLOOKUP(J281,'Codes éco-part'!$C:$E,3,FALSE)","v":"105"},0.48]
["REP ABJ",3,"21101010520",null,"Articles de bricolage","Gros objets et machines non électriques et non thermiques et leurs accessoires","Assemblage de bois, dérivés de bois à plus de 50% avec d'autres matériaux ou bois composite (hors verre)","Compris entre 2 kg et 3 kg exclus","€/unité",0.03,0.03,{"$f":"VLOOKUP(J282,'Codes éco-part'!$C:$E,3,FALSE)","v":"092"},3.5999999999999997E-2]
["REP ABJ",3,"21101010530",null,"Articles de bricolage","Gros objets et machines non électriques et non thermiques et leurs accessoires","Assemblage de bois, dérivés de bois à plus de 50% avec d'autres matériaux ou bois composite (hors verre)","Compris entre 3 kg et 5 kg exclus","€/unité",0.04,0.04,{"$f":"VLOOKUP(J283,'Codes éco-part'!$C:$E,3,FALSE)","v":"002"},4.8000000000000001E-2]
["REP ABJ",3,"21101010540",null,"Articles de bricolage","Gros objets et machines non électriques et non thermiques et leurs accessoires","Assemblage de bois, dérivés de bois à plus de 50% avec d'autres matériaux ou bois composite (hors verre)","Compris entre 5 kg et 7 kg exclus","€/unité",7.0000000000000007E-2,7.0000000000000007E-2,{"$f":"VLOOKUP(J284,'Codes éco-part'!$C:$E,3,FALSE)","v":"247"},8.4000000000000005E-2]
["REP ABJ",3,"21101010550",null,"Articles de bricolage","Gros objets et machines non électriques et non thermiques et leurs accessoires","Assemblage de bois, dérivés de bois à plus de 50% avec d'autres matériaux ou bois composite (hors verre)","Compris entre 7 kg et 10 kg exclus","€/unité",0.1,0.1,{"$f":"VLOOKUP(J285,'Codes éco-part'!$C:$E,3,FALSE)","v":"094"},0.12]
["REP ABJ",3,"21101010560",null,"Articles de bricolage","Gros objets et machines non électriques et non thermiques et leurs accessoires","Assemblage de bois, dérivés de bois à plus de 50% avec d'autres matériaux ou bois composite (hors verre)","Compris entre 10 kg et 15 kg exclus","€/unité",0.15,0.15,{"$f":"VLOOKUP(J286,'Codes éco-part'!$C:$E,3,FALSE)","v":"050"},0.18]
["REP ABJ",3,"21101010570",null,"Articles de bricolage","Gros objets et machines non électriques et non thermiques et leurs accessoires","Assemblage de bois, dérivés de bois à plus de 50% avec d'autres matériaux ou bois composite (hors verre)","Compris entre 15 kg et 20 kg exclus","€/unité",0.2,0.2,{"$f":"VLOOKUP(J287,'Codes éco-part'!$C:$E,3,FALSE)","v":"101"},0.24]
["REP ABJ",3,"21101010580",null,"Articles de bricolage","Gros objets et machines non électriques et non thermiques et leurs accessoires","Assemblage de bois, dérivés de bois à plus de 50% avec d'autres matériaux ou bois composite (hors verre)","Compris entre 20 kg et 25 kg exclus","€/unité",0.25,0.25,{"$f":"VLOOKUP(J288,'Codes éco-part'!$C:$E,3,FALSE)","v":"095"},0.3]
["REP ABJ",3,"21101010590",null,"Articles de bricolage","Gros objets et machines non électriques et non thermiques et leurs accessoires","Assemblage de bois, dérivés de bois à plus de 50% avec d'autres matériaux ou bois composite (hors verre)","Compris entre 25 kg et 30 kg exclus","€/unité",0.3,0.3,{"$f":"VLOOKUP(J289,'Codes éco-part'!$C:$E,3,FALSE)","v":"446"},0.36]
["REP ABJ",3,"21101010600",null,"Articles de bricolage","Gros objets et machines non électriques et non thermiques et leurs accessoires","Assemblage de bois, dérivés de bois à plus de 50% avec d'autres matériaux ou bois composite (hors verre)","Compris entre 40 kg et 50 kg exclus","€/unité",0.5,0.5,{"$f":"VLOOKUP(J290,'Codes éco-part'!$C:$E,3,FALSE)","v":"053"},0.6]
["REP ABJ",3,"21101020000",null,"Articles de bricolage","Gros objets et machines non électriques et non thermiques et leurs accessoires","Assemblage avec métal >50% et autres matériaux","Eléments de toutes dimensions et poids","€ / Tonne",3,3,{"$f":"VLOOKUP(J291,'Codes éco-part'!$C:$E,3,FALSE)","v":"474"},3.5999999999999996]
["REP ABJ",3,"21101020200",null,"Articles de bricolage","Gros objets et machines non électriques et non thermiques et leurs accessoires","Assemblage avec métal >50% et autres matériaux","Inférieur strictement à 0,5 kg","€/unité",0.01,0.01,{"$f":"VLOOKUP(J292,'Codes éco-part'!$C:$E,3,FALSE)","v":"260"},1.2E-2]
["REP ABJ",3,"21101020210",null,"Articles de bricolage","Gros objets et machines non électriques et non thermiques et leurs accessoires","Assemblage avec métal >50% et autres matériaux","Compris entre 0,5 kg et 1 kg exclus","€/unité",0.01,0.01,{"$f":"VLOOKUP(J293,'Codes éco-part'!$C:$E,3,FALSE)","v":"260"},1.2E-2]
["REP ABJ",3,"21101020220",null,"Articles de bricolage","Gros objets et machines non électriques et non thermiques et leurs accessoires","Assemblage avec métal >50% et autres matériaux","Compris entre 1 kg et 2 kg exclus","€/unité",0.01,0.01,{"$f":"VLOOKUP(J294,'Codes éco-part'!$C:$E,3,FALSE)","v":"260"},1.2E-2]
["REP ABJ",3,"21101020270",null,"Articles de bricolage","Gros objets et machines non électriques et non thermiques et leurs accessoires","Assemblage avec métal >50% et autres matériaux","Compris entre 30 kg et 40 kg exclus","€/unité",0.12,0.12,{"$f":"VLOOKUP(J295,'Codes éco-part'!$C:$E,3,FALSE)","v":"097"},0.14399999999999999]
["REP ABJ",3,"21101020520",null,"Articles de bricolage","Gros objets et machines non électriques et non thermiques et leurs accessoires","Assemblage avec métal >50% et autres matériaux","Compris entre 2 kg et 3 kg exclus","€/unité",0.01,0.01,{"$f":"VLOOKUP(J296,'Codes éco-part'!$C:$E,3,FALSE)","v":"260"},1.2E-2]
["REP ABJ",3,"21101020530",null,"Articles de bricolage","Gros objets et machines non électriques et non thermiques et leurs accessoires","Assemblage avec métal >50% et autres matériaux","Compris entre 3 kg et 5 kg exclus","€/unité",0.01,0.01,{"$f":"VLOOKUP(J297,'Codes éco-part'!$C:$E,3,FALSE)","v":"260"},1.2E-2]
["REP ABJ",3,"21101020540",null,"Articles de bricolage","Gros objets et machines non électriques et non thermiques et leurs accessoires","Assemblage avec métal >50% et autres matériaux","Compris entre 5 kg et 7 kg exclus","€/unité",0.02,0.02,{"$f":"VLOOKUP(J298,'Codes éco-part'!$C:$E,3,FALSE)","v":"047"},2.4E-2]
["REP ABJ",3,"21101020550",null,"Articles de bricolage","Gros objets et machines non électriques et non thermiques et leurs accessoires","Assemblage avec métal >50% et autres matériaux","Compris entre 7 kg et 10 kg exclus","€/unité",0.03,0.03,{"$f":"VLOOKUP(J299,'Codes éco-part'!$C:$E,3,FALSE)","v":"092"},3.5999999999999997E-2]
["REP ABJ",3,"21101020560",null,"Articles de bricolage","Gros objets et machines non électriques et non thermiques et leurs accessoires","Assemblage avec métal >50% et autres matériaux","Compris entre 10 kg et 15 kg exclus","€/unité",0.05,0.05,{"$f":"VLOOKUP(J300,'Codes éco-part'!$C:$E,3,FALSE)","v":"048"},0.06]
["REP ABJ",3,"21101020570",null,"Articles de bricolage","Gros objets et machines non électriques et non thermiques et leurs accessoires","Assemblage avec métal >50% et autres matériaux","Compris entre 15 kg et 20 kg exclus","€/unité",0.06,0.06,{"$f":"VLOOKUP(J301,'Codes éco-part'!$C:$E,3,FALSE)","v":"096"},7.1999999999999995E-2]
["REP ABJ",3,"21101020580",null,"Articles de bricolage","Gros objets et machines non électriques et non thermiques et leurs accessoires","Assemblage avec métal >50% et autres matériaux","Compris entre 20 kg et 25 kg exclus","€/unité",0.08,0.08,{"$f":"VLOOKUP(J302,'Codes éco-part'!$C:$E,3,FALSE)","v":"003"},9.6000000000000002E-2]
["REP ABJ",3,"21101020590",null,"Articles de bricolage","Gros objets et machines non électriques et non thermiques et leurs accessoires","Assemblage avec métal >50% et autres matériaux","Compris entre 25 kg et 30 kg exclus","€/unité",0.09,0.09,{"$f":"VLOOKUP(J303,'Codes éco-part'!$C:$E,3,FALSE)","v":"049"},0.108]
["REP ABJ",3,"21101020600",null,"Articles de bricolage","Gros objets et machines non électriques et non thermiques et leurs accessoires","Assemblage avec métal >50% et autres matériaux","Compris entre 40 kg et 50 kg exclus","€/unité",0.15,0.15,{"$f":"VLOOKUP(J304,'Codes éco-part'!$C:$E,3,FALSE)","v":"050"},0.18]
["REP ABJ",3,"21101040000",null,"Articles de bricolage","Gros objets et machines non électriques et non thermiques et leurs accessoires","Matériaux bio sourcés ou textiles non synthétiques >50%","Eléments de toutes dimensions et poids","€ / Tonne",75,30,{"$f":"VLOOKUP(J305,'Codes éco-part'!$C:$E,3,FALSE)","v":"192"},90]
["REP ABJ",3,"21101040200",null,"Articles de bricolage","Gros objets et machines non électriques et non thermiques et leurs accessoires","Matériaux bio sourcés ou textiles non synthétiques >50%","Inférieur strictement à 0,5 kg","€/unité",0.02,0.02,{"$f":"VLOOKUP(J306,'Codes éco-part'!$C:$E,3,FALSE)","v":"047"},2.4E-2]
["REP ABJ",3,"21101040210",null,"Articles de bricolage","Gros objets et machines non électriques et non thermiques et leurs accessoires","Matériaux bio sourcés ou textiles non synthétiques >50%","Compris entre 0,5 kg et 1 kg exclus","€/unité",0.06,0.06,{"$f":"VLOOKUP(J307,'Codes éco-part'!$C:$E,3,FALSE)","v":"096"},7.1999999999999995E-2]
["REP ABJ",3,"21101040220",null,"Articles de bricolage","Gros objets et machines non électriques et non thermiques et leurs accessoires","Matériaux bio sourcés ou textiles non synthétiques >50%","Compris entre 1 kg et 2 kg exclus","€/unité",0.11,0.11,{"$f":"VLOOKUP(J308,'Codes éco-part'!$C:$E,3,FALSE)","v":"262"},0.13200000000000001]
["REP ABJ",3,"21101040270",null,"Articles de bricolage","Gros objets et machines non électriques et non thermiques et leurs accessoires","Matériaux bio sourcés ou textiles non synthétiques >50%","Compris entre 30 kg et 40 kg exclus","€/unité",3,3,{"$f":"VLOOKUP(J309,'Codes éco-part'!$C:$E,3,FALSE)","v":"474"},3.5999999999999996]
["REP ABJ",3,"21101040520",null,"Articles de bricolage","Gros objets et machines non électriques et non thermiques et leurs accessoires","Matériaux bio sourcés ou textiles non synthétiques >50%","Compris entre 2 kg et 3 kg exclus","€/unité",0.19,0.19,{"$f":"VLOOKUP(J310,'Codes éco-part'!$C:$E,3,FALSE)","v":"291"},0.22799999999999998]
["REP ABJ",3,"21101040530",null,"Articles de bricolage","Gros objets et machines non électriques et non thermiques et leurs accessoires","Matériaux bio sourcés ou textiles non synthétiques >50%","Compris entre 3 kg et 5 kg exclus","€/unité",0.3,0.3,{"$f":"VLOOKUP(J311,'Codes éco-part'!$C:$E,3,FALSE)","v":"446"},0.36]
["REP ABJ",3,"21101040540",null,"Articles de bricolage","Gros objets et machines non électriques et non thermiques et leurs accessoires","Matériaux bio sourcés ou textiles non synthétiques >50%","Compris entre 5 kg et 7 kg exclus","€/unité",0.53,0.53,{"$f":"VLOOKUP(J312,'Codes éco-part'!$C:$E,3,FALSE)","v":"451"},0.63600000000000001]
["REP ABJ",3,"21101040550",null,"Articles de bricolage","Gros objets et machines non électriques et non thermiques et leurs accessoires","Matériaux bio sourcés ou textiles non synthétiques >50%","Compris entre 7 kg et 10 kg exclus","€/unité",0.75,0.75,{"$f":"VLOOKUP(J313,'Codes éco-part'!$C:$E,3,FALSE)","v":"328"},0.89999999999999991]
["REP ABJ",3,"21101040560",null,"Articles de bricolage","Gros objets et machines non électriques et non thermiques et leurs accessoires","Matériaux bio sourcés ou textiles non synthétiques >50%","Compris entre 10 kg et 15 kg exclus","€/unité",1.1299999999999999,1.1299999999999999,{"$f":"VLOOKUP(J314,'Codes éco-part'!$C:$E,3,FALSE)","v":"331"},1.3559999999999999]
["REP ABJ",3,"21101040570",null,"Articles de bricolage","Gros objets et machines non électriques et non thermiques et leurs accessoires","Matériaux bio sourcés ou textiles non synthétiques >50%","Compris entre 15 kg et 20 kg exclus","€/unité",1.5,1.5,{"$f":"VLOOKUP(J315,'Codes éco-part'!$C:$E,3,FALSE)","v":"059"},1.7999999999999998]
["REP ABJ",3,"21101040580",null,"Articles de bricolage","Gros objets et machines non électriques et non thermiques et leurs accessoires","Matériaux bio sourcés ou textiles non synthétiques >50%","Compris entre 20 kg et 25 kg exclus","€/unité",1.88,1.88,{"$f":"VLOOKUP(J316,'Codes éco-part'!$C:$E,3,FALSE)","v":"335"},2.2559999999999998]
["REP ABJ",3,"21101040590",null,"Articles de bricolage","Gros objets et machines non électriques et non thermiques et leurs accessoires","Matériaux bio sourcés ou textiles non synthétiques >50%","Compris entre 25 kg et 30 kg exclus","€/unité",2.25,2.25,{"$f":"VLOOKUP(J317,'Codes éco-part'!$C:$E,3,FALSE)","v":"118"},2.6999999999999997]
["REP ABJ",3,"21101040600",null,"Articles de bricolage","Gros objets et machines non électriques et non thermiques et leurs accessoires","Matériaux bio sourcés ou textiles non synthétiques >50%","Compris entre 40 kg et 50 kg exclus","€/unité",3.75,3.75,{"$f":"VLOOKUP(J318,'Codes éco-part'!$C:$E,3,FALSE)","v":"015"},4.5]
["REP ABJ",3,"21101050000",null,"Articles de bricolage","Gros objets et machines non électriques et non thermiques et leurs accessoires","Plastiques ou autres matériaux synthétiques >50%","Eléments de toutes dimensions et poids","€ / Tonne",75,75,{"$f":"VLOOKUP(J319,'Codes éco-part'!$C:$E,3,FALSE)","v":"192"},90]
["REP ABJ",3,"21101050200",null,"Articles de bricolage","Gros objets et machines non électriques et non thermiques et leurs accessoires","Plastiques ou autres matériaux synthétiques >50%","Inférieur strictement à 0,5 kg","€/unité",0.02,0.02,{"$f":"VLOOKUP(J320,'Codes éco-part'!$C:$E,3,FALSE)","v":"047"},2.4E-2]
["REP ABJ",3,"21101050210",null,"Articles de bricolage","Gros objets et machines non électriques et non thermiques et leurs accessoires","Plastiques ou autres matériaux synthétiques >50%","Compris entre 0,5 kg et 1 kg exclus","€/unité",0.06,0.06,{"$f":"VLOOKUP(J321,'Codes éco-part'!$C:$E,3,FALSE)","v":"096"},7.1999999999999995E-2]
["REP ABJ",3,"21101050220",null,"Articles de bricolage","Gros objets et machines non électriques et non thermiques et leurs accessoires","Plastiques ou autres matériaux synthétiques >50%","Compris entre 1 kg et 2 kg exclus","€/unité",0.11,0.11,{"$f":"VLOOKUP(J322,'Codes éco-part'!$C:$E,3,FALSE)","v":"262"},{"$f":"J322*1.2","v":0.13200000000000001}]
["REP ABJ",3,"21101050270",null,"Articles de bricolage","Gros objets et machines non électriques et non thermiques et leurs accessoires","Plastiques ou autres matériaux synthétiques >50%","Compris entre 30 kg et 40 kg exclus","€/unité",3,3,{"$f":"VLOOKUP(J323,'Codes éco-part'!$C:$E,3,FALSE)","v":"474"},3.5999999999999996]
["REP ABJ",3,"21101050520",null,"Articles de bricolage","Gros objets et machines non électriques et non thermiques et leurs accessoires","Plastiques ou autres matériaux synthétiques >50%","Compris entre 2 kg et 3 kg exclus","€/unité",0.19,0.19,{"$f":"VLOOKUP(J324,'Codes éco-part'!$C:$E,3,FALSE)","v":"291"},0.22799999999999998]
["REP ABJ",3,"21101050530",null,"Articles de bricolage","Gros objets et machines non électriques et non thermiques et leurs accessoires","Plastiques ou autres matériaux synthétiques >50%","Compris entre 3 kg et 5 kg exclus","€/unité",0.3,0.3,{"$f":"VLOOKUP(J325,'Codes éco-part'!$C:$E,3,FALSE)","v":"446"},0.36]
["REP ABJ",3,"21101050540",null,"Articles de bricolage","Gros objets et machines non électriques et non thermiques et leurs accessoires","Plastiques ou autres matériaux synthétiques >50%","Compris entre 5 kg et 7 kg exclus","€/unité",0.53,0.53,{"$f":"VLOOKUP(J326,'Codes éco-part'!$C:$E,3,FALSE)","v":"451"},0.63600000000000001]
["REP ABJ",3,"21101050550",null,"Articles de bricolage","Gros objets et machines non électriques et non thermiques et leurs accessoires","Plastiques ou autres matériaux synthétiques >50%","Compris entre 7 kg et 10 kg exclus","€/unité",0.75,0.75,{"$f":"VLOOKUP(J327,'Codes éco-part'!$C:$E,3,FALSE)","v":"328"},0.89999999999999991]
["REP ABJ",3,"21101050560",null,"Articles de bricolage","Gros objets et machines non électriques et non thermiques et leurs accessoires","Plastiques ou autres matériaux synthétiques >50%","Compris entre 10 kg et 15 kg exclus","€/unité",1.1299999999999999,1.1299999999999999,{"$f":"VLOOKUP(J328,'Codes éco-part'!$C:$E,3,FALSE)","v":"331"},1.3559999999999999]
["REP ABJ",3,"21101050570",null,"Articles de bricolage","Gros objets et machines non électriques et non thermiques et leurs accessoires","Plastiques ou autres matériaux synthétiques >50%","Compris entre 15 kg et 20 kg exclus","€/unité",1.5,1.5,{"$f":"VLOOKUP(J329,'Codes éco-part'!$C:$E,3,FALSE)","v":"059"},1.7999999999999998]
["REP ABJ",3,"21101050580",null,"Articles de bricolage","Gros objets et machines non électriques et non thermiques et leurs accessoires","Plastiques ou autres matériaux synthétiques >50%","Compris entre 20 kg et 25 kg exclus","€/unité",1.88,1.88,{"$f":"VLOOKUP(J330,'Codes éco-part'!$C:$E,3,FALSE)","v":"335"},2.2559999999999998]
["REP ABJ",3,"21101050590",null,"Articles de bricolage","Gros objets et machines non électriques et non thermiques et leurs accessoires","Plastiques ou autres matériaux synthétiques >50%","Compris entre 25 kg et 30 kg exclus","€/unité",2.25,2.25,{"$f":"VLOOKUP(J331,'Codes éco-part'!$C:$E,3,FALSE)","v":"118"},2.6999999999999997]
["REP ABJ",3,"21101050600",null,"Articles de bricolage","Gros objets et machines non électriques et non thermiques et leurs accessoires","Plastiques ou autres matériaux synthétiques >50%","Compris entre 40 kg et 50 kg exclus","€/unité",3.75,3.75,{"$f":"VLOOKUP(J332,'Codes éco-part'!$C:$E,3,FALSE)","v":"015"},4.5]
["REP ABJ",3,"21101060000",null,"Articles de bricolage","Gros objets et machines non électriques et non thermiques et leurs accessoires","Matériaux d'origine animale >50%","Eléments de toutes dimensions et poids","€ / Tonne",30,30,{"$f":"VLOOKUP(J333,'Codes éco-part'!$C:$E,3,FALSE)","v":"153"},36]
["REP ABJ",3,"21101060200",null,"Articles de bricolage","Gros objets et machines non électriques et non thermiques et leurs accessoires","Matériaux d'origine animale >50%","Inférieur strictement à 0,5 kg","€/unité",0.02,0.02,{"$f":"VLOOKUP(J334,'Codes éco-part'!$C:$E,3,FALSE)","v":"047"},2.4E-2]
["REP ABJ",3,"21101060210",null,"Articles de bricolage","Gros objets et machines non électriques et non thermiques et leurs accessoires","Matériaux d'origine animale >50%","Compris entre 0,5 kg et 1 kg exclus","€/unité",0.06,0.06,{"$f":"VLOOKUP(J335,'Codes éco-part'!$C:$E,3,FALSE)","v":"096"},7.1999999999999995E-2]
["REP ABJ",3,"21101060220",null,"Articles de bricolage","Gros objets et machines non électriques et non thermiques et leurs accessoires","Matériaux d'origine animale >50%","Compris entre 1 kg et 2 kg exclus","€/unité",0.11,0.11,{"$f":"VLOOKUP(J336,'Codes éco-part'!$C:$E,3,FALSE)","v":"262"},0.13200000000000001]
["REP ABJ",3,"21101060270",null,"Articles de bricolage","Gros objets et machines non électriques et non thermiques et leurs accessoires","Matériaux d'origine animale >50%","Compris entre 30 kg et 40 kg exclus","€/unité",3,3,{"$f":"VLOOKUP(J337,'Codes éco-part'!$C:$E,3,FALSE)","v":"474"},3.5999999999999996]
["REP ABJ",3,"21101060520",null,"Articles de bricolage","Gros objets et machines non électriques et non thermiques et leurs accessoires","Matériaux d'origine animale >50%","Compris entre 2 kg et 3 kg exclus","€/unité",0.19,0.19,{"$f":"VLOOKUP(J338,'Codes éco-part'!$C:$E,3,FALSE)","v":"291"},0.22799999999999998]
["REP ABJ",3,"21101060530",null,"Articles de bricolage","Gros objets et machines non électriques et non thermiques et leurs accessoires","Matériaux d'origine animale >50%","Compris entre 3 kg et 5 kg exclus","€/unité",0.3,0.3,{"$f":"VLOOKUP(J339,'Codes éco-part'!$C:$E,3,FALSE)","v":"446"},0.36]
["REP ABJ",3,"21101060540",null,"Articles de bricolage","Gros objets et machines non électriques et non thermiques et leurs accessoires","Matériaux d'origine animale >50%","Compris entre 5 kg et 7 kg exclus","€/unité",0.53,0.53,{"$f":"VLOOKUP(J340,'Codes éco-part'!$C:$E,3,FALSE)","v":"451"},0.63600000000000001]
["REP ABJ",3,"21101060550",null,"Articles de bricolage","Gros objets et machines non électriques et non thermiques et leurs accessoires","Matériaux d'origine animale >50%","Compris entre 7 kg et 10 kg exclus","€/unité",0.75,0.75,{"$f":"VLOOKUP(J341,'Codes éco-part'!$C:$E,3,FALSE)","v":"328"},0.89999999999999991]
["REP ABJ",3,"21101060560",null,"Articles de bricolage","Gros objets et machines non électriques et non thermiques et leurs accessoires","Matériaux d'origine animale >50%","Compris entre 10 kg et 15 kg exclus","€/unité",1.1299999999999999,1.1299999999999999,{"$f":"VLOOKUP(J342,'Codes éco-part'!$C:$E,3,FALSE)","v":"331"},1.3559999999999999]
["REP ABJ",3,"21101060570",null,"Articles de bricolage","Gros objets et machines non électriques et non thermiques et leurs accessoires","Matériaux d'origine animale >50%","Compris entre 15 kg et 20 kg exclus","€/unité",1.5,1.5,{"$f":"VLOOKUP(J343,'Codes éco-part'!$C:$E,3,FALSE)","v":"059"},1.7999999999999998]
["REP ABJ",3,"21101060580",null,"Articles de bricolage","Gros objets et machines non électriques et non thermiques et leurs accessoires","Matériaux d'origine animale >50%","Compris entre 20 kg et 25 kg exclus","€/unité",1.88,1.88,{"$f":"VLOOKUP(J344,'Codes éco-part'!$C:$E,3,FALSE)","v":"335"},2.2559999999999998]
["REP ABJ",3,"21101060590",null,"Articles de bricolage","Gros objets et machines non électriques et non thermiques et leurs accessoires","Matériaux d'origine animale >50%","Compris entre 25 kg et 30 kg exclus","€/unité",2.25,2.25,{"$f":"VLOOKUP(J345,'Codes éco-part'!$C:$E,3,FALSE)","v":"118"},2.6999999999999997]
["REP ABJ",3,"21101060600",null,"Articles de bricolage","Gros objets et machines non électriques et non thermiques et leurs accessoires","Matériaux d'origine animale >50%","Compris entre 40 kg et 50 kg exclus","€/unité",3.75,3.75,{"$f":"VLOOKUP(J346,'Codes éco-part'!$C:$E,3,FALSE)","v":"015"},4.5]
["REP ABJ",3,"21101080000",null,"Articles de bricolage","Gros objets et machines non électriques et non thermiques et leurs accessoires","Assemblage de matériaux avec de l'inerte >50%","Eléments de toutes dimensions et poids","€ / Tonne",75,75,{"$f":"VLOOKUP(J347,'Codes éco-part'!$C:$E,3,FALSE)","v":"192"},90]
["REP ABJ",3,"21101080200",null,"Articles de bricolage","Gros objets et machines non électriques et non thermiques et leurs accessoires","Assemblage de matériaux avec de l'inerte >50%","Inférieur strictement à 0,5 kg","€/unité",0.02,0.02,{"$f":"VLOOKUP(J348,'Codes éco-part'!$C:$E,3,FALSE)","v":"047"},2.4E-2]
["REP ABJ",3,"21101080210",null,"Articles de bricolage","Gros objets et machines non électriques et non thermiques et leurs accessoires","Assemblage de matériaux avec de l'inerte >50%","Compris entre 0,5 kg et 1 kg exclus","€/unité",0.06,0.06,{"$f":"VLOOKUP(J349,'Codes éco-part'!$C:$E,3,FALSE)","v":"096"},7.1999999999999995E-2]
["REP ABJ",3,"21101080220",null,"Articles de bricolage","Gros objets et machines non électriques et non thermiques et leurs accessoires","Assemblage de matériaux avec de l'inerte >50%","Compris entre 1 kg et 2 kg exclus","€/unité",0.11,0.11,{"$f":"VLOOKUP(J350,'Codes éco-part'!$C:$E,3,FALSE)","v":"262"},0.13200000000000001]
["REP ABJ",3,"21101080270",null,"Articles de bricolage","Gros objets et machines non électriques et non thermiques et leurs accessoires","Assemblage de matériaux avec de l'inerte >50%","Compris entre 30 kg et 40 kg exclus","€/unité",3,3,{"$f":"VLOOKUP(J351,'Codes éco-part'!$C:$E,3,FALSE)","v":"474"},3.5999999999999996]
["REP ABJ",3,"21101080520",null,"Articles de bricolage","Gros objets et machines non électriques et non thermiques et leurs accessoires","Assemblage de matériaux avec de l'inerte >50%","Compris entre 2 kg et 3 kg exclus","€/unité",0.19,0.19,{"$f":"VLOOKUP(J352,'Codes éco-part'!$C:$E,3,FALSE)","v":"291"},0.22799999999999998]
["REP ABJ",3,"21101080530",null,"Articles de bricolage","Gros objets et machines non électriques et non thermiques et leurs accessoires","Assemblage de matériaux avec de l'inerte >50%","Compris entre 3 kg et 5 kg exclus","€/unité",0.3,0.3,{"$f":"VLOOKUP(J353,'Codes éco-part'!$C:$E,3,FALSE)","v":"446"},0.36]
["REP ABJ",3,"21101080540",null,"Articles de bricolage","Gros objets et machines non électriques et non thermiques et leurs accessoires","Assemblage de matériaux avec de l'inerte >50%","Compris entre 5 kg et 7 kg exclus","€/unité",0.53,0.53,{"$f":"VLOOKUP(J354,'Codes éco-part'!$C:$E,3,FALSE)","v":"451"},0.63600000000000001]
["REP ABJ",3,"21101080550",null,"Articles de bricolage","Gros objets et machines non électriques et non thermiques et leurs accessoires","Assemblage de matériaux avec de l'inerte >50%","Compris entre 7 kg et 10 kg exclus","€/unité",0.75,0.75,{"$f":"VLOOKUP(J355,'Codes éco-part'!$C:$E,3,FALSE)","v":"328"},0.89999999999999991]
["REP ABJ",3,"21101080560",null,"Articles de bricolage","Gros objets et machines non électriques et non thermiques et leurs accessoires","Assemblage de matériaux avec de l'inerte >50%","Compris entre 10 kg et 15 kg exclus","€/unité",1.1299999999999999,1.1299999999999999,{"$f":"VLOOKUP(J356,'Codes éco-part'!$C:$E,3,FALSE)","v":"331"},1.3559999999999999]
["REP ABJ",3,"21101080570",null,"Articles de bricolage","Gros objets et machines non électriques et non thermiques et leurs accessoires","Assemblage de matériaux avec de l'inerte >50%","Compris entre 15 kg et 20 kg exclus","€/unité",1.5,1.5,{"$f":"VLOOKUP(J357,'Codes éco-part'!$C:$E,3,FALSE)","v":"059"},1.7999999999999998]
["REP ABJ",3,"21101080580",null,"Articles de bricolage","Gros objets et machines non électriques et non thermiques et leurs accessoires","Assemblage de matériaux avec de l'inerte >50%","Compris entre 20 kg et 25 kg exclus","€/unité",1.88,1.88,{"$f":"VLOOKUP(J358,'Codes éco-part'!$C:$E,3,FALSE)","v":"335"},2.2559999999999998]
["REP ABJ",3,"21101080590",null,"Articles de bricolage","Gros objets et machines non électriques et non thermiques et leurs accessoires","Assemblage de matériaux avec de l'inerte >50%","Compris entre 25 kg et 30 kg exclus","€/unité",2.25,2.25,{"$f":"VLOOKUP(J359,'Codes éco-part'!$C:$E,3,FALSE)","v":"118"},2.6999999999999997]
["REP ABJ",3,"21101080600",null,"Articles de bricolage","Gros objets et machines non électriques et non thermiques et leurs accessoires","Assemblage de matériaux avec de l'inerte >50%","Compris entre 40 kg et 50 kg exclus","€/unité",3.75,3.75,{"$f":"VLOOKUP(J360,'Codes éco-part'!$C:$E,3,FALSE)","v":"015"},4.5]
["REP ABJ",3,"21101150000",null,"Articles de bricolage","Gros objets et machines non électriques et non thermiques et leurs accessoires","Composites et autres matériaux minéraux reconstitués >50%","Eléments de toutes dimensions et poids","€ / Tonne",75,75,{"$f":"VLOOKUP(J361,'Codes éco-part'!$C:$E,3,FALSE)","v":"192"},90]
["REP ABJ",3,"21101150200",null,"Articles de bricolage","Gros objets et machines non électriques et non thermiques et leurs accessoires","Composites et autres matériaux minéraux reconstitués >50%","Inférieur strictement à 0,5 kg","€/unité",0.02,0.02,{"$f":"VLOOKUP(J362,'Codes éco-part'!$C:$E,3,FALSE)","v":"047"},2.4E-2]
["REP ABJ",3,"21101150210",null,"Articles de bricolage","Gros objets et machines non électriques et non thermiques et leurs accessoires","Composites et autres matériaux minéraux reconstitués >50%","Compris entre 0,5 kg et 1 kg exclus","€/unité",0.06,0.06,{"$f":"VLOOKUP(J363,'Codes éco-part'!$C:$E,3,FALSE)","v":"096"},7.1999999999999995E-2]
["REP ABJ",3,"21101150220",null,"Articles de bricolage","Gros objets et machines non électriques et non thermiques et leurs accessoires","Composites et autres matériaux minéraux reconstitués >50%","Compris entre 1 kg et 2 kg exclus","€/unité",0.11,0.11,{"$f":"VLOOKUP(J364,'Codes éco-part'!$C:$E,3,FALSE)","v":"262"},0.13200000000000001]
["REP ABJ",3,"21101150270",null,"Articles de bricolage","Gros objets et machines non électriques et non thermiques et leurs accessoires","Composites et autres matériaux minéraux reconstitués >50%","Compris entre 30 kg et 40 kg exclus","€/unité",3,3,{"$f":"VLOOKUP(J365,'Codes éco-part'!$C:$E,3,FALSE)","v":"474"},3.5999999999999996]
["REP ABJ",3,"21101150520",null,"Articles de bricolage","Gros objets et machines non électriques et non thermiques et leurs accessoires","Composites et autres matériaux minéraux reconstitués >50%","Compris entre 2 kg et 3 kg exclus","€/unité",0.19,0.19,{"$f":"VLOOKUP(J366,'Codes éco-part'!$C:$E,3,FALSE)","v":"291"},0.22799999999999998]
["REP ABJ",3,"21101150530",null,"Articles de bricolage","Gros objets et machines non électriques et non thermiques et leurs accessoires","Composites et autres matériaux minéraux reconstitués >50%","Compris entre 3 kg et 5 kg exclus","€/unité",0.3,0.3,{"$f":"VLOOKUP(J367,'Codes éco-part'!$C:$E,3,FALSE)","v":"446"},0.36]
["REP ABJ",3,"21101150540",null,"Articles de bricolage","Gros objets et machines non électriques et non thermiques et leurs accessoires","Composites et autres matériaux minéraux reconstitués >50%","Compris entre 5 kg et 7 kg exclus","€/unité",0.53,0.53,{"$f":"VLOOKUP(J368,'Codes éco-part'!$C:$E,3,FALSE)","v":"451"},0.63600000000000001]
["REP ABJ",3,"21101150550",null,"Articles de bricolage","Gros objets et machines non électriques et non thermiques et leurs accessoires","Composites et autres matériaux minéraux reconstitués >50%","Compris entre 7 kg et 10 kg exclus","€/unité",0.75,0.75,{"$f":"VLOOKUP(J369,'Codes éco-part'!$C:$E,3,FALSE)","v":"328"},0.89999999999999991]
["REP ABJ",3,"21101150560",null,"Articles de bricolage","Gros objets et machines non électriques et non thermiques et leurs accessoires","Composites et autres matériaux minéraux reconstitués >50%","Compris entre 10 kg et 15 kg exclus","€/unité",1.1299999999999999,1.1299999999999999,{"$f":"VLOOKUP(J370,'Codes éco-part'!$C:$E,3,FALSE)","v":"331"},1.3559999999999999]
["REP ABJ",3,"21101150570",null,"Articles de bricolage","Gros objets et machines non électriques et non thermiques et leurs accessoires","Composites et autres matériaux minéraux reconstitués >50%","Compris entre 15 kg et 20 kg exclus","€/unité",1.5,1.5,{"$f":"VLOOKUP(J371,'Codes éco-part'!$C:$E,3,FALSE)","v":"059"},1.7999999999999998]
["REP ABJ",3,"21101150580",null,"Articles de bricolage","Gros objets et machines non électriques et non thermiques et leurs accessoires","Composites et autres matériaux minéraux reconstitués >50%","Compris entre 20 kg et 25 kg exclus","€/unité",1.88,1.88,{"$f":"VLOOKUP(J372,'Codes éco-part'!$C:$E,3,FALSE)","v":"335"},2.2559999999999998]
["REP ABJ",3,"21101150590",null,"Articles de bricolage","Gros objets et machines non électriques et non thermiques et leurs accessoires","Composites et autres matériaux minéraux reconstitués >50%","Compris entre 25 kg et 30 kg exclus","€/unité",2.25,2.25,{"$f":"VLOOKUP(J373,'Codes éco-part'!$C:$E,3,FALSE)","v":"118"},2.6999999999999997]
["REP ABJ",3,"21101150600",null,"Articles de bricolage","Gros objets et machines non électriques et non thermiques et leurs accessoires","Composites et autres matériaux minéraux reconstitués >50%","Compris entre 40 kg et 50 kg exclus","€/unité",3.75,3.75,{"$f":"VLOOKUP(J374,'Codes éco-part'!$C:$E,3,FALSE)","v":"015"},4.5]
["REP ABJ",3,"21101190000",null,"Articles de bricolage","Gros objets et machines non électriques et non thermiques et leurs accessoires","Papier carton >50% avec d'autres matériaux (hors verre)","Eléments de toutes dimensions et poids","€ / Tonne",75,30,{"$f":"VLOOKUP(J375,'Codes éco-part'!$C:$E,3,FALSE)","v":"192"},90]
["REP ABJ",3,"21101190200",null,"Articles de bricolage","Gros objets et machines non électriques et non thermiques et leurs accessoires","Papier carton >50% avec d'autres matériaux (hors verre)","Inférieur strictement à 0,5 kg","€/unité",0.02,0.02,{"$f":"VLOOKUP(J376,'Codes éco-part'!$C:$E,3,FALSE)","v":"047"},2.4E-2]
["REP ABJ",3,"21101190210",null,"Articles de bricolage","Gros objets et machines non électriques et non thermiques et leurs accessoires","Papier carton >50% avec d'autres matériaux (hors verre)","Compris entre 0,5 kg et 1 kg exclus","€/unité",0.06,0.06,{"$f":"VLOOKUP(J377,'Codes éco-part'!$C:$E,3,FALSE)","v":"096"},7.1999999999999995E-2]
["REP ABJ",3,"21101190220",null,"Articles de bricolage","Gros objets et machines non électriques et non thermiques et leurs accessoires","Papier carton >50% avec d'autres matériaux (hors verre)","Compris entre 1 kg et 2 kg exclus","€/unité",0.11,0.11,{"$f":"VLOOKUP(J378,'Codes éco-part'!$C:$E,3,FALSE)","v":"262"},0.13200000000000001]
["REP ABJ",3,"21101190270",null,"Articles de bricolage","Gros objets et machines non électriques et non thermiques et leurs accessoires","Papier carton >50% avec d'autres matériaux (hors verre)","Compris entre 30 kg et 40 kg exclus","€/unité",3,3,{"$f":"VLOOKUP(J379,'Codes éco-part'!$C:$E,3,FALSE)","v":"474"},3.5999999999999996]
["REP ABJ",3,"21101190520",null,"Articles de bricolage","Gros objets et machines non électriques et non thermiques et leurs accessoires","Papier carton >50% avec d'autres matériaux (hors verre)","Compris entre 2 kg et 3 kg exclus","€/unité",0.19,0.19,{"$f":"VLOOKUP(J380,'Codes éco-part'!$C:$E,3,FALSE)","v":"291"},0.22799999999999998]
["REP ABJ",3,"21101190530",null,"Articles de bricolage","Gros objets et machines non électriques et non thermiques et leurs accessoires","Papier carton >50% avec d'autres matériaux (hors verre)","Compris entre 3 kg et 5 kg exclus","€/unité",0.3,0.3,{"$f":"VLOOKUP(J381,'Codes éco-part'!$C:$E,3,FALSE)","v":"446"},0.36]
["REP ABJ",3,"21101190540",null,"Articles de bricolage","Gros objets et machines non électriques et non thermiques et leurs accessoires","Papier carton >50% avec d'autres matériaux (hors verre)","Compris entre 5 kg et 7 kg exclus","€/unité",0.53,0.53,{"$f":"VLOOKUP(J382,'Codes éco-part'!$C:$E,3,FALSE)","v":"451"},0.63600000000000001]
["REP ABJ",3,"21101190550",null,"Articles de bricolage","Gros objets et machines non électriques et non thermiques et leurs accessoires","Papier carton >50% avec d'autres matériaux (hors verre)","Compris entre 7 kg et 10 kg exclus","€/unité",0.75,0.75,{"$f":"VLOOKUP(J383,'Codes éco-part'!$C:$E,3,FALSE)","v":"328"},0.89999999999999991]
["REP ABJ",3,"21101190560",null,"Articles de bricolage","Gros objets et machines non électriques et non thermiques et leurs accessoires","Papier carton >50% avec d'autres matériaux (hors verre)","Compris entre 10 kg et 15 kg exclus","€/unité",1.1299999999999999,1.1299999999999999,{"$f":"VLOOKUP(J384,'Codes éco-part'!$C:$E,3,FALSE)","v":"331"},1.3559999999999999]
["REP ABJ",3,"21101190570",null,"Articles de bricolage","Gros objets et machines non électriques et non thermiques et leurs accessoires","Papier carton >50% avec d'autres matériaux (hors verre)","Compris entre 15 kg et 20 kg exclus","€/unité",1.5,1.5,{"$f":"VLOOKUP(J385,'Codes éco-part'!$C:$E,3,FALSE)","v":"059"},1.7999999999999998]
["REP ABJ",3,"21101190580",null,"Articles de bricolage","Gros objets et machines non électriques et non thermiques et leurs accessoires","Papier carton >50% avec d'autres matériaux (hors verre)","Compris entre 20 kg et 25 kg exclus","€/unité",1.88,1.88,{"$f":"VLOOKUP(J386,'Codes éco-part'!$C:$E,3,FALSE)","v":"335"},{"$f":"J386*1.2","v":2.2559999999999998}]
["REP ABJ",3,"21101190590",null,"Articles de bricolage","Gros objets et machines non électriques et non thermiques et leurs accessoires","Papier carton >50% avec d'autres matériaux (hors verre)","Compris entre 25 kg et 30 kg exclus","€/unité",2.25,2.25,{"$f":"VLOOKUP(J387,'Codes éco-part'!$C:$E,3,FALSE)","v":"118"},2.6999999999999997]
["REP ABJ",3,"21101190600",null,"Articles de bricolage","Gros objets et machines non électriques et non thermiques et leurs accessoires","Papier carton >50% avec d'autres matériaux (hors verre)","Compris entre 40 kg et 50 kg exclus","€/unité",3.75,3.75,{"$f":"VLOOKUP(J388,'Codes éco-part'!$C:$E,3,FALSE)","v":"015"},4.5]
["REP ABJ",3,"21101200000",null,"Articles de bricolage","Gros objets et machines non électriques et non thermiques et leurs accessoires","Massif et assimilés certifiés >75%","Eléments de toutes dimensions et poids","€ / Tonne",10,10,{"$f":"VLOOKUP(J389,'Codes éco-part'!$C:$E,3,FALSE)","v":"138"},12]
["REP ABJ",3,"21101200200",null,"Articles de bricolage","Gros objets et machines non électriques et non thermiques et leurs accessoires","Massif et assimilés certifiés >75%","Inférieur strictement à 0,5 kg","€/unité",0.01,0.01,{"$f":"VLOOKUP(J390,'Codes éco-part'!$C:$E,3,FALSE)","v":"260"},1.2E-2]
["REP ABJ",3,"21101200210",null,"Articles de bricolage","Gros objets et machines non électriques et non thermiques et leurs accessoires","Massif et assimilés certifiés >75%","Compris entre 0,5 kg et 1 kg exclus","€/unité",0.01,0.01,{"$f":"VLOOKUP(J391,'Codes éco-part'!$C:$E,3,FALSE)","v":"260"},1.2E-2]
["REP ABJ",3,"21101200220",null,"Articles de bricolage","Gros objets et machines non électriques et non thermiques et leurs accessoires","Massif et assimilés certifiés >75%","Compris entre 1 kg et 2 kg exclus","€/unité",0.02,0.02,{"$f":"VLOOKUP(J392,'Codes éco-part'!$C:$E,3,FALSE)","v":"047"},2.4E-2]
["REP ABJ",3,"21101200270",null,"Articles de bricolage","Gros objets et machines non électriques et non thermiques et leurs accessoires","Massif et assimilés certifiés >75%","Compris entre 30 kg et 40 kg exclus","€/unité",0.4,0.4,{"$f":"VLOOKUP(J393,'Codes éco-part'!$C:$E,3,FALSE)","v":"105"},0.48]
["REP ABJ",3,"21101200520",null,"Articles de bricolage","Gros objets et machines non électriques et non thermiques et leurs accessoires","Massif et assimilés certifiés >75%","Compris entre 2 kg et 3 kg exclus","€/unité",0.03,0.03,{"$f":"VLOOKUP(J394,'Codes éco-part'!$C:$E,3,FALSE)","v":"092"},3.5999999999999997E-2]
["REP ABJ",3,"21101200530",null,"Articles de bricolage","Gros objets et machines non électriques et non thermiques et leurs accessoires","Massif et assimilés certifiés >75%","Compris entre 3 kg et 5 kg exclus","€/unité",0.04,0.04,{"$f":"VLOOKUP(J395,'Codes éco-part'!$C:$E,3,FALSE)","v":"002"},4.8000000000000001E-2]
["REP ABJ",3,"21101200540",null,"Articles de bricolage","Gros objets et machines non électriques et non thermiques et leurs accessoires","Massif et assimilés certifiés >75%","Compris entre 5 kg et 7 kg exclus","€/unité",7.0000000000000007E-2,7.0000000000000007E-2,{"$f":"VLOOKUP(J396,'Codes éco-part'!$C:$E,3,FALSE)","v":"247"},8.4000000000000005E-2]
["REP ABJ",3,"21101200550",null,"Articles de bricolage","Gros objets et machines non électriques et non thermiques et leurs accessoires","Massif et assimilés certifiés >75%","Compris entre 7 kg et 10 kg exclus","€/unité",0.1,0.1,{"$f":"VLOOKUP(J397,'Codes éco-part'!$C:$E,3,FALSE)","v":"094"},0.12]
["REP ABJ",3,"21101200560",null,"Articles de bricolage","Gros objets et machines non électriques et non thermiques et leurs accessoires","Massif et assimilés certifiés >75%","Compris entre 10 kg et 15 kg exclus","€/unité",0.15,0.15,{"$f":"VLOOKUP(J398,'Codes éco-part'!$C:$E,3,FALSE)","v":"050"},0.18]
["REP ABJ",3,"21101200570",null,"Articles de bricolage","Gros objets et machines non électriques et non thermiques et leurs accessoires","Massif et assimilés certifiés >75%","Compris entre 15 kg et 20 kg exclus","€/unité",0.2,0.2,{"$f":"VLOOKUP(J399,'Codes éco-part'!$C:$E,3,FALSE)","v":"101"},0.24]
["REP ABJ",3,"21101200580",null,"Articles de bricolage","Gros objets et machines non électriques et non thermiques et leurs accessoires","Massif et assimilés certifiés >75%","Compris entre 20 kg et 25 kg exclus","€/unité",0.25,0.25,{"$f":"VLOOKUP(J400,'Codes éco-part'!$C:$E,3,FALSE)","v":"095"},0.3]
["REP ABJ",3,"21101200590",null,"Articles de bricolage","Gros objets et machines non électriques et non thermiques et leurs accessoires","Massif et assimilés certifiés >75%","Compris entre 25 kg et 30 kg exclus","€/unité",0.3,0.3,{"$f":"VLOOKUP(J401,'Codes éco-part'!$C:$E,3,FALSE)","v":"446"},0.36]
["REP ABJ",3,"21101200600",null,"Articles de bricolage","Gros objets et machines non électriques et non thermiques et leurs accessoires","Massif et assimilés certifiés >75%","Compris entre 40 kg et 50 kg exclus","€/unité",0.5,0.5,{"$f":"VLOOKUP(J402,'Codes éco-part'!$C:$E,3,FALSE)","v":"053"},0.6]
["REP ABJ",3,"21101210000",null,"Articles de bricolage","Gros objets et machines non électriques et non thermiques et leurs accessoires","Massif et assimilés >75%","Eléments de toutes dimensions et poids","€ / Tonne",10,10,{"$f":"VLOOKUP(J403,'Codes éco-part'!$C:$E,3,FALSE)","v":"138"},12]
["REP ABJ",3,"21101210200",null,"Articles de bricolage","Gros objets et machines non électriques et non thermiques et leurs accessoires","Massif et assimilés >75%","Inférieur strictement à 0,5 kg","€/unité",0.01,0.01,{"$f":"VLOOKUP(J404,'Codes éco-part'!$C:$E,3,FALSE)","v":"260"},1.2E-2]
["REP ABJ",3,"21101210210",null,"Articles de bricolage","Gros objets et machines non électriques et non thermiques et leurs accessoires","Massif et assimilés >75%","Compris entre 0,5 kg et 1 kg exclus","€/unité",0.01,0.01,{"$f":"VLOOKUP(J405,'Codes éco-part'!$C:$E,3,FALSE)","v":"260"},1.2E-2]
["REP ABJ",3,"21101210220",null,"Articles de bricolage","Gros objets et machines non électriques et non thermiques et leurs accessoires","Massif et assimilés >75%","Compris entre 1 kg et 2 kg exclus","€/unité",0.02,0.02,{"$f":"VLOOKUP(J406,'Codes éco-part'!$C:$E,3,FALSE)","v":"047"},2.4E-2]
["REP ABJ",3,"21101210270",null,"Articles de bricolage","Gros objets et machines non électriques et non thermiques et leurs accessoires","Massif et assimilés >75%","Compris entre 30 kg et 40 kg exclus","€/unité",0.4,0.4,{"$f":"VLOOKUP(J407,'Codes éco-part'!$C:$E,3,FALSE)","v":"105"},0.48]
["REP ABJ",3,"21101210520",null,"Articles de bricolage","Gros objets et machines non électriques et non thermiques et leurs accessoires","Massif et assimilés >75%","Compris entre 2 kg et 3 kg exclus","€/unité",0.03,0.03,{"$f":"VLOOKUP(J408,'Codes éco-part'!$C:$E,3,FALSE)","v":"092"},3.5999999999999997E-2]
["REP ABJ",3,"21101210530",null,"Articles de bricolage","Gros objets et machines non électriques et non thermiques et leurs accessoires","Massif et assimilés >75%","Compris entre 3 kg et 5 kg exclus","€/unité",0.04,0.04,{"$f":"VLOOKUP(J409,'Codes éco-part'!$C:$E,3,FALSE)","v":"002"},4.8000000000000001E-2]
["REP ABJ",3,"21101210540",null,"Articles de bricolage","Gros objets et machines non électriques et non thermiques et leurs accessoires","Massif et assimilés >75%","Compris entre 5 kg et 7 kg exclus","€/unité",7.0000000000000007E-2,7.0000000000000007E-2,{"$f":"VLOOKUP(J410,'Codes éco-part'!$C:$E,3,FALSE)","v":"247"},8.4000000000000005E-2]
["REP ABJ",3,"21101210550",null,"Articles de bricolage","Gros objets et machines non électriques et non thermiques et leurs accessoires","Massif et assimilés >75%","Compris entre 7 kg et 10 kg exclus","€/unité",0.1,0.1,{"$f":"VLOOKUP(J411,'Codes éco-part'!$C:$E,3,FALSE)","v":"094"},0.12]
["REP ABJ",3,"21101210560",null,"Articles de bricolage","Gros objets et machines non électriques et non thermiques et leurs accessoires","Massif et assimilés >75%","Compris entre 10 kg et 15 kg exclus","€/unité",0.15,0.15,{"$f":"VLOOKUP(J412,'Codes éco-part'!$C:$E,3,FALSE)","v":"050"},0.18]
["REP ABJ",3,"21101210570",null,"Articles de bricolage","Gros objets et machines non électriques et non thermiques et leurs accessoires","Massif et assimilés >75%","Compris entre 15 kg et 20 kg exclus","€/unité",0.2,0.2,{"$f":"VLOOKUP(J413,'Codes éco-part'!$C:$E,3,FALSE)","v":"101"},0.24]
["REP ABJ",3,"21101210580",null,"Articles de bricolage","Gros objets et machines non électriques et non thermiques et leurs accessoires","Massif et assimilés >75%","Compris entre 20 kg et 25 kg exclus","€/unité",0.25,0.25,{"$f":"VLOOKUP(J414,'Codes éco-part'!$C:$E,3,FALSE)","v":"095"},0.3]
["REP ABJ",3,"21101210590",null,"Articles de bricolage","Gros objets et machines non électriques et non thermiques et leurs accessoires","Massif et assimilés >75%","Compris entre 25 kg et 30 kg exclus","€/unité",0.3,0.3,{"$f":"VLOOKUP(J415,'Codes éco-part'!$C:$E,3,FALSE)","v":"446"},0.36]
["REP ABJ",3,"21101210600",null,"Articles de bricolage","Gros objets et machines non électriques et non thermiques et leurs accessoires","Massif et assimilés >75%","Compris entre 40 kg et 50 kg exclus","€/unité",0.5,0.5,{"$f":"VLOOKUP(J416,'Codes éco-part'!$C:$E,3,FALSE)","v":"053"},0.6]
["REP ABJ",3,"21101250000",null,"Articles de bricolage","Gros objets et machines non électriques et non thermiques et leurs accessoires","Panneaux de particules ou OSB >75%","Eléments de toutes dimensions et poids","€ / Tonne",10,10,{"$f":"VLOOKUP(J417,'Codes éco-part'!$C:$E,3,FALSE)","v":"138"},12]
["REP ABJ",3,"21101250200",null,"Articles de bricolage","Gros objets et machines non électriques et non thermiques et leurs accessoires","Panneaux de particules ou OSB >75%","Inférieur strictement à 0,5 kg","€/unité",0.01,0.01,{"$f":"VLOOKUP(J418,'Codes éco-part'!$C:$E,3,FALSE)","v":"260"},1.2E-2]
["REP ABJ",3,"21101250210",null,"Articles de bricolage","Gros objets et machines non électriques et non thermiques et leurs accessoires","Panneaux de particules ou OSB >75%","Compris entre 0,5 kg et 1 kg exclus","€/unité",0.01,0.01,{"$f":"VLOOKUP(J419,'Codes éco-part'!$C:$E,3,FALSE)","v":"260"},1.2E-2]
["REP ABJ",3,"21101250220",null,"Articles de bricolage","Gros objets et machines non électriques et non thermiques et leurs accessoires","Panneaux de particules ou OSB >75%","Compris entre 1 kg et 2 kg exclus","€/unité",0.02,0.02,{"$f":"VLOOKUP(J420,'Codes éco-part'!$C:$E,3,FALSE)","v":"047"},2.4E-2]
["REP ABJ",3,"21101250270",null,"Articles de bricolage","Gros objets et machines non électriques et non thermiques et leurs accessoires","Panneaux de particules ou OSB >75%","Compris entre 30 kg et 40 kg exclus","€/unité",0.4,0.4,{"$f":"VLOOKUP(J421,'Codes éco-part'!$C:$E,3,FALSE)","v":"105"},0.48]
["REP ABJ",3,"21101250520",null,"Articles de bricolage","Gros objets et machines non électriques et non thermiques et leurs accessoires","Panneaux de particules ou OSB >75%","Compris entre 2 kg et 3 kg exclus","€/unité",0.03,0.03,{"$f":"VLOOKUP(J422,'Codes éco-part'!$C:$E,3,FALSE)","v":"092"},3.5999999999999997E-2]
["REP ABJ",3,"21101250530",null,"Articles de bricolage","Gros objets et machines non électriques et non thermiques et leurs accessoires","Panneaux de particules ou OSB >75%","Compris entre 3 kg et 5 kg exclus","€/unité",0.04,0.04,{"$f":"VLOOKUP(J423,'Codes éco-part'!$C:$E,3,FALSE)","v":"002"},4.8000000000000001E-2]
["REP ABJ",3,"21101250540",null,"Articles de bricolage","Gros objets et machines non électriques et non thermiques et leurs accessoires","Panneaux de particules ou OSB >75%","Compris entre 5 kg et 7 kg exclus","€/unité",7.0000000000000007E-2,7.0000000000000007E-2,{"$f":"VLOOKUP(J424,'Codes éco-part'!$C:$E,3,FALSE)","v":"247"},8.4000000000000005E-2]
["REP ABJ",3,"21101250550",null,"Articles de bricolage","Gros objets et machines non électriques et non thermiques et leurs accessoires","Panneaux de particules ou OSB >75%","Compris entre 7 kg et 10 kg exclus","€/unité",0.1,0.1,{"$f":"VLOOKUP(J425,'Codes éco-part'!$C:$E,3,FALSE)","v":"094"},0.12]
["REP ABJ",3,"21101250560",null,"Articles de bricolage","Gros objets et machines non électriques et non thermiques et leurs accessoires","Panneaux de particules ou OSB >75%","Compris entre 10 kg et 15 kg exclus","€/unité",0.15,0.15,{"$f":"VLOOKUP(J426,'Codes éco-part'!$C:$E,3,FALSE)","v":"050"},0.18]
["REP ABJ",3,"21101250570",null,"Articles de bricolage","Gros objets et machines non électriques et non thermiques et leurs accessoires","Panneaux de particules ou OSB >75%","Compris entre 15 kg et 20 kg exclus","€/unité",0.2,0.2,{"$f":"VLOOKUP(J427,'Codes éco-part'!$C:$E,3,FALSE)","v":"101"},0.24]
["REP ABJ",3,"21101250580",null,"Articles de bricolage","Gros objets et machines non électriques et non thermiques et leurs accessoires","Panneaux de particules ou OSB >75%","Compris entre 20 kg et 25 kg exclus","€/unité",0.25,0.25,{"$f":"VLOOKUP(J428,'Codes éco-part'!$C:$E,3,FALSE)","v":"095"},0.3]
["REP ABJ",3,"21101250590",null,"Articles de bricolage","Gros objets et machines non électriques et non thermiques et leurs accessoires","Panneaux de particules ou OSB >75%","Compris entre 25 kg et 30 kg exclus","€/unité",0.3,0.3,{"$f":"VLOOKUP(J429,'Codes éco-part'!$C:$E,3,FALSE)","v":"446"},0.36]
["REP ABJ",3,"21101250600",null,"Articles de bricolage","Gros objets et machines non électriques et non thermiques et leurs accessoires","Panneaux de particules ou OSB >75%","Compris entre 40 kg et 50 kg exclus","€/unité",0.5,0.5,{"$f":"VLOOKUP(J430,'Codes éco-part'!$C:$E,3,FALSE)","v":"053"},0.6]
["REP ABJ",3,"21101280000",null,"Articles de bricolage","Gros objets et machines non électriques et non thermiques et leurs accessoires","Métal >90%","Eléments de toutes dimensions et poids","€ / Tonne",3,3,{"$f":"VLOOKUP(J431,'Codes éco-part'!$C:$E,3,FALSE)","v":"474"},3.5999999999999996]
["REP ABJ",3,"21101280200",null,"Articles de bricolage","Gros objets et machines non électriques et non thermiques et leurs accessoires","Métal >90%","Inférieur strictement à 0,5 kg","€/unité",0.01,0.01,{"$f":"VLOOKUP(J432,'Codes éco-part'!$C:$E,3,FALSE)","v":"260"},1.2E-2]
["REP ABJ",3,"21101280210",null,"Articles de bricolage","Gros objets et machines non électriques et non thermiques et leurs accessoires","Métal >90%","Compris entre 0,5 kg et 1 kg exclus","€/unité",0.01,0.01,{"$f":"VLOOKUP(J433,'Codes éco-part'!$C:$E,3,FALSE)","v":"260"},1.2E-2]
["REP ABJ",3,"21101280220",null,"Articles de bricolage","Gros objets et machines non électriques et non thermiques et leurs accessoires","Métal >90%","Compris entre 1 kg et 2 kg exclus","€/unité",0.01,0.01,{"$f":"VLOOKUP(J434,'Codes éco-part'!$C:$E,3,FALSE)","v":"260"},1.2E-2]
["REP ABJ",3,"21101280270",null,"Articles de bricolage","Gros objets et machines non électriques et non thermiques et leurs accessoires","Métal >90%","Compris entre 30 kg et 40 kg exclus","€/unité",0.12,0.12,{"$f":"VLOOKUP(J435,'Codes éco-part'!$C:$E,3,FALSE)","v":"097"},0.14399999999999999]
["REP ABJ",3,"21101280520",null,"Articles de bricolage","Gros objets et machines non électriques et non thermiques et leurs accessoires","Métal >90%","Compris entre 2 kg et 3 kg exclus","€/unité",0.01,0.01,{"$f":"VLOOKUP(J436,'Codes éco-part'!$C:$E,3,FALSE)","v":"260"},1.2E-2]
["REP ABJ",3,"21101280530",null,"Articles de bricolage","Gros objets et machines non électriques et non thermiques et leurs accessoires","Métal >90%","Compris entre 3 kg et 5 kg exclus","€/unité",0.01,0.01,{"$f":"VLOOKUP(J437,'Codes éco-part'!$C:$E,3,FALSE)","v":"260"},1.2E-2]
["REP ABJ",3,"21101280540",null,"Articles de bricolage","Gros objets et machines non électriques et non thermiques et leurs accessoires","Métal >90%","Compris entre 5 kg et 7 kg exclus","€/unité",0.02,0.02,{"$f":"VLOOKUP(J438,'Codes éco-part'!$C:$E,3,FALSE)","v":"047"},2.4E-2]
["REP ABJ",3,"21101280550",null,"Articles de bricolage","Gros objets et machines non électriques et non thermiques et leurs accessoires","Métal >90%","Compris entre 7 kg et 10 kg exclus","€/unité",0.03,0.03,{"$f":"VLOOKUP(J439,'Codes éco-part'!$C:$E,3,FALSE)","v":"092"},3.5999999999999997E-2]
["REP ABJ",3,"21101280560",null,"Articles de bricolage","Gros objets et machines non électriques et non thermiques et leurs accessoires","Métal >90%","Compris entre 10 kg et 15 kg exclus","€/unité",0.05,0.05,{"$f":"VLOOKUP(J440,'Codes éco-part'!$C:$E,3,FALSE)","v":"048"},0.06]
["REP ABJ",3,"21101280570",null,"Articles de bricolage","Gros objets et machines non électriques et non thermiques et leurs accessoires","Métal >90%","Compris entre 15 kg et 20 kg exclus","€/unité",0.06,0.06,{"$f":"VLOOKUP(J441,'Codes éco-part'!$C:$E,3,FALSE)","v":"096"},7.1999999999999995E-2]
["REP ABJ",3,"21101280580",null,"Articles de bricolage","Gros objets et machines non électriques et non thermiques et leurs accessoires","Métal >90%","Compris entre 20 kg et 25 kg exclus","€/unité",0.08,0.08,{"$f":"VLOOKUP(J442,'Codes éco-part'!$C:$E,3,FALSE)","v":"003"},9.6000000000000002E-2]
["REP ABJ",3,"21101280590",null,"Articles de bricolage","Gros objets et machines non électriques et non thermiques et leurs accessoires","Métal >90%","Compris entre 25 kg et 30 kg exclus","€/unité",0.09,0.09,{"$f":"VLOOKUP(J443,'Codes éco-part'!$C:$E,3,FALSE)","v":"049"},0.108]
["REP ABJ",3,"21101280600",null,"Articles de bricolage","Gros objets et machines non électriques et non thermiques et leurs accessoires","Métal >90%","Compris entre 40 kg et 50 kg exclus","€/unité",0.15,0.15,{"$f":"VLOOKUP(J444,'Codes éco-part'!$C:$E,3,FALSE)","v":"050"},0.18]
["REP ABJ",3,"21101400000",null,"Articles de bricolage","Gros objets et machines non électriques et non thermiques et leurs accessoires","Assemblage caoutchouc synthétique ou latex >50% avec d'autres matériaux","Eléments de toutes dimensions et poids","€ / Tonne",75,75,{"$f":"VLOOKUP(J445,'Codes éco-part'!$C:$E,3,FALSE)","v":"192"},90]
["REP ABJ",3,"21101400200",null,"Articles de bricolage","Gros objets et machines non électriques et non thermiques et leurs accessoires","Assemblage caoutchouc synthétique ou latex >50% avec d'autres matériaux","Inférieur strictement à 0,5 kg","€/unité",0.02,0.02,{"$f":"VLOOKUP(J446,'Codes éco-part'!$C:$E,3,FALSE)","v":"047"},2.4E-2]
["REP ABJ",3,"21101400210",null,"Articles de bricolage","Gros objets et machines non électriques et non thermiques et leurs accessoires","Assemblage caoutchouc synthétique ou latex >50% avec d'autres matériaux","Compris entre 0,5 kg et 1 kg exclus","€/unité",0.06,0.06,{"$f":"VLOOKUP(J447,'Codes éco-part'!$C:$E,3,FALSE)","v":"096"},7.1999999999999995E-2]
["REP ABJ",3,"21101400220",null,"Articles de bricolage","Gros objets et machines non électriques et non thermiques et leurs accessoires","Assemblage caoutchouc synthétique ou latex >50% avec d'autres matériaux","Compris entre 1 kg et 2 kg exclus","€/unité",0.11,0.11,{"$f":"VLOOKUP(J448,'Codes éco-part'!$C:$E,3,FALSE)","v":"262"},0.13200000000000001]
["REP ABJ",3,"21101400270",null,"Articles de bricolage","Gros objets et machines non électriques et non thermiques et leurs accessoires","Assemblage caoutchouc synthétique ou latex >50% avec d'autres matériaux","Compris entre 30 kg et 40 kg exclus","€/unité",3,3,{"$f":"VLOOKUP(J449,'Codes éco-part'!$C:$E,3,FALSE)","v":"474"},3.5999999999999996]
["REP ABJ",3,"21101400520",null,"Articles de bricolage","Gros objets et machines non électriques et non thermiques et leurs accessoires","Assemblage caoutchouc synthétique ou latex >50% avec d'autres matériaux","Compris entre 2 kg et 3 kg exclus","€/unité",0.19,0.19,{"$f":"VLOOKUP(J450,'Codes éco-part'!$C:$E,3,FALSE)","v":"291"},{"$f":"J450*1.2","v":0.22799999999999998}]
["REP ABJ",3,"21101400530",null,"Articles de bricolage","Gros objets et machines non électriques et non thermiques et leurs accessoires","Assemblage caoutchouc synthétique ou latex >50% avec d'autres matériaux","Compris entre 3 kg et 5 kg exclus","€/unité",0.3,0.3,{"$f":"VLOOKUP(J451,'Codes éco-part'!$C:$E,3,FALSE)","v":"446"},0.36]
["REP ABJ",3,"21101400540",null,"Articles de bricolage","Gros objets et machines non électriques et non thermiques et leurs accessoires","Assemblage caoutchouc synthétique ou latex >50% avec d'autres matériaux","Compris entre 5 kg et 7 kg exclus","€/unité",0.53,0.53,{"$f":"VLOOKUP(J452,'Codes éco-part'!$C:$E,3,FALSE)","v":"451"},0.63600000000000001]
["REP ABJ",3,"21101400550",null,"Articles de bricolage","Gros objets et machines non électriques et non thermiques et leurs accessoires","Assemblage caoutchouc synthétique ou latex >50% avec d'autres matériaux","Compris entre 7 kg et 10 kg exclus","€/unité",0.75,0.75,{"$f":"VLOOKUP(J453,'Codes éco-part'!$C:$E,3,FALSE)","v":"328"},0.89999999999999991]
["REP ABJ",3,"21101400560",null,"Articles de bricolage","Gros objets et machines non électriques et non thermiques et leurs accessoires","Assemblage caoutchouc synthétique ou latex >50% avec d'autres matériaux","Compris entre 10 kg et 15 kg exclus","€/unité",1.1299999999999999,1.1299999999999999,{"$f":"VLOOKUP(J454,'Codes éco-part'!$C:$E,3,FALSE)","v":"331"},1.3559999999999999]
["REP ABJ",3,"21101400570",null,"Articles de bricolage","Gros objets et machines non électriques et non thermiques et leurs accessoires","Assemblage caoutchouc synthétique ou latex >50% avec d'autres matériaux","Compris entre 15 kg et 20 kg exclus","€/unité",1.5,1.5,{"$f":"VLOOKUP(J455,'Codes éco-part'!$C:$E,3,FALSE)","v":"059"},1.7999999999999998]
["REP ABJ",3,"21101400580",null,"Articles de bricolage","Gros objets et machines non électriques et non thermiques et leurs accessoires","Assemblage caoutchouc synthétique ou latex >50% avec d'autres matériaux","Compris entre 20 kg et 25 kg exclus","€/unité",1.88,1.88,{"$f":"VLOOKUP(J456,'Codes éco-part'!$C:$E,3,FALSE)","v":"335"},2.2559999999999998]
["REP ABJ",3,"21101400590",null,"Articles de bricolage","Gros objets et machines non électriques et non thermiques et leurs accessoires","Assemblage caoutchouc synthétique ou latex >50% avec d'autres matériaux","Compris entre 25 kg et 30 kg exclus","€/unité",2.25,2.25,{"$f":"VLOOKUP(J457,'Codes éco-part'!$C:$E,3,FALSE)","v":"118"},2.6999999999999997]
["REP ABJ",3,"21101400600",null,"Articles de bricolage","Gros objets et machines non électriques et non thermiques et leurs accessoires","Assemblage caoutchouc synthétique ou latex >50% avec d'autres matériaux","Compris entre 40 kg et 50 kg exclus","€/unité",3.75,3.75,{"$f":"VLOOKUP(J458,'Codes éco-part'!$C:$E,3,FALSE)","v":"015"},4.5]
["REP ABJ",3,"21101410000",null,"Articles de bricolage","Gros objets et machines non électriques et non thermiques et leurs accessoires","Plastiques (mono résine) >90%","Eléments de toutes dimensions et poids","€ / Tonne",50,50,{"$f":"VLOOKUP(J459,'Codes éco-part'!$C:$E,3,FALSE)","v":"173"},60]
["REP ABJ",3,"21101410200",null,"Articles de bricolage","Gros objets et machines non électriques et non thermiques et leurs accessoires","Plastiques (mono résine) >90%","Inférieur strictement à 0,5 kg","€/unité",0.01,0.01,{"$f":"VLOOKUP(J460,'Codes éco-part'!$C:$E,3,FALSE)","v":"260"},1.2E-2]
["REP ABJ",3,"21101410210",null,"Articles de bricolage","Gros objets et machines non électriques et non thermiques et leurs accessoires","Plastiques (mono résine) >90%","Compris entre 0,5 kg et 1 kg exclus","€/unité",0.04,0.04,{"$f":"VLOOKUP(J461,'Codes éco-part'!$C:$E,3,FALSE)","v":"002"},4.8000000000000001E-2]
["REP ABJ",3,"21101410220",null,"Articles de bricolage","Gros objets et machines non électriques et non thermiques et leurs accessoires","Plastiques (mono résine) >90%","Compris entre 1 kg et 2 kg exclus","€/unité",0.08,0.08,{"$f":"VLOOKUP(J462,'Codes éco-part'!$C:$E,3,FALSE)","v":"003"},9.6000000000000002E-2]
["REP ABJ",3,"21101410270",null,"Articles de bricolage","Gros objets et machines non électriques et non thermiques et leurs accessoires","Plastiques (mono résine) >90%","Compris entre 30 kg et 40 kg exclus","€/unité",2,2,{"$f":"VLOOKUP(J463,'Codes éco-part'!$C:$E,3,FALSE)","v":"061"},2.4]
["REP ABJ",3,"21101410520",null,"Articles de bricolage","Gros objets et machines non électriques et non thermiques et leurs accessoires","Plastiques (mono résine) >90%","Compris entre 2 kg et 3 kg exclus","€/unité",0.13,0.13,{"$f":"VLOOKUP(J464,'Codes éco-part'!$C:$E,3,FALSE)","v":"004"},0.156]
["REP ABJ",3,"21101410530",null,"Articles de bricolage","Gros objets et machines non électriques et non thermiques et leurs accessoires","Plastiques (mono résine) >90%","Compris entre 3 kg et 5 kg exclus","€/unité",0.2,0.2,{"$f":"VLOOKUP(J465,'Codes éco-part'!$C:$E,3,FALSE)","v":"101"},0.24]
["REP ABJ",3,"21101410540",null,"Articles de bricolage","Gros objets et machines non électriques et non thermiques et leurs accessoires","Plastiques (mono résine) >90%","Compris entre 5 kg et 7 kg exclus","€/unité",0.35,0.35,{"$f":"VLOOKUP(J466,'Codes éco-part'!$C:$E,3,FALSE)","v":"448"},0.42]
["REP ABJ",3,"21101410550",null,"Articles de bricolage","Gros objets et machines non électriques et non thermiques et leurs accessoires","Plastiques (mono résine) >90%","Compris entre 7 kg et 10 kg exclus","€/unité",0.5,0.5,{"$f":"VLOOKUP(J467,'Codes éco-part'!$C:$E,3,FALSE)","v":"053"},0.6]
["REP ABJ",3,"21101410560",null,"Articles de bricolage","Gros objets et machines non électriques et non thermiques et leurs accessoires","Plastiques (mono résine) >90%","Compris entre 10 kg et 15 kg exclus","€/unité",0.75,0.75,{"$f":"VLOOKUP(J468,'Codes éco-part'!$C:$E,3,FALSE)","v":"328"},0.89999999999999991]
["REP ABJ",3,"21101410570",null,"Articles de bricolage","Gros objets et machines non électriques et non thermiques et leurs accessoires","Plastiques (mono résine) >90%","Compris entre 15 kg et 20 kg exclus","€/unité",1,1,{"$f":"VLOOKUP(J469,'Codes éco-part'!$C:$E,3,FALSE)","v":"056"},1.2]
["REP ABJ",3,"21101410580",null,"Articles de bricolage","Gros objets et machines non électriques et non thermiques et leurs accessoires","Plastiques (mono résine) >90%","Compris entre 20 kg et 25 kg exclus","€/unité",1.25,1.25,{"$f":"VLOOKUP(J470,'Codes éco-part'!$C:$E,3,FALSE)","v":"009"},1.5]
["REP ABJ",3,"21101410590",null,"Articles de bricolage","Gros objets et machines non électriques et non thermiques et leurs accessoires","Plastiques (mono résine) >90%","Compris entre 25 kg et 30 kg exclus","€/unité",1.5,1.5,{"$f":"VLOOKUP(J471,'Codes éco-part'!$C:$E,3,FALSE)","v":"059"},1.7999999999999998]
["REP ABJ",3,"21101410600",null,"Articles de bricolage","Gros objets et machines non électriques et non thermiques et leurs accessoires","Plastiques (mono résine) >90%","Compris entre 40 kg et 50 kg exclus","€/unité",2.5,2.5,{"$f":"VLOOKUP(J472,'Codes éco-part'!$C:$E,3,FALSE)","v":"012"},3]
["REP ABJ",3,"21101420000",null,"Articles de bricolage","Gros objets et machines non électriques et non thermiques et leurs accessoires","Polyterephtalate d'Ethylène (PET) >90%","Eléments de toutes dimensions et poids","€ / Tonne",50,50,{"$f":"VLOOKUP(J473,'Codes éco-part'!$C:$E,3,FALSE)","v":"173"},60]
["REP ABJ",3,"21101420200",null,"Articles de bricolage","Gros objets et machines non électriques et non thermiques et leurs accessoires","Polyterephtalate d'Ethylène (PET) >90%","Inférieur strictement à 0,5 kg","€/unité",0.01,0.01,{"$f":"VLOOKUP(J474,'Codes éco-part'!$C:$E,3,FALSE)","v":"260"},1.2E-2]
["REP ABJ",3,"21101420210",null,"Articles de bricolage","Gros objets et machines non électriques et non thermiques et leurs accessoires","Polyterephtalate d'Ethylène (PET) >90%","Compris entre 0,5 kg et 1 kg exclus","€/unité",0.04,0.04,{"$f":"VLOOKUP(J475,'Codes éco-part'!$C:$E,3,FALSE)","v":"002"},4.8000000000000001E-2]
["REP ABJ",3,"21101420220",null,"Articles de bricolage","Gros objets et machines non électriques et non thermiques et leurs accessoires","Polyterephtalate d'Ethylène (PET) >90%","Compris entre 1 kg et 2 kg exclus","€/unité",0.08,0.08,{"$f":"VLOOKUP(J476,'Codes éco-part'!$C:$E,3,FALSE)","v":"003"},9.6000000000000002E-2]
["REP ABJ",3,"21101420270",null,"Articles de bricolage","Gros objets et machines non électriques et non thermiques et leurs accessoires","Polyterephtalate d'Ethylène (PET) >90%","Compris entre 30 kg et 40 kg exclus","€/unité",2,2,{"$f":"VLOOKUP(J477,'Codes éco-part'!$C:$E,3,FALSE)","v":"061"},2.4]
["REP ABJ",3,"21101420520",null,"Articles de bricolage","Gros objets et machines non électriques et non thermiques et leurs accessoires","Polyterephtalate d'Ethylène (PET) >90%","Compris entre 2 kg et 3 kg exclus","€/unité",0.13,0.13,{"$f":"VLOOKUP(J478,'Codes éco-part'!$C:$E,3,FALSE)","v":"004"},0.156]
["REP ABJ",3,"21101420530",null,"Articles de bricolage","Gros objets et machines non électriques et non thermiques et leurs accessoires","Polyterephtalate d'Ethylène (PET) >90%","Compris entre 3 kg et 5 kg exclus","€/unité",0.2,0.2,{"$f":"VLOOKUP(J479,'Codes éco-part'!$C:$E,3,FALSE)","v":"101"},0.24]
["REP ABJ",3,"21101420540",null,"Articles de bricolage","Gros objets et machines non électriques et non thermiques et leurs accessoires","Polyterephtalate d'Ethylène (PET) >90%","Compris entre 5 kg et 7 kg exclus","€/unité",0.35,0.35,{"$f":"VLOOKUP(J480,'Codes éco-part'!$C:$E,3,FALSE)","v":"448"},0.42]
["REP ABJ",3,"21101420550",null,"Articles de bricolage","Gros objets et machines non électriques et non thermiques et leurs accessoires","Polyterephtalate d'Ethylène (PET) >90%","Compris entre 7 kg et 10 kg exclus","€/unité",0.5,0.5,{"$f":"VLOOKUP(J481,'Codes éco-part'!$C:$E,3,FALSE)","v":"053"},0.6]
["REP ABJ",3,"21101420560",null,"Articles de bricolage","Gros objets et machines non électriques et non thermiques et leurs accessoires","Polyterephtalate d'Ethylène (PET) >90%","Compris entre 10 kg et 15 kg exclus","€/unité",0.75,0.75,{"$f":"VLOOKUP(J482,'Codes éco-part'!$C:$E,3,FALSE)","v":"328"},0.89999999999999991]
["REP ABJ",3,"21101420570",null,"Articles de bricolage","Gros objets et machines non électriques et non thermiques et leurs accessoires","Polyterephtalate d'Ethylène (PET) >90%","Compris entre 15 kg et 20 kg exclus","€/unité",1,1,{"$f":"VLOOKUP(J483,'Codes éco-part'!$C:$E,3,FALSE)","v":"056"},1.2]
["REP ABJ",3,"21101420580",null,"Articles de bricolage","Gros objets et machines non électriques et non thermiques et leurs accessoires","Polyterephtalate d'Ethylène (PET) >90%","Compris entre 20 kg et 25 kg exclus","€/unité",1.25,1.25,{"$f":"VLOOKUP(J484,'Codes éco-part'!$C:$E,3,FALSE)","v":"009"},1.5]
["REP ABJ",3,"21101420590",null,"Articles de bricolage","Gros objets et machines non électriques et non thermiques et leurs accessoires","Polyterephtalate d'Ethylène (PET) >90%","Compris entre 25 kg et 30 kg exclus","€/unité",1.5,1.5,{"$f":"VLOOKUP(J485,'Codes éco-part'!$C:$E,3,FALSE)","v":"059"},1.7999999999999998]
["REP ABJ",3,"21101420600",null,"Articles de bricolage","Gros objets et machines non électriques et non thermiques et leurs accessoires","Polyterephtalate d'Ethylène (PET) >90%","Compris entre 40 kg et 50 kg exclus","€/unité",2.5,2.5,{"$f":"VLOOKUP(J486,'Codes éco-part'!$C:$E,3,FALSE)","v":"012"},3]
["REP ABJ",3,"21101450000",null,"Articles de bricolage","Gros objets et machines non électriques et non thermiques et leurs accessoires","PE ou PP ou mélange PP/PE >90%","Eléments de toutes dimensions et poids","€ / Tonne",50,50,{"$f":"VLOOKUP(J487,'Codes éco-part'!$C:$E,3,FALSE)","v":"173"},60]
["REP ABJ",3,"21101450200",null,"Articles de bricolage","Gros objets et machines non électriques et non thermiques et leurs accessoires","PE ou PP ou mélange PP/PE >90%","Inférieur strictement à 0,5 kg","€/unité",0.01,0.01,{"$f":"VLOOKUP(J488,'Codes éco-part'!$C:$E,3,FALSE)","v":"260"},1.2E-2]
["REP ABJ",3,"21101450210",null,"Articles de bricolage","Gros objets et machines non électriques et non thermiques et leurs accessoires","PE ou PP ou mélange PP/PE >90%","Compris entre 0,5 kg et 1 kg exclus","€/unité",0.04,0.04,{"$f":"VLOOKUP(J489,'Codes éco-part'!$C:$E,3,FALSE)","v":"002"},4.8000000000000001E-2]
["REP ABJ",3,"21101450220",null,"Articles de bricolage","Gros objets et machines non électriques et non thermiques et leurs accessoires","PE ou PP ou mélange PP/PE >90%","Compris entre 1 kg et 2 kg exclus","€/unité",0.08,0.08,{"$f":"VLOOKUP(J490,'Codes éco-part'!$C:$E,3,FALSE)","v":"003"},9.6000000000000002E-2]
["REP ABJ",3,"21101450270",null,"Articles de bricolage","Gros objets et machines non électriques et non thermiques et leurs accessoires","PE ou PP ou mélange PP/PE >90%","Compris entre 30 kg et 40 kg exclus","€/unité",2,2,{"$f":"VLOOKUP(J491,'Codes éco-part'!$C:$E,3,FALSE)","v":"061"},2.4]
["REP ABJ",3,"21101450520",null,"Articles de bricolage","Gros objets et machines non électriques et non thermiques et leurs accessoires","PE ou PP ou mélange PP/PE >90%","Compris entre 2 kg et 3 kg exclus","€/unité",0.13,0.13,{"$f":"VLOOKUP(J492,'Codes éco-part'!$C:$E,3,FALSE)","v":"004"},0.156]
["REP ABJ",3,"21101450530",null,"Articles de bricolage","Gros objets et machines non électriques et non thermiques et leurs accessoires","PE ou PP ou mélange PP/PE >90%","Compris entre 3 kg et 5 kg exclus","€/unité",0.2,0.2,{"$f":"VLOOKUP(J493,'Codes éco-part'!$C:$E,3,FALSE)","v":"101"},0.24]
["REP ABJ",3,"21101450540",null,"Articles de bricolage","Gros objets et machines non électriques et non thermiques et leurs accessoires","PE ou PP ou mélange PP/PE >90%","Compris entre 5 kg et 7 kg exclus","€/unité",0.35,0.35,{"$f":"VLOOKUP(J494,'Codes éco-part'!$C:$E,3,FALSE)","v":"448"},0.42]
["REP ABJ",3,"21101450550",null,"Articles de bricolage","Gros objets et machines non électriques et non thermiques et leurs accessoires","PE ou PP ou mélange PP/PE >90%","Compris entre 7 kg et 10 kg exclus","€/unité",0.5,0.5,{"$f":"VLOOKUP(J495,'Codes éco-part'!$C:$E,3,FALSE)","v":"053"},0.6]
["REP ABJ",3,"21101450560",null,"Articles de bricolage","Gros objets et machines non électriques et non thermiques et leurs accessoires","PE ou PP ou mélange PP/PE >90%","Compris entre 10 kg et 15 kg exclus","€/unité",0.75,0.75,{"$f":"VLOOKUP(J496,'Codes éco-part'!$C:$E,3,FALSE)","v":"328"},0.89999999999999991]
["REP ABJ",3,"21101450570",null,"Articles de bricolage","Gros objets et machines non électriques et non thermiques et leurs accessoires","PE ou PP ou mélange PP/PE >90%","Compris entre 15 kg et 20 kg exclus","€/unité",1,1,{"$f":"VLOOKUP(J497,'Codes éco-part'!$C:$E,3,FALSE)","v":"056"},1.2]
["REP ABJ",3,"21101450580",null,"Articles de bricolage","Gros objets et machines non électriques et non thermiques et leurs accessoires","PE ou PP ou mélange PP/PE >90%","Compris entre 20 kg et 25 kg exclus","€/unité",1.25,1.25,{"$f":"VLOOKUP(J498,'Codes éco-part'!$C:$E,3,FALSE)","v":"009"},1.5]
["REP ABJ",3,"21101450590",null,"Articles de bricolage","Gros objets et machines non électriques et non thermiques et leurs accessoires","PE ou PP ou mélange PP/PE >90%","Compris entre 25 kg et 30 kg exclus","€/unité",1.5,1.5,{"$f":"VLOOKUP(J499,'Codes éco-part'!$C:$E,3,FALSE)","v":"059"},1.7999999999999998]
["REP ABJ",3,"21101450600",null,"Articles de bricolage","Gros objets et machines non électriques et non thermiques et leurs accessoires","PE ou PP ou mélange PP/PE >90%","Compris entre 40 kg et 50 kg exclus","€/unité",2.5,2.5,{"$f":"VLOOKUP(J500,'Codes éco-part'!$C:$E,3,FALSE)","v":"012"},3]
["REP ABJ",3,"21101460000",null,"Articles de bricolage","Gros objets et machines non électriques et non thermiques et leurs accessoires","ABS >90%","Eléments de toutes dimensions et poids","€ / Tonne",50,50,{"$f":"VLOOKUP(J501,'Codes éco-part'!$C:$E,3,FALSE)","v":"173"},60]
["REP ABJ",3,"21101460200",null,"Articles de bricolage","Gros objets et machines non électriques et non thermiques et leurs accessoires","ABS >90%","Inférieur strictement à 0,5 kg","€/unité",0.01,0.01,{"$f":"VLOOKUP(J502,'Codes éco-part'!$C:$E,3,FALSE)","v":"260"},1.2E-2]
["REP ABJ",3,"21101460210",null,"Articles de bricolage","Gros objets et machines non électriques et non thermiques et leurs accessoires","ABS >90%","Compris entre 0,5 kg et 1 kg exclus","€/unité",0.04,0.04,{"$f":"VLOOKUP(J503,'Codes éco-part'!$C:$E,3,FALSE)","v":"002"},4.8000000000000001E-2]
["REP ABJ",3,"21101460220",null,"Articles de bricolage","Gros objets et machines non électriques et non thermiques et leurs accessoires","ABS >90%","Compris entre 1 kg et 2 kg exclus","€/unité",0.08,0.08,{"$f":"VLOOKUP(J504,'Codes éco-part'!$C:$E,3,FALSE)","v":"003"},9.6000000000000002E-2]
["REP ABJ",3,"21101460270",null,"Articles de bricolage","Gros objets et machines non électriques et non thermiques et leurs accessoires","ABS >90%","Compris entre 30 kg et 40 kg exclus","€/unité",2,2,{"$f":"VLOOKUP(J505,'Codes éco-part'!$C:$E,3,FALSE)","v":"061"},2.4]
["REP ABJ",3,"21101460520",null,"Articles de bricolage","Gros objets et machines non électriques et non thermiques et leurs accessoires","ABS >90%","Compris entre 2 kg et 3 kg exclus","€/unité",0.13,0.13,{"$f":"VLOOKUP(J506,'Codes éco-part'!$C:$E,3,FALSE)","v":"004"},0.156]
["REP ABJ",3,"21101460530",null,"Articles de bricolage","Gros objets et machines non électriques et non thermiques et leurs accessoires","ABS >90%","Compris entre 3 kg et 5 kg exclus","€/unité",0.2,0.2,{"$f":"VLOOKUP(J507,'Codes éco-part'!$C:$E,3,FALSE)","v":"101"},0.24]
["REP ABJ",3,"21101460540",null,"Articles de bricolage","Gros objets et machines non électriques et non thermiques et leurs accessoires","ABS >90%","Compris entre 5 kg et 7 kg exclus","€/unité",0.35,0.35,{"$f":"VLOOKUP(J508,'Codes éco-part'!$C:$E,3,FALSE)","v":"448"},0.42]
["REP ABJ",3,"21101460550",null,"Articles de bricolage","Gros objets et machines non électriques et non thermiques et leurs accessoires","ABS >90%","Compris entre 7 kg et 10 kg exclus","€/unité",0.5,0.5,{"$f":"VLOOKUP(J509,'Codes éco-part'!$C:$E,3,FALSE)","v":"053"},0.6]
["REP ABJ",3,"21101460560",null,"Articles de bricolage","Gros objets et machines non électriques et non thermiques et leurs accessoires","ABS >90%","Compris entre 10 kg et 15 kg exclus","€/unité",0.75,0.75,{"$f":"VLOOKUP(J510,'Codes éco-part'!$C:$E,3,FALSE)","v":"328"},0.89999999999999991]
["REP ABJ",3,"21101460570",null,"Articles de bricolage","Gros objets et machines non électriques et non thermiques et leurs accessoires","ABS >90%","Compris entre 15 kg et 20 kg exclus","€/unité",1,1,{"$f":"VLOOKUP(J511,'Codes éco-part'!$C:$E,3,FALSE)","v":"056"},1.2]
["REP ABJ",3,"21101460580",null,"Articles de bricolage","Gros objets et machines non électriques et non thermiques et leurs accessoires","ABS >90%","Compris entre 20 kg et 25 kg exclus","€/unité",1.25,1.25,{"$f":"VLOOKUP(J512,'Codes éco-part'!$C:$E,3,FALSE)","v":"009"},1.5]
["REP ABJ",3,"21101460590",null,"Articles de bricolage","Gros objets et machines non électriques et non thermiques et leurs accessoires","ABS >90%","Compris entre 25 kg et 30 kg exclus","€/unité",1.5,1.5,{"$f":"VLOOKUP(J513,'Codes éco-part'!$C:$E,3,FALSE)","v":"059"},1.7999999999999998]
["REP ABJ",3,"21101460600",null,"Articles de bricolage","Gros objets et machines non électriques et non thermiques et leurs accessoires","ABS >90%","Compris entre 40 kg et 50 kg exclus","€/unité",2.5,2.5,{"$f":"VLOOKUP(J514,'Codes éco-part'!$C:$E,3,FALSE)","v":"012"},{"$f":"J514*1.2","v":3}]
["REP ABJ",3,"21101470000",null,"Articles de bricolage","Gros objets et machines non électriques et non thermiques et leurs accessoires","Polystyrène >90%","Eléments de toutes dimensions et poids","€ / Tonne",50,50,{"$f":"VLOOKUP(J515,'Codes éco-part'!$C:$E,3,FALSE)","v":"173"},60]
["REP ABJ",3,"21101470200",null,"Articles de bricolage","Gros objets et machines non électriques et non thermiques et leurs accessoires","Polystyrène >90%","Inférieur strictement à 0,5 kg","€/unité",0.01,0.01,{"$f":"VLOOKUP(J516,'Codes éco-part'!$C:$E,3,FALSE)","v":"260"},1.2E-2]
["REP ABJ",3,"21101470210",null,"Articles de bricolage","Gros objets et machines non électriques et non thermiques et leurs accessoires","Polystyrène >90%","Compris entre 0,5 kg et 1 kg exclus","€/unité",0.04,0.04,{"$f":"VLOOKUP(J517,'Codes éco-part'!$C:$E,3,FALSE)","v":"002"},4.8000000000000001E-2]
["REP ABJ",3,"21101470220",null,"Articles de bricolage","Gros objets et machines non électriques et non thermiques et leurs accessoires","Polystyrène >90%","Compris entre 1 kg et 2 kg exclus","€/unité",0.08,0.08,{"$f":"VLOOKUP(J518,'Codes éco-part'!$C:$E,3,FALSE)","v":"003"},9.6000000000000002E-2]
["REP ABJ",3,"21101470270",null,"Articles de bricolage","Gros objets et machines non électriques et non thermiques et leurs accessoires","Polystyrène >90%","Compris entre 30 kg et 40 kg exclus","€/unité",2,2,{"$f":"VLOOKUP(J519,'Codes éco-part'!$C:$E,3,FALSE)","v":"061"},2.4]
["REP ABJ",3,"21101470520",null,"Articles de bricolage","Gros objets et machines non électriques et non thermiques et leurs accessoires","Polystyrène >90%","Compris entre 2 kg et 3 kg exclus","€/unité",0.13,0.13,{"$f":"VLOOKUP(J520,'Codes éco-part'!$C:$E,3,FALSE)","v":"004"},0.156]
["REP ABJ",3,"21101470530",null,"Articles de bricolage","Gros objets et machines non électriques et non thermiques et leurs accessoires","Polystyrène >90%","Compris entre 3 kg et 5 kg exclus","€/unité",0.2,0.2,{"$f":"VLOOKUP(J521,'Codes éco-part'!$C:$E,3,FALSE)","v":"101"},0.24]
["REP ABJ",3,"21101470540",null,"Articles de bricolage","Gros objets et machines non électriques et non thermiques et leurs accessoires","Polystyrène >90%","Compris entre 5 kg et 7 kg exclus","€/unité",0.35,0.35,{"$f":"VLOOKUP(J522,'Codes éco-part'!$C:$E,3,FALSE)","v":"448"},0.42]
["REP ABJ",3,"21101470550",null,"Articles de bricolage","Gros objets et machines non électriques et non thermiques et leurs accessoires","Polystyrène >90%","Compris entre 7 kg et 10 kg exclus","€/unité",0.5,0.5,{"$f":"VLOOKUP(J523,'Codes éco-part'!$C:$E,3,FALSE)","v":"053"},0.6]
["REP ABJ",3,"21101470560",null,"Articles de bricolage","Gros objets et machines non électriques et non thermiques et leurs accessoires","Polystyrène >90%","Compris entre 10 kg et 15 kg exclus","€/unité",0.75,0.75,{"$f":"VLOOKUP(J524,'Codes éco-part'!$C:$E,3,FALSE)","v":"328"},0.89999999999999991]
["REP ABJ",3,"21101470570",null,"Articles de bricolage","Gros objets et machines non électriques et non thermiques et leurs accessoires","Polystyrène >90%","Compris entre 15 kg et 20 kg exclus","€/unité",1,1,{"$f":"VLOOKUP(J525,'Codes éco-part'!$C:$E,3,FALSE)","v":"056"},1.2]
["REP ABJ",3,"21101470580",null,"Articles de bricolage","Gros objets et machines non électriques et non thermiques et leurs accessoires","Polystyrène >90%","Compris entre 20 kg et 25 kg exclus","€/unité",1.25,1.25,{"$f":"VLOOKUP(J526,'Codes éco-part'!$C:$E,3,FALSE)","v":"009"},1.5]
["REP ABJ",3,"21101470590",null,"Articles de bricolage","Gros objets et machines non électriques et non thermiques et leurs accessoires","Polystyrène >90%","Compris entre 25 kg et 30 kg exclus","€/unité",1.5,1.5,{"$f":"VLOOKUP(J527,'Codes éco-part'!$C:$E,3,FALSE)","v":"059"},1.7999999999999998]
["REP ABJ",3,"21101470600",null,"Articles de bricolage","Gros objets et machines non électriques et non thermiques et leurs accessoires","Polystyrène >90%","Compris entre 40 kg et 50 kg exclus","€/unité",2.5,2.5,{"$f":"VLOOKUP(J528,'Codes éco-part'!$C:$E,3,FALSE)","v":"012"},3]
["REP ABJ",3,"21101480000",null,"Articles de bricolage","Gros objets et machines non électriques et non thermiques et leurs accessoires","PVC >90%","Eléments de toutes dimensions et poids","€ / Tonne",50,50,{"$f":"VLOOKUP(J529,'Codes éco-part'!$C:$E,3,FALSE)","v":"173"},60]
["REP ABJ",3,"21101480200",null,"Articles de bricolage","Gros objets et machines non électriques et non thermiques et leurs accessoires","PVC >90%","Inférieur strictement à 0,5 kg","€/unité",0.01,0.01,{"$f":"VLOOKUP(J530,'Codes éco-part'!$C:$E,3,FALSE)","v":"260"},1.2E-2]
["REP ABJ",3,"21101480210",null,"Articles de bricolage","Gros objets et machines non électriques et non thermiques et leurs accessoires","PVC >90%","Compris entre 0,5 kg et 1 kg exclus","€/unité",0.04,0.04,{"$f":"VLOOKUP(J531,'Codes éco-part'!$C:$E,3,FALSE)","v":"002"},4.8000000000000001E-2]
["REP ABJ",3,"21101480220",null,"Articles de bricolage","Gros objets et machines non électriques et non thermiques et leurs accessoires","PVC >90%","Compris entre 1 kg et 2 kg exclus","€/unité",0.08,0.08,{"$f":"VLOOKUP(J532,'Codes éco-part'!$C:$E,3,FALSE)","v":"003"},9.6000000000000002E-2]
["REP ABJ",3,"21101480270",null,"Articles de bricolage","Gros objets et machines non électriques et non thermiques et leurs accessoires","PVC >90%","Compris entre 30 kg et 40 kg exclus","€/unité",2,2,{"$f":"VLOOKUP(J533,'Codes éco-part'!$C:$E,3,FALSE)","v":"061"},2.4]
["REP ABJ",3,"21101480520",null,"Articles de bricolage","Gros objets et machines non électriques et non thermiques et leurs accessoires","PVC >90%","Compris entre 2 kg et 3 kg exclus","€/unité",0.13,0.13,{"$f":"VLOOKUP(J534,'Codes éco-part'!$C:$E,3,FALSE)","v":"004"},0.156]
["REP ABJ",3,"21101480530",null,"Articles de bricolage","Gros objets et machines non électriques et non thermiques et leurs accessoires","PVC >90%","Compris entre 3 kg et 5 kg exclus","€/unité",0.2,0.2,{"$f":"VLOOKUP(J535,'Codes éco-part'!$C:$E,3,FALSE)","v":"101"},0.24]
["REP ABJ",3,"21101480540",null,"Articles de bricolage","Gros objets et machines non électriques et non thermiques et leurs accessoires","PVC >90%","Compris entre 5 kg et 7 kg exclus","€/unité",0.35,0.35,{"$f":"VLOOKUP(J536,'Codes éco-part'!$C:$E,3,FALSE)","v":"448"},0.42]
["REP ABJ",3,"21101480550",null,"Articles de bricolage","Gros objets et machines non électriques et non thermiques et leurs accessoires","PVC >90%","Compris entre 7 kg et 10 kg exclus","€/unité",0.5,0.5,{"$f":"VLOOKUP(J537,'Codes éco-part'!$C:$E,3,FALSE)","v":"053"},0.6]
["REP ABJ",3,"21101480560",null,"Articles de bricolage","Gros objets et machines non électriques et non thermiques et leurs accessoires","PVC >90%","Compris entre 10 kg et 15 kg exclus","€/unité",0.75,0.75,{"$f":"VLOOKUP(J538,'Codes éco-part'!$C:$E,3,FALSE)","v":"328"},0.89999999999999991]
["REP ABJ",3,"21101480570",null,"Articles de bricolage","Gros objets et machines non électriques et non thermiques et leurs accessoires","PVC >90%","Compris entre 15 kg et 20 kg exclus","€/unité",1,1,{"$f":"VLOOKUP(J539,'Codes éco-part'!$C:$E,3,FALSE)","v":"056"},1.2]
["REP ABJ",3,"21101480580",null,"Articles de bricolage","Gros objets et machines non électriques et non thermiques et leurs accessoires","PVC >90%","Compris entre 20 kg et 25 kg exclus","€/unité",1.25,1.25,{"$f":"VLOOKUP(J540,'Codes éco-part'!$C:$E,3,FALSE)","v":"009"},1.5]
["REP ABJ",3,"21101480590",null,"Articles de bricolage","Gros objets et machines non électriques et non thermiques et leurs accessoires","PVC >90%","Compris entre 25 kg et 30 kg exclus","€/unité",1.5,1.5,{"$f":"VLOOKUP(J541,'Codes éco-part'!$C:$E,3,FALSE)","v":"059"},1.7999999999999998]
["REP ABJ",3,"21101480600",null,"Articles de bricolage","Gros objets et machines non électriques et non thermiques et leurs accessoires","PVC >90%","Compris entre 40 kg et 50 kg exclus","€/unité",2.5,2.5,{"$f":"VLOOKUP(J542,'Codes éco-part'!$C:$E,3,FALSE)","v":"012"},3]
["REP ABJ",3,"21101490000",null,"Articles de bricolage","Gros objets et machines non électriques et non thermiques et leurs accessoires","Caoutchouc synthétique >90%","Eléments de toutes dimensions et poids","€ / Tonne",50,50,{"$f":"VLOOKUP(J543,'Codes éco-part'!$C:$E,3,FALSE)","v":"173"},60]
["REP ABJ",3,"21101490200",null,"Articles de bricolage","Gros objets et machines non électriques et non thermiques et leurs accessoires","Caoutchouc synthétique >90%","Inférieur strictement à 0,5 kg","€/unité",0.01,0.01,{"$f":"VLOOKUP(J544,'Codes éco-part'!$C:$E,3,FALSE)","v":"260"},1.2E-2]
["REP ABJ",3,"21101490210",null,"Articles de bricolage","Gros objets et machines non électriques et non thermiques et leurs accessoires","Caoutchouc synthétique >90%","Compris entre 0,5 kg et 1 kg exclus","€/unité",0.04,0.04,{"$f":"VLOOKUP(J545,'Codes éco-part'!$C:$E,3,FALSE)","v":"002"},4.8000000000000001E-2]
["REP ABJ",3,"21101490220",null,"Articles de bricolage","Gros objets et machines non électriques et non thermiques et leurs accessoires","Caoutchouc synthétique >90%","Compris entre 1 kg et 2 kg exclus","€/unité",0.08,0.08,{"$f":"VLOOKUP(J546,'Codes éco-part'!$C:$E,3,FALSE)","v":"003"},9.6000000000000002E-2]
["REP ABJ",3,"21101490270",null,"Articles de bricolage","Gros objets et machines non électriques et non thermiques et leurs accessoires","Caoutchouc synthétique >90%","Compris entre 30 kg et 40 kg exclus","€/unité",2,2,{"$f":"VLOOKUP(J547,'Codes éco-part'!$C:$E,3,FALSE)","v":"061"},2.4]
["REP ABJ",3,"21101490520",null,"Articles de bricolage","Gros objets et machines non électriques et non thermiques et leurs accessoires","Caoutchouc synthétique >90%","Compris entre 2 kg et 3 kg exclus","€/unité",0.13,0.13,{"$f":"VLOOKUP(J548,'Codes éco-part'!$C:$E,3,FALSE)","v":"004"},0.156]
["REP ABJ",3,"21101490530",null,"Articles de bricolage","Gros objets et machines non électriques et non thermiques et leurs accessoires","Caoutchouc synthétique >90%","Compris entre 3 kg et 5 kg exclus","€/unité",0.2,0.2,{"$f":"VLOOKUP(J549,'Codes éco-part'!$C:$E,3,FALSE)","v":"101"},0.24]
["REP ABJ",3,"21101490540",null,"Articles de bricolage","Gros objets et machines non électriques et non thermiques et leurs accessoires","Caoutchouc synthétique >90%","Compris entre 5 kg et 7 kg exclus","€/unité",0.35,0.35,{"$f":"VLOOKUP(J550,'Codes éco-part'!$C:$E,3,FALSE)","v":"448"},0.42]
["REP ABJ",3,"21101490550",null,"Articles de bricolage","Gros objets et machines non électriques et non thermiques et leurs accessoires","Caoutchouc synthétique >90%","Compris entre 7 kg et 10 kg exclus","€/unité",0.5,0.5,{"$f":"VLOOKUP(J551,'Codes éco-part'!$C:$E,3,FALSE)","v":"053"},0.6]
["REP ABJ",3,"21101490560",null,"Articles de bricolage","Gros objets et machines non électriques et non thermiques et leurs accessoires","Caoutchouc synthétique >90%","Compris entre 10 kg et 15 kg exclus","€/unité",0.75,0.75,{"$f":"VLOOKUP(J552,'Codes éco-part'!$C:$E,3,FALSE)","v":"328"},0.89999999999999991]
["REP ABJ",3,"21101490570",null,"Articles de bricolage","Gros objets et machines non électriques et non thermiques et leurs accessoires","Caoutchouc synthétique >90%","Compris entre 15 kg et 20 kg exclus","€/unité",1,1,{"$f":"VLOOKUP(J553,'Codes éco-part'!$C:$E,3,FALSE)","v":"056"},1.2]
["REP ABJ",3,"21101490580",null,"Articles de bricolage","Gros objets et machines non électriques et non thermiques et leurs accessoires","Caoutchouc synthétique >90%","Compris entre 20 kg et 25 kg exclus","€/unité",1.25,1.25,{"$f":"VLOOKUP(J554,'Codes éco-part'!$C:$E,3,FALSE)","v":"009"},1.5]
["REP ABJ",3,"21101490590",null,"Articles de bricolage","Gros objets et machines non électriques et non thermiques et leurs accessoires","Caoutchouc synthétique >90%","Compris entre 25 kg et 30 kg exclus","€/unité",1.5,1.5,{"$f":"VLOOKUP(J555,'Codes éco-part'!$C:$E,3,FALSE)","v":"059"},1.7999999999999998]
["REP ABJ",3,"21101490600",null,"Articles de bricolage","Gros objets et machines non électriques et non thermiques et leurs accessoires","Caoutchouc synthétique >90%","Compris entre 40 kg et 50 kg exclus","€/unité",2.5,2.5,{"$f":"VLOOKUP(J556,'Codes éco-part'!$C:$E,3,FALSE)","v":"012"},3]
["REP ABJ",3,"21101520000",null,"Articles de bricolage","Gros objets et machines non électriques et non thermiques et leurs accessoires","Massif et assimilés certifiés >90%","Eléments de toutes dimensions et poids","€ / Tonne",10,10,{"$f":"VLOOKUP(J557,'Codes éco-part'!$C:$E,3,FALSE)","v":"138"},12]
["REP ABJ",3,"21101520200",null,"Articles de bricolage","Gros objets et machines non électriques et non thermiques et leurs accessoires","Massif et assimilés certifiés >90%","Inférieur strictement à 0,5 kg","€/unité",0.01,0.01,{"$f":"VLOOKUP(J558,'Codes éco-part'!$C:$E,3,FALSE)","v":"260"},1.2E-2]
["REP ABJ",3,"21101520210",null,"Articles de bricolage","Gros objets et machines non électriques et non thermiques et leurs accessoires","Massif et assimilés certifiés >90%","Compris entre 0,5 kg et 1 kg exclus","€/unité",0.01,0.01,{"$f":"VLOOKUP(J559,'Codes éco-part'!$C:$E,3,FALSE)","v":"260"},1.2E-2]
["REP ABJ",3,"21101520220",null,"Articles de bricolage","Gros objets et machines non électriques et non thermiques et leurs accessoires","Massif et assimilés certifiés >90%","Compris entre 1 kg et 2 kg exclus","€/unité",0.02,0.02,{"$f":"VLOOKUP(J560,'Codes éco-part'!$C:$E,3,FALSE)","v":"047"},2.4E-2]
["REP ABJ",3,"21101520270",null,"Articles de bricolage","Gros objets et machines non électriques et non thermiques et leurs accessoires","Massif et assimilés certifiés >90%","Compris entre 30 kg et 40 kg exclus","€/unité",0.4,0.4,{"$f":"VLOOKUP(J561,'Codes éco-part'!$C:$E,3,FALSE)","v":"105"},0.48]
["REP ABJ",3,"21101520520",null,"Articles de bricolage","Gros objets et machines non électriques et non thermiques et leurs accessoires","Massif et assimilés certifiés >90%","Compris entre 2 kg et 3 kg exclus","€/unité",0.03,0.03,{"$f":"VLOOKUP(J562,'Codes éco-part'!$C:$E,3,FALSE)","v":"092"},3.5999999999999997E-2]
["REP ABJ",3,"21101520530",null,"Articles de bricolage","Gros objets et machines non électriques et non thermiques et leurs accessoires","Massif et assimilés certifiés >90%","Compris entre 3 kg et 5 kg exclus","€/unité",0.04,0.04,{"$f":"VLOOKUP(J563,'Codes éco-part'!$C:$E,3,FALSE)","v":"002"},4.8000000000000001E-2]
["REP ABJ",3,"21101520540",null,"Articles de bricolage","Gros objets et machines non électriques et non thermiques et leurs accessoires","Massif et assimilés certifiés >90%","Compris entre 5 kg et 7 kg exclus","€/unité",7.0000000000000007E-2,7.0000000000000007E-2,{"$f":"VLOOKUP(J564,'Codes éco-part'!$C:$E,3,FALSE)","v":"247"},8.4000000000000005E-2]
["REP ABJ",3,"21101520550",null,"Articles de bricolage","Gros objets et machines non électriques et non thermiques et leurs accessoires","Massif et assimilés certifiés >90%","Compris entre 7 kg et 10 kg exclus","€/unité",0.1,0.1,{"$f":"VLOOKUP(J565,'Codes éco-part'!$C:$E,3,FALSE)","v":"094"},0.12]
["REP ABJ",3,"21101520560",null,"Articles de bricolage","Gros objets et machines non électriques et non thermiques et leurs accessoires","Massif et assimilés certifiés >90%","Compris entre 10 kg et 15 kg exclus","€/unité",0.15,0.15,{"$f":"VLOOKUP(J566,'Codes éco-part'!$C:$E,3,FALSE)","v":"050"},0.18]
["REP ABJ",3,"21101520570",null,"Articles de bricolage","Gros objets et machines non électriques et non thermiques et leurs accessoires","Massif et assimilés certifiés >90%","Compris entre 15 kg et 20 kg exclus","€/unité",0.2,0.2,{"$f":"VLOOKUP(J567,'Codes éco-part'!$C:$E,3,FALSE)","v":"101"},0.24]
["REP ABJ",3,"21101520580",null,"Articles de bricolage","Gros objets et machines non électriques et non thermiques et leurs accessoires","Massif et assimilés certifiés >90%","Compris entre 20 kg et 25 kg exclus","€/unité",0.25,0.25,{"$f":"VLOOKUP(J568,'Codes éco-part'!$C:$E,3,FALSE)","v":"095"},0.3]
["REP ABJ",3,"21101520590",null,"Articles de bricolage","Gros objets et machines non électriques et non thermiques et leurs accessoires","Massif et assimilés certifiés >90%","Compris entre 25 kg et 30 kg exclus","€/unité",0.3,0.3,{"$f":"VLOOKUP(J569,'Codes éco-part'!$C:$E,3,FALSE)","v":"446"},0.36]
["REP ABJ",3,"21101520600",null,"Articles de bricolage","Gros objets et machines non électriques et non thermiques et leurs accessoires","Massif et assimilés certifiés >90%","Compris entre 40 kg et 50 kg exclus","€/unité",0.5,0.5,{"$f":"VLOOKUP(J570,'Codes éco-part'!$C:$E,3,FALSE)","v":"053"},0.6]
["REP ABJ",3,"21101530000",null,"Articles de bricolage","Gros objets et machines non électriques et non thermiques et leurs accessoires","Massif et assimilés >90%","Eléments de toutes dimensions et poids","€ / Tonne",10,10,{"$f":"VLOOKUP(J571,'Codes éco-part'!$C:$E,3,FALSE)","v":"138"},12]
["REP ABJ",3,"21101530200",null,"Articles de bricolage","Gros objets et machines non électriques et non thermiques et leurs accessoires","Massif et assimilés >90%","Inférieur strictement à 0,5 kg","€/unité",0.01,0.01,{"$f":"VLOOKUP(J572,'Codes éco-part'!$C:$E,3,FALSE)","v":"260"},1.2E-2]
["REP ABJ",3,"21101530210",null,"Articles de bricolage","Gros objets et machines non électriques et non thermiques et leurs accessoires","Massif et assimilés >90%","Compris entre 0,5 kg et 1 kg exclus","€/unité",0.01,0.01,{"$f":"VLOOKUP(J573,'Codes éco-part'!$C:$E,3,FALSE)","v":"260"},1.2E-2]
["REP ABJ",3,"21101530220",null,"Articles de bricolage","Gros objets et machines non électriques et non thermiques et leurs accessoires","Massif et assimilés >90%","Compris entre 1 kg et 2 kg exclus","€/unité",0.02,0.02,{"$f":"VLOOKUP(J574,'Codes éco-part'!$C:$E,3,FALSE)","v":"047"},2.4E-2]
["REP ABJ",3,"21101530270",null,"Articles de bricolage","Gros objets et machines non électriques et non thermiques et leurs accessoires","Massif et assimilés >90%","Compris entre 30 kg et 40 kg exclus","€/unité",0.4,0.4,{"$f":"VLOOKUP(J575,'Codes éco-part'!$C:$E,3,FALSE)","v":"105"},0.48]
["REP ABJ",3,"21101530520",null,"Articles de bricolage","Gros objets et machines non électriques et non thermiques et leurs accessoires","Massif et assimilés >90%","Compris entre 2 kg et 3 kg exclus","€/unité",0.03,0.03,{"$f":"VLOOKUP(J576,'Codes éco-part'!$C:$E,3,FALSE)","v":"092"},3.5999999999999997E-2]
["REP ABJ",3,"21101530530",null,"Articles de bricolage","Gros objets et machines non électriques et non thermiques et leurs accessoires","Massif et assimilés >90%","Compris entre 3 kg et 5 kg exclus","€/unité",0.04,0.04,{"$f":"VLOOKUP(J577,'Codes éco-part'!$C:$E,3,FALSE)","v":"002"},4.8000000000000001E-2]
["REP ABJ",3,"21101530540",null,"Articles de bricolage","Gros objets et machines non électriques et non thermiques et leurs accessoires","Massif et assimilés >90%","Compris entre 5 kg et 7 kg exclus","€/unité",7.0000000000000007E-2,7.0000000000000007E-2,{"$f":"VLOOKUP(J578,'Codes éco-part'!$C:$E,3,FALSE)","v":"247"},{"$f":"J578*1.2","v":8.4000000000000005E-2}]
["REP ABJ",3,"21101530550",null,"Articles de bricolage","Gros objets et machines non électriques et non thermiques et leurs accessoires","Massif et assimilés >90%","Compris entre 7 kg et 10 kg exclus","€/unité",0.1,0.1,{"$f":"VLOOKUP(J579,'Codes éco-part'!$C:$E,3,FALSE)","v":"094"},0.12]
["REP ABJ",3,"21101530560",null,"Articles de bricolage","Gros objets et machines non électriques et non thermiques et leurs accessoires","Massif et assimilés >90%","Compris entre 10 kg et 15 kg exclus","€/unité",0.15,0.15,{"$f":"VLOOKUP(J580,'Codes éco-part'!$C:$E,3,FALSE)","v":"050"},0.18]
["REP ABJ",3,"21101530570",null,"Articles de bricolage","Gros objets et machines non électriques et non thermiques et leurs accessoires","Massif et assimilés >90%","Compris entre 15 kg et 20 kg exclus","€/unité",0.2,0.2,{"$f":"VLOOKUP(J581,'Codes éco-part'!$C:$E,3,FALSE)","v":"101"},0.24]
["REP ABJ",3,"21101530580",null,"Articles de bricolage","Gros objets et machines non électriques et non thermiques et leurs accessoires","Massif et assimilés >90%","Compris entre 20 kg et 25 kg exclus","€/unité",0.25,0.25,{"$f":"VLOOKUP(J582,'Codes éco-part'!$C:$E,3,FALSE)","v":"095"},0.3]
["REP ABJ",3,"21101530590",null,"Articles de bricolage","Gros objets et machines non électriques et non thermiques et leurs accessoires","Massif et assimilés >90%","Compris entre 25 kg et 30 kg exclus","€/unité",0.3,0.3,{"$f":"VLOOKUP(J583,'Codes éco-part'!$C:$E,3,FALSE)","v":"446"},0.36]
["REP ABJ",3,"21101530600",null,"Articles de bricolage","Gros objets et machines non électriques et non thermiques et leurs accessoires","Massif et assimilés >90%","Compris entre 40 kg et 50 kg exclus","€/unité",0.5,0.5,{"$f":"VLOOKUP(J584,'Codes éco-part'!$C:$E,3,FALSE)","v":"053"},0.6]
["REP ABJ",3,"21101550000",null,"Articles de bricolage","Gros objets et machines non électriques et non thermiques et leurs accessoires","Matériaux bio sourcés ou textiles non synthétiques >90%","Eléments de toutes dimensions et poids","€ / Tonne",30,30,{"$f":"VLOOKUP(J585,'Codes éco-part'!$C:$E,3,FALSE)","v":"153"},36]
["REP ABJ",3,"21101550200",null,"Articles de bricolage","Gros objets et machines non électriques et non thermiques et leurs accessoires","Matériaux bio sourcés ou textiles non synthétiques >90%","Inférieur strictement à 0,5 kg","€/unité",0.01,0.01,{"$f":"VLOOKUP(J586,'Codes éco-part'!$C:$E,3,FALSE)","v":"260"},1.2E-2]
["REP ABJ",3,"21101550210",null,"Articles de bricolage","Gros objets et machines non électriques et non thermiques et leurs accessoires","Matériaux bio sourcés ou textiles non synthétiques >90%","Compris entre 0,5 kg et 1 kg exclus","€/unité",0.02,0.02,{"$f":"VLOOKUP(J587,'Codes éco-part'!$C:$E,3,FALSE)","v":"047"},2.4E-2]
["REP ABJ",3,"21101550220",null,"Articles de bricolage","Gros objets et machines non électriques et non thermiques et leurs accessoires","Matériaux bio sourcés ou textiles non synthétiques >90%","Compris entre 1 kg et 2 kg exclus","€/unité",0.05,0.05,{"$f":"VLOOKUP(J588,'Codes éco-part'!$C:$E,3,FALSE)","v":"048"},0.06]
["REP ABJ",3,"21101550270",null,"Articles de bricolage","Gros objets et machines non électriques et non thermiques et leurs accessoires","Matériaux bio sourcés ou textiles non synthétiques >90%","Compris entre 30 kg et 40 kg exclus","€/unité",1.2,1.2,{"$f":"VLOOKUP(J589,'Codes éco-part'!$C:$E,3,FALSE)","v":"505"},1.44]
["REP ABJ",3,"21101550520",null,"Articles de bricolage","Gros objets et machines non électriques et non thermiques et leurs accessoires","Matériaux bio sourcés ou textiles non synthétiques >90%","Compris entre 2 kg et 3 kg exclus","€/unité",0.08,0.08,{"$f":"VLOOKUP(J590,'Codes éco-part'!$C:$E,3,FALSE)","v":"003"},9.6000000000000002E-2]
["REP ABJ",3,"21101550530",null,"Articles de bricolage","Gros objets et machines non électriques et non thermiques et leurs accessoires","Matériaux bio sourcés ou textiles non synthétiques >90%","Compris entre 3 kg et 5 kg exclus","€/unité",0.12,0.12,{"$f":"VLOOKUP(J591,'Codes éco-part'!$C:$E,3,FALSE)","v":"097"},0.14399999999999999]
["REP ABJ",3,"21101550540",null,"Articles de bricolage","Gros objets et machines non électriques et non thermiques et leurs accessoires","Matériaux bio sourcés ou textiles non synthétiques >90%","Compris entre 5 kg et 7 kg exclus","€/unité",0.21,0.21,{"$f":"VLOOKUP(J592,'Codes éco-part'!$C:$E,3,FALSE)","v":"051"},0.252]
["REP ABJ",3,"21101550550",null,"Articles de bricolage","Gros objets et machines non électriques et non thermiques et leurs accessoires","Matériaux bio sourcés ou textiles non synthétiques >90%","Compris entre 7 kg et 10 kg exclus","€/unité",0.3,0.3,{"$f":"VLOOKUP(J593,'Codes éco-part'!$C:$E,3,FALSE)","v":"446"},0.36]
["REP ABJ",3,"21101550560",null,"Articles de bricolage","Gros objets et machines non électriques et non thermiques et leurs accessoires","Matériaux bio sourcés ou textiles non synthétiques >90%","Compris entre 10 kg et 15 kg exclus","€/unité",0.45,0.45,{"$f":"VLOOKUP(J594,'Codes éco-part'!$C:$E,3,FALSE)","v":"325"},0.54]
["REP ABJ",3,"21101550570",null,"Articles de bricolage","Gros objets et machines non électriques et non thermiques et leurs accessoires","Matériaux bio sourcés ou textiles non synthétiques >90%","Compris entre 15 kg et 20 kg exclus","€/unité",0.6,0.6,{"$f":"VLOOKUP(J595,'Codes éco-part'!$C:$E,3,FALSE)","v":"327"},0.72]
["REP ABJ",3,"21101550580",null,"Articles de bricolage","Gros objets et machines non électriques et non thermiques et leurs accessoires","Matériaux bio sourcés ou textiles non synthétiques >90%","Compris entre 20 kg et 25 kg exclus","€/unité",0.75,0.75,{"$f":"VLOOKUP(J596,'Codes éco-part'!$C:$E,3,FALSE)","v":"328"},0.89999999999999991]
["REP ABJ",3,"21101550590",null,"Articles de bricolage","Gros objets et machines non électriques et non thermiques et leurs accessoires","Matériaux bio sourcés ou textiles non synthétiques >90%","Compris entre 25 kg et 30 kg exclus","€/unité",0.9,0.9,{"$f":"VLOOKUP(J597,'Codes éco-part'!$C:$E,3,FALSE)","v":"330"},1.08]
["REP ABJ",3,"21101550600",null,"Articles de bricolage","Gros objets et machines non électriques et non thermiques et leurs accessoires","Matériaux bio sourcés ou textiles non synthétiques >90%","Compris entre 40 kg et 50 kg exclus","€/unité",1.5,1.5,{"$f":"VLOOKUP(J598,'Codes éco-part'!$C:$E,3,FALSE)","v":"059"},1.7999999999999998]
["REP ABJ",3,"21101590000",null,"Articles de bricolage","Gros objets et machines non électriques et non thermiques et leurs accessoires","Panneaux de particules ou OSB certifiés >90%","Eléments de toutes dimensions et poids","€ / Tonne",10,10,{"$f":"VLOOKUP(J599,'Codes éco-part'!$C:$E,3,FALSE)","v":"138"},12]
["REP ABJ",3,"21101590200",null,"Articles de bricolage","Gros objets et machines non électriques et non thermiques et leurs accessoires","Panneaux de particules ou OSB certifiés >90%","Inférieur strictement à 0,5 kg","€/unité",0.01,0.01,{"$f":"VLOOKUP(J600,'Codes éco-part'!$C:$E,3,FALSE)","v":"260"},1.2E-2]
["REP ABJ",3,"21101590210",null,"Articles de bricolage","Gros objets et machines non électriques et non thermiques et leurs accessoires","Panneaux de particules ou OSB certifiés >90%","Compris entre 0,5 kg et 1 kg exclus","€/unité",0.01,0.01,{"$f":"VLOOKUP(J601,'Codes éco-part'!$C:$E,3,FALSE)","v":"260"},1.2E-2]
["REP ABJ",3,"21101590220",null,"Articles de bricolage","Gros objets et machines non électriques et non thermiques et leurs accessoires","Panneaux de particules ou OSB certifiés >90%","Compris entre 1 kg et 2 kg exclus","€/unité",0.02,0.02,{"$f":"VLOOKUP(J602,'Codes éco-part'!$C:$E,3,FALSE)","v":"047"},2.4E-2]
["REP ABJ",3,"21101590270",null,"Articles de bricolage","Gros objets et machines non électriques et non thermiques et leurs accessoires","Panneaux de particules ou OSB certifiés >90%","Compris entre 30 kg et 40 kg exclus","€/unité",0.4,0.4,{"$f":"VLOOKUP(J603,'Codes éco-part'!$C:$E,3,FALSE)","v":"105"},0.48]
["REP ABJ",3,"21101590520",null,"Articles de bricolage","Gros objets et machines non électriques et non thermiques et leurs accessoires","Panneaux de particules ou OSB certifiés >90%","Compris entre 2 kg et 3 kg exclus","€/unité",0.03,0.03,{"$f":"VLOOKUP(J604,'Codes éco-part'!$C:$E,3,FALSE)","v":"092"},3.5999999999999997E-2]
["REP ABJ",3,"21101590530",null,"Articles de bricolage","Gros objets et machines non électriques et non thermiques et leurs accessoires","Panneaux de particules ou OSB certifiés >90%","Compris entre 3 kg et 5 kg exclus","€/unité",0.04,0.04,{"$f":"VLOOKUP(J605,'Codes éco-part'!$C:$E,3,FALSE)","v":"002"},4.8000000000000001E-2]
["REP ABJ",3,"21101590540",null,"Articles de bricolage","Gros objets et machines non électriques et non thermiques et leurs accessoires","Panneaux de particules ou OSB certifiés >90%","Compris entre 5 kg et 7 kg exclus","€/unité",7.0000000000000007E-2,7.0000000000000007E-2,{"$f":"VLOOKUP(J606,'Codes éco-part'!$C:$E,3,FALSE)","v":"247"},8.4000000000000005E-2]
["REP ABJ",3,"21101590550",null,"Articles de bricolage","Gros objets et machines non électriques et non thermiques et leurs accessoires","Panneaux de particules ou OSB certifiés >90%","Compris entre 7 kg et 10 kg exclus","€/unité",0.1,0.1,{"$f":"VLOOKUP(J607,'Codes éco-part'!$C:$E,3,FALSE)","v":"094"},0.12]
["REP ABJ",3,"21101590560",null,"Articles de bricolage","Gros objets et machines non électriques et non thermiques et leurs accessoires","Panneaux de particules ou OSB certifiés >90%","Compris entre 10 kg et 15 kg exclus","€/unité",0.15,0.15,{"$f":"VLOOKUP(J608,'Codes éco-part'!$C:$E,3,FALSE)","v":"050"},0.18]
["REP ABJ",3,"21101590570",null,"Articles de bricolage","Gros objets et machines non électriques et non thermiques et leurs accessoires","Panneaux de particules ou OSB certifiés >90%","Compris entre 15 kg et 20 kg exclus","€/unité",0.2,0.2,{"$f":"VLOOKUP(J609,'Codes éco-part'!$C:$E,3,FALSE)","v":"101"},0.24]
["REP ABJ",3,"21101590580",null,"Articles de bricolage","Gros objets et machines non électriques et non thermiques et leurs accessoires","Panneaux de particules ou OSB certifiés >90%","Compris entre 20 kg et 25 kg exclus","€/unité",0.25,0.25,{"$f":"VLOOKUP(J610,'Codes éco-part'!$C:$E,3,FALSE)","v":"095"},0.3]
["REP ABJ",3,"21101590590",null,"Articles de bricolage","Gros objets et machines non électriques et non thermiques et leurs accessoires","Panneaux de particules ou OSB certifiés >90%","Compris entre 25 kg et 30 kg exclus","€/unité",0.3,0.3,{"$f":"VLOOKUP(J611,'Codes éco-part'!$C:$E,3,FALSE)","v":"446"},0.36]
["REP ABJ",3,"21101590600",null,"Articles de bricolage","Gros objets et machines non électriques et non thermiques et leurs accessoires","Panneaux de particules ou OSB certifiés >90%","Compris entre 40 kg et 50 kg exclus","€/unité",0.5,0.5,{"$f":"VLOOKUP(J612,'Codes éco-part'!$C:$E,3,FALSE)","v":"053"},0.6]
["REP ABJ",3,"21101600000",null,"Articles de bricolage","Gros objets et machines non électriques et non thermiques et leurs accessoires","Panneaux de particules ou OSB certifiés >75%","Eléments de toutes dimensions et poids","€ / Tonne",10,10,{"$f":"VLOOKUP(J613,'Codes éco-part'!$C:$E,3,FALSE)","v":"138"},12]
["REP ABJ",3,"21101600200",null,"Articles de bricolage","Gros objets et machines non électriques et non thermiques et leurs accessoires","Panneaux de particules ou OSB certifiés >75%","Inférieur strictement à 0,5 kg","€/unité",0.01,0.01,{"$f":"VLOOKUP(J614,'Codes éco-part'!$C:$E,3,FALSE)","v":"260"},1.2E-2]
["REP ABJ",3,"21101600210",null,"Articles de bricolage","Gros objets et machines non électriques et non thermiques et leurs accessoires","Panneaux de particules ou OSB certifiés >75%","Compris entre 0,5 kg et 1 kg exclus","€/unité",0.01,0.01,{"$f":"VLOOKUP(J615,'Codes éco-part'!$C:$E,3,FALSE)","v":"260"},1.2E-2]
["REP ABJ",3,"21101600220",null,"Articles de bricolage","Gros objets et machines non électriques et non thermiques et leurs accessoires","Panneaux de particules ou OSB certifiés >75%","Compris entre 1 kg et 2 kg exclus","€/unité",0.02,0.02,{"$f":"VLOOKUP(J616,'Codes éco-part'!$C:$E,3,FALSE)","v":"047"},2.4E-2]
["REP ABJ",3,"21101600270",null,"Articles de bricolage","Gros objets et machines non électriques et non thermiques et leurs accessoires","Panneaux de particules ou OSB certifiés >75%","Compris entre 30 kg et 40 kg exclus","€/unité",0.4,0.4,{"$f":"VLOOKUP(J617,'Codes éco-part'!$C:$E,3,FALSE)","v":"105"},0.48]
["REP ABJ",3,"21101600520",null,"Articles de bricolage","Gros objets et machines non électriques et non thermiques et leurs accessoires","Panneaux de particules ou OSB certifiés >75%","Compris entre 2 kg et 3 kg exclus","€/unité",0.03,0.03,{"$f":"VLOOKUP(J618,'Codes éco-part'!$C:$E,3,FALSE)","v":"092"},3.5999999999999997E-2]
["REP ABJ",3,"21101600530",null,"Articles de bricolage","Gros objets et machines non électriques et non thermiques et leurs accessoires","Panneaux de particules ou OSB certifiés >75%","Compris entre 3 kg et 5 kg exclus","€/unité",0.04,0.04,{"$f":"VLOOKUP(J619,'Codes éco-part'!$C:$E,3,FALSE)","v":"002"},4.8000000000000001E-2]
["REP ABJ",3,"21101600540",null,"Articles de bricolage","Gros objets et machines non électriques et non thermiques et leurs accessoires","Panneaux de particules ou OSB certifiés >75%","Compris entre 5 kg et 7 kg exclus","€/unité",7.0000000000000007E-2,7.0000000000000007E-2,{"$f":"VLOOKUP(J620,'Codes éco-part'!$C:$E,3,FALSE)","v":"247"},8.4000000000000005E-2]
["REP ABJ",3,"21101600550",null,"Articles de bricolage","Gros objets et machines non électriques et non thermiques et leurs accessoires","Panneaux de particules ou OSB certifiés >75%","Compris entre 7 kg et 10 kg exclus","€/unité",0.1,0.1,{"$f":"VLOOKUP(J621,'Codes éco-part'!$C:$E,3,FALSE)","v":"094"},0.12]
["REP ABJ",3,"21101600560",null,"Articles de bricolage","Gros objets et machines non électriques et non thermiques et leurs accessoires","Panneaux de particules ou OSB certifiés >75%","Compris entre 10 kg et 15 kg exclus","€/unité",0.15,0.15,{"$f":"VLOOKUP(J622,'Codes éco-part'!$C:$E,3,FALSE)","v":"050"},0.18]
["REP ABJ",3,"21101600570",null,"Articles de bricolage","Gros objets et machines non électriques et non thermiques et leurs accessoires","Panneaux de particules ou OSB certifiés >75%","Compris entre 15 kg et 20 kg exclus","€/unité",0.2,0.2,{"$f":"VLOOKUP(J623,'Codes éco-part'!$C:$E,3,FALSE)","v":"101"},0.24]
["REP ABJ",3,"21101600580",null,"Articles de bricolage","Gros objets et machines non électriques et non thermiques et leurs accessoires","Panneaux de particules ou OSB certifiés >75%","Compris entre 20 kg et 25 kg exclus","€/unité",0.25,0.25,{"$f":"VLOOKUP(J624,'Codes éco-part'!$C:$E,3,FALSE)","v":"095"},0.3]
["REP ABJ",3,"21101600590",null,"Articles de bricolage","Gros objets et machines non électriques et non thermiques et leurs accessoires","Panneaux de particules ou OSB certifiés >75%","Compris entre 25 kg et 30 kg exclus","€/unité",0.3,0.3,{"$f":"VLOOKUP(J625,'Codes éco-part'!$C:$E,3,FALSE)","v":"446"},0.36]
["REP ABJ",3,"21101600600",null,"Articles de bricolage","Gros objets et machines non électriques et non thermiques et leurs accessoires","Panneaux de particules ou OSB certifiés >75%","Compris entre 40 kg et 50 kg exclus","€/unité",0.5,0.5,{"$f":"VLOOKUP(J626,'Codes éco-part'!$C:$E,3,FALSE)","v":"053"},0.6]
["REP ABJ",3,"21101610000",null,"Articles de bricolage","Gros objets et machines non électriques et non thermiques et leurs accessoires","Panneaux de particules ou OSB >90%","Eléments de toutes dimensions et poids","€ / Tonne",10,10,{"$f":"VLOOKUP(J627,'Codes éco-part'!$C:$E,3,FALSE)","v":"138"},12]
["REP ABJ",3,"21101610200",null,"Articles de bricolage","Gros objets et machines non électriques et non thermiques et leurs accessoires","Panneaux de particules ou OSB >90%","Inférieur strictement à 0,5 kg","€/unité",0.01,0.01,{"$f":"VLOOKUP(J628,'Codes éco-part'!$C:$E,3,FALSE)","v":"260"},1.2E-2]
["REP ABJ",3,"21101610210",null,"Articles de bricolage","Gros objets et machines non électriques et non thermiques et leurs accessoires","Panneaux de particules ou OSB >90%","Compris entre 0,5 kg et 1 kg exclus","€/unité",0.01,0.01,{"$f":"VLOOKUP(J629,'Codes éco-part'!$C:$E,3,FALSE)","v":"260"},1.2E-2]
["REP ABJ",3,"21101610220",null,"Articles de bricolage","Gros objets et machines non électriques et non thermiques et leurs accessoires","Panneaux de particules ou OSB >90%","Compris entre 1 kg et 2 kg exclus","€/unité",0.02,0.02,{"$f":"VLOOKUP(J630,'Codes éco-part'!$C:$E,3,FALSE)","v":"047"},2.4E-2]
["REP ABJ",3,"21101610270",null,"Articles de bricolage","Gros objets et machines non électriques et non thermiques et leurs accessoires","Panneaux de particules ou OSB >90%","Compris entre 30 kg et 40 kg exclus","€/unité",0.4,0.4,{"$f":"VLOOKUP(J631,'Codes éco-part'!$C:$E,3,FALSE)","v":"105"},0.48]
["REP ABJ",3,"21101610520",null,"Articles de bricolage","Gros objets et machines non électriques et non thermiques et leurs accessoires","Panneaux de particules ou OSB >90%","Compris entre 2 kg et 3 kg exclus","€/unité",0.03,0.03,{"$f":"VLOOKUP(J632,'Codes éco-part'!$C:$E,3,FALSE)","v":"092"},3.5999999999999997E-2]
["REP ABJ",3,"21101610530",null,"Articles de bricolage","Gros objets et machines non électriques et non thermiques et leurs accessoires","Panneaux de particules ou OSB >90%","Compris entre 3 kg et 5 kg exclus","€/unité",0.04,0.04,{"$f":"VLOOKUP(J633,'Codes éco-part'!$C:$E,3,FALSE)","v":"002"},4.8000000000000001E-2]
["REP ABJ",3,"21101610540",null,"Articles de bricolage","Gros objets et machines non électriques et non thermiques et leurs accessoires","Panneaux de particules ou OSB >90%","Compris entre 5 kg et 7 kg exclus","€/unité",7.0000000000000007E-2,7.0000000000000007E-2,{"$f":"VLOOKUP(J634,'Codes éco-part'!$C:$E,3,FALSE)","v":"247"},8.4000000000000005E-2]
["REP ABJ",3,"21101610550",null,"Articles de bricolage","Gros objets et machines non électriques et non thermiques et leurs accessoires","Panneaux de particules ou OSB >90%","Compris entre 7 kg et 10 kg exclus","€/unité",0.1,0.1,{"$f":"VLOOKUP(J635,'Codes éco-part'!$C:$E,3,FALSE)","v":"094"},0.12]
["REP ABJ",3,"21101610560",null,"Articles de bricolage","Gros objets et machines non électriques et non thermiques et leurs accessoires","Panneaux de particules ou OSB >90%","Compris entre 10 kg et 15 kg exclus","€/unité",0.15,0.15,{"$f":"VLOOKUP(J636,'Codes éco-part'!$C:$E,3,FALSE)","v":"050"},0.18]
["REP ABJ",3,"21101610570",null,"Articles de bricolage","Gros objets et machines non électriques et non thermiques et leurs accessoires","Panneaux de particules ou OSB >90%","Compris entre 15 kg et 20 kg exclus","€/unité",0.2,0.2,{"$f":"VLOOKUP(J637,'Codes éco-part'!$C:$E,3,FALSE)","v":"101"},0.24]
["REP ABJ",3,"21101610580",null,"Articles de bricolage","Gros objets et machines non électriques et non thermiques et leurs accessoires","Panneaux de particules ou OSB >90%","Compris entre 20 kg et 25 kg exclus","€/unité",0.25,0.25,{"$f":"VLOOKUP(J638,'Codes éco-part'!$C:$E,3,FALSE)","v":"095"},0.3]
["REP ABJ",3,"21101610590",null,"Articles de bricolage","Gros objets et machines non électriques et non thermiques et leurs accessoires","Panneaux de particules ou OSB >90%","Compris entre 25 kg et 30 kg exclus","€/unité",0.3,0.3,{"$f":"VLOOKUP(J639,'Codes éco-part'!$C:$E,3,FALSE)","v":"446"},0.36]
["REP ABJ",3,"21101610600",null,"Articles de bricolage","Gros objets et machines non électriques et non thermiques et leurs accessoires","Panneaux de particules ou OSB >90%","Compris entre 40 kg et 50 kg exclus","€/unité",0.5,0.5,{"$f":"VLOOKUP(J640,'Codes éco-part'!$C:$E,3,FALSE)","v":"053"},0.6]
["REP ABJ",3,"21101620000",null,"Articles de bricolage","Gros objets et machines non électriques et non thermiques et leurs accessoires","Dérivés de bois >90%","Eléments de toutes dimensions et poids","€ / Tonne",10,10,{"$f":"VLOOKUP(J641,'Codes éco-part'!$C:$E,3,FALSE)","v":"138"},12]
["REP ABJ",3,"21101620200",null,"Articles de bricolage","Gros objets et machines non électriques et non thermiques et leurs accessoires","Dérivés de bois >90%","Inférieur strictement à 0,5 kg","€/unité",0.01,0.01,{"$f":"VLOOKUP(J642,'Codes éco-part'!$C:$E,3,FALSE)","v":"260"},{"$f":"J642*1.2","v":1.2E-2}]
["REP ABJ",3,"21101620210",null,"Articles de bricolage","Gros objets et machines non électriques et non thermiques et leurs accessoires","Dérivés de bois >90%","Compris entre 0,5 kg et 1 kg exclus","€/unité",0.01,0.01,{"$f":"VLOOKUP(J643,'Codes éco-part'!$C:$E,3,FALSE)","v":"260"},1.2E-2]
["REP ABJ",3,"21101620220",null,"Articles de bricolage","Gros objets et machines non électriques et non thermiques et leurs accessoires","Dérivés de bois >90%","Compris entre 1 kg et 2 kg exclus","€/unité",0.02,0.02,{"$f":"VLOOKUP(J644,'Codes éco-part'!$C:$E,3,FALSE)","v":"047"},2.4E-2]
["REP ABJ",3,"21101620270",null,"Articles de bricolage","Gros objets et machines non électriques et non thermiques et leurs accessoires","Dérivés de bois >90%","Compris entre 30 kg et 40 kg exclus","€/unité",0.4,0.4,{"$f":"VLOOKUP(J645,'Codes éco-part'!$C:$E,3,FALSE)","v":"105"},0.48]
["REP ABJ",3,"21101620520",null,"Articles de bricolage","Gros objets et machines non électriques et non thermiques et leurs accessoires","Dérivés de bois >90%","Compris entre 2 kg et 3 kg exclus","€/unité",0.03,0.03,{"$f":"VLOOKUP(J646,'Codes éco-part'!$C:$E,3,FALSE)","v":"092"},3.5999999999999997E-2]
["REP ABJ",3,"21101620530",null,"Articles de bricolage","Gros objets et machines non électriques et non thermiques et leurs accessoires","Dérivés de bois >90%","Compris entre 3 kg et 5 kg exclus","€/unité",0.04,0.04,{"$f":"VLOOKUP(J647,'Codes éco-part'!$C:$E,3,FALSE)","v":"002"},4.8000000000000001E-2]
["REP ABJ",3,"21101620540",null,"Articles de bricolage","Gros objets et machines non électriques et non thermiques et leurs accessoires","Dérivés de bois >90%","Compris entre 5 kg et 7 kg exclus","€/unité",7.0000000000000007E-2,7.0000000000000007E-2,{"$f":"VLOOKUP(J648,'Codes éco-part'!$C:$E,3,FALSE)","v":"247"},8.4000000000000005E-2]
["REP ABJ",3,"21101620550",null,"Articles de bricolage","Gros objets et machines non électriques et non thermiques et leurs accessoires","Dérivés de bois >90%","Compris entre 7 kg et 10 kg exclus","€/unité",0.1,0.1,{"$f":"VLOOKUP(J649,'Codes éco-part'!$C:$E,3,FALSE)","v":"094"},0.12]
["REP ABJ",3,"21101620560",null,"Articles de bricolage","Gros objets et machines non électriques et non thermiques et leurs accessoires","Dérivés de bois >90%","Compris entre 10 kg et 15 kg exclus","€/unité",0.15,0.15,{"$f":"VLOOKUP(J650,'Codes éco-part'!$C:$E,3,FALSE)","v":"050"},0.18]
["REP ABJ",3,"21101620570",null,"Articles de bricolage","Gros objets et machines non électriques et non thermiques et leurs accessoires","Dérivés de bois >90%","Compris entre 15 kg et 20 kg exclus","€/unité",0.2,0.2,{"$f":"VLOOKUP(J651,'Codes éco-part'!$C:$E,3,FALSE)","v":"101"},0.24]
["REP ABJ",3,"21101620580",null,"Articles de bricolage","Gros objets et machines non électriques et non thermiques et leurs accessoires","Dérivés de bois >90%","Compris entre 20 kg et 25 kg exclus","€/unité",0.25,0.25,{"$f":"VLOOKUP(J652,'Codes éco-part'!$C:$E,3,FALSE)","v":"095"},0.3]
["REP ABJ",3,"21101620590",null,"Articles de bricolage","Gros objets et machines non électriques et non thermiques et leurs accessoires","Dérivés de bois >90%","Compris entre 25 kg et 30 kg exclus","€/unité",0.3,0.3,{"$f":"VLOOKUP(J653,'Codes éco-part'!$C:$E,3,FALSE)","v":"446"},0.36]
["REP ABJ",3,"21101620600",null,"Articles de bricolage","Gros objets et machines non électriques et non thermiques et leurs accessoires","Dérivés de bois >90%","Compris entre 40 kg et 50 kg exclus","€/unité",0.5,0.5,{"$f":"VLOOKUP(J654,'Codes éco-part'!$C:$E,3,FALSE)","v":"053"},0.6]
["REP ABJ",3,"21101630000",null,"Articles de bricolage","Gros objets et machines non électriques et non thermiques et leurs accessoires","Caoutchouc naturel >90%","Eléments de toutes dimensions et poids","€ / Tonne",30,30,{"$f":"VLOOKUP(J655,'Codes éco-part'!$C:$E,3,FALSE)","v":"153"},36]
["REP ABJ",3,"21101630200",null,"Articles de bricolage","Gros objets et machines non électriques et non thermiques et leurs accessoires","Caoutchouc naturel >90%","Inférieur strictement à 0,5 kg","€/unité",0.01,0.01,{"$f":"VLOOKUP(J656,'Codes éco-part'!$C:$E,3,FALSE)","v":"260"},1.2E-2]
["REP ABJ",3,"21101630210",null,"Articles de bricolage","Gros objets et machines non électriques et non thermiques et leurs accessoires","Caoutchouc naturel >90%","Compris entre 0,5 kg et 1 kg exclus","€/unité",0.02,0.02,{"$f":"VLOOKUP(J657,'Codes éco-part'!$C:$E,3,FALSE)","v":"047"},2.4E-2]
["REP ABJ",3,"21101630220",null,"Articles de bricolage","Gros objets et machines non électriques et non thermiques et leurs accessoires","Caoutchouc naturel >90%","Compris entre 1 kg et 2 kg exclus","€/unité",0.05,0.05,{"$f":"VLOOKUP(J658,'Codes éco-part'!$C:$E,3,FALSE)","v":"048"},0.06]
["REP ABJ",3,"21101630270",null,"Articles de bricolage","Gros objets et machines non électriques et non thermiques et leurs accessoires","Caoutchouc naturel >90%","Compris entre 30 kg et 40 kg exclus","€/unité",1.2,1.2,{"$f":"VLOOKUP(J659,'Codes éco-part'!$C:$E,3,FALSE)","v":"505"},1.44]
["REP ABJ",3,"21101630520",null,"Articles de bricolage","Gros objets et machines non électriques et non thermiques et leurs accessoires","Caoutchouc naturel >90%","Compris entre 2 kg et 3 kg exclus","€/unité",0.08,0.08,{"$f":"VLOOKUP(J660,'Codes éco-part'!$C:$E,3,FALSE)","v":"003"},9.6000000000000002E-2]
["REP ABJ",3,"21101630530",null,"Articles de bricolage","Gros objets et machines non électriques et non thermiques et leurs accessoires","Caoutchouc naturel >90%","Compris entre 3 kg et 5 kg exclus","€/unité",0.12,0.12,{"$f":"VLOOKUP(J661,'Codes éco-part'!$C:$E,3,FALSE)","v":"097"},0.14399999999999999]
["REP ABJ",3,"21101630540",null,"Articles de bricolage","Gros objets et machines non électriques et non thermiques et leurs accessoires","Caoutchouc naturel >90%","Compris entre 5 kg et 7 kg exclus","€/unité",0.21,0.21,{"$f":"VLOOKUP(J662,'Codes éco-part'!$C:$E,3,FALSE)","v":"051"},0.252]
["REP ABJ",3,"21101630550",null,"Articles de bricolage","Gros objets et machines non électriques et non thermiques et leurs accessoires","Caoutchouc naturel >90%","Compris entre 7 kg et 10 kg exclus","€/unité",0.3,0.3,{"$f":"VLOOKUP(J663,'Codes éco-part'!$C:$E,3,FALSE)","v":"446"},0.36]
["REP ABJ",3,"21101630560",null,"Articles de bricolage","Gros objets et machines non électriques et non thermiques et leurs accessoires","Caoutchouc naturel >90%","Compris entre 10 kg et 15 kg exclus","€/unité",0.45,0.45,{"$f":"VLOOKUP(J664,'Codes éco-part'!$C:$E,3,FALSE)","v":"325"},0.54]
["REP ABJ",3,"21101630570",null,"Articles de bricolage","Gros objets et machines non électriques et non thermiques et leurs accessoires","Caoutchouc naturel >90%","Compris entre 15 kg et 20 kg exclus","€/unité",0.6,0.6,{"$f":"VLOOKUP(J665,'Codes éco-part'!$C:$E,3,FALSE)","v":"327"},0.72]
["REP ABJ",3,"21101630580",null,"Articles de bricolage","Gros objets et machines non électriques et non thermiques et leurs accessoires","Caoutchouc naturel >90%","Compris entre 20 kg et 25 kg exclus","€/unité",0.75,0.75,{"$f":"VLOOKUP(J666,'Codes éco-part'!$C:$E,3,FALSE)","v":"328"},0.89999999999999991]
["REP ABJ",3,"21101630590",null,"Articles de bricolage","Gros objets et machines non électriques et non thermiques et leurs accessoires","Caoutchouc naturel >90%","Compris entre 25 kg et 30 kg exclus","€/unité",0.9,0.9,{"$f":"VLOOKUP(J667,'Codes éco-part'!$C:$E,3,FALSE)","v":"330"},1.08]
["REP ABJ",3,"21101630600",null,"Articles de bricolage","Gros objets et machines non électriques et non thermiques et leurs accessoires","Caoutchouc naturel >90%","Compris entre 40 kg et 50 kg exclus","€/unité",1.5,1.5,{"$f":"VLOOKUP(J668,'Codes éco-part'!$C:$E,3,FALSE)","v":"059"},1.7999999999999998]
["REP ABJ",3,"21101640000",null,"Articles de bricolage","Gros objets et machines non électriques et non thermiques et leurs accessoires","Caoutchouc naturel >50%","Eléments de toutes dimensions et poids","€ / Tonne",75,75,{"$f":"VLOOKUP(J669,'Codes éco-part'!$C:$E,3,FALSE)","v":"192"},90]
["REP ABJ",3,"21101640200",null,"Articles de bricolage","Gros objets et machines non électriques et non thermiques et leurs accessoires","Caoutchouc naturel >50%","Inférieur strictement à 0,5 kg","€/unité",0.02,0.02,{"$f":"VLOOKUP(J670,'Codes éco-part'!$C:$E,3,FALSE)","v":"047"},2.4E-2]
["REP ABJ",3,"21101640210",null,"Articles de bricolage","Gros objets et machines non électriques et non thermiques et leurs accessoires","Caoutchouc naturel >50%","Compris entre 0,5 kg et 1 kg exclus","€/unité",0.06,0.06,{"$f":"VLOOKUP(J671,'Codes éco-part'!$C:$E,3,FALSE)","v":"096"},7.1999999999999995E-2]
["REP ABJ",3,"21101640220",null,"Articles de bricolage","Gros objets et machines non électriques et non thermiques et leurs accessoires","Caoutchouc naturel >50%","Compris entre 1 kg et 2 kg exclus","€/unité",0.11,0.11,{"$f":"VLOOKUP(J672,'Codes éco-part'!$C:$E,3,FALSE)","v":"262"},0.13200000000000001]
["REP ABJ",3,"21101640270",null,"Articles de bricolage","Gros objets et machines non électriques et non thermiques et leurs accessoires","Caoutchouc naturel >50%","Compris entre 30 kg et 40 kg exclus","€/unité",3,3,{"$f":"VLOOKUP(J673,'Codes éco-part'!$C:$E,3,FALSE)","v":"474"},3.5999999999999996]
["REP ABJ",3,"21101640520",null,"Articles de bricolage","Gros objets et machines non électriques et non thermiques et leurs accessoires","Caoutchouc naturel >50%","Compris entre 2 kg et 3 kg exclus","€/unité",0.19,0.19,{"$f":"VLOOKUP(J674,'Codes éco-part'!$C:$E,3,FALSE)","v":"291"},0.22799999999999998]
["REP ABJ",3,"21101640530",null,"Articles de bricolage","Gros objets et machines non électriques et non thermiques et leurs accessoires","Caoutchouc naturel >50%","Compris entre 3 kg et 5 kg exclus","€/unité",0.3,0.3,{"$f":"VLOOKUP(J675,'Codes éco-part'!$C:$E,3,FALSE)","v":"446"},0.36]
["REP ABJ",3,"21101640540",null,"Articles de bricolage","Gros objets et machines non électriques et non thermiques et leurs accessoires","Caoutchouc naturel >50%","Compris entre 5 kg et 7 kg exclus","€/unité",0.53,0.53,{"$f":"VLOOKUP(J676,'Codes éco-part'!$C:$E,3,FALSE)","v":"451"},0.63600000000000001]
["REP ABJ",3,"21101640550",null,"Articles de bricolage","Gros objets et machines non électriques et non thermiques et leurs accessoires","Caoutchouc naturel >50%","Compris entre 7 kg et 10 kg exclus","€/unité",0.75,0.75,{"$f":"VLOOKUP(J677,'Codes éco-part'!$C:$E,3,FALSE)","v":"328"},0.89999999999999991]
["REP ABJ",3,"21101640560",null,"Articles de bricolage","Gros objets et machines non électriques et non thermiques et leurs accessoires","Caoutchouc naturel >50%","Compris entre 10 kg et 15 kg exclus","€/unité",1.1299999999999999,1.1299999999999999,{"$f":"VLOOKUP(J678,'Codes éco-part'!$C:$E,3,FALSE)","v":"331"},1.3559999999999999]
["REP ABJ",3,"21101640570",null,"Articles de bricolage","Gros objets et machines non électriques et non thermiques et leurs accessoires","Caoutchouc naturel >50%","Compris entre 15 kg et 20 kg exclus","€/unité",1.5,1.5,{"$f":"VLOOKUP(J679,'Codes éco-part'!$C:$E,3,FALSE)","v":"059"},1.7999999999999998]
["REP ABJ",3,"21101640580",null,"Articles de bricolage","Gros objets et machines non électriques et non thermiques et leurs accessoires","Caoutchouc naturel >50%","Compris entre 20 kg et 25 kg exclus","€/unité",1.88,1.88,{"$f":"VLOOKUP(J680,'Codes éco-part'!$C:$E,3,FALSE)","v":"335"},2.2559999999999998]
["REP ABJ",3,"21101640590",null,"Articles de bricolage","Gros objets et machines non électriques et non thermiques et leurs accessoires","Caoutchouc naturel >50%","Compris entre 25 kg et 30 kg exclus","€/unité",2.25,2.25,{"$f":"VLOOKUP(J681,'Codes éco-part'!$C:$E,3,FALSE)","v":"118"},2.6999999999999997]
["REP ABJ",3,"21101640600",null,"Articles de bricolage","Gros objets et machines non électriques et non thermiques et leurs accessoires","Caoutchouc naturel >50%","Compris entre 40 kg et 50 kg exclus","€/unité",3.75,3.75,{"$f":"VLOOKUP(J682,'Codes éco-part'!$C:$E,3,FALSE)","v":"015"},4.5]
["REP ABJ",3,"21101650000",null,"Articles de bricolage","Gros objets et machines non électriques et non thermiques et leurs accessoires","Matériaux ou fibres synthétiques >90%","Eléments de toutes dimensions et poids","€ / Tonne",50,50,{"$f":"VLOOKUP(J683,'Codes éco-part'!$C:$E,3,FALSE)","v":"173"},60]
["REP ABJ",3,"21101650200",null,"Articles de bricolage","Gros objets et machines non électriques et non thermiques et leurs accessoires","Matériaux ou fibres synthétiques >90%","Inférieur strictement à 0,5 kg","€/unité",0.01,0.01,{"$f":"VLOOKUP(J684,'Codes éco-part'!$C:$E,3,FALSE)","v":"260"},1.2E-2]
["REP ABJ",3,"21101650210",null,"Articles de bricolage","Gros objets et machines non électriques et non thermiques et leurs accessoires","Matériaux ou fibres synthétiques >90%","Compris entre 0,5 kg et 1 kg exclus","€/unité",0.04,0.04,{"$f":"VLOOKUP(J685,'Codes éco-part'!$C:$E,3,FALSE)","v":"002"},4.8000000000000001E-2]
["REP ABJ",3,"21101650220",null,"Articles de bricolage","Gros objets et machines non électriques et non thermiques et leurs accessoires","Matériaux ou fibres synthétiques >90%","Compris entre 1 kg et 2 kg exclus","€/unité",0.08,0.08,{"$f":"VLOOKUP(J686,'Codes éco-part'!$C:$E,3,FALSE)","v":"003"},9.6000000000000002E-2]
["REP ABJ",3,"21101650270",null,"Articles de bricolage","Gros objets et machines non électriques et non thermiques et leurs accessoires","Matériaux ou fibres synthétiques >90%","Compris entre 30 kg et 40 kg exclus","€/unité",2,2,{"$f":"VLOOKUP(J687,'Codes éco-part'!$C:$E,3,FALSE)","v":"061"},2.4]
["REP ABJ",3,"21101650520",null,"Articles de bricolage","Gros objets et machines non électriques et non thermiques et leurs accessoires","Matériaux ou fibres synthétiques >90%","Compris entre 2 kg et 3 kg exclus","€/unité",0.13,0.13,{"$f":"VLOOKUP(J688,'Codes éco-part'!$C:$E,3,FALSE)","v":"004"},0.156]
["REP ABJ",3,"21101650530",null,"Articles de bricolage","Gros objets et machines non électriques et non thermiques et leurs accessoires","Matériaux ou fibres synthétiques >90%","Compris entre 3 kg et 5 kg exclus","€/unité",0.2,0.2,{"$f":"VLOOKUP(J689,'Codes éco-part'!$C:$E,3,FALSE)","v":"101"},0.24]
["REP ABJ",3,"21101650540",null,"Articles de bricolage","Gros objets et machines non électriques et non thermiques et leurs accessoires","Matériaux ou fibres synthétiques >90%","Compris entre 5 kg et 7 kg exclus","€/unité",0.35,0.35,{"$f":"VLOOKUP(J690,'Codes éco-part'!$C:$E,3,FALSE)","v":"448"},0.42]
["REP ABJ",3,"21101650550",null,"Articles de bricolage","Gros objets et machines non électriques et non thermiques et leurs accessoires","Matériaux ou fibres synthétiques >90%","Compris entre 7 kg et 10 kg exclus","€/unité",0.5,0.5,{"$f":"VLOOKUP(J691,'Codes éco-part'!$C:$E,3,FALSE)","v":"053"},0.6]
["REP ABJ",3,"21101650560",null,"Articles de bricolage","Gros objets et machines non électriques et non thermiques et leurs accessoires","Matériaux ou fibres synthétiques >90%","Compris entre 10 kg et 15 kg exclus","€/unité",0.75,0.75,{"$f":"VLOOKUP(J692,'Codes éco-part'!$C:$E,3,FALSE)","v":"328"},0.89999999999999991]
["REP ABJ",3,"21101650570",null,"Articles de bricolage","Gros objets et machines non électriques et non thermiques et leurs accessoires","Matériaux ou fibres synthétiques >90%","Compris entre 15 kg et 20 kg exclus","€/unité",1,1,{"$f":"VLOOKUP(J693,'Codes éco-part'!$C:$E,3,FALSE)","v":"056"},1.2]
["REP ABJ",3,"21101650580",null,"Articles de bricolage","Gros objets et machines non électriques et non thermiques et leurs accessoires","Matériaux ou fibres synthétiques >90%","Compris entre 20 kg et 25 kg exclus","€/unité",1.25,1.25,{"$f":"VLOOKUP(J694,'Codes éco-part'!$C:$E,3,FALSE)","v":"009"},1.5]
["REP ABJ",3,"21101650590",null,"Articles de bricolage","Gros objets et machines non électriques et non thermiques et leurs accessoires","Matériaux ou fibres synthétiques >90%","Compris entre 25 kg et 30 kg exclus","€/unité",1.5,1.5,{"$f":"VLOOKUP(J695,'Codes éco-part'!$C:$E,3,FALSE)","v":"059"},1.7999999999999998]
["REP ABJ",3,"21101650600",null,"Articles de bricolage","Gros objets et machines non électriques et non thermiques et leurs accessoires","Matériaux ou fibres synthétiques >90%","Compris entre 40 kg et 50 kg exclus","€/unité",2.5,2.5,{"$f":"VLOOKUP(J696,'Codes éco-part'!$C:$E,3,FALSE)","v":"012"},3]
["REP ABJ",3,"21101670000",null,"Articles de bricolage","Gros objets et machines non électriques et non thermiques et leurs accessoires","Assemblage matériaux ou fibres synthétiques >50% avec d'autres matériaux","Eléments de toutes dimensions et poids","€ / Tonne",75,75,{"$f":"VLOOKUP(J697,'Codes éco-part'!$C:$E,3,FALSE)","v":"192"},90]
["REP ABJ",3,"21101670200",null,"Articles de bricolage","Gros objets et machines non électriques et non thermiques et leurs accessoires","Assemblage matériaux ou fibres synthétiques >50% avec d'autres matériaux","Inférieur strictement à 0,5 kg","€/unité",0.02,0.02,{"$f":"VLOOKUP(J698,'Codes éco-part'!$C:$E,3,FALSE)","v":"047"},2.4E-2]
["REP ABJ",3,"21101670210",null,"Articles de bricolage","Gros objets et machines non électriques et non thermiques et leurs accessoires","Assemblage matériaux ou fibres synthétiques >50% avec d'autres matériaux","Compris entre 0,5 kg et 1 kg exclus","€/unité",0.06,0.06,{"$f":"VLOOKUP(J699,'Codes éco-part'!$C:$E,3,FALSE)","v":"096"},7.1999999999999995E-2]
["REP ABJ",3,"21101670220",null,"Articles de bricolage","Gros objets et machines non électriques et non thermiques et leurs accessoires","Assemblage matériaux ou fibres synthétiques >50% avec d'autres matériaux","Compris entre 1 kg et 2 kg exclus","€/unité",0.11,0.11,{"$f":"VLOOKUP(J700,'Codes éco-part'!$C:$E,3,FALSE)","v":"262"},0.13200000000000001]
["REP ABJ",3,"21101670270",null,"Articles de bricolage","Gros objets et machines non électriques et non thermiques et leurs accessoires","Assemblage matériaux ou fibres synthétiques >50% avec d'autres matériaux","Compris entre 30 kg et 40 kg exclus","€/unité",3,3,{"$f":"VLOOKUP(J701,'Codes éco-part'!$C:$E,3,FALSE)","v":"474"},3.5999999999999996]
["REP ABJ",3,"21101670520",null,"Articles de bricolage","Gros objets et machines non électriques et non thermiques et leurs accessoires","Assemblage matériaux ou fibres synthétiques >50% avec d'autres matériaux","Compris entre 2 kg et 3 kg exclus","€/unité",0.19,0.19,{"$f":"VLOOKUP(J702,'Codes éco-part'!$C:$E,3,FALSE)","v":"291"},0.22799999999999998]
["REP ABJ",3,"21101670530",null,"Articles de bricolage","Gros objets et machines non électriques et non thermiques et leurs accessoires","Assemblage matériaux ou fibres synthétiques >50% avec d'autres matériaux","Compris entre 3 kg et 5 kg exclus","€/unité",0.3,0.3,{"$f":"VLOOKUP(J703,'Codes éco-part'!$C:$E,3,FALSE)","v":"446"},0.36]
["REP ABJ",3,"21101670540",null,"Articles de bricolage","Gros objets et machines non électriques et non thermiques et leurs accessoires","Assemblage matériaux ou fibres synthétiques >50% avec d'autres matériaux","Compris entre 5 kg et 7 kg exclus","€/unité",0.53,0.53,{"$f":"VLOOKUP(J704,'Codes éco-part'!$C:$E,3,FALSE)","v":"451"},0.63600000000000001]
["REP ABJ",3,"21101670550",null,"Articles de bricolage","Gros objets et machines non électriques et non thermiques et leurs accessoires","Assemblage matériaux ou fibres synthétiques >50% avec d'autres matériaux","Compris entre 7 kg et 10 kg exclus","€/unité",0.75,0.75,{"$f":"VLOOKUP(J705,'Codes éco-part'!$C:$E,3,FALSE)","v":"328"},0.89999999999999991]
["REP ABJ",3,"21101670560",null,"Articles de bricolage","Gros objets et machines non électriques et non thermiques et leurs accessoires","Assemblage matériaux ou fibres synthétiques >50% avec d'autres matériaux","Compris entre 10 kg et 15 kg exclus","€/unité",1.1299999999999999,1.1299999999999999,{"$f":"VLOOKUP(J706,'Codes éco-part'!$C:$E,3,FALSE)","v":"331"},{"$f":"J706*1.2","v":1.3559999999999999}]
["REP ABJ",3,"21101670570",null,"Articles de bricolage","Gros objets et machines non électriques et non thermiques et leurs accessoires","Assemblage matériaux ou fibres synthétiques >50% avec d'autres matériaux","Compris entre 15 kg et 20 kg exclus","€/unité",1.5,1.5,{"$f":"VLOOKUP(J707,'Codes éco-part'!$C:$E,3,FALSE)","v":"059"},1.7999999999999998]
["REP ABJ",3,"21101670580",null,"Articles de bricolage","Gros objets et machines non électriques et non thermiques et leurs accessoires","Assemblage matériaux ou fibres synthétiques >50% avec d'autres matériaux","Compris entre 20 kg et 25 kg exclus","€/unité",1.88,1.88,{"$f":"VLOOKUP(J708,'Codes éco-part'!$C:$E,3,FALSE)","v":"335"},2.2559999999999998]
["REP ABJ",3,"21101670590",null,"Articles de bricolage","Gros objets et machines non électriques et non thermiques et leurs accessoires","Assemblage matériaux ou fibres synthétiques >50% avec d'autres matériaux","Compris entre 25 kg et 30 kg exclus","€/unité",2.25,2.25,{"$f":"VLOOKUP(J709,'Codes éco-part'!$C:$E,3,FALSE)","v":"118"},2.6999999999999997]
["REP ABJ",3,"21101670600",null,"Articles de bricolage","Gros objets et machines non électriques et non thermiques et leurs accessoires","Assemblage matériaux ou fibres synthétiques >50% avec d'autres matériaux","Compris entre 40 kg et 50 kg exclus","€/unité",3.75,3.75,{"$f":"VLOOKUP(J710,'Codes éco-part'!$C:$E,3,FALSE)","v":"015"},4.5]
["REP ABJ",3,"21101680000",null,"Articles de bricolage","Gros objets et machines non électriques et non thermiques et leurs accessoires","Verre >90%","Eléments de toutes dimensions et poids","€ / Tonne",5,5,{"$f":"VLOOKUP(J711,'Codes éco-part'!$C:$E,3,FALSE)","v":"042"},6]
["REP ABJ",3,"21101680200",null,"Articles de bricolage","Gros objets et machines non électriques et non thermiques et leurs accessoires","Verre >90%","Inférieur strictement à 0,5 kg","€/unité",0.01,0.01,{"$f":"VLOOKUP(J712,'Codes éco-part'!$C:$E,3,FALSE)","v":"260"},1.2E-2]
["REP ABJ",3,"21101680210",null,"Articles de bricolage","Gros objets et machines non électriques et non thermiques et leurs accessoires","Verre >90%","Compris entre 0,5 kg et 1 kg exclus","€/unité",0.01,0.01,{"$f":"VLOOKUP(J713,'Codes éco-part'!$C:$E,3,FALSE)","v":"260"},1.2E-2]
["REP ABJ",3,"21101680220",null,"Articles de bricolage","Gros objets et machines non électriques et non thermiques et leurs accessoires","Verre >90%","Compris entre 1 kg et 2 kg exclus","€/unité",0.01,0.01,{"$f":"VLOOKUP(J714,'Codes éco-part'!$C:$E,3,FALSE)","v":"260"},1.2E-2]
["REP ABJ",3,"21101680270",null,"Articles de bricolage","Gros objets et machines non électriques et non thermiques et leurs accessoires","Verre >90%","Compris entre 30 kg et 40 kg exclus","€/unité",0.2,0.2,{"$f":"VLOOKUP(J715,'Codes éco-part'!$C:$E,3,FALSE)","v":"101"},0.24]
["REP ABJ",3,"21101680520",null,"Articles de bricolage","Gros objets et machines non électriques et non thermiques et leurs accessoires","Verre >90%","Compris entre 2 kg et 3 kg exclus","€/unité",0.01,0.01,{"$f":"VLOOKUP(J716,'Codes éco-part'!$C:$E,3,FALSE)","v":"260"},1.2E-2]
["REP ABJ",3,"21101680530",null,"Articles de bricolage","Gros objets et machines non électriques et non thermiques et leurs accessoires","Verre >90%","Compris entre 3 kg et 5 kg exclus","€/unité",0.02,0.02,{"$f":"VLOOKUP(J717,'Codes éco-part'!$C:$E,3,FALSE)","v":"047"},2.4E-2]
["REP ABJ",3,"21101680540",null,"Articles de bricolage","Gros objets et machines non électriques et non thermiques et leurs accessoires","Verre >90%","Compris entre 5 kg et 7 kg exclus","€/unité",0.04,0.04,{"$f":"VLOOKUP(J718,'Codes éco-part'!$C:$E,3,FALSE)","v":"002"},4.8000000000000001E-2]
["REP ABJ",3,"21101680550",null,"Articles de bricolage","Gros objets et machines non électriques et non thermiques et leurs accessoires","Verre >90%","Compris entre 7 kg et 10 kg exclus","€/unité",0.05,0.05,{"$f":"VLOOKUP(J719,'Codes éco-part'!$C:$E,3,FALSE)","v":"048"},0.06]
["REP ABJ",3,"21101680560",null,"Articles de bricolage","Gros objets et machines non électriques et non thermiques et leurs accessoires","Verre >90%","Compris entre 10 kg et 15 kg exclus","€/unité",0.08,0.08,{"$f":"VLOOKUP(J720,'Codes éco-part'!$C:$E,3,FALSE)","v":"003"},9.6000000000000002E-2]
["REP ABJ",3,"21101680570",null,"Articles de bricolage","Gros objets et machines non électriques et non thermiques et leurs accessoires","Verre >90%","Compris entre 15 kg et 20 kg exclus","€/unité",0.1,0.1,{"$f":"VLOOKUP(J721,'Codes éco-part'!$C:$E,3,FALSE)","v":"094"},0.12]
["REP ABJ",3,"21101680580",null,"Articles de bricolage","Gros objets et machines non électriques et non thermiques et leurs accessoires","Verre >90%","Compris entre 20 kg et 25 kg exclus","€/unité",0.13,0.13,{"$f":"VLOOKUP(J722,'Codes éco-part'!$C:$E,3,FALSE)","v":"004"},0.156]
["REP ABJ",3,"21101680590",null,"Articles de bricolage","Gros objets et machines non électriques et non thermiques et leurs accessoires","Verre >90%","Compris entre 25 kg et 30 kg exclus","€/unité",0.15,0.15,{"$f":"VLOOKUP(J723,'Codes éco-part'!$C:$E,3,FALSE)","v":"050"},0.18]
["REP ABJ",3,"21101680600",null,"Articles de bricolage","Gros objets et machines non électriques et non thermiques et leurs accessoires","Verre >90%","Compris entre 40 kg et 50 kg exclus","€/unité",0.25,0.25,{"$f":"VLOOKUP(J724,'Codes éco-part'!$C:$E,3,FALSE)","v":"095"},0.3]
["REP ABJ",3,"21101700000",null,"Articles de bricolage","Gros objets et machines non électriques et non thermiques et leurs accessoires","Assemblage verre à plus de 50% avec métal","Eléments de toutes dimensions et poids","€ / Tonne",75,75,{"$f":"VLOOKUP(J725,'Codes éco-part'!$C:$E,3,FALSE)","v":"192"},90]
["REP ABJ",3,"21101700200",null,"Articles de bricolage","Gros objets et machines non électriques et non thermiques et leurs accessoires","Assemblage verre à plus de 50% avec métal","Inférieur strictement à 0,5 kg","€/unité",0.02,0.02,{"$f":"VLOOKUP(J726,'Codes éco-part'!$C:$E,3,FALSE)","v":"047"},2.4E-2]
["REP ABJ",3,"21101700210",null,"Articles de bricolage","Gros objets et machines non électriques et non thermiques et leurs accessoires","Assemblage verre à plus de 50% avec métal","Compris entre 0,5 kg et 1 kg exclus","€/unité",0.06,0.06,{"$f":"VLOOKUP(J727,'Codes éco-part'!$C:$E,3,FALSE)","v":"096"},7.1999999999999995E-2]
["REP ABJ",3,"21101700220",null,"Articles de bricolage","Gros objets et machines non électriques et non thermiques et leurs accessoires","Assemblage verre à plus de 50% avec métal","Compris entre 1 kg et 2 kg exclus","€/unité",0.11,0.11,{"$f":"VLOOKUP(J728,'Codes éco-part'!$C:$E,3,FALSE)","v":"262"},0.13200000000000001]
["REP ABJ",3,"21101700270",null,"Articles de bricolage","Gros objets et machines non électriques et non thermiques et leurs accessoires","Assemblage verre à plus de 50% avec métal","Compris entre 30 kg et 40 kg exclus","€/unité",3,3,{"$f":"VLOOKUP(J729,'Codes éco-part'!$C:$E,3,FALSE)","v":"474"},3.5999999999999996]
["REP ABJ",3,"21101700520",null,"Articles de bricolage","Gros objets et machines non électriques et non thermiques et leurs accessoires","Assemblage verre à plus de 50% avec métal","Compris entre 2 kg et 3 kg exclus","€/unité",0.19,0.19,{"$f":"VLOOKUP(J730,'Codes éco-part'!$C:$E,3,FALSE)","v":"291"},0.22799999999999998]
["REP ABJ",3,"21101700530",null,"Articles de bricolage","Gros objets et machines non électriques et non thermiques et leurs accessoires","Assemblage verre à plus de 50% avec métal","Compris entre 3 kg et 5 kg exclus","€/unité",0.3,0.3,{"$f":"VLOOKUP(J731,'Codes éco-part'!$C:$E,3,FALSE)","v":"446"},0.36]
["REP ABJ",3,"21101700540",null,"Articles de bricolage","Gros objets et machines non électriques et non thermiques et leurs accessoires","Assemblage verre à plus de 50% avec métal","Compris entre 5 kg et 7 kg exclus","€/unité",0.53,0.53,{"$f":"VLOOKUP(J732,'Codes éco-part'!$C:$E,3,FALSE)","v":"451"},0.63600000000000001]
["REP ABJ",3,"21101700550",null,"Articles de bricolage","Gros objets et machines non électriques et non thermiques et leurs accessoires","Assemblage verre à plus de 50% avec métal","Compris entre 7 kg et 10 kg exclus","€/unité",0.75,0.75,{"$f":"VLOOKUP(J733,'Codes éco-part'!$C:$E,3,FALSE)","v":"328"},0.89999999999999991]
["REP ABJ",3,"21101700560",null,"Articles de bricolage","Gros objets et machines non électriques et non thermiques et leurs accessoires","Assemblage verre à plus de 50% avec métal","Compris entre 10 kg et 15 kg exclus","€/unité",1.1299999999999999,1.1299999999999999,{"$f":"VLOOKUP(J734,'Codes éco-part'!$C:$E,3,FALSE)","v":"331"},1.3559999999999999]
["REP ABJ",3,"21101700570",null,"Articles de bricolage","Gros objets et machines non électriques et non thermiques et leurs accessoires","Assemblage verre à plus de 50% avec métal","Compris entre 15 kg et 20 kg exclus","€/unité",1.5,1.5,{"$f":"VLOOKUP(J735,'Codes éco-part'!$C:$E,3,FALSE)","v":"059"},1.7999999999999998]
["REP ABJ",3,"21101700580",null,"Articles de bricolage","Gros objets et machines non électriques et non thermiques et leurs accessoires","Assemblage verre à plus de 50% avec métal","Compris entre 20 kg et 25 kg exclus","€/unité",1.88,1.88,{"$f":"VLOOKUP(J736,'Codes éco-part'!$C:$E,3,FALSE)","v":"335"},2.2559999999999998]
["REP ABJ",3,"21101700590",null,"Articles de bricolage","Gros objets et machines non électriques et non thermiques et leurs accessoires","Assemblage verre à plus de 50% avec métal","Compris entre 25 kg et 30 kg exclus","€/unité",2.25,2.25,{"$f":"VLOOKUP(J737,'Codes éco-part'!$C:$E,3,FALSE)","v":"118"},2.6999999999999997]
["REP ABJ",3,"21101700600",null,"Articles de bricolage","Gros objets et machines non électriques et non thermiques et leurs accessoires","Assemblage verre à plus de 50% avec métal","Compris entre 40 kg et 50 kg exclus","€/unité",3.75,3.75,{"$f":"VLOOKUP(J738,'Codes éco-part'!$C:$E,3,FALSE)","v":"015"},4.5]
["REP ABJ",3,"21101710000",null,"Articles de bricolage","Gros objets et machines non électriques et non thermiques et leurs accessoires","Assemblage verre à plus de 50% avec Inerte","Eléments de toutes dimensions et poids","€ / Tonne",75,75,{"$f":"VLOOKUP(J739,'Codes éco-part'!$C:$E,3,FALSE)","v":"192"},90]
["REP ABJ",3,"21101710200",null,"Articles de bricolage","Gros objets et machines non électriques et non thermiques et leurs accessoires","Assemblage verre à plus de 50% avec Inerte","Inférieur strictement à 0,5 kg","€/unité",0.02,0.02,{"$f":"VLOOKUP(J740,'Codes éco-part'!$C:$E,3,FALSE)","v":"047"},2.4E-2]
["REP ABJ",3,"21101710210",null,"Articles de bricolage","Gros objets et machines non électriques et non thermiques et leurs accessoires","Assemblage verre à plus de 50% avec Inerte","Compris entre 0,5 kg et 1 kg exclus","€/unité",0.06,0.06,{"$f":"VLOOKUP(J741,'Codes éco-part'!$C:$E,3,FALSE)","v":"096"},7.1999999999999995E-2]
["REP ABJ",3,"21101710220",null,"Articles de bricolage","Gros objets et machines non électriques et non thermiques et leurs accessoires","Assemblage verre à plus de 50% avec Inerte","Compris entre 1 kg et 2 kg exclus","€/unité",0.11,0.11,{"$f":"VLOOKUP(J742,'Codes éco-part'!$C:$E,3,FALSE)","v":"262"},0.13200000000000001]
["REP ABJ",3,"21101710270",null,"Articles de bricolage","Gros objets et machines non électriques et non thermiques et leurs accessoires","Assemblage verre à plus de 50% avec Inerte","Compris entre 30 kg et 40 kg exclus","€/unité",3,3,{"$f":"VLOOKUP(J743,'Codes éco-part'!$C:$E,3,FALSE)","v":"474"},3.5999999999999996]
["REP ABJ",3,"21101710520",null,"Articles de bricolage","Gros objets et machines non électriques et non thermiques et leurs accessoires","Assemblage verre à plus de 50% avec Inerte","Compris entre 2 kg et 3 kg exclus","€/unité",0.19,0.19,{"$f":"VLOOKUP(J744,'Codes éco-part'!$C:$E,3,FALSE)","v":"291"},0.22799999999999998]
["REP ABJ",3,"21101710530",null,"Articles de bricolage","Gros objets et machines non électriques et non thermiques et leurs accessoires","Assemblage verre à plus de 50% avec Inerte","Compris entre 3 kg et 5 kg exclus","€/unité",0.3,0.3,{"$f":"VLOOKUP(J745,'Codes éco-part'!$C:$E,3,FALSE)","v":"446"},0.36]
["REP ABJ",3,"21101710540",null,"Articles de bricolage","Gros objets et machines non électriques et non thermiques et leurs accessoires","Assemblage verre à plus de 50% avec Inerte","Compris entre 5 kg et 7 kg exclus","€/unité",0.53,0.53,{"$f":"VLOOKUP(J746,'Codes éco-part'!$C:$E,3,FALSE)","v":"451"},0.63600000000000001]
["REP ABJ",3,"21101710550",null,"Articles de bricolage","Gros objets et machines non électriques et non thermiques et leurs accessoires","Assemblage verre à plus de 50% avec Inerte","Compris entre 7 kg et 10 kg exclus","€/unité",0.75,0.75,{"$f":"VLOOKUP(J747,'Codes éco-part'!$C:$E,3,FALSE)","v":"328"},0.89999999999999991]
["REP ABJ",3,"21101710560",null,"Articles de bricolage","Gros objets et machines non électriques et non thermiques et leurs accessoires","Assemblage verre à plus de 50% avec Inerte","Compris entre 10 kg et 15 kg exclus","€/unité",1.1299999999999999,1.1299999999999999,{"$f":"VLOOKUP(J748,'Codes éco-part'!$C:$E,3,FALSE)","v":"331"},1.3559999999999999]
["REP ABJ",3,"21101710570",null,"Articles de bricolage","Gros objets et machines non électriques et non thermiques et leurs accessoires","Assemblage verre à plus de 50% avec Inerte","Compris entre 15 kg et 20 kg exclus","€/unité",1.5,1.5,{"$f":"VLOOKUP(J749,'Codes éco-part'!$C:$E,3,FALSE)","v":"059"},1.7999999999999998]
["REP ABJ",3,"21101710580",null,"Articles de bricolage","Gros objets et machines non électriques et non thermiques et leurs accessoires","Assemblage verre à plus de 50% avec Inerte","Compris entre 20 kg et 25 kg exclus","€/unité",1.88,1.88,{"$f":"VLOOKUP(J750,'Codes éco-part'!$C:$E,3,FALSE)","v":"335"},2.2559999999999998]
["REP ABJ",3,"21101710590",null,"Articles de bricolage","Gros objets et machines non électriques et non thermiques et leurs accessoires","Assemblage verre à plus de 50% avec Inerte","Compris entre 25 kg et 30 kg exclus","€/unité",2.25,2.25,{"$f":"VLOOKUP(J751,'Codes éco-part'!$C:$E,3,FALSE)","v":"118"},2.6999999999999997]
["REP ABJ",3,"21101710600",null,"Articles de bricolage","Gros objets et machines non électriques et non thermiques et leurs accessoires","Assemblage verre à plus de 50% avec Inerte","Compris entre 40 kg et 50 kg exclus","€/unité",3.75,3.75,{"$f":"VLOOKUP(J752,'Codes éco-part'!$C:$E,3,FALSE)","v":"015"},4.5]
["REP ABJ",3,"21101720000",null,"Articles de bricolage","Gros objets et machines non électriques et non thermiques et leurs accessoires","Assemblage verre à plus de 50% avec bois ou dérivés de bois","Eléments de toutes dimensions et poids","€ / Tonne",75,75,{"$f":"VLOOKUP(J753,'Codes éco-part'!$C:$E,3,FALSE)","v":"192"},90]
["REP ABJ",3,"21101720200",null,"Articles de bricolage","Gros objets et machines non électriques et non thermiques et leurs accessoires","Assemblage verre à plus de 50% avec bois ou dérivés de bois","Inférieur strictement à 0,5 kg","€/unité",0.02,0.02,{"$f":"VLOOKUP(J754,'Codes éco-part'!$C:$E,3,FALSE)","v":"047"},2.4E-2]
["REP ABJ",3,"21101720210",null,"Articles de bricolage","Gros objets et machines non électriques et non thermiques et leurs accessoires","Assemblage verre à plus de 50% avec bois ou dérivés de bois","Compris entre 0,5 kg et 1 kg exclus","€/unité",0.06,0.06,{"$f":"VLOOKUP(J755,'Codes éco-part'!$C:$E,3,FALSE)","v":"096"},7.1999999999999995E-2]
["REP ABJ",3,"21101720220",null,"Articles de bricolage","Gros objets et machines non électriques et non thermiques et leurs accessoires","Assemblage verre à plus de 50% avec bois ou dérivés de bois","Compris entre 1 kg et 2 kg exclus","€/unité",0.11,0.11,{"$f":"VLOOKUP(J756,'Codes éco-part'!$C:$E,3,FALSE)","v":"262"},0.13200000000000001]
["REP ABJ",3,"21101720270",null,"Articles de bricolage","Gros objets et machines non électriques et non thermiques et leurs accessoires","Assemblage verre à plus de 50% avec bois ou dérivés de bois","Compris entre 30 kg et 40 kg exclus","€/unité",3,3,{"$f":"VLOOKUP(J757,'Codes éco-part'!$C:$E,3,FALSE)","v":"474"},3.5999999999999996]
["REP ABJ",3,"21101720520",null,"Articles de bricolage","Gros objets et machines non électriques et non thermiques et leurs accessoires","Assemblage verre à plus de 50% avec bois ou dérivés de bois","Compris entre 2 kg et 3 kg exclus","€/unité",0.19,0.19,{"$f":"VLOOKUP(J758,'Codes éco-part'!$C:$E,3,FALSE)","v":"291"},0.22799999999999998]
["REP ABJ",3,"21101720530",null,"Articles de bricolage","Gros objets et machines non électriques et non thermiques et leurs accessoires","Assemblage verre à plus de 50% avec bois ou dérivés de bois","Compris entre 3 kg et 5 kg exclus","€/unité",0.3,0.3,{"$f":"VLOOKUP(J759,'Codes éco-part'!$C:$E,3,FALSE)","v":"446"},0.36]
["REP ABJ",3,"21101720540",null,"Articles de bricolage","Gros objets et machines non électriques et non thermiques et leurs accessoires","Assemblage verre à plus de 50% avec bois ou dérivés de bois","Compris entre 5 kg et 7 kg exclus","€/unité",0.53,0.53,{"$f":"VLOOKUP(J760,'Codes éco-part'!$C:$E,3,FALSE)","v":"451"},0.63600000000000001]
["REP ABJ",3,"21101720550",null,"Articles de bricolage","Gros objets et machines non électriques et non thermiques et leurs accessoires","Assemblage verre à plus de 50% avec bois ou dérivés de bois","Compris entre 7 kg et 10 kg exclus","€/unité",0.75,0.75,{"$f":"VLOOKUP(J761,'Codes éco-part'!$C:$E,3,FALSE)","v":"328"},0.89999999999999991]
["REP ABJ",3,"21101720560",null,"Articles de bricolage","Gros objets et machines non électriques et non thermiques et leurs accessoires","Assemblage verre à plus de 50% avec bois ou dérivés de bois","Compris entre 10 kg et 15 kg exclus","€/unité",1.1299999999999999,1.1299999999999999,{"$f":"VLOOKUP(J762,'Codes éco-part'!$C:$E,3,FALSE)","v":"331"},1.3559999999999999]
["REP ABJ",3,"21101720570",null,"Articles de bricolage","Gros objets et machines non électriques et non thermiques et leurs accessoires","Assemblage verre à plus de 50% avec bois ou dérivés de bois","Compris entre 15 kg et 20 kg exclus","€/unité",1.5,1.5,{"$f":"VLOOKUP(J763,'Codes éco-part'!$C:$E,3,FALSE)","v":"059"},1.7999999999999998]
["REP ABJ",3,"21101720580",null,"Articles de bricolage","Gros objets et machines non électriques et non thermiques et leurs accessoires","Assemblage verre à plus de 50% avec bois ou dérivés de bois","Compris entre 20 kg et 25 kg exclus","€/unité",1.88,1.88,{"$f":"VLOOKUP(J764,'Codes éco-part'!$C:$E,3,FALSE)","v":"335"},2.2559999999999998]
["REP ABJ",3,"21101720590",null,"Articles de bricolage","Gros objets et machines non électriques et non thermiques et leurs accessoires","Assemblage verre à plus de 50% avec bois ou dérivés de bois","Compris entre 25 kg et 30 kg exclus","€/unité",2.25,2.25,{"$f":"VLOOKUP(J765,'Codes éco-part'!$C:$E,3,FALSE)","v":"118"},2.6999999999999997]
["REP ABJ",3,"21101720600",null,"Articles de bricolage","Gros objets et machines non électriques et non thermiques et leurs accessoires","Assemblage verre à plus de 50% avec bois ou dérivés de bois","Compris entre 40 kg et 50 kg exclus","€/unité",3.75,3.75,{"$f":"VLOOKUP(J766,'Codes éco-part'!$C:$E,3,FALSE)","v":"015"},4.5]
["REP ABJ",3,"21101730000",null,"Articles de bricolage","Gros objets et machines non électriques et non thermiques et leurs accessoires","Assemblage verre à plus de 50% avec plastique","Eléments de toutes dimensions et poids","€ / Tonne",75,75,{"$f":"VLOOKUP(J767,'Codes éco-part'!$C:$E,3,FALSE)","v":"192"},90]
["REP ABJ",3,"21101730200",null,"Articles de bricolage","Gros objets et machines non électriques et non thermiques et leurs accessoires","Assemblage verre à plus de 50% avec plastique","Inférieur strictement à 0,5 kg","€/unité",0.02,0.02,{"$f":"VLOOKUP(J768,'Codes éco-part'!$C:$E,3,FALSE)","v":"047"},2.4E-2]
["REP ABJ",3,"21101730210",null,"Articles de bricolage","Gros objets et machines non électriques et non thermiques et leurs accessoires","Assemblage verre à plus de 50% avec plastique","Compris entre 0,5 kg et 1 kg exclus","€/unité",0.06,0.06,{"$f":"VLOOKUP(J769,'Codes éco-part'!$C:$E,3,FALSE)","v":"096"},7.1999999999999995E-2]
["REP ABJ",3,"21101730220",null,"Articles de bricolage","Gros objets et machines non électriques et non thermiques et leurs accessoires","Assemblage verre à plus de 50% avec plastique","Compris entre 1 kg et 2 kg exclus","€/unité",0.11,0.11,{"$f":"VLOOKUP(J770,'Codes éco-part'!$C:$E,3,FALSE)","v":"262"},{"$f":"J770*1.2","v":0.13200000000000001}]
["REP ABJ",3,"21101730270",null,"Articles de bricolage","Gros objets et machines non électriques et non thermiques et leurs accessoires","Assemblage verre à plus de 50% avec plastique","Compris entre 30 kg et 40 kg exclus","€/unité",3,3,{"$f":"VLOOKUP(J771,'Codes éco-part'!$C:$E,3,FALSE)","v":"474"},3.5999999999999996]
["REP ABJ",3,"21101730520",null,"Articles de bricolage","Gros objets et machines non électriques et non thermiques et leurs accessoires","Assemblage verre à plus de 50% avec plastique","Compris entre 2 kg et 3 kg exclus","€/unité",0.19,0.19,{"$f":"VLOOKUP(J772,'Codes éco-part'!$C:$E,3,FALSE)","v":"291"},0.22799999999999998]
["REP ABJ",3,"21101730530",null,"Articles de bricolage","Gros objets et machines non électriques et non thermiques et leurs accessoires","Assemblage verre à plus de 50% avec plastique","Compris entre 3 kg et 5 kg exclus","€/unité",0.3,0.3,{"$f":"VLOOKUP(J773,'Codes éco-part'!$C:$E,3,FALSE)","v":"446"},0.36]
["REP ABJ",3,"21101730540",null,"Articles de bricolage","Gros objets et machines non électriques et non thermiques et leurs accessoires","Assemblage verre à plus de 50% avec plastique","Compris entre 5 kg et 7 kg exclus","€/unité",0.53,0.53,{"$f":"VLOOKUP(J774,'Codes éco-part'!$C:$E,3,FALSE)","v":"451"},0.63600000000000001]
["REP ABJ",3,"21101730550",null,"Articles de bricolage","Gros objets et machines non électriques et non thermiques et leurs accessoires","Assemblage verre à plus de 50% avec plastique","Compris entre 7 kg et 10 kg exclus","€/unité",0.75,0.75,{"$f":"VLOOKUP(J775,'Codes éco-part'!$C:$E,3,FALSE)","v":"328"},0.89999999999999991]
["REP ABJ",3,"21101730560",null,"Articles de bricolage","Gros objets et machines non électriques et non thermiques et leurs accessoires","Assemblage verre à plus de 50% avec plastique","Compris entre 10 kg et 15 kg exclus","€/unité",1.1299999999999999,1.1299999999999999,{"$f":"VLOOKUP(J776,'Codes éco-part'!$C:$E,3,FALSE)","v":"331"},1.3559999999999999]
["REP ABJ",3,"21101730570",null,"Articles de bricolage","Gros objets et machines non électriques et non thermiques et leurs accessoires","Assemblage verre à plus de 50% avec plastique","Compris entre 15 kg et 20 kg exclus","€/unité",1.5,1.5,{"$f":"VLOOKUP(J777,'Codes éco-part'!$C:$E,3,FALSE)","v":"059"},1.7999999999999998]
["REP ABJ",3,"21101730580",null,"Articles de bricolage","Gros objets et machines non électriques et non thermiques et leurs accessoires","Assemblage verre à plus de 50% avec plastique","Compris entre 20 kg et 25 kg exclus","€/unité",1.88,1.88,{"$f":"VLOOKUP(J778,'Codes éco-part'!$C:$E,3,FALSE)","v":"335"},2.2559999999999998]
["REP ABJ",3,"21101730590",null,"Articles de bricolage","Gros objets et machines non électriques et non thermiques et leurs accessoires","Assemblage verre à plus de 50% avec plastique","Compris entre 25 kg et 30 kg exclus","€/unité",2.25,2.25,{"$f":"VLOOKUP(J779,'Codes éco-part'!$C:$E,3,FALSE)","v":"118"},2.6999999999999997]
["REP ABJ",3,"21101730600",null,"Articles de bricolage","Gros objets et machines non électriques et non thermiques et leurs accessoires","Assemblage verre à plus de 50% avec plastique","Compris entre 40 kg et 50 kg exclus","€/unité",3.75,3.75,{"$f":"VLOOKUP(J780,'Codes éco-part'!$C:$E,3,FALSE)","v":"015"},4.5]
["REP ABJ",3,"21101740000",null,"Articles de bricolage","Gros objets et machines non électriques et non thermiques et leurs accessoires","Béton >90%","Eléments de toutes dimensions et poids","€ / Tonne",5,5,{"$f":"VLOOKUP(J781,'Codes éco-part'!$C:$E,3,FALSE)","v":"042"},6]
["REP ABJ",3,"21101740200",null,"Articles de bricolage","Gros objets et machines non électriques et non thermiques et leurs accessoires","Béton >90%","Inférieur strictement à 0,5 kg","€/unité",0.01,0.01,{"$f":"VLOOKUP(J782,'Codes éco-part'!$C:$E,3,FALSE)","v":"260"},1.2E-2]
["REP ABJ",3,"21101740210",null,"Articles de bricolage","Gros objets et machines non électriques et non thermiques et leurs accessoires","Béton >90%","Compris entre 0,5 kg et 1 kg exclus","€/unité",0.01,0.01,{"$f":"VLOOKUP(J783,'Codes éco-part'!$C:$E,3,FALSE)","v":"260"},1.2E-2]
["REP ABJ",3,"21101740220",null,"Articles de bricolage","Gros objets et machines non électriques et non thermiques et leurs accessoires","Béton >90%","Compris entre 1 kg et 2 kg exclus","€/unité",0.01,0.01,{"$f":"VLOOKUP(J784,'Codes éco-part'!$C:$E,3,FALSE)","v":"260"},1.2E-2]
["REP ABJ",3,"21101740270",null,"Articles de bricolage","Gros objets et machines non électriques et non thermiques et leurs accessoires","Béton >90%","Compris entre 30 kg et 40 kg exclus","€/unité",0.2,0.2,{"$f":"VLOOKUP(J785,'Codes éco-part'!$C:$E,3,FALSE)","v":"101"},0.24]
["REP ABJ",3,"21101740520",null,"Articles de bricolage","Gros objets et machines non électriques et non thermiques et leurs accessoires","Béton >90%","Compris entre 2 kg et 3 kg exclus","€/unité",0.01,0.01,{"$f":"VLOOKUP(J786,'Codes éco-part'!$C:$E,3,FALSE)","v":"260"},1.2E-2]
["REP ABJ",3,"21101740530",null,"Articles de bricolage","Gros objets et machines non électriques et non thermiques et leurs accessoires","Béton >90%","Compris entre 3 kg et 5 kg exclus","€/unité",0.02,0.02,{"$f":"VLOOKUP(J787,'Codes éco-part'!$C:$E,3,FALSE)","v":"047"},2.4E-2]
["REP ABJ",3,"21101740540",null,"Articles de bricolage","Gros objets et machines non électriques et non thermiques et leurs accessoires","Béton >90%","Compris entre 5 kg et 7 kg exclus","€/unité",0.04,0.04,{"$f":"VLOOKUP(J788,'Codes éco-part'!$C:$E,3,FALSE)","v":"002"},4.8000000000000001E-2]
["REP ABJ",3,"21101740550",null,"Articles de bricolage","Gros objets et machines non électriques et non thermiques et leurs accessoires","Béton >90%","Compris entre 7 kg et 10 kg exclus","€/unité",0.05,0.05,{"$f":"VLOOKUP(J789,'Codes éco-part'!$C:$E,3,FALSE)","v":"048"},0.06]
["REP ABJ",3,"21101740560",null,"Articles de bricolage","Gros objets et machines non électriques et non thermiques et leurs accessoires","Béton >90%","Compris entre 10 kg et 15 kg exclus","€/unité",0.08,0.08,{"$f":"VLOOKUP(J790,'Codes éco-part'!$C:$E,3,FALSE)","v":"003"},9.6000000000000002E-2]
["REP ABJ",3,"21101740570",null,"Articles de bricolage","Gros objets et machines non électriques et non thermiques et leurs accessoires","Béton >90%","Compris entre 15 kg et 20 kg exclus","€/unité",0.1,0.1,{"$f":"VLOOKUP(J791,'Codes éco-part'!$C:$E,3,FALSE)","v":"094"},0.12]
["REP ABJ",3,"21101740580",null,"Articles de bricolage","Gros objets et machines non électriques et non thermiques et leurs accessoires","Béton >90%","Compris entre 20 kg et 25 kg exclus","€/unité",0.13,0.13,{"$f":"VLOOKUP(J792,'Codes éco-part'!$C:$E,3,FALSE)","v":"004"},0.156]
["REP ABJ",3,"21101740590",null,"Articles de bricolage","Gros objets et machines non électriques et non thermiques et leurs accessoires","Béton >90%","Compris entre 25 kg et 30 kg exclus","€/unité",0.15,0.15,{"$f":"VLOOKUP(J793,'Codes éco-part'!$C:$E,3,FALSE)","v":"050"},0.18]
["REP ABJ",3,"21101740600",null,"Articles de bricolage","Gros objets et machines non électriques et non thermiques et leurs accessoires","Béton >90%","Compris entre 40 kg et 50 kg exclus","€/unité",0.25,0.25,{"$f":"VLOOKUP(J794,'Codes éco-part'!$C:$E,3,FALSE)","v":"095"},0.3]
["REP ABJ",3,"21101810000",null,"Articles de bricolage","Gros objets et machines non électriques et non thermiques et leurs accessoires","Assemblage dont la composition conjointe en bois, dérivés de bois et en métal dépasse 90%","Eléments de toutes dimensions et poids","€ / Tonne",10,10,{"$f":"VLOOKUP(J795,'Codes éco-part'!$C:$E,3,FALSE)","v":"138"},12]
["REP ABJ",3,"21101810200",null,"Articles de bricolage","Gros objets et machines non électriques et non thermiques et leurs accessoires","Assemblage dont la composition conjointe en bois, dérivés de bois et en métal dépasse 90%","Inférieur strictement à 0,5 kg","€/unité",0.01,0.01,{"$f":"VLOOKUP(J796,'Codes éco-part'!$C:$E,3,FALSE)","v":"260"},1.2E-2]
["REP ABJ",3,"21101810210",null,"Articles de bricolage","Gros objets et machines non électriques et non thermiques et leurs accessoires","Assemblage dont la composition conjointe en bois, dérivés de bois et en métal dépasse 90%","Compris entre 0,5 kg et 1 kg exclus","€/unité",0.01,0.01,{"$f":"VLOOKUP(J797,'Codes éco-part'!$C:$E,3,FALSE)","v":"260"},1.2E-2]
["REP ABJ",3,"21101810220",null,"Articles de bricolage","Gros objets et machines non électriques et non thermiques et leurs accessoires","Assemblage dont la composition conjointe en bois, dérivés de bois et en métal dépasse 90%","Compris entre 1 kg et 2 kg exclus","€/unité",0.02,0.02,{"$f":"VLOOKUP(J798,'Codes éco-part'!$C:$E,3,FALSE)","v":"047"},2.4E-2]
["REP ABJ",3,"21101810270",null,"Articles de bricolage","Gros objets et machines non électriques et non thermiques et leurs accessoires","Assemblage dont la composition conjointe en bois, dérivés de bois et en métal dépasse 90%","Compris entre 30 kg et 40 kg exclus","€/unité",0.4,0.4,{"$f":"VLOOKUP(J799,'Codes éco-part'!$C:$E,3,FALSE)","v":"105"},0.48]
["REP ABJ",3,"21101810520",null,"Articles de bricolage","Gros objets et machines non électriques et non thermiques et leurs accessoires","Assemblage dont la composition conjointe en bois, dérivés de bois et en métal dépasse 90%","Compris entre 2 kg et 3 kg exclus","€/unité",0.03,0.03,{"$f":"VLOOKUP(J800,'Codes éco-part'!$C:$E,3,FALSE)","v":"092"},3.5999999999999997E-2]
["REP ABJ",3,"21101810530",null,"Articles de bricolage","Gros objets et machines non électriques et non thermiques et leurs accessoires","Assemblage dont la composition conjointe en bois, dérivés de bois et en métal dépasse 90%","Compris entre 3 kg et 5 kg exclus","€/unité",0.04,0.04,{"$f":"VLOOKUP(J801,'Codes éco-part'!$C:$E,3,FALSE)","v":"002"},4.8000000000000001E-2]
["REP ABJ",3,"21101810540",null,"Articles de bricolage","Gros objets et machines non électriques et non thermiques et leurs accessoires","Assemblage dont la composition conjointe en bois, dérivés de bois et en métal dépasse 90%","Compris entre 5 kg et 7 kg exclus","€/unité",7.0000000000000007E-2,7.0000000000000007E-2,{"$f":"VLOOKUP(J802,'Codes éco-part'!$C:$E,3,FALSE)","v":"247"},8.4000000000000005E-2]
["REP ABJ",3,"21101810550",null,"Articles de bricolage","Gros objets et machines non électriques et non thermiques et leurs accessoires","Assemblage dont la composition conjointe en bois, dérivés de bois et en métal dépasse 90%","Compris entre 7 kg et 10 kg exclus","€/unité",0.1,0.1,{"$f":"VLOOKUP(J803,'Codes éco-part'!$C:$E,3,FALSE)","v":"094"},0.12]
["REP ABJ",3,"21101810560",null,"Articles de bricolage","Gros objets et machines non électriques et non thermiques et leurs accessoires","Assemblage dont la composition conjointe en bois, dérivés de bois et en métal dépasse 90%","Compris entre 10 kg et 15 kg exclus","€/unité",0.15,0.15,{"$f":"VLOOKUP(J804,'Codes éco-part'!$C:$E,3,FALSE)","v":"050"},0.18]
["REP ABJ",3,"21101810570",null,"Articles de bricolage","Gros objets et machines non électriques et non thermiques et leurs accessoires","Assemblage dont la composition conjointe en bois, dérivés de bois et en métal dépasse 90%","Compris entre 15 kg et 20 kg exclus","€/unité",0.2,0.2,{"$f":"VLOOKUP(J805,'Codes éco-part'!$C:$E,3,FALSE)","v":"101"},0.24]
["REP ABJ",3,"21101810580",null,"Articles de bricolage","Gros objets et machines non électriques et non thermiques et leurs accessoires","Assemblage dont la composition conjointe en bois, dérivés de bois et en métal dépasse 90%","Compris entre 20 kg et 25 kg exclus","€/unité",0.25,0.25,{"$f":"VLOOKUP(J806,'Codes éco-part'!$C:$E,3,FALSE)","v":"095"},0.3]
["REP ABJ",3,"21101810590",null,"Articles de bricolage","Gros objets et machines non électriques et non thermiques et leurs accessoires","Assemblage dont la composition conjointe en bois, dérivés de bois et en métal dépasse 90%","Compris entre 25 kg et 30 kg exclus","€/unité",0.3,0.3,{"$f":"VLOOKUP(J807,'Codes éco-part'!$C:$E,3,FALSE)","v":"446"},0.36]
["REP ABJ",3,"21101810600",null,"Articles de bricolage","Gros objets et machines non électriques et non thermiques et leurs accessoires","Assemblage dont la composition conjointe en bois, dérivés de bois et en métal dépasse 90%","Compris entre 40 kg et 50 kg exclus","€/unité",0.5,0.5,{"$f":"VLOOKUP(J808,'Codes éco-part'!$C:$E,3,FALSE)","v":"053"},0.6]
["REP ABJ",3,"21101820000",null,"Articles de bricolage","Gros objets et machines non électriques et non thermiques et leurs accessoires","Assemblage de 3 matériaux ou plus sans un matériau à plus de 50%","Eléments de toutes dimensions et poids","€ / Tonne",75,75,{"$f":"VLOOKUP(J809,'Codes éco-part'!$C:$E,3,FALSE)","v":"192"},90]
["REP ABJ",3,"21101820200",null,"Articles de bricolage","Gros objets et machines non électriques et non thermiques et leurs accessoires","Assemblage de 3 matériaux ou plus sans un matériau à plus de 50%","Inférieur strictement à 0,5 kg","€/unité",0.02,0.02,{"$f":"VLOOKUP(J810,'Codes éco-part'!$C:$E,3,FALSE)","v":"047"},2.4E-2]
["REP ABJ",3,"21101820210",null,"Articles de bricolage","Gros objets et machines non électriques et non thermiques et leurs accessoires","Assemblage de 3 matériaux ou plus sans un matériau à plus de 50%","Compris entre 0,5 kg et 1 kg exclus","€/unité",0.06,0.06,{"$f":"VLOOKUP(J811,'Codes éco-part'!$C:$E,3,FALSE)","v":"096"},7.1999999999999995E-2]
["REP ABJ",3,"21101820220",null,"Articles de bricolage","Gros objets et machines non électriques et non thermiques et leurs accessoires","Assemblage de 3 matériaux ou plus sans un matériau à plus de 50%","Compris entre 1 kg et 2 kg exclus","€/unité",0.11,0.11,{"$f":"VLOOKUP(J812,'Codes éco-part'!$C:$E,3,FALSE)","v":"262"},0.13200000000000001]
["REP ABJ",3,"21101820270",null,"Articles de bricolage","Gros objets et machines non électriques et non thermiques et leurs accessoires","Assemblage de 3 matériaux ou plus sans un matériau à plus de 50%","Compris entre 30 kg et 40 kg exclus","€/unité",3,3,{"$f":"VLOOKUP(J813,'Codes éco-part'!$C:$E,3,FALSE)","v":"474"},3.5999999999999996]
["REP ABJ",3,"21101820520",null,"Articles de bricolage","Gros objets et machines non électriques et non thermiques et leurs accessoires","Assemblage de 3 matériaux ou plus sans un matériau à plus de 50%","Compris entre 2 kg et 3 kg exclus","€/unité",0.19,0.19,{"$f":"VLOOKUP(J814,'Codes éco-part'!$C:$E,3,FALSE)","v":"291"},0.22799999999999998]
["REP ABJ",3,"21101820530",null,"Articles de bricolage","Gros objets et machines non électriques et non thermiques et leurs accessoires","Assemblage de 3 matériaux ou plus sans un matériau à plus de 50%","Compris entre 3 kg et 5 kg exclus","€/unité",0.3,0.3,{"$f":"VLOOKUP(J815,'Codes éco-part'!$C:$E,3,FALSE)","v":"446"},0.36]
["REP ABJ",3,"21101820540",null,"Articles de bricolage","Gros objets et machines non électriques et non thermiques et leurs accessoires","Assemblage de 3 matériaux ou plus sans un matériau à plus de 50%","Compris entre 5 kg et 7 kg exclus","€/unité",0.53,0.53,{"$f":"VLOOKUP(J816,'Codes éco-part'!$C:$E,3,FALSE)","v":"451"},0.63600000000000001]
["REP ABJ",3,"21101820550",null,"Articles de bricolage","Gros objets et machines non électriques et non thermiques et leurs accessoires","Assemblage de 3 matériaux ou plus sans un matériau à plus de 50%","Compris entre 7 kg et 10 kg exclus","€/unité",0.75,0.75,{"$f":"VLOOKUP(J817,'Codes éco-part'!$C:$E,3,FALSE)","v":"328"},0.89999999999999991]
["REP ABJ",3,"21101820560",null,"Articles de bricolage","Gros objets et machines non électriques et non thermiques et leurs accessoires","Assemblage de 3 matériaux ou plus sans un matériau à plus de 50%","Compris entre 10 kg et 15 kg exclus","€/unité",1.1299999999999999,1.1299999999999999,{"$f":"VLOOKUP(J818,'Codes éco-part'!$C:$E,3,FALSE)","v":"331"},1.3559999999999999]
["REP ABJ",3,"21101820570",null,"Articles de bricolage","Gros objets et machines non électriques et non thermiques et leurs accessoires","Assemblage de 3 matériaux ou plus sans un matériau à plus de 50%","Compris entre 15 kg et 20 kg exclus","€/unité",1.5,1.5,{"$f":"VLOOKUP(J819,'Codes éco-part'!$C:$E,3,FALSE)","v":"059"},1.7999999999999998]
["REP ABJ",3,"21101820580",null,"Articles de bricolage","Gros objets et machines non électriques et non thermiques et leurs accessoires","Assemblage de 3 matériaux ou plus sans un matériau à plus de 50%","Compris entre 20 kg et 25 kg exclus","€/unité",1.88,1.88,{"$f":"VLOOKUP(J820,'Codes éco-part'!$C:$E,3,FALSE)","v":"335"},2.2559999999999998]
["REP ABJ",3,"21101820590",null,"Articles de bricolage","Gros objets et machines non électriques et non thermiques et leurs accessoires","Assemblage de 3 matériaux ou plus sans un matériau à plus de 50%","Compris entre 25 kg et 30 kg exclus","€/unité",2.25,2.25,{"$f":"VLOOKUP(J821,'Codes éco-part'!$C:$E,3,FALSE)","v":"118"},2.6999999999999997]
["REP ABJ",3,"21101820600",null,"Articles de bricolage","Gros objets et machines non électriques et non thermiques et leurs accessoires","Assemblage de 3 matériaux ou plus sans un matériau à plus de 50%","Compris entre 40 kg et 50 kg exclus","€/unité",3.75,3.75,{"$f":"VLOOKUP(J822,'Codes éco-part'!$C:$E,3,FALSE)","v":"015"},4.5]
["REP ABJ",3,"21101840000",null,"Articles de bricolage","Gros objets et machines non électriques et non thermiques et leurs accessoires","Ardoise >90%","Eléments de toutes dimensions et poids","€ / Tonne",5,5,{"$f":"VLOOKUP(J823,'Codes éco-part'!$C:$E,3,FALSE)","v":"042"},6]
["REP ABJ",3,"21101840200",null,"Articles de bricolage","Gros objets et machines non électriques et non thermiques et leurs accessoires","Ardoise >90%","Inférieur strictement à 0,5 kg","€/unité",0.01,0.01,{"$f":"VLOOKUP(J824,'Codes éco-part'!$C:$E,3,FALSE)","v":"260"},1.2E-2]
["REP ABJ",3,"21101840210",null,"Articles de bricolage","Gros objets et machines non électriques et non thermiques et leurs accessoires","Ardoise >90%","Compris entre 0,5 kg et 1 kg exclus","€/unité",0.01,0.01,{"$f":"VLOOKUP(J825,'Codes éco-part'!$C:$E,3,FALSE)","v":"260"},1.2E-2]
["REP ABJ",3,"21101840220",null,"Articles de bricolage","Gros objets et machines non électriques et non thermiques et leurs accessoires","Ardoise >90%","Compris entre 1 kg et 2 kg exclus","€/unité",0.01,0.01,{"$f":"VLOOKUP(J826,'Codes éco-part'!$C:$E,3,FALSE)","v":"260"},1.2E-2]
["REP ABJ",3,"21101840270",null,"Articles de bricolage","Gros objets et machines non électriques et non thermiques et leurs accessoires","Ardoise >90%","Compris entre 30 kg et 40 kg exclus","€/unité",0.2,0.2,{"$f":"VLOOKUP(J827,'Codes éco-part'!$C:$E,3,FALSE)","v":"101"},0.24]
["REP ABJ",3,"21101840520",null,"Articles de bricolage","Gros objets et machines non électriques et non thermiques et leurs accessoires","Ardoise >90%","Compris entre 2 kg et 3 kg exclus","€/unité",0.01,0.01,{"$f":"VLOOKUP(J828,'Codes éco-part'!$C:$E,3,FALSE)","v":"260"},1.2E-2]
["REP ABJ",3,"21101840530",null,"Articles de bricolage","Gros objets et machines non électriques et non thermiques et leurs accessoires","Ardoise >90%","Compris entre 3 kg et 5 kg exclus","€/unité",0.02,0.02,{"$f":"VLOOKUP(J829,'Codes éco-part'!$C:$E,3,FALSE)","v":"047"},2.4E-2]
["REP ABJ",3,"21101840540",null,"Articles de bricolage","Gros objets et machines non électriques et non thermiques et leurs accessoires","Ardoise >90%","Compris entre 5 kg et 7 kg exclus","€/unité",0.04,0.04,{"$f":"VLOOKUP(J830,'Codes éco-part'!$C:$E,3,FALSE)","v":"002"},4.8000000000000001E-2]
["REP ABJ",3,"21101840550",null,"Articles de bricolage","Gros objets et machines non électriques et non thermiques et leurs accessoires","Ardoise >90%","Compris entre 7 kg et 10 kg exclus","€/unité",0.05,0.05,{"$f":"VLOOKUP(J831,'Codes éco-part'!$C:$E,3,FALSE)","v":"048"},0.06]
["REP ABJ",3,"21101840560",null,"Articles de bricolage","Gros objets et machines non électriques et non thermiques et leurs accessoires","Ardoise >90%","Compris entre 10 kg et 15 kg exclus","€/unité",0.08,0.08,{"$f":"VLOOKUP(J832,'Codes éco-part'!$C:$E,3,FALSE)","v":"003"},9.6000000000000002E-2]
["REP ABJ",3,"21101840570",null,"Articles de bricolage","Gros objets et machines non électriques et non thermiques et leurs accessoires","Ardoise >90%","Compris entre 15 kg et 20 kg exclus","€/unité",0.1,0.1,{"$f":"VLOOKUP(J833,'Codes éco-part'!$C:$E,3,FALSE)","v":"094"},0.12]
["REP ABJ",3,"21101840580",null,"Articles de bricolage","Gros objets et machines non électriques et non thermiques et leurs accessoires","Ardoise >90%","Compris entre 20 kg et 25 kg exclus","€/unité",0.13,0.13,{"$f":"VLOOKUP(J834,'Codes éco-part'!$C:$E,3,FALSE)","v":"004"},{"$f":"J834*1.2","v":0.156}]
["REP ABJ",3,"21101840590",null,"Articles de bricolage","Gros objets et machines non électriques et non thermiques et leurs accessoires","Ardoise >90%","Compris entre 25 kg et 30 kg exclus","€/unité",0.15,0.15,{"$f":"VLOOKUP(J835,'Codes éco-part'!$C:$E,3,FALSE)","v":"050"},0.18]
["REP ABJ",3,"21101840600",null,"Articles de bricolage","Gros objets et machines non électriques et non thermiques et leurs accessoires","Ardoise >90%","Compris entre 40 kg et 50 kg exclus","€/unité",0.25,0.25,{"$f":"VLOOKUP(J836,'Codes éco-part'!$C:$E,3,FALSE)","v":"095"},0.3]
["REP ABJ",3,"21101860000",null,"Articles de bricolage","Gros objets et machines non électriques et non thermiques et leurs accessoires","Pierre calcaire >90%","Eléments de toutes dimensions et poids","€ / Tonne",5,5,{"$f":"VLOOKUP(J837,'Codes éco-part'!$C:$E,3,FALSE)","v":"042"},6]
["REP ABJ",3,"21101860200",null,"Articles de bricolage","Gros objets et machines non électriques et non thermiques et leurs accessoires","Pierre calcaire >90%","Inférieur strictement à 0,5 kg","€/unité",0.01,0.01,{"$f":"VLOOKUP(J838,'Codes éco-part'!$C:$E,3,FALSE)","v":"260"},1.2E-2]
["REP ABJ",3,"21101860210",null,"Articles de bricolage","Gros objets et machines non électriques et non thermiques et leurs accessoires","Pierre calcaire >90%","Compris entre 0,5 kg et 1 kg exclus","€/unité",0.01,0.01,{"$f":"VLOOKUP(J839,'Codes éco-part'!$C:$E,3,FALSE)","v":"260"},1.2E-2]
["REP ABJ",3,"21101860220",null,"Articles de bricolage","Gros objets et machines non électriques et non thermiques et leurs accessoires","Pierre calcaire >90%","Compris entre 1 kg et 2 kg exclus","€/unité",0.01,0.01,{"$f":"VLOOKUP(J840,'Codes éco-part'!$C:$E,3,FALSE)","v":"260"},1.2E-2]
["REP ABJ",3,"21101860270",null,"Articles de bricolage","Gros objets et machines non électriques et non thermiques et leurs accessoires","Pierre calcaire >90%","Compris entre 30 kg et 40 kg exclus","€/unité",0.2,0.2,{"$f":"VLOOKUP(J841,'Codes éco-part'!$C:$E,3,FALSE)","v":"101"},0.24]
["REP ABJ",3,"21101860520",null,"Articles de bricolage","Gros objets et machines non électriques et non thermiques et leurs accessoires","Pierre calcaire >90%","Compris entre 2 kg et 3 kg exclus","€/unité",0.01,0.01,{"$f":"VLOOKUP(J842,'Codes éco-part'!$C:$E,3,FALSE)","v":"260"},1.2E-2]
["REP ABJ",3,"21101860530",null,"Articles de bricolage","Gros objets et machines non électriques et non thermiques et leurs accessoires","Pierre calcaire >90%","Compris entre 3 kg et 5 kg exclus","€/unité",0.02,0.02,{"$f":"VLOOKUP(J843,'Codes éco-part'!$C:$E,3,FALSE)","v":"047"},2.4E-2]
["REP ABJ",3,"21101860540",null,"Articles de bricolage","Gros objets et machines non électriques et non thermiques et leurs accessoires","Pierre calcaire >90%","Compris entre 5 kg et 7 kg exclus","€/unité",0.04,0.04,{"$f":"VLOOKUP(J844,'Codes éco-part'!$C:$E,3,FALSE)","v":"002"},4.8000000000000001E-2]
["REP ABJ",3,"21101860550",null,"Articles de bricolage","Gros objets et machines non électriques et non thermiques et leurs accessoires","Pierre calcaire >90%","Compris entre 7 kg et 10 kg exclus","€/unité",0.05,0.05,{"$f":"VLOOKUP(J845,'Codes éco-part'!$C:$E,3,FALSE)","v":"048"},0.06]
["REP ABJ",3,"21101860560",null,"Articles de bricolage","Gros objets et machines non électriques et non thermiques et leurs accessoires","Pierre calcaire >90%","Compris entre 10 kg et 15 kg exclus","€/unité",0.08,0.08,{"$f":"VLOOKUP(J846,'Codes éco-part'!$C:$E,3,FALSE)","v":"003"},9.6000000000000002E-2]
["REP ABJ",3,"21101860570",null,"Articles de bricolage","Gros objets et machines non électriques et non thermiques et leurs accessoires","Pierre calcaire >90%","Compris entre 15 kg et 20 kg exclus","€/unité",0.1,0.1,{"$f":"VLOOKUP(J847,'Codes éco-part'!$C:$E,3,FALSE)","v":"094"},0.12]
["REP ABJ",3,"21101860580",null,"Articles de bricolage","Gros objets et machines non électriques et non thermiques et leurs accessoires","Pierre calcaire >90%","Compris entre 20 kg et 25 kg exclus","€/unité",0.13,0.13,{"$f":"VLOOKUP(J848,'Codes éco-part'!$C:$E,3,FALSE)","v":"004"},0.156]
["REP ABJ",3,"21101860590",null,"Articles de bricolage","Gros objets et machines non électriques et non thermiques et leurs accessoires","Pierre calcaire >90%","Compris entre 25 kg et 30 kg exclus","€/unité",0.15,0.15,{"$f":"VLOOKUP(J849,'Codes éco-part'!$C:$E,3,FALSE)","v":"050"},0.18]
["REP ABJ",3,"21101860600",null,"Articles de bricolage","Gros objets et machines non électriques et non thermiques et leurs accessoires","Pierre calcaire >90%","Compris entre 40 kg et 50 kg exclus","€/unité",0.25,0.25,{"$f":"VLOOKUP(J850,'Codes éco-part'!$C:$E,3,FALSE)","v":"095"},0.3]
["REP ABJ",3,"21101870000",null,"Articles de bricolage","Gros objets et machines non électriques et non thermiques et leurs accessoires","Lave >90%","Eléments de toutes dimensions et poids","€ / Tonne",5,5,{"$f":"VLOOKUP(J851,'Codes éco-part'!$C:$E,3,FALSE)","v":"042"},6]
["REP ABJ",3,"21101870200",null,"Articles de bricolage","Gros objets et machines non électriques et non thermiques et leurs accessoires","Lave >90%","Inférieur strictement à 0,5 kg","€/unité",0.01,0.01,{"$f":"VLOOKUP(J852,'Codes éco-part'!$C:$E,3,FALSE)","v":"260"},1.2E-2]
["REP ABJ",3,"21101870210",null,"Articles de bricolage","Gros objets et machines non électriques et non thermiques et leurs accessoires","Lave >90%","Compris entre 0,5 kg et 1 kg exclus","€/unité",0.01,0.01,{"$f":"VLOOKUP(J853,'Codes éco-part'!$C:$E,3,FALSE)","v":"260"},1.2E-2]
["REP ABJ",3,"21101870220",null,"Articles de bricolage","Gros objets et machines non électriques et non thermiques et leurs accessoires","Lave >90%","Compris entre 1 kg et 2 kg exclus","€/unité",0.01,0.01,{"$f":"VLOOKUP(J854,'Codes éco-part'!$C:$E,3,FALSE)","v":"260"},1.2E-2]
["REP ABJ",3,"21101870270",null,"Articles de bricolage","Gros objets et machines non électriques et non thermiques et leurs accessoires","Lave >90%","Compris entre 30 kg et 40 kg exclus","€/unité",0.2,0.2,{"$f":"VLOOKUP(J855,'Codes éco-part'!$C:$E,3,FALSE)","v":"101"},0.24]
["REP ABJ",3,"21101870520",null,"Articles de bricolage","Gros objets et machines non électriques et non thermiques et leurs accessoires","Lave >90%","Compris entre 2 kg et 3 kg exclus","€/unité",0.01,0.01,{"$f":"VLOOKUP(J856,'Codes éco-part'!$C:$E,3,FALSE)","v":"260"},1.2E-2]
["REP ABJ",3,"21101870530",null,"Articles de bricolage","Gros objets et machines non électriques et non thermiques et leurs accessoires","Lave >90%","Compris entre 3 kg et 5 kg exclus","€/unité",0.02,0.02,{"$f":"VLOOKUP(J857,'Codes éco-part'!$C:$E,3,FALSE)","v":"047"},2.4E-2]
["REP ABJ",3,"21101870540",null,"Articles de bricolage","Gros objets et machines non électriques et non thermiques et leurs accessoires","Lave >90%","Compris entre 5 kg et 7 kg exclus","€/unité",0.04,0.04,{"$f":"VLOOKUP(J858,'Codes éco-part'!$C:$E,3,FALSE)","v":"002"},4.8000000000000001E-2]
["REP ABJ",3,"21101870550",null,"Articles de bricolage","Gros objets et machines non électriques et non thermiques et leurs accessoires","Lave >90%","Compris entre 7 kg et 10 kg exclus","€/unité",0.05,0.05,{"$f":"VLOOKUP(J859,'Codes éco-part'!$C:$E,3,FALSE)","v":"048"},0.06]
["REP ABJ",3,"21101870560",null,"Articles de bricolage","Gros objets et machines non électriques et non thermiques et leurs accessoires","Lave >90%","Compris entre 10 kg et 15 kg exclus","€/unité",0.08,0.08,{"$f":"VLOOKUP(J860,'Codes éco-part'!$C:$E,3,FALSE)","v":"003"},9.6000000000000002E-2]
["REP ABJ",3,"21101870570",null,"Articles de bricolage","Gros objets et machines non électriques et non thermiques et leurs accessoires","Lave >90%","Compris entre 15 kg et 20 kg exclus","€/unité",0.1,0.1,{"$f":"VLOOKUP(J861,'Codes éco-part'!$C:$E,3,FALSE)","v":"094"},0.12]
["REP ABJ",3,"21101870580",null,"Articles de bricolage","Gros objets et machines non électriques et non thermiques et leurs accessoires","Lave >90%","Compris entre 20 kg et 25 kg exclus","€/unité",0.13,0.13,{"$f":"VLOOKUP(J862,'Codes éco-part'!$C:$E,3,FALSE)","v":"004"},0.156]
["REP ABJ",3,"21101870590",null,"Articles de bricolage","Gros objets et machines non électriques et non thermiques et leurs accessoires","Lave >90%","Compris entre 25 kg et 30 kg exclus","€/unité",0.15,0.15,{"$f":"VLOOKUP(J863,'Codes éco-part'!$C:$E,3,FALSE)","v":"050"},0.18]
["REP ABJ",3,"21101870600",null,"Articles de bricolage","Gros objets et machines non électriques et non thermiques et leurs accessoires","Lave >90%","Compris entre 40 kg et 50 kg exclus","€/unité",0.25,0.25,{"$f":"VLOOKUP(J864,'Codes éco-part'!$C:$E,3,FALSE)","v":"095"},0.3]
["REP ABJ",3,"21101890000",null,"Articles de bricolage","Gros objets et machines non électriques et non thermiques et leurs accessoires","Terre cuite ou crue >90%","Eléments de toutes dimensions et poids","€ / Tonne",5,5,{"$f":"VLOOKUP(J865,'Codes éco-part'!$C:$E,3,FALSE)","v":"042"},6]
["REP ABJ",3,"21101890200",null,"Articles de bricolage","Gros objets et machines non électriques et non thermiques et leurs accessoires","Terre cuite ou crue >90%","Inférieur strictement à 0,5 kg","€/unité",0.01,0.01,{"$f":"VLOOKUP(J866,'Codes éco-part'!$C:$E,3,FALSE)","v":"260"},1.2E-2]
["REP ABJ",3,"21101890210",null,"Articles de bricolage","Gros objets et machines non électriques et non thermiques et leurs accessoires","Terre cuite ou crue >90%","Compris entre 0,5 kg et 1 kg exclus","€/unité",0.01,0.01,{"$f":"VLOOKUP(J867,'Codes éco-part'!$C:$E,3,FALSE)","v":"260"},1.2E-2]
["REP ABJ",3,"21101890220",null,"Articles de bricolage","Gros objets et machines non électriques et non thermiques et leurs accessoires","Terre cuite ou crue >90%","Compris entre 1 kg et 2 kg exclus","€/unité",0.01,0.01,{"$f":"VLOOKUP(J868,'Codes éco-part'!$C:$E,3,FALSE)","v":"260"},1.2E-2]
["REP ABJ",3,"21101890270",null,"Articles de bricolage","Gros objets et machines non électriques et non thermiques et leurs accessoires","Terre cuite ou crue >90%","Compris entre 30 kg et 40 kg exclus","€/unité",0.2,0.2,{"$f":"VLOOKUP(J869,'Codes éco-part'!$C:$E,3,FALSE)","v":"101"},0.24]
["REP ABJ",3,"21101890520",null,"Articles de bricolage","Gros objets et machines non électriques et non thermiques et leurs accessoires","Terre cuite ou crue >90%","Compris entre 2 kg et 3 kg exclus","€/unité",0.01,0.01,{"$f":"VLOOKUP(J870,'Codes éco-part'!$C:$E,3,FALSE)","v":"260"},1.2E-2]
["REP ABJ",3,"21101890530",null,"Articles de bricolage","Gros objets et machines non électriques et non thermiques et leurs accessoires","Terre cuite ou crue >90%","Compris entre 3 kg et 5 kg exclus","€/unité",0.02,0.02,{"$f":"VLOOKUP(J871,'Codes éco-part'!$C:$E,3,FALSE)","v":"047"},2.4E-2]
["REP ABJ",3,"21101890540",null,"Articles de bricolage","Gros objets et machines non électriques et non thermiques et leurs accessoires","Terre cuite ou crue >90%","Compris entre 5 kg et 7 kg exclus","€/unité",0.04,0.04,{"$f":"VLOOKUP(J872,'Codes éco-part'!$C:$E,3,FALSE)","v":"002"},4.8000000000000001E-2]
["REP ABJ",3,"21101890550",null,"Articles de bricolage","Gros objets et machines non électriques et non thermiques et leurs accessoires","Terre cuite ou crue >90%","Compris entre 7 kg et 10 kg exclus","€/unité",0.05,0.05,{"$f":"VLOOKUP(J873,'Codes éco-part'!$C:$E,3,FALSE)","v":"048"},0.06]
["REP ABJ",3,"21101890560",null,"Articles de bricolage","Gros objets et machines non électriques et non thermiques et leurs accessoires","Terre cuite ou crue >90%","Compris entre 10 kg et 15 kg exclus","€/unité",0.08,0.08,{"$f":"VLOOKUP(J874,'Codes éco-part'!$C:$E,3,FALSE)","v":"003"},9.6000000000000002E-2]
["REP ABJ",3,"21101890570",null,"Articles de bricolage","Gros objets et machines non électriques et non thermiques et leurs accessoires","Terre cuite ou crue >90%","Compris entre 15 kg et 20 kg exclus","€/unité",0.1,0.1,{"$f":"VLOOKUP(J875,'Codes éco-part'!$C:$E,3,FALSE)","v":"094"},0.12]
["REP ABJ",3,"21101890580",null,"Articles de bricolage","Gros objets et machines non électriques et non thermiques et leurs accessoires","Terre cuite ou crue >90%","Compris entre 20 kg et 25 kg exclus","€/unité",0.13,0.13,{"$f":"VLOOKUP(J876,'Codes éco-part'!$C:$E,3,FALSE)","v":"004"},0.156]
["REP ABJ",3,"21101890590",null,"Articles de bricolage","Gros objets et machines non électriques et non thermiques et leurs accessoires","Terre cuite ou crue >90%","Compris entre 25 kg et 30 kg exclus","€/unité",0.15,0.15,{"$f":"VLOOKUP(J877,'Codes éco-part'!$C:$E,3,FALSE)","v":"050"},0.18]
["REP ABJ",3,"21101890600",null,"Articles de bricolage","Gros objets et machines non électriques et non thermiques et leurs accessoires","Terre cuite ou crue >90%","Compris entre 40 kg et 50 kg exclus","€/unité",0.25,0.25,{"$f":"VLOOKUP(J878,'Codes éco-part'!$C:$E,3,FALSE)","v":"095"},0.3]
["REP ABJ",3,"21101900000",null,"Articles de bricolage","Gros objets et machines non électriques et non thermiques et leurs accessoires","Ciment >90%","Eléments de toutes dimensions et poids","€ / Tonne",5,5,{"$f":"VLOOKUP(J879,'Codes éco-part'!$C:$E,3,FALSE)","v":"042"},6]
["REP ABJ",3,"21101900200",null,"Articles de bricolage","Gros objets et machines non électriques et non thermiques et leurs accessoires","Ciment >90%","Inférieur strictement à 0,5 kg","€/unité",0.01,0.01,{"$f":"VLOOKUP(J880,'Codes éco-part'!$C:$E,3,FALSE)","v":"260"},1.2E-2]
["REP ABJ",3,"21101900210",null,"Articles de bricolage","Gros objets et machines non électriques et non thermiques et leurs accessoires","Ciment >90%","Compris entre 0,5 kg et 1 kg exclus","€/unité",0.01,0.01,{"$f":"VLOOKUP(J881,'Codes éco-part'!$C:$E,3,FALSE)","v":"260"},1.2E-2]
["REP ABJ",3,"21101900220",null,"Articles de bricolage","Gros objets et machines non électriques et non thermiques et leurs accessoires","Ciment >90%","Compris entre 1 kg et 2 kg exclus","€/unité",0.01,0.01,{"$f":"VLOOKUP(J882,'Codes éco-part'!$C:$E,3,FALSE)","v":"260"},1.2E-2]
["REP ABJ",3,"21101900270",null,"Articles de bricolage","Gros objets et machines non électriques et non thermiques et leurs accessoires","Ciment >90%","Compris entre 30 kg et 40 kg exclus","€/unité",0.2,0.2,{"$f":"VLOOKUP(J883,'Codes éco-part'!$C:$E,3,FALSE)","v":"101"},0.24]
["REP ABJ",3,"21101900520",null,"Articles de bricolage","Gros objets et machines non électriques et non thermiques et leurs accessoires","Ciment >90%","Compris entre 2 kg et 3 kg exclus","€/unité",0.01,0.01,{"$f":"VLOOKUP(J884,'Codes éco-part'!$C:$E,3,FALSE)","v":"260"},1.2E-2]
["REP ABJ",3,"21101900530",null,"Articles de bricolage","Gros objets et machines non électriques et non thermiques et leurs accessoires","Ciment >90%","Compris entre 3 kg et 5 kg exclus","€/unité",0.02,0.02,{"$f":"VLOOKUP(J885,'Codes éco-part'!$C:$E,3,FALSE)","v":"047"},2.4E-2]
["REP ABJ",3,"21101900540",null,"Articles de bricolage","Gros objets et machines non électriques et non thermiques et leurs accessoires","Ciment >90%","Compris entre 5 kg et 7 kg exclus","€/unité",0.04,0.04,{"$f":"VLOOKUP(J886,'Codes éco-part'!$C:$E,3,FALSE)","v":"002"},4.8000000000000001E-2]
["REP ABJ",3,"21101900550",null,"Articles de bricolage","Gros objets et machines non électriques et non thermiques et leurs accessoires","Ciment >90%","Compris entre 7 kg et 10 kg exclus","€/unité",0.05,0.05,{"$f":"VLOOKUP(J887,'Codes éco-part'!$C:$E,3,FALSE)","v":"048"},0.06]
["REP ABJ",3,"21101900560",null,"Articles de bricolage","Gros objets et machines non électriques et non thermiques et leurs accessoires","Ciment >90%","Compris entre 10 kg et 15 kg exclus","€/unité",0.08,0.08,{"$f":"VLOOKUP(J888,'Codes éco-part'!$C:$E,3,FALSE)","v":"003"},9.6000000000000002E-2]
["REP ABJ",3,"21101900570",null,"Articles de bricolage","Gros objets et machines non électriques et non thermiques et leurs accessoires","Ciment >90%","Compris entre 15 kg et 20 kg exclus","€/unité",0.1,0.1,{"$f":"VLOOKUP(J889,'Codes éco-part'!$C:$E,3,FALSE)","v":"094"},0.12]
["REP ABJ",3,"21101900580",null,"Articles de bricolage","Gros objets et machines non électriques et non thermiques et leurs accessoires","Ciment >90%","Compris entre 20 kg et 25 kg exclus","€/unité",0.13,0.13,{"$f":"VLOOKUP(J890,'Codes éco-part'!$C:$E,3,FALSE)","v":"004"},0.156]
["REP ABJ",3,"21101900590",null,"Articles de bricolage","Gros objets et machines non électriques et non thermiques et leurs accessoires","Ciment >90%","Compris entre 25 kg et 30 kg exclus","€/unité",0.15,0.15,{"$f":"VLOOKUP(J891,'Codes éco-part'!$C:$E,3,FALSE)","v":"050"},0.18]
["REP ABJ",3,"21101900600",null,"Articles de bricolage","Gros objets et machines non électriques et non thermiques et leurs accessoires","Ciment >90%","Compris entre 40 kg et 50 kg exclus","€/unité",0.25,0.25,{"$f":"VLOOKUP(J892,'Codes éco-part'!$C:$E,3,FALSE)","v":"095"},0.3]
["REP ABJ",3,"21101910000",null,"Articles de bricolage","Gros objets et machines non électriques et non thermiques et leurs accessoires","Granit >90%","Eléments de toutes dimensions et poids","€ / Tonne",5,5,{"$f":"VLOOKUP(J893,'Codes éco-part'!$C:$E,3,FALSE)","v":"042"},6]
["REP ABJ",3,"21101910200",null,"Articles de bricolage","Gros objets et machines non électriques et non thermiques et leurs accessoires","Granit >90%","Inférieur strictement à 0,5 kg","€/unité",0.01,0.01,{"$f":"VLOOKUP(J894,'Codes éco-part'!$C:$E,3,FALSE)","v":"260"},1.2E-2]
["REP ABJ",3,"21101910210",null,"Articles de bricolage","Gros objets et machines non électriques et non thermiques et leurs accessoires","Granit >90%","Compris entre 0,5 kg et 1 kg exclus","€/unité",0.01,0.01,{"$f":"VLOOKUP(J895,'Codes éco-part'!$C:$E,3,FALSE)","v":"260"},1.2E-2]
["REP ABJ",3,"21101910220",null,"Articles de bricolage","Gros objets et machines non électriques et non thermiques et leurs accessoires","Granit >90%","Compris entre 1 kg et 2 kg exclus","€/unité",0.01,0.01,{"$f":"VLOOKUP(J896,'Codes éco-part'!$C:$E,3,FALSE)","v":"260"},1.2E-2]
["REP ABJ",3,"21101910270",null,"Articles de bricolage","Gros objets et machines non électriques et non thermiques et leurs accessoires","Granit >90%","Compris entre 30 kg et 40 kg exclus","€/unité",0.2,0.2,{"$f":"VLOOKUP(J897,'Codes éco-part'!$C:$E,3,FALSE)","v":"101"},0.24]
["REP ABJ",3,"21101910520",null,"Articles de bricolage","Gros objets et machines non électriques et non thermiques et leurs accessoires","Granit >90%","Compris entre 2 kg et 3 kg exclus","€/unité",0.01,0.01,{"$f":"VLOOKUP(J898,'Codes éco-part'!$C:$E,3,FALSE)","v":"260"},{"$f":"J898*1.2","v":1.2E-2}]
["REP ABJ",3,"21101910530",null,"Articles de bricolage","Gros objets et machines non électriques et non thermiques et leurs accessoires","Granit >90%","Compris entre 3 kg et 5 kg exclus","€/unité",0.02,0.02,{"$f":"VLOOKUP(J899,'Codes éco-part'!$C:$E,3,FALSE)","v":"047"},2.4E-2]
["REP ABJ",3,"21101910540",null,"Articles de bricolage","Gros objets et machines non électriques et non thermiques et leurs accessoires","Granit >90%","Compris entre 5 kg et 7 kg exclus","€/unité",0.04,0.04,{"$f":"VLOOKUP(J900,'Codes éco-part'!$C:$E,3,FALSE)","v":"002"},4.8000000000000001E-2]
["REP ABJ",3,"21101910550",null,"Articles de bricolage","Gros objets et machines non électriques et non thermiques et leurs accessoires","Granit >90%","Compris entre 7 kg et 10 kg exclus","€/unité",0.05,0.05,{"$f":"VLOOKUP(J901,'Codes éco-part'!$C:$E,3,FALSE)","v":"048"},0.06]
["REP ABJ",3,"21101910560",null,"Articles de bricolage","Gros objets et machines non électriques et non thermiques et leurs accessoires","Granit >90%","Compris entre 10 kg et 15 kg exclus","€/unité",0.08,0.08,{"$f":"VLOOKUP(J902,'Codes éco-part'!$C:$E,3,FALSE)","v":"003"},9.6000000000000002E-2]
["REP ABJ",3,"21101910570",null,"Articles de bricolage","Gros objets et machines non électriques et non thermiques et leurs accessoires","Granit >90%","Compris entre 15 kg et 20 kg exclus","€/unité",0.1,0.1,{"$f":"VLOOKUP(J903,'Codes éco-part'!$C:$E,3,FALSE)","v":"094"},0.12]
["REP ABJ",3,"21101910580",null,"Articles de bricolage","Gros objets et machines non électriques et non thermiques et leurs accessoires","Granit >90%","Compris entre 20 kg et 25 kg exclus","€/unité",0.13,0.13,{"$f":"VLOOKUP(J904,'Codes éco-part'!$C:$E,3,FALSE)","v":"004"},0.156]
["REP ABJ",3,"21101910590",null,"Articles de bricolage","Gros objets et machines non électriques et non thermiques et leurs accessoires","Granit >90%","Compris entre 25 kg et 30 kg exclus","€/unité",0.15,0.15,{"$f":"VLOOKUP(J905,'Codes éco-part'!$C:$E,3,FALSE)","v":"050"},0.18]
["REP ABJ",3,"21101910600",null,"Articles de bricolage","Gros objets et machines non électriques et non thermiques et leurs accessoires","Granit >90%","Compris entre 40 kg et 50 kg exclus","€/unité",0.25,0.25,{"$f":"VLOOKUP(J906,'Codes éco-part'!$C:$E,3,FALSE)","v":"095"},0.3]
["REP ABJ",3,"21101940000",null,"Articles de bricolage","Gros objets et machines non électriques et non thermiques et leurs accessoires","Grès >90%","Eléments de toutes dimensions et poids","€ / Tonne",5,5,{"$f":"VLOOKUP(J907,'Codes éco-part'!$C:$E,3,FALSE)","v":"042"},6]
["REP ABJ",3,"21101940200",null,"Articles de bricolage","Gros objets et machines non électriques et non thermiques et leurs accessoires","Grès >90%","Inférieur strictement à 0,5 kg","€/unité",0.01,0.01,{"$f":"VLOOKUP(J908,'Codes éco-part'!$C:$E,3,FALSE)","v":"260"},1.2E-2]
["REP ABJ",3,"21101940210",null,"Articles de bricolage","Gros objets et machines non électriques et non thermiques et leurs accessoires","Grès >90%","Compris entre 0,5 kg et 1 kg exclus","€/unité",0.01,0.01,{"$f":"VLOOKUP(J909,'Codes éco-part'!$C:$E,3,FALSE)","v":"260"},1.2E-2]
["REP ABJ",3,"21101940220",null,"Articles de bricolage","Gros objets et machines non électriques et non thermiques et leurs accessoires","Grès >90%","Compris entre 1 kg et 2 kg exclus","€/unité",0.01,0.01,{"$f":"VLOOKUP(J910,'Codes éco-part'!$C:$E,3,FALSE)","v":"260"},1.2E-2]
["REP ABJ",3,"21101940270",null,"Articles de bricolage","Gros objets et machines non électriques et non thermiques et leurs accessoires","Grès >90%","Compris entre 30 kg et 40 kg exclus","€/unité",0.2,0.2,{"$f":"VLOOKUP(J911,'Codes éco-part'!$C:$E,3,FALSE)","v":"101"},0.24]
["REP ABJ",3,"21101940520",null,"Articles de bricolage","Gros objets et machines non électriques et non thermiques et leurs accessoires","Grès >90%","Compris entre 2 kg et 3 kg exclus","€/unité",0.01,0.01,{"$f":"VLOOKUP(J912,'Codes éco-part'!$C:$E,3,FALSE)","v":"260"},1.2E-2]
["REP ABJ",3,"21101940530",null,"Articles de bricolage","Gros objets et machines non électriques et non thermiques et leurs accessoires","Grès >90%","Compris entre 3 kg et 5 kg exclus","€/unité",0.02,0.02,{"$f":"VLOOKUP(J913,'Codes éco-part'!$C:$E,3,FALSE)","v":"047"},2.4E-2]
["REP ABJ",3,"21101940540",null,"Articles de bricolage","Gros objets et machines non électriques et non thermiques et leurs accessoires","Grès >90%","Compris entre 5 kg et 7 kg exclus","€/unité",0.04,0.04,{"$f":"VLOOKUP(J914,'Codes éco-part'!$C:$E,3,FALSE)","v":"002"},4.8000000000000001E-2]
["REP ABJ",3,"21101940550",null,"Articles de bricolage","Gros objets et machines non électriques et non thermiques et leurs accessoires","Grès >90%","Compris entre 7 kg et 10 kg exclus","€/unité",0.05,0.05,{"$f":"VLOOKUP(J915,'Codes éco-part'!$C:$E,3,FALSE)","v":"048"},0.06]
["REP ABJ",3,"21101940560",null,"Articles de bricolage","Gros objets et machines non électriques et non thermiques et leurs accessoires","Grès >90%","Compris entre 10 kg et 15 kg exclus","€/unité",0.08,0.08,{"$f":"VLOOKUP(J916,'Codes éco-part'!$C:$E,3,FALSE)","v":"003"},9.6000000000000002E-2]
["REP ABJ",3,"21101940570",null,"Articles de bricolage","Gros objets et machines non électriques et non thermiques et leurs accessoires","Grès >90%","Compris entre 15 kg et 20 kg exclus","€/unité",0.1,0.1,{"$f":"VLOOKUP(J917,'Codes éco-part'!$C:$E,3,FALSE)","v":"094"},0.12]
["REP ABJ",3,"21101940580",null,"Articles de bricolage","Gros objets et machines non électriques et non thermiques et leurs accessoires","Grès >90%","Compris entre 20 kg et 25 kg exclus","€/unité",0.13,0.13,{"$f":"VLOOKUP(J918,'Codes éco-part'!$C:$E,3,FALSE)","v":"004"},0.156]
["REP ABJ",3,"21101940590",null,"Articles de bricolage","Gros objets et machines non électriques et non thermiques et leurs accessoires","Grès >90%","Compris entre 25 kg et 30 kg exclus","€/unité",0.15,0.15,{"$f":"VLOOKUP(J919,'Codes éco-part'!$C:$E,3,FALSE)","v":"050"},0.18]
["REP ABJ",3,"21101940600",null,"Articles de bricolage","Gros objets et machines non électriques et non thermiques et leurs accessoires","Grès >90%","Compris entre 40 kg et 50 kg exclus","€/unité",0.25,0.25,{"$f":"VLOOKUP(J920,'Codes éco-part'!$C:$E,3,FALSE)","v":"095"},0.3]
["REP ABJ",3,"21101970000",null,"Articles de bricolage","Gros objets et machines non électriques et non thermiques et leurs accessoires","Céramique >90%","Eléments de toutes dimensions et poids","€ / Tonne",10,10,{"$f":"VLOOKUP(J921,'Codes éco-part'!$C:$E,3,FALSE)","v":"138"},12]
["REP ABJ",3,"21101970200",null,"Articles de bricolage","Gros objets et machines non électriques et non thermiques et leurs accessoires","Céramique >90%","Inférieur strictement à 0,5 kg","€/unité",0.01,0.01,{"$f":"VLOOKUP(J922,'Codes éco-part'!$C:$E,3,FALSE)","v":"260"},1.2E-2]
["REP ABJ",3,"21101970210",null,"Articles de bricolage","Gros objets et machines non électriques et non thermiques et leurs accessoires","Céramique >90%","Compris entre 0,5 kg et 1 kg exclus","€/unité",0.01,0.01,{"$f":"VLOOKUP(J923,'Codes éco-part'!$C:$E,3,FALSE)","v":"260"},1.2E-2]
["REP ABJ",3,"21101970220",null,"Articles de bricolage","Gros objets et machines non électriques et non thermiques et leurs accessoires","Céramique >90%","Compris entre 1 kg et 2 kg exclus","€/unité",0.02,0.02,{"$f":"VLOOKUP(J924,'Codes éco-part'!$C:$E,3,FALSE)","v":"047"},2.4E-2]
["REP ABJ",3,"21101970270",null,"Articles de bricolage","Gros objets et machines non électriques et non thermiques et leurs accessoires","Céramique >90%","Compris entre 30 kg et 40 kg exclus","€/unité",0.4,0.4,{"$f":"VLOOKUP(J925,'Codes éco-part'!$C:$E,3,FALSE)","v":"105"},0.48]
["REP ABJ",3,"21101970520",null,"Articles de bricolage","Gros objets et machines non électriques et non thermiques et leurs accessoires","Céramique >90%","Compris entre 2 kg et 3 kg exclus","€/unité",0.03,0.03,{"$f":"VLOOKUP(J926,'Codes éco-part'!$C:$E,3,FALSE)","v":"092"},3.5999999999999997E-2]
["REP ABJ",3,"21101970530",null,"Articles de bricolage","Gros objets et machines non électriques et non thermiques et leurs accessoires","Céramique >90%","Compris entre 3 kg et 5 kg exclus","€/unité",0.04,0.04,{"$f":"VLOOKUP(J927,'Codes éco-part'!$C:$E,3,FALSE)","v":"002"},4.8000000000000001E-2]
["REP ABJ",3,"21101970540",null,"Articles de bricolage","Gros objets et machines non électriques et non thermiques et leurs accessoires","Céramique >90%","Compris entre 5 kg et 7 kg exclus","€/unité",7.0000000000000007E-2,7.0000000000000007E-2,{"$f":"VLOOKUP(J928,'Codes éco-part'!$C:$E,3,FALSE)","v":"247"},8.4000000000000005E-2]
["REP ABJ",3,"21101970550",null,"Articles de bricolage","Gros objets et machines non électriques et non thermiques et leurs accessoires","Céramique >90%","Compris entre 7 kg et 10 kg exclus","€/unité",0.1,0.1,{"$f":"VLOOKUP(J929,'Codes éco-part'!$C:$E,3,FALSE)","v":"094"},0.12]
["REP ABJ",3,"21101970560",null,"Articles de bricolage","Gros objets et machines non électriques et non thermiques et leurs accessoires","Céramique >90%","Compris entre 10 kg et 15 kg exclus","€/unité",0.15,0.15,{"$f":"VLOOKUP(J930,'Codes éco-part'!$C:$E,3,FALSE)","v":"050"},0.18]
["REP ABJ",3,"21101970570",null,"Articles de bricolage","Gros objets et machines non électriques et non thermiques et leurs accessoires","Céramique >90%","Compris entre 15 kg et 20 kg exclus","€/unité",0.2,0.2,{"$f":"VLOOKUP(J931,'Codes éco-part'!$C:$E,3,FALSE)","v":"101"},0.24]
["REP ABJ",3,"21101970580",null,"Articles de bricolage","Gros objets et machines non électriques et non thermiques et leurs accessoires","Céramique >90%","Compris entre 20 kg et 25 kg exclus","€/unité",0.25,0.25,{"$f":"VLOOKUP(J932,'Codes éco-part'!$C:$E,3,FALSE)","v":"095"},0.3]
["REP ABJ",3,"21101970590",null,"Articles de bricolage","Gros objets et machines non électriques et non thermiques et leurs accessoires","Céramique >90%","Compris entre 25 kg et 30 kg exclus","€/unité",0.3,0.3,{"$f":"VLOOKUP(J933,'Codes éco-part'!$C:$E,3,FALSE)","v":"446"},0.36]
["REP ABJ",3,"21101970600",null,"Articles de bricolage","Gros objets et machines non électriques et non thermiques et leurs accessoires","Céramique >90%","Compris entre 40 kg et 50 kg exclus","€/unité",0.5,0.5,{"$f":"VLOOKUP(J934,'Codes éco-part'!$C:$E,3,FALSE)","v":"053"},0.6]
["REP ABJ",3,"21101980000",null,"Articles de bricolage","Gros objets et machines non électriques et non thermiques et leurs accessoires","Pierre artificielle >90%","Eléments de toutes dimensions et poids","€ / Tonne",5,5,{"$f":"VLOOKUP(J935,'Codes éco-part'!$C:$E,3,FALSE)","v":"042"},6]
["REP ABJ",3,"21101980200",null,"Articles de bricolage","Gros objets et machines non électriques et non thermiques et leurs accessoires","Pierre artificielle >90%","Inférieur strictement à 0,5 kg","€/unité",0.01,0.01,{"$f":"VLOOKUP(J936,'Codes éco-part'!$C:$E,3,FALSE)","v":"260"},1.2E-2]
["REP ABJ",3,"21101980210",null,"Articles de bricolage","Gros objets et machines non électriques et non thermiques et leurs accessoires","Pierre artificielle >90%","Compris entre 0,5 kg et 1 kg exclus","€/unité",0.01,0.01,{"$f":"VLOOKUP(J937,'Codes éco-part'!$C:$E,3,FALSE)","v":"260"},1.2E-2]
["REP ABJ",3,"21101980220",null,"Articles de bricolage","Gros objets et machines non électriques et non thermiques et leurs accessoires","Pierre artificielle >90%","Compris entre 1 kg et 2 kg exclus","€/unité",0.01,0.01,{"$f":"VLOOKUP(J938,'Codes éco-part'!$C:$E,3,FALSE)","v":"260"},1.2E-2]
["REP ABJ",3,"21101980270",null,"Articles de bricolage","Gros objets et machines non électriques et non thermiques et leurs accessoires","Pierre artificielle >90%","Compris entre 30 kg et 40 kg exclus","€/unité",0.2,0.2,{"$f":"VLOOKUP(J939,'Codes éco-part'!$C:$E,3,FALSE)","v":"101"},0.24]
["REP ABJ",3,"21101980520",null,"Articles de bricolage","Gros objets et machines non électriques et non thermiques et leurs accessoires","Pierre artificielle >90%","Compris entre 2 kg et 3 kg exclus","€/unité",0.01,0.01,{"$f":"VLOOKUP(J940,'Codes éco-part'!$C:$E,3,FALSE)","v":"260"},1.2E-2]
["REP ABJ",3,"21101980530",null,"Articles de bricolage","Gros objets et machines non électriques et non thermiques et leurs accessoires","Pierre artificielle >90%","Compris entre 3 kg et 5 kg exclus","€/unité",0.02,0.02,{"$f":"VLOOKUP(J941,'Codes éco-part'!$C:$E,3,FALSE)","v":"047"},2.4E-2]
["REP ABJ",3,"21101980540",null,"Articles de bricolage","Gros objets et machines non électriques et non thermiques et leurs accessoires","Pierre artificielle >90%","Compris entre 5 kg et 7 kg exclus","€/unité",0.04,0.04,{"$f":"VLOOKUP(J942,'Codes éco-part'!$C:$E,3,FALSE)","v":"002"},4.8000000000000001E-2]
["REP ABJ",3,"21101980550",null,"Articles de bricolage","Gros objets et machines non électriques et non thermiques et leurs accessoires","Pierre artificielle >90%","Compris entre 7 kg et 10 kg exclus","€/unité",0.05,0.05,{"$f":"VLOOKUP(J943,'Codes éco-part'!$C:$E,3,FALSE)","v":"048"},0.06]
["REP ABJ",3,"21101980560",null,"Articles de bricolage","Gros objets et machines non électriques et non thermiques et leurs accessoires","Pierre artificielle >90%","Compris entre 10 kg et 15 kg exclus","€/unité",0.08,0.08,{"$f":"VLOOKUP(J944,'Codes éco-part'!$C:$E,3,FALSE)","v":"003"},9.6000000000000002E-2]
["REP ABJ",3,"21101980570",null,"Articles de bricolage","Gros objets et machines non électriques et non thermiques et leurs accessoires","Pierre artificielle >90%","Compris entre 15 kg et 20 kg exclus","€/unité",0.1,0.1,{"$f":"VLOOKUP(J945,'Codes éco-part'!$C:$E,3,FALSE)","v":"094"},0.12]
["REP ABJ",3,"21101980580",null,"Articles de bricolage","Gros objets et machines non électriques et non thermiques et leurs accessoires","Pierre artificielle >90%","Compris entre 20 kg et 25 kg exclus","€/unité",0.13,0.13,{"$f":"VLOOKUP(J946,'Codes éco-part'!$C:$E,3,FALSE)","v":"004"},0.156]
["REP ABJ",3,"21101980590",null,"Articles de bricolage","Gros objets et machines non électriques et non thermiques et leurs accessoires","Pierre artificielle >90%","Compris entre 25 kg et 30 kg exclus","€/unité",0.15,0.15,{"$f":"VLOOKUP(J947,'Codes éco-part'!$C:$E,3,FALSE)","v":"050"},0.18]
["REP ABJ",3,"21101980600",null,"Articles de bricolage","Gros objets et machines non électriques et non thermiques et leurs accessoires","Pierre artificielle >90%","Compris entre 40 kg et 50 kg exclus","€/unité",0.25,0.25,{"$f":"VLOOKUP(J948,'Codes éco-part'!$C:$E,3,FALSE)","v":"095"},0.3]
["REP ABJ",3,"21102000000",null,"Articles de bricolage","Outils et supports de travail en hauteur","Non connu ou non spécifié par l'entreprise","Eléments de toutes dimensions et poids","€ / Tonne",75,75,{"$f":"VLOOKUP(J949,'Codes éco-part'!$C:$E,3,FALSE)","v":"192"},90]
["REP ABJ",3,"21102000200",null,"Articles de bricolage","Outils et supports de travail en hauteur","Non connu ou non spécifié par l'entreprise","Inférieur strictement à 0,5 kg","€/unité",0.02,null,{"$f":"VLOOKUP(J950,'Codes éco-part'!$C:$E,3,FALSE)","v":"047"},2.4E-2]
["REP ABJ",3,"21102000210",null,"Articles de bricolage","Outils et supports de travail en hauteur","Non connu ou non spécifié par l'entreprise","Compris entre 0,5 kg et 1 kg exclus","€/unité",0.06,null,{"$f":"VLOOKUP(J951,'Codes éco-part'!$C:$E,3,FALSE)","v":"096"},7.1999999999999995E-2]
["REP ABJ",3,"21102000220",null,"Articles de bricolage","Outils et supports de travail en hauteur","Non connu ou non spécifié par l'entreprise","Compris entre 1 kg et 2 kg exclus","€/unité",0.11,null,{"$f":"VLOOKUP(J952,'Codes éco-part'!$C:$E,3,FALSE)","v":"262"},0.13200000000000001]
["REP ABJ",3,"21102000270",null,"Articles de bricolage","Outils et supports de travail en hauteur","Non connu ou non spécifié par l'entreprise","Compris entre 30 kg et 40 kg exclus","€/unité",3,null,{"$f":"VLOOKUP(J953,'Codes éco-part'!$C:$E,3,FALSE)","v":"474"},3.5999999999999996]
["REP ABJ",3,"21102000520",null,"Articles de bricolage","Outils et supports de travail en hauteur","Non connu ou non spécifié par l'entreprise","Compris entre 2 kg et 3 kg exclus","€/unité",0.19,null,{"$f":"VLOOKUP(J954,'Codes éco-part'!$C:$E,3,FALSE)","v":"291"},0.22799999999999998]
["REP ABJ",3,"21102000530",null,"Articles de bricolage","Outils et supports de travail en hauteur","Non connu ou non spécifié par l'entreprise","Compris entre 3 kg et 5 kg exclus","€/unité",0.3,null,{"$f":"VLOOKUP(J955,'Codes éco-part'!$C:$E,3,FALSE)","v":"446"},0.36]
["REP ABJ",3,"21102000540",null,"Articles de bricolage","Outils et supports de travail en hauteur","Non connu ou non spécifié par l'entreprise","Compris entre 5 kg et 7 kg exclus","€/unité",0.53,null,{"$f":"VLOOKUP(J956,'Codes éco-part'!$C:$E,3,FALSE)","v":"451"},0.63600000000000001]
["REP ABJ",3,"21102000550",null,"Articles de bricolage","Outils et supports de travail en hauteur","Non connu ou non spécifié par l'entreprise","Compris entre 7 kg et 10 kg exclus","€/unité",0.75,null,{"$f":"VLOOKUP(J957,'Codes éco-part'!$C:$E,3,FALSE)","v":"328"},0.89999999999999991]
["REP ABJ",3,"21102000560",null,"Articles de bricolage","Outils et supports de travail en hauteur","Non connu ou non spécifié par l'entreprise","Compris entre 10 kg et 15 kg exclus","€/unité",1.1299999999999999,null,{"$f":"VLOOKUP(J958,'Codes éco-part'!$C:$E,3,FALSE)","v":"331"},1.3559999999999999]
["REP ABJ",3,"21102000570",null,"Articles de bricolage","Outils et supports de travail en hauteur","Non connu ou non spécifié par l'entreprise","Compris entre 15 kg et 20 kg exclus","€/unité",1.5,null,{"$f":"VLOOKUP(J959,'Codes éco-part'!$C:$E,3,FALSE)","v":"059"},1.7999999999999998]
["REP ABJ",3,"21102000580",null,"Articles de bricolage","Outils et supports de travail en hauteur","Non connu ou non spécifié par l'entreprise","Compris entre 20 kg et 25 kg exclus","€/unité",1.88,null,{"$f":"VLOOKUP(J960,'Codes éco-part'!$C:$E,3,FALSE)","v":"335"},2.2559999999999998]
["REP ABJ",3,"21102000590",null,"Articles de bricolage","Outils et supports de travail en hauteur","Non connu ou non spécifié par l'entreprise","Compris entre 25 kg et 30 kg exclus","€/unité",2.25,null,{"$f":"VLOOKUP(J961,'Codes éco-part'!$C:$E,3,FALSE)","v":"118"},2.6999999999999997]
["REP ABJ",3,"21102000600",null,"Articles de bricolage","Outils et supports de travail en hauteur","Non connu ou non spécifié par l'entreprise","Compris entre 40 kg et 50 kg exclus","€/unité",3.75,null,{"$f":"VLOOKUP(J962,'Codes éco-part'!$C:$E,3,FALSE)","v":"015"},{"$f":"J962*1.2","v":4.5}]
["REP ABJ",3,"21102000900",null,"Articles de bricolage","Outils et supports de travail en hauteur","Non connu ou non spécifié par l'entreprise","Lot de 10","€/Lot",11.25,11.25,{"$f":"VLOOKUP(J963,'Codes éco-part'!$C:$E,3,FALSE)","v":"140"},13.5]
["REP ABJ",3,"21102010000",null,"Articles de bricolage","Outils et supports de travail en hauteur","Assemblage de bois, dérivés de bois à plus de 50% avec d'autres matériaux ou bois composite (hors verre)","Eléments de toutes dimensions et poids","€ / Tonne",10,10,{"$f":"VLOOKUP(J964,'Codes éco-part'!$C:$E,3,FALSE)","v":"138"},12]
["REP ABJ",3,"21102010200",null,"Articles de bricolage","Outils et supports de travail en hauteur","Assemblage de bois, dérivés de bois à plus de 50% avec d'autres matériaux ou bois composite (hors verre)","Inférieur strictement à 0,5 kg","€/unité",0.01,null,{"$f":"VLOOKUP(J965,'Codes éco-part'!$C:$E,3,FALSE)","v":"260"},1.2E-2]
["REP ABJ",3,"21102010210",null,"Articles de bricolage","Outils et supports de travail en hauteur","Assemblage de bois, dérivés de bois à plus de 50% avec d'autres matériaux ou bois composite (hors verre)","Compris entre 0,5 kg et 1 kg exclus","€/unité",0.01,null,{"$f":"VLOOKUP(J966,'Codes éco-part'!$C:$E,3,FALSE)","v":"260"},1.2E-2]
["REP ABJ",3,"21102010220",null,"Articles de bricolage","Outils et supports de travail en hauteur","Assemblage de bois, dérivés de bois à plus de 50% avec d'autres matériaux ou bois composite (hors verre)","Compris entre 1 kg et 2 kg exclus","€/unité",0.02,null,{"$f":"VLOOKUP(J967,'Codes éco-part'!$C:$E,3,FALSE)","v":"047"},2.4E-2]
["REP ABJ",3,"21102010270",null,"Articles de bricolage","Outils et supports de travail en hauteur","Assemblage de bois, dérivés de bois à plus de 50% avec d'autres matériaux ou bois composite (hors verre)","Compris entre 30 kg et 40 kg exclus","€/unité",0.4,null,{"$f":"VLOOKUP(J968,'Codes éco-part'!$C:$E,3,FALSE)","v":"105"},0.48]
["REP ABJ",3,"21102010520",null,"Articles de bricolage","Outils et supports de travail en hauteur","Assemblage de bois, dérivés de bois à plus de 50% avec d'autres matériaux ou bois composite (hors verre)","Compris entre 2 kg et 3 kg exclus","€/unité",0.03,null,{"$f":"VLOOKUP(J969,'Codes éco-part'!$C:$E,3,FALSE)","v":"092"},3.5999999999999997E-2]
["REP ABJ",3,"21102010530",null,"Articles de bricolage","Outils et supports de travail en hauteur","Assemblage de bois, dérivés de bois à plus de 50% avec d'autres matériaux ou bois composite (hors verre)","Compris entre 3 kg et 5 kg exclus","€/unité",0.04,null,{"$f":"VLOOKUP(J970,'Codes éco-part'!$C:$E,3,FALSE)","v":"002"},4.8000000000000001E-2]
["REP ABJ",3,"21102010540",null,"Articles de bricolage","Outils et supports de travail en hauteur","Assemblage de bois, dérivés de bois à plus de 50% avec d'autres matériaux ou bois composite (hors verre)","Compris entre 5 kg et 7 kg exclus","€/unité",7.0000000000000007E-2,null,{"$f":"VLOOKUP(J971,'Codes éco-part'!$C:$E,3,FALSE)","v":"247"},8.4000000000000005E-2]
["REP ABJ",3,"21102010550",null,"Articles de bricolage","Outils et supports de travail en hauteur","Assemblage de bois, dérivés de bois à plus de 50% avec d'autres matériaux ou bois composite (hors verre)","Compris entre 7 kg et 10 kg exclus","€/unité",0.1,null,{"$f":"VLOOKUP(J972,'Codes éco-part'!$C:$E,3,FALSE)","v":"094"},0.12]
["REP ABJ",3,"21102010560",null,"Articles de bricolage","Outils et supports de travail en hauteur","Assemblage de bois, dérivés de bois à plus de 50% avec d'autres matériaux ou bois composite (hors verre)","Compris entre 10 kg et 15 kg exclus","€/unité",0.15,null,{"$f":"VLOOKUP(J973,'Codes éco-part'!$C:$E,3,FALSE)","v":"050"},0.18]
["REP ABJ",3,"21102010570",null,"Articles de bricolage","Outils et supports de travail en hauteur","Assemblage de bois, dérivés de bois à plus de 50% avec d'autres matériaux ou bois composite (hors verre)","Compris entre 15 kg et 20 kg exclus","€/unité",0.2,null,{"$f":"VLOOKUP(J974,'Codes éco-part'!$C:$E,3,FALSE)","v":"101"},0.24]
["REP ABJ",3,"21102010580",null,"Articles de bricolage","Outils et supports de travail en hauteur","Assemblage de bois, dérivés de bois à plus de 50% avec d'autres matériaux ou bois composite (hors verre)","Compris entre 20 kg et 25 kg exclus","€/unité",0.25,null,{"$f":"VLOOKUP(J975,'Codes éco-part'!$C:$E,3,FALSE)","v":"095"},0.3]
["REP ABJ",3,"21102010590",null,"Articles de bricolage","Outils et supports de travail en hauteur","Assemblage de bois, dérivés de bois à plus de 50% avec d'autres matériaux ou bois composite (hors verre)","Compris entre 25 kg et 30 kg exclus","€/unité",0.3,null,{"$f":"VLOOKUP(J976,'Codes éco-part'!$C:$E,3,FALSE)","v":"446"},0.36]
["REP ABJ",3,"21102010600",null,"Articles de bricolage","Outils et supports de travail en hauteur","Assemblage de bois, dérivés de bois à plus de 50% avec d'autres matériaux ou bois composite (hors verre)","Compris entre 40 kg et 50 kg exclus","€/unité",0.5,null,{"$f":"VLOOKUP(J977,'Codes éco-part'!$C:$E,3,FALSE)","v":"053"},0.6]
["REP ABJ",3,"21102020000",null,"Articles de bricolage","Outils et supports de travail en hauteur","Assemblage avec métal >50% et autres matériaux","Eléments de toutes dimensions et poids","€ / Tonne",3,3,{"$f":"VLOOKUP(J978,'Codes éco-part'!$C:$E,3,FALSE)","v":"474"},3.5999999999999996]
["REP ABJ",3,"21102020200",null,"Articles de bricolage","Outils et supports de travail en hauteur","Assemblage avec métal >50% et autres matériaux","Inférieur strictement à 0,5 kg","€/unité",0.01,null,{"$f":"VLOOKUP(J979,'Codes éco-part'!$C:$E,3,FALSE)","v":"260"},1.2E-2]
["REP ABJ",3,"21102020210",null,"Articles de bricolage","Outils et supports de travail en hauteur","Assemblage avec métal >50% et autres matériaux","Compris entre 0,5 kg et 1 kg exclus","€/unité",0.01,null,{"$f":"VLOOKUP(J980,'Codes éco-part'!$C:$E,3,FALSE)","v":"260"},1.2E-2]
["REP ABJ",3,"21102020220",null,"Articles de bricolage","Outils et supports de travail en hauteur","Assemblage avec métal >50% et autres matériaux","Compris entre 1 kg et 2 kg exclus","€/unité",0.01,null,{"$f":"VLOOKUP(J981,'Codes éco-part'!$C:$E,3,FALSE)","v":"260"},1.2E-2]
["REP ABJ",3,"21102020270",null,"Articles de bricolage","Outils et supports de travail en hauteur","Assemblage avec métal >50% et autres matériaux","Compris entre 30 kg et 40 kg exclus","€/unité",0.12,null,{"$f":"VLOOKUP(J982,'Codes éco-part'!$C:$E,3,FALSE)","v":"097"},0.14399999999999999]
["REP ABJ",3,"21102020520",null,"Articles de bricolage","Outils et supports de travail en hauteur","Assemblage avec métal >50% et autres matériaux","Compris entre 2 kg et 3 kg exclus","€/unité",0.01,null,{"$f":"VLOOKUP(J983,'Codes éco-part'!$C:$E,3,FALSE)","v":"260"},1.2E-2]
["REP ABJ",3,"21102020530",null,"Articles de bricolage","Outils et supports de travail en hauteur","Assemblage avec métal >50% et autres matériaux","Compris entre 3 kg et 5 kg exclus","€/unité",0.01,null,{"$f":"VLOOKUP(J984,'Codes éco-part'!$C:$E,3,FALSE)","v":"260"},1.2E-2]
["REP ABJ",3,"21102020540",null,"Articles de bricolage","Outils et supports de travail en hauteur","Assemblage avec métal >50% et autres matériaux","Compris entre 5 kg et 7 kg exclus","€/unité",0.02,null,{"$f":"VLOOKUP(J985,'Codes éco-part'!$C:$E,3,FALSE)","v":"047"},2.4E-2]
["REP ABJ",3,"21102020550",null,"Articles de bricolage","Outils et supports de travail en hauteur","Assemblage avec métal >50% et autres matériaux","Compris entre 7 kg et 10 kg exclus","€/unité",0.03,null,{"$f":"VLOOKUP(J986,'Codes éco-part'!$C:$E,3,FALSE)","v":"092"},3.5999999999999997E-2]
["REP ABJ",3,"21102020560",null,"Articles de bricolage","Outils et supports de travail en hauteur","Assemblage avec métal >50% et autres matériaux","Compris entre 10 kg et 15 kg exclus","€/unité",0.05,null,{"$f":"VLOOKUP(J987,'Codes éco-part'!$C:$E,3,FALSE)","v":"048"},0.06]
["REP ABJ",3,"21102020570",null,"Articles de bricolage","Outils et supports de travail en hauteur","Assemblage avec métal >50% et autres matériaux","Compris entre 15 kg et 20 kg exclus","€/unité",0.06,null,{"$f":"VLOOKUP(J988,'Codes éco-part'!$C:$E,3,FALSE)","v":"096"},7.1999999999999995E-2]
["REP ABJ",3,"21102020580",null,"Articles de bricolage","Outils et supports de travail en hauteur","Assemblage avec métal >50% et autres matériaux","Compris entre 20 kg et 25 kg exclus","€/unité",0.08,null,{"$f":"VLOOKUP(J989,'Codes éco-part'!$C:$E,3,FALSE)","v":"003"},9.6000000000000002E-2]
["REP ABJ",3,"21102020590",null,"Articles de bricolage","Outils et supports de travail en hauteur","Assemblage avec métal >50% et autres matériaux","Compris entre 25 kg et 30 kg exclus","€/unité",0.09,null,{"$f":"VLOOKUP(J990,'Codes éco-part'!$C:$E,3,FALSE)","v":"049"},0.108]
["REP ABJ",3,"21102020600",null,"Articles de bricolage","Outils et supports de travail en hauteur","Assemblage avec métal >50% et autres matériaux","Compris entre 40 kg et 50 kg exclus","€/unité",0.15,null,{"$f":"VLOOKUP(J991,'Codes éco-part'!$C:$E,3,FALSE)","v":"050"},0.18]
["REP ABJ",3,"21102040000",null,"Articles de bricolage","Outils et supports de travail en hauteur","Matériaux bio sourcés ou textiles non synthétiques >50%","Eléments de toutes dimensions et poids","€ / Tonne",75,30,{"$f":"VLOOKUP(J992,'Codes éco-part'!$C:$E,3,FALSE)","v":"192"},90]
["REP ABJ",3,"21102040200",null,"Articles de bricolage","Outils et supports de travail en hauteur","Matériaux bio sourcés ou textiles non synthétiques >50%","Inférieur strictement à 0,5 kg","€/unité",0.02,null,{"$f":"VLOOKUP(J993,'Codes éco-part'!$C:$E,3,FALSE)","v":"047"},2.4E-2]
["REP ABJ",3,"21102040210",null,"Articles de bricolage","Outils et supports de travail en hauteur","Matériaux bio sourcés ou textiles non synthétiques >50%","Compris entre 0,5 kg et 1 kg exclus","€/unité",0.06,null,{"$f":"VLOOKUP(J994,'Codes éco-part'!$C:$E,3,FALSE)","v":"096"},7.1999999999999995E-2]
["REP ABJ",3,"21102040220",null,"Articles de bricolage","Outils et supports de travail en hauteur","Matériaux bio sourcés ou textiles non synthétiques >50%","Compris entre 1 kg et 2 kg exclus","€/unité",0.11,null,{"$f":"VLOOKUP(J995,'Codes éco-part'!$C:$E,3,FALSE)","v":"262"},0.13200000000000001]
["REP ABJ",3,"21102040270",null,"Articles de bricolage","Outils et supports de travail en hauteur","Matériaux bio sourcés ou textiles non synthétiques >50%","Compris entre 30 kg et 40 kg exclus","€/unité",3,null,{"$f":"VLOOKUP(J996,'Codes éco-part'!$C:$E,3,FALSE)","v":"474"},3.5999999999999996]
["REP ABJ",3,"21102040520",null,"Articles de bricolage","Outils et supports de travail en hauteur","Matériaux bio sourcés ou textiles non synthétiques >50%","Compris entre 2 kg et 3 kg exclus","€/unité",0.19,null,{"$f":"VLOOKUP(J997,'Codes éco-part'!$C:$E,3,FALSE)","v":"291"},0.22799999999999998]
["REP ABJ",3,"21102040530",null,"Articles de bricolage","Outils et supports de travail en hauteur","Matériaux bio sourcés ou textiles non synthétiques >50%","Compris entre 3 kg et 5 kg exclus","€/unité",0.3,null,{"$f":"VLOOKUP(J998,'Codes éco-part'!$C:$E,3,FALSE)","v":"446"},0.36]
["REP ABJ",3,"21102040540",null,"Articles de bricolage","Outils et supports de travail en hauteur","Matériaux bio sourcés ou textiles non synthétiques >50%","Compris entre 5 kg et 7 kg exclus","€/unité",0.53,null,{"$f":"VLOOKUP(J999,'Codes éco-part'!$C:$E,3,FALSE)","v":"451"},0.63600000000000001]
["REP ABJ",3,"21102040550",null,"Articles de bricolage","Outils et supports de travail en hauteur","Matériaux bio sourcés ou textiles non synthétiques >50%","Compris entre 7 kg et 10 kg exclus","€/unité",0.75,null,{"$f":"VLOOKUP(J1000,'Codes éco-part'!$C:$E,3,FALSE)","v":"328"},0.89999999999999991]
["REP ABJ",3,"21102040560",null,"Articles de bricolage","Outils et supports de travail en hauteur","Matériaux bio sourcés ou textiles non synthétiques >50%","Compris entre 10 kg et 15 kg exclus","€/unité",1.1299999999999999,null,{"$f":"VLOOKUP(J1001,'Codes éco-part'!$C:$E,3,FALSE)","v":"331"},1.3559999999999999]
["REP ABJ",3,"21102040570",null,"Articles de bricolage","Outils et supports de travail en hauteur","Matériaux bio sourcés ou textiles non synthétiques >50%","Compris entre 15 kg et 20 kg exclus","€/unité",1.5,null,{"$f":"VLOOKUP(J1002,'Codes éco-part'!$C:$E,3,FALSE)","v":"059"},1.7999999999999998]
["REP ABJ",3,"21102040580",null,"Articles de bricolage","Outils et supports de travail en hauteur","Matériaux bio sourcés ou textiles non synthétiques >50%","Compris entre 20 kg et 25 kg exclus","€/unité",1.88,null,{"$f":"VLOOKUP(J1003,'Codes éco-part'!$C:$E,3,FALSE)","v":"335"},2.2559999999999998]
["REP ABJ",3,"21102040590",null,"Articles de bricolage","Outils et supports de travail en hauteur","Matériaux bio sourcés ou textiles non synthétiques >50%","Compris entre 25 kg et 30 kg exclus","€/unité",2.25,null,{"$f":"VLOOKUP(J1004,'Codes éco-part'!$C:$E,3,FALSE)","v":"118"},2.6999999999999997]
["REP ABJ",3,"21102040600",null,"Articles de bricolage","Outils et supports de travail en hauteur","Matériaux bio sourcés ou textiles non synthétiques >50%","Compris entre 40 kg et 50 kg exclus","€/unité",3.75,null,{"$f":"VLOOKUP(J1005,'Codes éco-part'!$C:$E,3,FALSE)","v":"015"},4.5]
["REP ABJ",3,"21102050000",null,"Articles de bricolage","Outils et supports de travail en hauteur","Plastiques ou autres matériaux synthétiques >50%","Eléments de toutes dimensions et poids","€ / Tonne",75,75,{"$f":"VLOOKUP(J1006,'Codes éco-part'!$C:$E,3,FALSE)","v":"192"},90]
["REP ABJ",3,"21102050200",null,"Articles de bricolage","Outils et supports de travail en hauteur","Plastiques ou autres matériaux synthétiques >50%","Inférieur strictement à 0,5 kg","€/unité",0.02,null,{"$f":"VLOOKUP(J1007,'Codes éco-part'!$C:$E,3,FALSE)","v":"047"},2.4E-2]
["REP ABJ",3,"21102050210",null,"Articles de bricolage","Outils et supports de travail en hauteur","Plastiques ou autres matériaux synthétiques >50%","Compris entre 0,5 kg et 1 kg exclus","€/unité",0.06,null,{"$f":"VLOOKUP(J1008,'Codes éco-part'!$C:$E,3,FALSE)","v":"096"},7.1999999999999995E-2]
["REP ABJ",3,"21102050220",null,"Articles de bricolage","Outils et supports de travail en hauteur","Plastiques ou autres matériaux synthétiques >50%","Compris entre 1 kg et 2 kg exclus","€/unité",0.11,null,{"$f":"VLOOKUP(J1009,'Codes éco-part'!$C:$E,3,FALSE)","v":"262"},0.13200000000000001]
["REP ABJ",3,"21102050270",null,"Articles de bricolage","Outils et supports de travail en hauteur","Plastiques ou autres matériaux synthétiques >50%","Compris entre 30 kg et 40 kg exclus","€/unité",3,null,{"$f":"VLOOKUP(J1010,'Codes éco-part'!$C:$E,3,FALSE)","v":"474"},3.5999999999999996]
["REP ABJ",3,"21102050520",null,"Articles de bricolage","Outils et supports de travail en hauteur","Plastiques ou autres matériaux synthétiques >50%","Compris entre 2 kg et 3 kg exclus","€/unité",0.19,null,{"$f":"VLOOKUP(J1011,'Codes éco-part'!$C:$E,3,FALSE)","v":"291"},0.22799999999999998]
["REP ABJ",3,"21102050530",null,"Articles de bricolage","Outils et supports de travail en hauteur","Plastiques ou autres matériaux synthétiques >50%","Compris entre 3 kg et 5 kg exclus","€/unité",0.3,null,{"$f":"VLOOKUP(J1012,'Codes éco-part'!$C:$E,3,FALSE)","v":"446"},0.36]
["REP ABJ",3,"21102050540",null,"Articles de bricolage","Outils et supports de travail en hauteur","Plastiques ou autres matériaux synthétiques >50%","Compris entre 5 kg et 7 kg exclus","€/unité",0.53,null,{"$f":"VLOOKUP(J1013,'Codes éco-part'!$C:$E,3,FALSE)","v":"451"},0.63600000000000001]
["REP ABJ",3,"21102050550",null,"Articles de bricolage","Outils et supports de travail en hauteur","Plastiques ou autres matériaux synthétiques >50%","Compris entre 7 kg et 10 kg exclus","€/unité",0.75,null,{"$f":"VLOOKUP(J1014,'Codes éco-part'!$C:$E,3,FALSE)","v":"328"},0.89999999999999991]
["REP ABJ",3,"21102050560",null,"Articles de bricolage","Outils et supports de travail en hauteur","Plastiques ou autres matériaux synthétiques >50%","Compris entre 10 kg et 15 kg exclus","€/unité",1.1299999999999999,null,{"$f":"VLOOKUP(J1015,'Codes éco-part'!$C:$E,3,FALSE)","v":"331"},1.3559999999999999]
["REP ABJ",3,"21102050570",null,"Articles de bricolage","Outils et supports de travail en hauteur","Plastiques ou autres matériaux synthétiques >50%","Compris entre 15 kg et 20 kg exclus","€/unité",1.5,null,{"$f":"VLOOKUP(J1016,'Codes éco-part'!$C:$E,3,FALSE)","v":"059"},1.7999999999999998]
["REP ABJ",3,"21102050580",null,"Articles de bricolage","Outils et supports de travail en hauteur","Plastiques ou autres matériaux synthétiques >50%","Compris entre 20 kg et 25 kg exclus","€/unité",1.88,null,{"$f":"VLOOKUP(J1017,'Codes éco-part'!$C:$E,3,FALSE)","v":"335"},2.2559999999999998]
["REP ABJ",3,"21102050590",null,"Articles de bricolage","Outils et supports de travail en hauteur","Plastiques ou autres matériaux synthétiques >50%","Compris entre 25 kg et 30 kg exclus","€/unité",2.25,null,{"$f":"VLOOKUP(J1018,'Codes éco-part'!$C:$E,3,FALSE)","v":"118"},2.6999999999999997]
["REP ABJ",3,"21102050600",null,"Articles de bricolage","Outils et supports de travail en hauteur","Plastiques ou autres matériaux synthétiques >50%","Compris entre 40 kg et 50 kg exclus","€/unité",3.75,null,{"$f":"VLOOKUP(J1019,'Codes éco-part'!$C:$E,3,FALSE)","v":"015"},4.5]
["REP ABJ",3,"21102060000",null,"Articles de bricolage","Outils et supports de travail en hauteur","Matériaux d'origine animale >50%","Eléments de toutes dimensions et poids","€ / Tonne",30,30,{"$f":"VLOOKUP(J1020,'Codes éco-part'!$C:$E,3,FALSE)","v":"153"},36]
["REP ABJ",3,"21102060200",null,"Articles de bricolage","Outils et supports de travail en hauteur","Matériaux d'origine animale >50%","Inférieur strictement à 0,5 kg","€/unité",0.02,null,{"$f":"VLOOKUP(J1021,'Codes éco-part'!$C:$E,3,FALSE)","v":"047"},2.4E-2]
["REP ABJ",3,"21102060210",null,"Articles de bricolage","Outils et supports de travail en hauteur","Matériaux d'origine animale >50%","Compris entre 0,5 kg et 1 kg exclus","€/unité",0.06,null,{"$f":"VLOOKUP(J1022,'Codes éco-part'!$C:$E,3,FALSE)","v":"096"},7.1999999999999995E-2]
["REP ABJ",3,"21102060220",null,"Articles de bricolage","Outils et supports de travail en hauteur","Matériaux d'origine animale >50%","Compris entre 1 kg et 2 kg exclus","€/unité",0.11,null,{"$f":"VLOOKUP(J1023,'Codes éco-part'!$C:$E,3,FALSE)","v":"262"},0.13200000000000001]
["REP ABJ",3,"21102060270",null,"Articles de bricolage","Outils et supports de travail en hauteur","Matériaux d'origine animale >50%","Compris entre 30 kg et 40 kg exclus","€/unité",3,null,{"$f":"VLOOKUP(J1024,'Codes éco-part'!$C:$E,3,FALSE)","v":"474"},3.5999999999999996]
["REP ABJ",3,"21102060520",null,"Articles de bricolage","Outils et supports de travail en hauteur","Matériaux d'origine animale >50%","Compris entre 2 kg et 3 kg exclus","€/unité",0.19,null,{"$f":"VLOOKUP(J1025,'Codes éco-part'!$C:$E,3,FALSE)","v":"291"},0.22799999999999998]
["REP ABJ",3,"21102060530",null,"Articles de bricolage","Outils et supports de travail en hauteur","Matériaux d'origine animale >50%","Compris entre 3 kg et 5 kg exclus","€/unité",0.3,null,{"$f":"VLOOKUP(J1026,'Codes éco-part'!$C:$E,3,FALSE)","v":"446"},{"$f":"J1026*1.2","v":0.36}]
["REP ABJ",3,"21102060540",null,"Articles de bricolage","Outils et supports de travail en hauteur","Matériaux d'origine animale >50%","Compris entre 5 kg et 7 kg exclus","€/unité",0.53,null,{"$f":"VLOOKUP(J1027,'Codes éco-part'!$C:$E,3,FALSE)","v":"451"},0.63600000000000001]
["REP ABJ",3,"21102060550",null,"Articles de bricolage","Outils et supports de travail en hauteur","Matériaux d'origine animale >50%","Compris entre 7 kg et 10 kg exclus","€/unité",0.75,null,{"$f":"VLOOKUP(J1028,'Codes éco-part'!$C:$E,3,FALSE)","v":"328"},0.89999999999999991]
["REP ABJ",3,"21102060560",null,"Articles de bricolage","Outils et supports de travail en hauteur","Matériaux d'origine animale >50%","Compris entre 10 kg et 15 kg exclus","€/unité",1.1299999999999999,null,{"$f":"VLOOKUP(J1029,'Codes éco-part'!$C:$E,3,FALSE)","v":"331"},1.3559999999999999]
["REP ABJ",3,"21102060570",null,"Articles de bricolage","Outils et supports de travail en hauteur","Matériaux d'origine animale >50%","Compris entre 15 kg et 20 kg exclus","€/unité",1.5,null,{"$f":"VLOOKUP(J1030,'Codes éco-part'!$C:$E,3,FALSE)","v":"059"},1.7999999999999998]
["REP ABJ",3,"21102060580",null,"Articles de bricolage","Outils et supports de travail en hauteur","Matériaux d'origine animale >50%","Compris entre 20 kg et 25 kg exclus","€/unité",1.88,null,{"$f":"VLOOKUP(J1031,'Codes éco-part'!$C:$E,3,FALSE)","v":"335"},2.2559999999999998]
["REP ABJ",3,"21102060590",null,"Articles de bricolage","Outils et supports de travail en hauteur","Matériaux d'origine animale >50%","Compris entre 25 kg et 30 kg exclus","€/unité",2.25,null,{"$f":"VLOOKUP(J1032,'Codes éco-part'!$C:$E,3,FALSE)","v":"118"},2.6999999999999997]
["REP ABJ",3,"21102060600",null,"Articles de bricolage","Outils et supports de travail en hauteur","Matériaux d'origine animale >50%","Compris entre 40 kg et 50 kg exclus","€/unité",3.75,null,{"$f":"VLOOKUP(J1033,'Codes éco-part'!$C:$E,3,FALSE)","v":"015"},4.5]
["REP ABJ",3,"21102080000",null,"Articles de bricolage","Outils et supports de travail en hauteur","Assemblage de matériaux avec de l'inerte >50%","Eléments de toutes dimensions et poids","€ / Tonne",75,75,{"$f":"VLOOKUP(J1034,'Codes éco-part'!$C:$E,3,FALSE)","v":"192"},90]
["REP ABJ",3,"21102080200",null,"Articles de bricolage","Outils et supports de travail en hauteur","Assemblage de matériaux avec de l'inerte >50%","Inférieur strictement à 0,5 kg","€/unité",0.02,null,{"$f":"VLOOKUP(J1035,'Codes éco-part'!$C:$E,3,FALSE)","v":"047"},2.4E-2]
["REP ABJ",3,"21102080210",null,"Articles de bricolage","Outils et supports de travail en hauteur","Assemblage de matériaux avec de l'inerte >50%","Compris entre 0,5 kg et 1 kg exclus","€/unité",0.06,null,{"$f":"VLOOKUP(J1036,'Codes éco-part'!$C:$E,3,FALSE)","v":"096"},7.1999999999999995E-2]
["REP ABJ",3,"21102080220",null,"Articles de bricolage","Outils et supports de travail en hauteur","Assemblage de matériaux avec de l'inerte >50%","Compris entre 1 kg et 2 kg exclus","€/unité",0.11,null,{"$f":"VLOOKUP(J1037,'Codes éco-part'!$C:$E,3,FALSE)","v":"262"},0.13200000000000001]
["REP ABJ",3,"21102080270",null,"Articles de bricolage","Outils et supports de travail en hauteur","Assemblage de matériaux avec de l'inerte >50%","Compris entre 30 kg et 40 kg exclus","€/unité",3,null,{"$f":"VLOOKUP(J1038,'Codes éco-part'!$C:$E,3,FALSE)","v":"474"},3.5999999999999996]
["REP ABJ",3,"21102080520",null,"Articles de bricolage","Outils et supports de travail en hauteur","Assemblage de matériaux avec de l'inerte >50%","Compris entre 2 kg et 3 kg exclus","€/unité",0.19,null,{"$f":"VLOOKUP(J1039,'Codes éco-part'!$C:$E,3,FALSE)","v":"291"},0.22799999999999998]
["REP ABJ",3,"21102080530",null,"Articles de bricolage","Outils et supports de travail en hauteur","Assemblage de matériaux avec de l'inerte >50%","Compris entre 3 kg et 5 kg exclus","€/unité",0.3,null,{"$f":"VLOOKUP(J1040,'Codes éco-part'!$C:$E,3,FALSE)","v":"446"},0.36]
["REP ABJ",3,"21102080540",null,"Articles de bricolage","Outils et supports de travail en hauteur","Assemblage de matériaux avec de l'inerte >50%","Compris entre 5 kg et 7 kg exclus","€/unité",0.53,null,{"$f":"VLOOKUP(J1041,'Codes éco-part'!$C:$E,3,FALSE)","v":"451"},0.63600000000000001]
["REP ABJ",3,"21102080550",null,"Articles de bricolage","Outils et supports de travail en hauteur","Assemblage de matériaux avec de l'inerte >50%","Compris entre 7 kg et 10 kg exclus","€/unité",0.75,null,{"$f":"VLOOKUP(J1042,'Codes éco-part'!$C:$E,3,FALSE)","v":"328"},0.89999999999999991]
["REP ABJ",3,"21102080560",null,"Articles de bricolage","Outils et supports de travail en hauteur","Assemblage de matériaux avec de l'inerte >50%","Compris entre 10 kg et 15 kg exclus","€/unité",1.1299999999999999,null,{"$f":"VLOOKUP(J1043,'Codes éco-part'!$C:$E,3,FALSE)","v":"331"},1.3559999999999999]
["REP ABJ",3,"21102080570",null,"Articles de bricolage","Outils et supports de travail en hauteur","Assemblage de matériaux avec de l'inerte >50%","Compris entre 15 kg et 20 kg exclus","€/unité",1.5,null,{"$f":"VLOOKUP(J1044,'Codes éco-part'!$C:$E,3,FALSE)","v":"059"},1.7999999999999998]
["REP ABJ",3,"21102080580",null,"Articles de bricolage","Outils et supports de travail en hauteur","Assemblage de matériaux avec de l'inerte >50%","Compris entre 20 kg et 25 kg exclus","€/unité",1.88,null,{"$f":"VLOOKUP(J1045,'Codes éco-part'!$C:$E,3,FALSE)","v":"335"},2.2559999999999998]
["REP ABJ",3,"21102080590",null,"Articles de bricolage","Outils et supports de travail en hauteur","Assemblage de matériaux avec de l'inerte >50%","Compris entre 25 kg et 30 kg exclus","€/unité",2.25,null,{"$f":"VLOOKUP(J1046,'Codes éco-part'!$C:$E,3,FALSE)","v":"118"},2.6999999999999997]
["REP ABJ",3,"21102080600",null,"Articles de bricolage","Outils et supports de travail en hauteur","Assemblage de matériaux avec de l'inerte >50%","Compris entre 40 kg et 50 kg exclus","€/unité",3.75,null,{"$f":"VLOOKUP(J1047,'Codes éco-part'!$C:$E,3,FALSE)","v":"015"},4.5]
["REP ABJ",3,"21102150000",null,"Articles de bricolage","Outils et supports de travail en hauteur","Composites et autres matériaux minéraux reconstitués >50%","Eléments de toutes dimensions et poids","€ / Tonne",75,75,{"$f":"VLOOKUP(J1048,'Codes éco-part'!$C:$E,3,FALSE)","v":"192"},90]
["REP ABJ",3,"21102150200",null,"Articles de bricolage","Outils et supports de travail en hauteur","Composites et autres matériaux minéraux reconstitués >50%","Inférieur strictement à 0,5 kg","€/unité",0.02,null,{"$f":"VLOOKUP(J1049,'Codes éco-part'!$C:$E,3,FALSE)","v":"047"},2.4E-2]
["REP ABJ",3,"21102150210",null,"Articles de bricolage","Outils et supports de travail en hauteur","Composites et autres matériaux minéraux reconstitués >50%","Compris entre 0,5 kg et 1 kg exclus","€/unité",0.06,null,{"$f":"VLOOKUP(J1050,'Codes éco-part'!$C:$E,3,FALSE)","v":"096"},7.1999999999999995E-2]
["REP ABJ",3,"21102150220",null,"Articles de bricolage","Outils et supports de travail en hauteur","Composites et autres matériaux minéraux reconstitués >50%","Compris entre 1 kg et 2 kg exclus","€/unité",0.11,null,{"$f":"VLOOKUP(J1051,'Codes éco-part'!$C:$E,3,FALSE)","v":"262"},0.13200000000000001]
["REP ABJ",3,"21102150270",null,"Articles de bricolage","Outils et supports de travail en hauteur","Composites et autres matériaux minéraux reconstitués >50%","Compris entre 30 kg et 40 kg exclus","€/unité",3,null,{"$f":"VLOOKUP(J1052,'Codes éco-part'!$C:$E,3,FALSE)","v":"474"},3.5999999999999996]
["REP ABJ",3,"21102150520",null,"Articles de bricolage","Outils et supports de travail en hauteur","Composites et autres matériaux minéraux reconstitués >50%","Compris entre 2 kg et 3 kg exclus","€/unité",0.19,null,{"$f":"VLOOKUP(J1053,'Codes éco-part'!$C:$E,3,FALSE)","v":"291"},0.22799999999999998]
["REP ABJ",3,"21102150530",null,"Articles de bricolage","Outils et supports de travail en hauteur","Composites et autres matériaux minéraux reconstitués >50%","Compris entre 3 kg et 5 kg exclus","€/unité",0.3,null,{"$f":"VLOOKUP(J1054,'Codes éco-part'!$C:$E,3,FALSE)","v":"446"},0.36]
["REP ABJ",3,"21102150540",null,"Articles de bricolage","Outils et supports de travail en hauteur","Composites et autres matériaux minéraux reconstitués >50%","Compris entre 5 kg et 7 kg exclus","€/unité",0.53,null,{"$f":"VLOOKUP(J1055,'Codes éco-part'!$C:$E,3,FALSE)","v":"451"},0.63600000000000001]
["REP ABJ",3,"21102150550",null,"Articles de bricolage","Outils et supports de travail en hauteur","Composites et autres matériaux minéraux reconstitués >50%","Compris entre 7 kg et 10 kg exclus","€/unité",0.75,null,{"$f":"VLOOKUP(J1056,'Codes éco-part'!$C:$E,3,FALSE)","v":"328"},0.89999999999999991]
["REP ABJ",3,"21102150560",null,"Articles de bricolage","Outils et supports de travail en hauteur","Composites et autres matériaux minéraux reconstitués >50%","Compris entre 10 kg et 15 kg exclus","€/unité",1.1299999999999999,null,{"$f":"VLOOKUP(J1057,'Codes éco-part'!$C:$E,3,FALSE)","v":"331"},1.3559999999999999]
["REP ABJ",3,"21102150570",null,"Articles de bricolage","Outils et supports de travail en hauteur","Composites et autres matériaux minéraux reconstitués >50%","Compris entre 15 kg et 20 kg exclus","€/unité",1.5,null,{"$f":"VLOOKUP(J1058,'Codes éco-part'!$C:$E,3,FALSE)","v":"059"},1.7999999999999998]
["REP ABJ",3,"21102150580",null,"Articles de bricolage","Outils et supports de travail en hauteur","Composites et autres matériaux minéraux reconstitués >50%","Compris entre 20 kg et 25 kg exclus","€/unité",1.88,null,{"$f":"VLOOKUP(J1059,'Codes éco-part'!$C:$E,3,FALSE)","v":"335"},2.2559999999999998]
["REP ABJ",3,"21102150590",null,"Articles de bricolage","Outils et supports de travail en hauteur","Composites et autres matériaux minéraux reconstitués >50%","Compris entre 25 kg et 30 kg exclus","€/unité",2.25,null,{"$f":"VLOOKUP(J1060,'Codes éco-part'!$C:$E,3,FALSE)","v":"118"},2.6999999999999997]
["REP ABJ",3,"21102150600",null,"Articles de bricolage","Outils et supports de travail en hauteur","Composites et autres matériaux minéraux reconstitués >50%","Compris entre 40 kg et 50 kg exclus","€/unité",3.75,null,{"$f":"VLOOKUP(J1061,'Codes éco-part'!$C:$E,3,FALSE)","v":"015"},4.5]
["REP ABJ",3,"21102190000",null,"Articles de bricolage","Outils et supports de travail en hauteur","Papier carton >50% avec d'autres matériaux (hors verre)","Eléments de toutes dimensions et poids","€ / Tonne",75,30,{"$f":"VLOOKUP(J1062,'Codes éco-part'!$C:$E,3,FALSE)","v":"192"},90]
["REP ABJ",3,"21102190200",null,"Articles de bricolage","Outils et supports de travail en hauteur","Papier carton >50% avec d'autres matériaux (hors verre)","Inférieur strictement à 0,5 kg","€/unité",0.02,null,{"$f":"VLOOKUP(J1063,'Codes éco-part'!$C:$E,3,FALSE)","v":"047"},2.4E-2]
["REP ABJ",3,"21102190210",null,"Articles de bricolage","Outils et supports de travail en hauteur","Papier carton >50% avec d'autres matériaux (hors verre)","Compris entre 0,5 kg et 1 kg exclus","€/unité",0.06,null,{"$f":"VLOOKUP(J1064,'Codes éco-part'!$C:$E,3,FALSE)","v":"096"},7.1999999999999995E-2]
["REP ABJ",3,"21102190220",null,"Articles de bricolage","Outils et supports de travail en hauteur","Papier carton >50% avec d'autres matériaux (hors verre)","Compris entre 1 kg et 2 kg exclus","€/unité",0.11,null,{"$f":"VLOOKUP(J1065,'Codes éco-part'!$C:$E,3,FALSE)","v":"262"},0.13200000000000001]
["REP ABJ",3,"21102190270",null,"Articles de bricolage","Outils et supports de travail en hauteur","Papier carton >50% avec d'autres matériaux (hors verre)","Compris entre 30 kg et 40 kg exclus","€/unité",3,null,{"$f":"VLOOKUP(J1066,'Codes éco-part'!$C:$E,3,FALSE)","v":"474"},3.5999999999999996]
["REP ABJ",3,"21102190520",null,"Articles de bricolage","Outils et supports de travail en hauteur","Papier carton >50% avec d'autres matériaux (hors verre)","Compris entre 2 kg et 3 kg exclus","€/unité",0.19,null,{"$f":"VLOOKUP(J1067,'Codes éco-part'!$C:$E,3,FALSE)","v":"291"},0.22799999999999998]
["REP ABJ",3,"21102190530",null,"Articles de bricolage","Outils et supports de travail en hauteur","Papier carton >50% avec d'autres matériaux (hors verre)","Compris entre 3 kg et 5 kg exclus","€/unité",0.3,null,{"$f":"VLOOKUP(J1068,'Codes éco-part'!$C:$E,3,FALSE)","v":"446"},0.36]
["REP ABJ",3,"21102190540",null,"Articles de bricolage","Outils et supports de travail en hauteur","Papier carton >50% avec d'autres matériaux (hors verre)","Compris entre 5 kg et 7 kg exclus","€/unité",0.53,null,{"$f":"VLOOKUP(J1069,'Codes éco-part'!$C:$E,3,FALSE)","v":"451"},0.63600000000000001]
["REP ABJ",3,"21102190550",null,"Articles de bricolage","Outils et supports de travail en hauteur","Papier carton >50% avec d'autres matériaux (hors verre)","Compris entre 7 kg et 10 kg exclus","€/unité",0.75,null,{"$f":"VLOOKUP(J1070,'Codes éco-part'!$C:$E,3,FALSE)","v":"328"},0.89999999999999991]
["REP ABJ",3,"21102190560",null,"Articles de bricolage","Outils et supports de travail en hauteur","Papier carton >50% avec d'autres matériaux (hors verre)","Compris entre 10 kg et 15 kg exclus","€/unité",1.1299999999999999,null,{"$f":"VLOOKUP(J1071,'Codes éco-part'!$C:$E,3,FALSE)","v":"331"},1.3559999999999999]
["REP ABJ",3,"21102190570",null,"Articles de bricolage","Outils et supports de travail en hauteur","Papier carton >50% avec d'autres matériaux (hors verre)","Compris entre 15 kg et 20 kg exclus","€/unité",1.5,null,{"$f":"VLOOKUP(J1072,'Codes éco-part'!$C:$E,3,FALSE)","v":"059"},1.7999999999999998]
["REP ABJ",3,"21102190580",null,"Articles de bricolage","Outils et supports de travail en hauteur","Papier carton >50% avec d'autres matériaux (hors verre)","Compris entre 20 kg et 25 kg exclus","€/unité",1.88,null,{"$f":"VLOOKUP(J1073,'Codes éco-part'!$C:$E,3,FALSE)","v":"335"},2.2559999999999998]
["REP ABJ",3,"21102190590",null,"Articles de bricolage","Outils et supports de travail en hauteur","Papier carton >50% avec d'autres matériaux (hors verre)","Compris entre 25 kg et 30 kg exclus","€/unité",2.25,null,{"$f":"VLOOKUP(J1074,'Codes éco-part'!$C:$E,3,FALSE)","v":"118"},2.6999999999999997]
["REP ABJ",3,"21102190600",null,"Articles de bricolage","Outils et supports de travail en hauteur","Papier carton >50% avec d'autres matériaux (hors verre)","Compris entre 40 kg et 50 kg exclus","€/unité",3.75,null,{"$f":"VLOOKUP(J1075,'Codes éco-part'!$C:$E,3,FALSE)","v":"015"},4.5]
["REP ABJ",3,"21102200000",null,"Articles de bricolage","Outils et supports de travail en hauteur","Massif et assimilés certifiés >75%","Eléments de toutes dimensions et poids","€ / Tonne",10,10,{"$f":"VLOOKUP(J1076,'Codes éco-part'!$C:$E,3,FALSE)","v":"138"},12]
["REP ABJ",3,"21102200200",null,"Articles de bricolage","Outils et supports de travail en hauteur","Massif et assimilés certifiés >75%","Inférieur strictement à 0,5 kg","€/unité",0.01,null,{"$f":"VLOOKUP(J1077,'Codes éco-part'!$C:$E,3,FALSE)","v":"260"},1.2E-2]
["REP ABJ",3,"21102200210",null,"Articles de bricolage","Outils et supports de travail en hauteur","Massif et assimilés certifiés >75%","Compris entre 0,5 kg et 1 kg exclus","€/unité",0.01,null,{"$f":"VLOOKUP(J1078,'Codes éco-part'!$C:$E,3,FALSE)","v":"260"},1.2E-2]
["REP ABJ",3,"21102200220",null,"Articles de bricolage","Outils et supports de travail en hauteur","Massif et assimilés certifiés >75%","Compris entre 1 kg et 2 kg exclus","€/unité",0.02,null,{"$f":"VLOOKUP(J1079,'Codes éco-part'!$C:$E,3,FALSE)","v":"047"},2.4E-2]
["REP ABJ",3,"21102200270",null,"Articles de bricolage","Outils et supports de travail en hauteur","Massif et assimilés certifiés >75%","Compris entre 30 kg et 40 kg exclus","€/unité",0.4,null,{"$f":"VLOOKUP(J1080,'Codes éco-part'!$C:$E,3,FALSE)","v":"105"},0.48]
["REP ABJ",3,"21102200520",null,"Articles de bricolage","Outils et supports de travail en hauteur","Massif et assimilés certifiés >75%","Compris entre 2 kg et 3 kg exclus","€/unité",0.03,null,{"$f":"VLOOKUP(J1081,'Codes éco-part'!$C:$E,3,FALSE)","v":"092"},3.5999999999999997E-2]
["REP ABJ",3,"21102200530",null,"Articles de bricolage","Outils et supports de travail en hauteur","Massif et assimilés certifiés >75%","Compris entre 3 kg et 5 kg exclus","€/unité",0.04,null,{"$f":"VLOOKUP(J1082,'Codes éco-part'!$C:$E,3,FALSE)","v":"002"},4.8000000000000001E-2]
["REP ABJ",3,"21102200540",null,"Articles de bricolage","Outils et supports de travail en hauteur","Massif et assimilés certifiés >75%","Compris entre 5 kg et 7 kg exclus","€/unité",7.0000000000000007E-2,null,{"$f":"VLOOKUP(J1083,'Codes éco-part'!$C:$E,3,FALSE)","v":"247"},8.4000000000000005E-2]
["REP ABJ",3,"21102200550",null,"Articles de bricolage","Outils et supports de travail en hauteur","Massif et assimilés certifiés >75%","Compris entre 7 kg et 10 kg exclus","€/unité",0.1,null,{"$f":"VLOOKUP(J1084,'Codes éco-part'!$C:$E,3,FALSE)","v":"094"},0.12]
["REP ABJ",3,"21102200560",null,"Articles de bricolage","Outils et supports de travail en hauteur","Massif et assimilés certifiés >75%","Compris entre 10 kg et 15 kg exclus","€/unité",0.15,null,{"$f":"VLOOKUP(J1085,'Codes éco-part'!$C:$E,3,FALSE)","v":"050"},0.18]
["REP ABJ",3,"21102200570",null,"Articles de bricolage","Outils et supports de travail en hauteur","Massif et assimilés certifiés >75%","Compris entre 15 kg et 20 kg exclus","€/unité",0.2,null,{"$f":"VLOOKUP(J1086,'Codes éco-part'!$C:$E,3,FALSE)","v":"101"},0.24]
["REP ABJ",3,"21102200580",null,"Articles de bricolage","Outils et supports de travail en hauteur","Massif et assimilés certifiés >75%","Compris entre 20 kg et 25 kg exclus","€/unité",0.25,null,{"$f":"VLOOKUP(J1087,'Codes éco-part'!$C:$E,3,FALSE)","v":"095"},0.3]
["REP ABJ",3,"21102200590",null,"Articles de bricolage","Outils et supports de travail en hauteur","Massif et assimilés certifiés >75%","Compris entre 25 kg et 30 kg exclus","€/unité",0.3,null,{"$f":"VLOOKUP(J1088,'Codes éco-part'!$C:$E,3,FALSE)","v":"446"},0.36]
["REP ABJ",3,"21102200600",null,"Articles de bricolage","Outils et supports de travail en hauteur","Massif et assimilés certifiés >75%","Compris entre 40 kg et 50 kg exclus","€/unité",0.5,null,{"$f":"VLOOKUP(J1089,'Codes éco-part'!$C:$E,3,FALSE)","v":"053"},0.6]
["REP ABJ",3,"21102210000",null,"Articles de bricolage","Outils et supports de travail en hauteur","Massif et assimilés >75%","Eléments de toutes dimensions et poids","€ / Tonne",10,10,{"$f":"VLOOKUP(J1090,'Codes éco-part'!$C:$E,3,FALSE)","v":"138"},{"$f":"J1090*1.2","v":12}]
["REP ABJ",3,"21102210200",null,"Articles de bricolage","Outils et supports de travail en hauteur","Massif et assimilés >75%","Inférieur strictement à 0,5 kg","€/unité",0.01,null,{"$f":"VLOOKUP(J1091,'Codes éco-part'!$C:$E,3,FALSE)","v":"260"},1.2E-2]
["REP ABJ",3,"21102210210",null,"Articles de bricolage","Outils et supports de travail en hauteur","Massif et assimilés >75%","Compris entre 0,5 kg et 1 kg exclus","€/unité",0.01,null,{"$f":"VLOOKUP(J1092,'Codes éco-part'!$C:$E,3,FALSE)","v":"260"},1.2E-2]
["REP ABJ",3,"21102210220",null,"Articles de bricolage","Outils et supports de travail en hauteur","Massif et assimilés >75%","Compris entre 1 kg et 2 kg exclus","€/unité",0.02,null,{"$f":"VLOOKUP(J1093,'Codes éco-part'!$C:$E,3,FALSE)","v":"047"},2.4E-2]
["REP ABJ",3,"21102210270",null,"Articles de bricolage","Outils et supports de travail en hauteur","Massif et assimilés >75%","Compris entre 30 kg et 40 kg exclus","€/unité",0.4,null,{"$f":"VLOOKUP(J1094,'Codes éco-part'!$C:$E,3,FALSE)","v":"105"},0.48]
["REP ABJ",3,"21102210520",null,"Articles de bricolage","Outils et supports de travail en hauteur","Massif et assimilés >75%","Compris entre 2 kg et 3 kg exclus","€/unité",0.03,null,{"$f":"VLOOKUP(J1095,'Codes éco-part'!$C:$E,3,FALSE)","v":"092"},3.5999999999999997E-2]
["REP ABJ",3,"21102210530",null,"Articles de bricolage","Outils et supports de travail en hauteur","Massif et assimilés >75%","Compris entre 3 kg et 5 kg exclus","€/unité",0.04,null,{"$f":"VLOOKUP(J1096,'Codes éco-part'!$C:$E,3,FALSE)","v":"002"},4.8000000000000001E-2]
["REP ABJ",3,"21102210540",null,"Articles de bricolage","Outils et supports de travail en hauteur","Massif et assimilés >75%","Compris entre 5 kg et 7 kg exclus","€/unité",7.0000000000000007E-2,null,{"$f":"VLOOKUP(J1097,'Codes éco-part'!$C:$E,3,FALSE)","v":"247"},8.4000000000000005E-2]
["REP ABJ",3,"21102210550",null,"Articles de bricolage","Outils et supports de travail en hauteur","Massif et assimilés >75%","Compris entre 7 kg et 10 kg exclus","€/unité",0.1,null,{"$f":"VLOOKUP(J1098,'Codes éco-part'!$C:$E,3,FALSE)","v":"094"},0.12]
["REP ABJ",3,"21102210560",null,"Articles de bricolage","Outils et supports de travail en hauteur","Massif et assimilés >75%","Compris entre 10 kg et 15 kg exclus","€/unité",0.15,null,{"$f":"VLOOKUP(J1099,'Codes éco-part'!$C:$E,3,FALSE)","v":"050"},0.18]
["REP ABJ",3,"21102210570",null,"Articles de bricolage","Outils et supports de travail en hauteur","Massif et assimilés >75%","Compris entre 15 kg et 20 kg exclus","€/unité",0.2,null,{"$f":"VLOOKUP(J1100,'Codes éco-part'!$C:$E,3,FALSE)","v":"101"},0.24]
["REP ABJ",3,"21102210580",null,"Articles de bricolage","Outils et supports de travail en hauteur","Massif et assimilés >75%","Compris entre 20 kg et 25 kg exclus","€/unité",0.25,null,{"$f":"VLOOKUP(J1101,'Codes éco-part'!$C:$E,3,FALSE)","v":"095"},0.3]
["REP ABJ",3,"21102210590",null,"Articles de bricolage","Outils et supports de travail en hauteur","Massif et assimilés >75%","Compris entre 25 kg et 30 kg exclus","€/unité",0.3,null,{"$f":"VLOOKUP(J1102,'Codes éco-part'!$C:$E,3,FALSE)","v":"446"},0.36]
["REP ABJ",3,"21102210600",null,"Articles de bricolage","Outils et supports de travail en hauteur","Massif et assimilés >75%","Compris entre 40 kg et 50 kg exclus","€/unité",0.5,null,{"$f":"VLOOKUP(J1103,'Codes éco-part'!$C:$E,3,FALSE)","v":"053"},0.6]
["REP ABJ",3,"21102250000",null,"Articles de bricolage","Outils et supports de travail en hauteur","Panneaux de particules ou OSB >75%","Eléments de toutes dimensions et poids","€ / Tonne",10,10,{"$f":"VLOOKUP(J1104,'Codes éco-part'!$C:$E,3,FALSE)","v":"138"},12]
["REP ABJ",3,"21102250200",null,"Articles de bricolage","Outils et supports de travail en hauteur","Panneaux de particules ou OSB >75%","Inférieur strictement à 0,5 kg","€/unité",0.01,null,{"$f":"VLOOKUP(J1105,'Codes éco-part'!$C:$E,3,FALSE)","v":"260"},1.2E-2]
["REP ABJ",3,"21102250210",null,"Articles de bricolage","Outils et supports de travail en hauteur","Panneaux de particules ou OSB >75%","Compris entre 0,5 kg et 1 kg exclus","€/unité",0.01,null,{"$f":"VLOOKUP(J1106,'Codes éco-part'!$C:$E,3,FALSE)","v":"260"},1.2E-2]
["REP ABJ",3,"21102250220",null,"Articles de bricolage","Outils et supports de travail en hauteur","Panneaux de particules ou OSB >75%","Compris entre 1 kg et 2 kg exclus","€/unité",0.02,null,{"$f":"VLOOKUP(J1107,'Codes éco-part'!$C:$E,3,FALSE)","v":"047"},2.4E-2]
["REP ABJ",3,"21102250270",null,"Articles de bricolage","Outils et supports de travail en hauteur","Panneaux de particules ou OSB >75%","Compris entre 30 kg et 40 kg exclus","€/unité",0.4,null,{"$f":"VLOOKUP(J1108,'Codes éco-part'!$C:$E,3,FALSE)","v":"105"},0.48]
["REP ABJ",3,"21102250520",null,"Articles de bricolage","Outils et supports de travail en hauteur","Panneaux de particules ou OSB >75%","Compris entre 2 kg et 3 kg exclus","€/unité",0.03,null,{"$f":"VLOOKUP(J1109,'Codes éco-part'!$C:$E,3,FALSE)","v":"092"},3.5999999999999997E-2]
["REP ABJ",3,"21102250530",null,"Articles de bricolage","Outils et supports de travail en hauteur","Panneaux de particules ou OSB >75%","Compris entre 3 kg et 5 kg exclus","€/unité",0.04,null,{"$f":"VLOOKUP(J1110,'Codes éco-part'!$C:$E,3,FALSE)","v":"002"},4.8000000000000001E-2]
["REP ABJ",3,"21102250540",null,"Articles de bricolage","Outils et supports de travail en hauteur","Panneaux de particules ou OSB >75%","Compris entre 5 kg et 7 kg exclus","€/unité",7.0000000000000007E-2,null,{"$f":"VLOOKUP(J1111,'Codes éco-part'!$C:$E,3,FALSE)","v":"247"},8.4000000000000005E-2]
["REP ABJ",3,"21102250550",null,"Articles de bricolage","Outils et supports de travail en hauteur","Panneaux de particules ou OSB >75%","Compris entre 7 kg et 10 kg exclus","€/unité",0.1,null,{"$f":"VLOOKUP(J1112,'Codes éco-part'!$C:$E,3,FALSE)","v":"094"},0.12]
["REP ABJ",3,"21102250560",null,"Articles de bricolage","Outils et supports de travail en hauteur","Panneaux de particules ou OSB >75%","Compris entre 10 kg et 15 kg exclus","€/unité",0.15,null,{"$f":"VLOOKUP(J1113,'Codes éco-part'!$C:$E,3,FALSE)","v":"050"},0.18]
["REP ABJ",3,"21102250570",null,"Articles de bricolage","Outils et supports de travail en hauteur","Panneaux de particules ou OSB >75%","Compris entre 15 kg et 20 kg exclus","€/unité",0.2,null,{"$f":"VLOOKUP(J1114,'Codes éco-part'!$C:$E,3,FALSE)","v":"101"},0.24]
["REP ABJ",3,"21102250580",null,"Articles de bricolage","Outils et supports de travail en hauteur","Panneaux de particules ou OSB >75%","Compris entre 20 kg et 25 kg exclus","€/unité",0.25,null,{"$f":"VLOOKUP(J1115,'Codes éco-part'!$C:$E,3,FALSE)","v":"095"},0.3]
["REP ABJ",3,"21102250590",null,"Articles de bricolage","Outils et supports de travail en hauteur","Panneaux de particules ou OSB >75%","Compris entre 25 kg et 30 kg exclus","€/unité",0.3,null,{"$f":"VLOOKUP(J1116,'Codes éco-part'!$C:$E,3,FALSE)","v":"446"},0.36]
["REP ABJ",3,"21102250600",null,"Articles de bricolage","Outils et supports de travail en hauteur","Panneaux de particules ou OSB >75%","Compris entre 40 kg et 50 kg exclus","€/unité",0.5,null,{"$f":"VLOOKUP(J1117,'Codes éco-part'!$C:$E,3,FALSE)","v":"053"},0.6]
["REP ABJ",3,"21102280000",null,"Articles de bricolage","Outils et supports de travail en hauteur","Métal >90%","Eléments de toutes dimensions et poids","€ / Tonne",3,3,{"$f":"VLOOKUP(J1118,'Codes éco-part'!$C:$E,3,FALSE)","v":"474"},3.5999999999999996]
["REP ABJ",3,"21102280200",null,"Articles de bricolage","Outils et supports de travail en hauteur","Métal >90%","Inférieur strictement à 0,5 kg","€/unité",0.01,null,{"$f":"VLOOKUP(J1119,'Codes éco-part'!$C:$E,3,FALSE)","v":"260"},1.2E-2]
["REP ABJ",3,"21102280210",null,"Articles de bricolage","Outils et supports de travail en hauteur","Métal >90%","Compris entre 0,5 kg et 1 kg exclus","€/unité",0.01,null,{"$f":"VLOOKUP(J1120,'Codes éco-part'!$C:$E,3,FALSE)","v":"260"},1.2E-2]
["REP ABJ",3,"21102280220",null,"Articles de bricolage","Outils et supports de travail en hauteur","Métal >90%","Compris entre 1 kg et 2 kg exclus","€/unité",0.01,null,{"$f":"VLOOKUP(J1121,'Codes éco-part'!$C:$E,3,FALSE)","v":"260"},1.2E-2]
["REP ABJ",3,"21102280270",null,"Articles de bricolage","Outils et supports de travail en hauteur","Métal >90%","Compris entre 30 kg et 40 kg exclus","€/unité",0.12,null,{"$f":"VLOOKUP(J1122,'Codes éco-part'!$C:$E,3,FALSE)","v":"097"},0.14399999999999999]
["REP ABJ",3,"21102280520",null,"Articles de bricolage","Outils et supports de travail en hauteur","Métal >90%","Compris entre 2 kg et 3 kg exclus","€/unité",0.01,null,{"$f":"VLOOKUP(J1123,'Codes éco-part'!$C:$E,3,FALSE)","v":"260"},1.2E-2]
["REP ABJ",3,"21102280530",null,"Articles de bricolage","Outils et supports de travail en hauteur","Métal >90%","Compris entre 3 kg et 5 kg exclus","€/unité",0.01,null,{"$f":"VLOOKUP(J1124,'Codes éco-part'!$C:$E,3,FALSE)","v":"260"},1.2E-2]
["REP ABJ",3,"21102280540",null,"Articles de bricolage","Outils et supports de travail en hauteur","Métal >90%","Compris entre 5 kg et 7 kg exclus","€/unité",0.02,null,{"$f":"VLOOKUP(J1125,'Codes éco-part'!$C:$E,3,FALSE)","v":"047"},2.4E-2]
["REP ABJ",3,"21102280550",null,"Articles de bricolage","Outils et supports de travail en hauteur","Métal >90%","Compris entre 7 kg et 10 kg exclus","€/unité",0.03,null,{"$f":"VLOOKUP(J1126,'Codes éco-part'!$C:$E,3,FALSE)","v":"092"},3.5999999999999997E-2]
["REP ABJ",3,"21102280560",null,"Articles de bricolage","Outils et supports de travail en hauteur","Métal >90%","Compris entre 10 kg et 15 kg exclus","€/unité",0.05,null,{"$f":"VLOOKUP(J1127,'Codes éco-part'!$C:$E,3,FALSE)","v":"048"},0.06]
["REP ABJ",3,"21102280570",null,"Articles de bricolage","Outils et supports de travail en hauteur","Métal >90%","Compris entre 15 kg et 20 kg exclus","€/unité",0.06,null,{"$f":"VLOOKUP(J1128,'Codes éco-part'!$C:$E,3,FALSE)","v":"096"},7.1999999999999995E-2]
["REP ABJ",3,"21102280580",null,"Articles de bricolage","Outils et supports de travail en hauteur","Métal >90%","Compris entre 20 kg et 25 kg exclus","€/unité",0.08,null,{"$f":"VLOOKUP(J1129,'Codes éco-part'!$C:$E,3,FALSE)","v":"003"},9.6000000000000002E-2]
["REP ABJ",3,"21102280590",null,"Articles de bricolage","Outils et supports de travail en hauteur","Métal >90%","Compris entre 25 kg et 30 kg exclus","€/unité",0.09,null,{"$f":"VLOOKUP(J1130,'Codes éco-part'!$C:$E,3,FALSE)","v":"049"},0.108]
["REP ABJ",3,"21102280600",null,"Articles de bricolage","Outils et supports de travail en hauteur","Métal >90%","Compris entre 40 kg et 50 kg exclus","€/unité",0.15,null,{"$f":"VLOOKUP(J1131,'Codes éco-part'!$C:$E,3,FALSE)","v":"050"},0.18]
["REP ABJ",3,"21102400000",null,"Articles de bricolage","Outils et supports de travail en hauteur","Assemblage caoutchouc synthétique ou latex >50% avec d'autres matériaux","Eléments de toutes dimensions et poids","€ / Tonne",75,75,{"$f":"VLOOKUP(J1132,'Codes éco-part'!$C:$E,3,FALSE)","v":"192"},90]
["REP ABJ",3,"21102400200",null,"Articles de bricolage","Outils et supports de travail en hauteur","Assemblage caoutchouc synthétique ou latex >50% avec d'autres matériaux","Inférieur strictement à 0,5 kg","€/unité",0.02,null,{"$f":"VLOOKUP(J1133,'Codes éco-part'!$C:$E,3,FALSE)","v":"047"},2.4E-2]
["REP ABJ",3,"21102400210",null,"Articles de bricolage","Outils et supports de travail en hauteur","Assemblage caoutchouc synthétique ou latex >50% avec d'autres matériaux","Compris entre 0,5 kg et 1 kg exclus","€/unité",0.06,null,{"$f":"VLOOKUP(J1134,'Codes éco-part'!$C:$E,3,FALSE)","v":"096"},7.1999999999999995E-2]
["REP ABJ",3,"21102400220",null,"Articles de bricolage","Outils et supports de travail en hauteur","Assemblage caoutchouc synthétique ou latex >50% avec d'autres matériaux","Compris entre 1 kg et 2 kg exclus","€/unité",0.11,null,{"$f":"VLOOKUP(J1135,'Codes éco-part'!$C:$E,3,FALSE)","v":"262"},0.13200000000000001]
["REP ABJ",3,"21102400270",null,"Articles de bricolage","Outils et supports de travail en hauteur","Assemblage caoutchouc synthétique ou latex >50% avec d'autres matériaux","Compris entre 30 kg et 40 kg exclus","€/unité",3,null,{"$f":"VLOOKUP(J1136,'Codes éco-part'!$C:$E,3,FALSE)","v":"474"},3.5999999999999996]
["REP ABJ",3,"21102400520",null,"Articles de bricolage","Outils et supports de travail en hauteur","Assemblage caoutchouc synthétique ou latex >50% avec d'autres matériaux","Compris entre 2 kg et 3 kg exclus","€/unité",0.19,null,{"$f":"VLOOKUP(J1137,'Codes éco-part'!$C:$E,3,FALSE)","v":"291"},0.22799999999999998]
["REP ABJ",3,"21102400530",null,"Articles de bricolage","Outils et supports de travail en hauteur","Assemblage caoutchouc synthétique ou latex >50% avec d'autres matériaux","Compris entre 3 kg et 5 kg exclus","€/unité",0.3,null,{"$f":"VLOOKUP(J1138,'Codes éco-part'!$C:$E,3,FALSE)","v":"446"},0.36]
["REP ABJ",3,"21102400540",null,"Articles de bricolage","Outils et supports de travail en hauteur","Assemblage caoutchouc synthétique ou latex >50% avec d'autres matériaux","Compris entre 5 kg et 7 kg exclus","€/unité",0.53,null,{"$f":"VLOOKUP(J1139,'Codes éco-part'!$C:$E,3,FALSE)","v":"451"},0.63600000000000001]
["REP ABJ",3,"21102400550",null,"Articles de bricolage","Outils et supports de travail en hauteur","Assemblage caoutchouc synthétique ou latex >50% avec d'autres matériaux","Compris entre 7 kg et 10 kg exclus","€/unité",0.75,null,{"$f":"VLOOKUP(J1140,'Codes éco-part'!$C:$E,3,FALSE)","v":"328"},0.89999999999999991]
["REP ABJ",3,"21102400560",null,"Articles de bricolage","Outils et supports de travail en hauteur","Assemblage caoutchouc synthétique ou latex >50% avec d'autres matériaux","Compris entre 10 kg et 15 kg exclus","€/unité",1.1299999999999999,null,{"$f":"VLOOKUP(J1141,'Codes éco-part'!$C:$E,3,FALSE)","v":"331"},1.3559999999999999]
["REP ABJ",3,"21102400570",null,"Articles de bricolage","Outils et supports de travail en hauteur","Assemblage caoutchouc synthétique ou latex >50% avec d'autres matériaux","Compris entre 15 kg et 20 kg exclus","€/unité",1.5,null,{"$f":"VLOOKUP(J1142,'Codes éco-part'!$C:$E,3,FALSE)","v":"059"},1.7999999999999998]
["REP ABJ",3,"21102400580",null,"Articles de bricolage","Outils et supports de travail en hauteur","Assemblage caoutchouc synthétique ou latex >50% avec d'autres matériaux","Compris entre 20 kg et 25 kg exclus","€/unité",1.88,null,{"$f":"VLOOKUP(J1143,'Codes éco-part'!$C:$E,3,FALSE)","v":"335"},2.2559999999999998]
["REP ABJ",3,"21102400590",null,"Articles de bricolage","Outils et supports de travail en hauteur","Assemblage caoutchouc synthétique ou latex >50% avec d'autres matériaux","Compris entre 25 kg et 30 kg exclus","€/unité",2.25,null,{"$f":"VLOOKUP(J1144,'Codes éco-part'!$C:$E,3,FALSE)","v":"118"},2.6999999999999997]
["REP ABJ",3,"21102400600",null,"Articles de bricolage","Outils et supports de travail en hauteur","Assemblage caoutchouc synthétique ou latex >50% avec d'autres matériaux","Compris entre 40 kg et 50 kg exclus","€/unité",3.75,null,{"$f":"VLOOKUP(J1145,'Codes éco-part'!$C:$E,3,FALSE)","v":"015"},4.5]
["REP ABJ",3,"21102410000",null,"Articles de bricolage","Outils et supports de travail en hauteur","Plastiques (mono résine) >90%","Eléments de toutes dimensions et poids","€ / Tonne",50,50,{"$f":"VLOOKUP(J1146,'Codes éco-part'!$C:$E,3,FALSE)","v":"173"},60]
["REP ABJ",3,"21102410200",null,"Articles de bricolage","Outils et supports de travail en hauteur","Plastiques (mono résine) >90%","Inférieur strictement à 0,5 kg","€/unité",0.01,null,{"$f":"VLOOKUP(J1147,'Codes éco-part'!$C:$E,3,FALSE)","v":"260"},1.2E-2]
["REP ABJ",3,"21102410210",null,"Articles de bricolage","Outils et supports de travail en hauteur","Plastiques (mono résine) >90%","Compris entre 0,5 kg et 1 kg exclus","€/unité",0.04,null,{"$f":"VLOOKUP(J1148,'Codes éco-part'!$C:$E,3,FALSE)","v":"002"},4.8000000000000001E-2]
["REP ABJ",3,"21102410220",null,"Articles de bricolage","Outils et supports de travail en hauteur","Plastiques (mono résine) >90%","Compris entre 1 kg et 2 kg exclus","€/unité",0.08,null,{"$f":"VLOOKUP(J1149,'Codes éco-part'!$C:$E,3,FALSE)","v":"003"},9.6000000000000002E-2]
["REP ABJ",3,"21102410270",null,"Articles de bricolage","Outils et supports de travail en hauteur","Plastiques (mono résine) >90%","Compris entre 30 kg et 40 kg exclus","€/unité",2,null,{"$f":"VLOOKUP(J1150,'Codes éco-part'!$C:$E,3,FALSE)","v":"061"},2.4]
["REP ABJ",3,"21102410520",null,"Articles de bricolage","Outils et supports de travail en hauteur","Plastiques (mono résine) >90%","Compris entre 2 kg et 3 kg exclus","€/unité",0.13,null,{"$f":"VLOOKUP(J1151,'Codes éco-part'!$C:$E,3,FALSE)","v":"004"},0.156]
["REP ABJ",3,"21102410530",null,"Articles de bricolage","Outils et supports de travail en hauteur","Plastiques (mono résine) >90%","Compris entre 3 kg et 5 kg exclus","€/unité",0.2,null,{"$f":"VLOOKUP(J1152,'Codes éco-part'!$C:$E,3,FALSE)","v":"101"},0.24]
["REP ABJ",3,"21102410540",null,"Articles de bricolage","Outils et supports de travail en hauteur","Plastiques (mono résine) >90%","Compris entre 5 kg et 7 kg exclus","€/unité",0.35,null,{"$f":"VLOOKUP(J1153,'Codes éco-part'!$C:$E,3,FALSE)","v":"448"},0.42]
["REP ABJ",3,"21102410550",null,"Articles de bricolage","Outils et supports de travail en hauteur","Plastiques (mono résine) >90%","Compris entre 7 kg et 10 kg exclus","€/unité",0.5,null,{"$f":"VLOOKUP(J1154,'Codes éco-part'!$C:$E,3,FALSE)","v":"053"},{"$f":"J1154*1.2","v":0.6}]
["REP ABJ",3,"21102410560",null,"Articles de bricolage","Outils et supports de travail en hauteur","Plastiques (mono résine) >90%","Compris entre 10 kg et 15 kg exclus","€/unité",0.75,null,{"$f":"VLOOKUP(J1155,'Codes éco-part'!$C:$E,3,FALSE)","v":"328"},0.89999999999999991]
["REP ABJ",3,"21102410570",null,"Articles de bricolage","Outils et supports de travail en hauteur","Plastiques (mono résine) >90%","Compris entre 15 kg et 20 kg exclus","€/unité",1,null,{"$f":"VLOOKUP(J1156,'Codes éco-part'!$C:$E,3,FALSE)","v":"056"},1.2]
["REP ABJ",3,"21102410580",null,"Articles de bricolage","Outils et supports de travail en hauteur","Plastiques (mono résine) >90%","Compris entre 20 kg et 25 kg exclus","€/unité",1.25,null,{"$f":"VLOOKUP(J1157,'Codes éco-part'!$C:$E,3,FALSE)","v":"009"},1.5]
["REP ABJ",3,"21102410590",null,"Articles de bricolage","Outils et supports de travail en hauteur","Plastiques (mono résine) >90%","Compris entre 25 kg et 30 kg exclus","€/unité",1.5,null,{"$f":"VLOOKUP(J1158,'Codes éco-part'!$C:$E,3,FALSE)","v":"059"},1.7999999999999998]
["REP ABJ",3,"21102410600",null,"Articles de bricolage","Outils et supports de travail en hauteur","Plastiques (mono résine) >90%","Compris entre 40 kg et 50 kg exclus","€/unité",2.5,null,{"$f":"VLOOKUP(J1159,'Codes éco-part'!$C:$E,3,FALSE)","v":"012"},3]
["REP ABJ",3,"21102420000",null,"Articles de bricolage","Outils et supports de travail en hauteur","Polyterephtalate d'Ethylène (PET) >90%","Eléments de toutes dimensions et poids","€ / Tonne",50,50,{"$f":"VLOOKUP(J1160,'Codes éco-part'!$C:$E,3,FALSE)","v":"173"},60]
["REP ABJ",3,"21102420200",null,"Articles de bricolage","Outils et supports de travail en hauteur","Polyterephtalate d'Ethylène (PET) >90%","Inférieur strictement à 0,5 kg","€/unité",0.01,null,{"$f":"VLOOKUP(J1161,'Codes éco-part'!$C:$E,3,FALSE)","v":"260"},1.2E-2]
["REP ABJ",3,"21102420210",null,"Articles de bricolage","Outils et supports de travail en hauteur","Polyterephtalate d'Ethylène (PET) >90%","Compris entre 0,5 kg et 1 kg exclus","€/unité",0.04,null,{"$f":"VLOOKUP(J1162,'Codes éco-part'!$C:$E,3,FALSE)","v":"002"},4.8000000000000001E-2]
["REP ABJ",3,"21102420220",null,"Articles de bricolage","Outils et supports de travail en hauteur","Polyterephtalate d'Ethylène (PET) >90%","Compris entre 1 kg et 2 kg exclus","€/unité",0.08,null,{"$f":"VLOOKUP(J1163,'Codes éco-part'!$C:$E,3,FALSE)","v":"003"},9.6000000000000002E-2]
["REP ABJ",3,"21102420270",null,"Articles de bricolage","Outils et supports de travail en hauteur","Polyterephtalate d'Ethylène (PET) >90%","Compris entre 30 kg et 40 kg exclus","€/unité",2,null,{"$f":"VLOOKUP(J1164,'Codes éco-part'!$C:$E,3,FALSE)","v":"061"},2.4]
["REP ABJ",3,"21102420520",null,"Articles de bricolage","Outils et supports de travail en hauteur","Polyterephtalate d'Ethylène (PET) >90%","Compris entre 2 kg et 3 kg exclus","€/unité",0.13,null,{"$f":"VLOOKUP(J1165,'Codes éco-part'!$C:$E,3,FALSE)","v":"004"},0.156]
["REP ABJ",3,"21102420530",null,"Articles de bricolage","Outils et supports de travail en hauteur","Polyterephtalate d'Ethylène (PET) >90%","Compris entre 3 kg et 5 kg exclus","€/unité",0.2,null,{"$f":"VLOOKUP(J1166,'Codes éco-part'!$C:$E,3,FALSE)","v":"101"},0.24]
["REP ABJ",3,"21102420540",null,"Articles de bricolage","Outils et supports de travail en hauteur","Polyterephtalate d'Ethylène (PET) >90%","Compris entre 5 kg et 7 kg exclus","€/unité",0.35,null,{"$f":"VLOOKUP(J1167,'Codes éco-part'!$C:$E,3,FALSE)","v":"448"},0.42]
["REP ABJ",3,"21102420550",null,"Articles de bricolage","Outils et supports de travail en hauteur","Polyterephtalate d'Ethylène (PET) >90%","Compris entre 7 kg et 10 kg exclus","€/unité",0.5,null,{"$f":"VLOOKUP(J1168,'Codes éco-part'!$C:$E,3,FALSE)","v":"053"},0.6]
["REP ABJ",3,"21102420560",null,"Articles de bricolage","Outils et supports de travail en hauteur","Polyterephtalate d'Ethylène (PET) >90%","Compris entre 10 kg et 15 kg exclus","€/unité",0.75,null,{"$f":"VLOOKUP(J1169,'Codes éco-part'!$C:$E,3,FALSE)","v":"328"},0.89999999999999991]
["REP ABJ",3,"21102420570",null,"Articles de bricolage","Outils et supports de travail en hauteur","Polyterephtalate d'Ethylène (PET) >90%","Compris entre 15 kg et 20 kg exclus","€/unité",1,null,{"$f":"VLOOKUP(J1170,'Codes éco-part'!$C:$E,3,FALSE)","v":"056"},1.2]
["REP ABJ",3,"21102420580",null,"Articles de bricolage","Outils et supports de travail en hauteur","Polyterephtalate d'Ethylène (PET) >90%","Compris entre 20 kg et 25 kg exclus","€/unité",1.25,null,{"$f":"VLOOKUP(J1171,'Codes éco-part'!$C:$E,3,FALSE)","v":"009"},1.5]
["REP ABJ",3,"21102420590",null,"Articles de bricolage","Outils et supports de travail en hauteur","Polyterephtalate d'Ethylène (PET) >90%","Compris entre 25 kg et 30 kg exclus","€/unité",1.5,null,{"$f":"VLOOKUP(J1172,'Codes éco-part'!$C:$E,3,FALSE)","v":"059"},1.7999999999999998]
["REP ABJ",3,"21102420600",null,"Articles de bricolage","Outils et supports de travail en hauteur","Polyterephtalate d'Ethylène (PET) >90%","Compris entre 40 kg et 50 kg exclus","€/unité",2.5,null,{"$f":"VLOOKUP(J1173,'Codes éco-part'!$C:$E,3,FALSE)","v":"012"},3]
["REP ABJ",3,"21102450000",null,"Articles de bricolage","Outils et supports de travail en hauteur","PE ou PP ou mélange PP/PE >90%","Eléments de toutes dimensions et poids","€ / Tonne",50,50,{"$f":"VLOOKUP(J1174,'Codes éco-part'!$C:$E,3,FALSE)","v":"173"},60]
["REP ABJ",3,"21102450200",null,"Articles de bricolage","Outils et supports de travail en hauteur","PE ou PP ou mélange PP/PE >90%","Inférieur strictement à 0,5 kg","€/unité",0.01,null,{"$f":"VLOOKUP(J1175,'Codes éco-part'!$C:$E,3,FALSE)","v":"260"},1.2E-2]
["REP ABJ",3,"21102450210",null,"Articles de bricolage","Outils et supports de travail en hauteur","PE ou PP ou mélange PP/PE >90%","Compris entre 0,5 kg et 1 kg exclus","€/unité",0.04,null,{"$f":"VLOOKUP(J1176,'Codes éco-part'!$C:$E,3,FALSE)","v":"002"},4.8000000000000001E-2]
["REP ABJ",3,"21102450220",null,"Articles de bricolage","Outils et supports de travail en hauteur","PE ou PP ou mélange PP/PE >90%","Compris entre 1 kg et 2 kg exclus","€/unité",0.08,null,{"$f":"VLOOKUP(J1177,'Codes éco-part'!$C:$E,3,FALSE)","v":"003"},9.6000000000000002E-2]
["REP ABJ",3,"21102450270",null,"Articles de bricolage","Outils et supports de travail en hauteur","PE ou PP ou mélange PP/PE >90%","Compris entre 30 kg et 40 kg exclus","€/unité",2,null,{"$f":"VLOOKUP(J1178,'Codes éco-part'!$C:$E,3,FALSE)","v":"061"},2.4]
["REP ABJ",3,"21102450520",null,"Articles de bricolage","Outils et supports de travail en hauteur","PE ou PP ou mélange PP/PE >90%","Compris entre 2 kg et 3 kg exclus","€/unité",0.13,null,{"$f":"VLOOKUP(J1179,'Codes éco-part'!$C:$E,3,FALSE)","v":"004"},0.156]
["REP ABJ",3,"21102450530",null,"Articles de bricolage","Outils et supports de travail en hauteur","PE ou PP ou mélange PP/PE >90%","Compris entre 3 kg et 5 kg exclus","€/unité",0.2,null,{"$f":"VLOOKUP(J1180,'Codes éco-part'!$C:$E,3,FALSE)","v":"101"},0.24]
["REP ABJ",3,"21102450540",null,"Articles de bricolage","Outils et supports de travail en hauteur","PE ou PP ou mélange PP/PE >90%","Compris entre 5 kg et 7 kg exclus","€/unité",0.35,null,{"$f":"VLOOKUP(J1181,'Codes éco-part'!$C:$E,3,FALSE)","v":"448"},0.42]
["REP ABJ",3,"21102450550",null,"Articles de bricolage","Outils et supports de travail en hauteur","PE ou PP ou mélange PP/PE >90%","Compris entre 7 kg et 10 kg exclus","€/unité",0.5,null,{"$f":"VLOOKUP(J1182,'Codes éco-part'!$C:$E,3,FALSE)","v":"053"},0.6]
["REP ABJ",3,"21102450560",null,"Articles de bricolage","Outils et supports de travail en hauteur","PE ou PP ou mélange PP/PE >90%","Compris entre 10 kg et 15 kg exclus","€/unité",0.75,null,{"$f":"VLOOKUP(J1183,'Codes éco-part'!$C:$E,3,FALSE)","v":"328"},0.89999999999999991]
["REP ABJ",3,"21102450570",null,"Articles de bricolage","Outils et supports de travail en hauteur","PE ou PP ou mélange PP/PE >90%","Compris entre 15 kg et 20 kg exclus","€/unité",1,null,{"$f":"VLOOKUP(J1184,'Codes éco-part'!$C:$E,3,FALSE)","v":"056"},1.2]
["REP ABJ",3,"21102450580",null,"Articles de bricolage","Outils et supports de travail en hauteur","PE ou PP ou mélange PP/PE >90%","Compris entre 20 kg et 25 kg exclus","€/unité",1.25,null,{"$f":"VLOOKUP(J1185,'Codes éco-part'!$C:$E,3,FALSE)","v":"009"},1.5]
["REP ABJ",3,"21102450590",null,"Articles de bricolage","Outils et supports de travail en hauteur","PE ou PP ou mélange PP/PE >90%","Compris entre 25 kg et 30 kg exclus","€/unité",1.5,null,{"$f":"VLOOKUP(J1186,'Codes éco-part'!$C:$E,3,FALSE)","v":"059"},1.7999999999999998]
["REP ABJ",3,"21102450600",null,"Articles de bricolage","Outils et supports de travail en hauteur","PE ou PP ou mélange PP/PE >90%","Compris entre 40 kg et 50 kg exclus","€/unité",2.5,null,{"$f":"VLOOKUP(J1187,'Codes éco-part'!$C:$E,3,FALSE)","v":"012"},3]
["REP ABJ",3,"21102460000",null,"Articles de bricolage","Outils et supports de travail en hauteur","ABS >90%","Eléments de toutes dimensions et poids","€ / Tonne",50,50,{"$f":"VLOOKUP(J1188,'Codes éco-part'!$C:$E,3,FALSE)","v":"173"},60]
["REP ABJ",3,"21102460200",null,"Articles de bricolage","Outils et supports de travail en hauteur","ABS >90%","Inférieur strictement à 0,5 kg","€/unité",0.01,null,{"$f":"VLOOKUP(J1189,'Codes éco-part'!$C:$E,3,FALSE)","v":"260"},1.2E-2]
["REP ABJ",3,"21102460210",null,"Articles de bricolage","Outils et supports de travail en hauteur","ABS >90%","Compris entre 0,5 kg et 1 kg exclus","€/unité",0.04,null,{"$f":"VLOOKUP(J1190,'Codes éco-part'!$C:$E,3,FALSE)","v":"002"},4.8000000000000001E-2]
["REP ABJ",3,"21102460220",null,"Articles de bricolage","Outils et supports de travail en hauteur","ABS >90%","Compris entre 1 kg et 2 kg exclus","€/unité",0.08,null,{"$f":"VLOOKUP(J1191,'Codes éco-part'!$C:$E,3,FALSE)","v":"003"},9.6000000000000002E-2]
["REP ABJ",3,"21102460270",null,"Articles de bricolage","Outils et supports de travail en hauteur","ABS >90%","Compris entre 30 kg et 40 kg exclus","€/unité",2,null,{"$f":"VLOOKUP(J1192,'Codes éco-part'!$C:$E,3,FALSE)","v":"061"},2.4]
["REP ABJ",3,"21102460520",null,"Articles de bricolage","Outils et supports de travail en hauteur","ABS >90%","Compris entre 2 kg et 3 kg exclus","€/unité",0.13,null,{"$f":"VLOOKUP(J1193,'Codes éco-part'!$C:$E,3,FALSE)","v":"004"},0.156]
["REP ABJ",3,"21102460530",null,"Articles de bricolage","Outils et supports de travail en hauteur","ABS >90%","Compris entre 3 kg et 5 kg exclus","€/unité",0.2,null,{"$f":"VLOOKUP(J1194,'Codes éco-part'!$C:$E,3,FALSE)","v":"101"},0.24]
["REP ABJ",3,"21102460540",null,"Articles de bricolage","Outils et supports de travail en hauteur","ABS >90%","Compris entre 5 kg et 7 kg exclus","€/unité",0.35,null,{"$f":"VLOOKUP(J1195,'Codes éco-part'!$C:$E,3,FALSE)","v":"448"},0.42]
["REP ABJ",3,"21102460550",null,"Articles de bricolage","Outils et supports de travail en hauteur","ABS >90%","Compris entre 7 kg et 10 kg exclus","€/unité",0.5,null,{"$f":"VLOOKUP(J1196,'Codes éco-part'!$C:$E,3,FALSE)","v":"053"},0.6]
["REP ABJ",3,"21102460560",null,"Articles de bricolage","Outils et supports de travail en hauteur","ABS >90%","Compris entre 10 kg et 15 kg exclus","€/unité",0.75,null,{"$f":"VLOOKUP(J1197,'Codes éco-part'!$C:$E,3,FALSE)","v":"328"},0.89999999999999991]
["REP ABJ",3,"21102460570",null,"Articles de bricolage","Outils et supports de travail en hauteur","ABS >90%","Compris entre 15 kg et 20 kg exclus","€/unité",1,null,{"$f":"VLOOKUP(J1198,'Codes éco-part'!$C:$E,3,FALSE)","v":"056"},1.2]
["REP ABJ",3,"21102460580",null,"Articles de bricolage","Outils et supports de travail en hauteur","ABS >90%","Compris entre 20 kg et 25 kg exclus","€/unité",1.25,null,{"$f":"VLOOKUP(J1199,'Codes éco-part'!$C:$E,3,FALSE)","v":"009"},1.5]
["REP ABJ",3,"21102460590",null,"Articles de bricolage","Outils et supports de travail en hauteur","ABS >90%","Compris entre 25 kg et 30 kg exclus","€/unité",1.5,null,{"$f":"VLOOKUP(J1200,'Codes éco-part'!$C:$E,3,FALSE)","v":"059"},1.7999999999999998]
["REP ABJ",3,"21102460600",null,"Articles de bricolage","Outils et supports de travail en hauteur","ABS >90%","Compris entre 40 kg et 50 kg exclus","€/unité",2.5,null,{"$f":"VLOOKUP(J1201,'Codes éco-part'!$C:$E,3,FALSE)","v":"012"},3]
["REP ABJ",3,"21102470000",null,"Articles de bricolage","Outils et supports de travail en hauteur","Polystyrène >90%","Eléments de toutes dimensions et poids","€ / Tonne",50,50,{"$f":"VLOOKUP(J1202,'Codes éco-part'!$C:$E,3,FALSE)","v":"173"},60]
["REP ABJ",3,"21102470200",null,"Articles de bricolage","Outils et supports de travail en hauteur","Polystyrène >90%","Inférieur strictement à 0,5 kg","€/unité",0.01,null,{"$f":"VLOOKUP(J1203,'Codes éco-part'!$C:$E,3,FALSE)","v":"260"},1.2E-2]
["REP ABJ",3,"21102470210",null,"Articles de bricolage","Outils et supports de travail en hauteur","Polystyrène >90%","Compris entre 0,5 kg et 1 kg exclus","€/unité",0.04,null,{"$f":"VLOOKUP(J1204,'Codes éco-part'!$C:$E,3,FALSE)","v":"002"},4.8000000000000001E-2]
["REP ABJ",3,"21102470220",null,"Articles de bricolage","Outils et supports de travail en hauteur","Polystyrène >90%","Compris entre 1 kg et 2 kg exclus","€/unité",0.08,null,{"$f":"VLOOKUP(J1205,'Codes éco-part'!$C:$E,3,FALSE)","v":"003"},9.6000000000000002E-2]
["REP ABJ",3,"21102470270",null,"Articles de bricolage","Outils et supports de travail en hauteur","Polystyrène >90%","Compris entre 30 kg et 40 kg exclus","€/unité",2,null,{"$f":"VLOOKUP(J1206,'Codes éco-part'!$C:$E,3,FALSE)","v":"061"},2.4]
["REP ABJ",3,"21102470520",null,"Articles de bricolage","Outils et supports de travail en hauteur","Polystyrène >90%","Compris entre 2 kg et 3 kg exclus","€/unité",0.13,null,{"$f":"VLOOKUP(J1207,'Codes éco-part'!$C:$E,3,FALSE)","v":"004"},0.156]
["REP ABJ",3,"21102470530",null,"Articles de bricolage","Outils et supports de travail en hauteur","Polystyrène >90%","Compris entre 3 kg et 5 kg exclus","€/unité",0.2,null,{"$f":"VLOOKUP(J1208,'Codes éco-part'!$C:$E,3,FALSE)","v":"101"},0.24]
["REP ABJ",3,"21102470540",null,"Articles de bricolage","Outils et supports de travail en hauteur","Polystyrène >90%","Compris entre 5 kg et 7 kg exclus","€/unité",0.35,null,{"$f":"VLOOKUP(J1209,'Codes éco-part'!$C:$E,3,FALSE)","v":"448"},0.42]
["REP ABJ",3,"21102470550",null,"Articles de bricolage","Outils et supports de travail en hauteur","Polystyrène >90%","Compris entre 7 kg et 10 kg exclus","€/unité",0.5,null,{"$f":"VLOOKUP(J1210,'Codes éco-part'!$C:$E,3,FALSE)","v":"053"},0.6]
["REP ABJ",3,"21102470560",null,"Articles de bricolage","Outils et supports de travail en hauteur","Polystyrène >90%","Compris entre 10 kg et 15 kg exclus","€/unité",0.75,null,{"$f":"VLOOKUP(J1211,'Codes éco-part'!$C:$E,3,FALSE)","v":"328"},0.89999999999999991]
["REP ABJ",3,"21102470570",null,"Articles de bricolage","Outils et supports de travail en hauteur","Polystyrène >90%","Compris entre 15 kg et 20 kg exclus","€/unité",1,null,{"$f":"VLOOKUP(J1212,'Codes éco-part'!$C:$E,3,FALSE)","v":"056"},1.2]
["REP ABJ",3,"21102470580",null,"Articles de bricolage","Outils et supports de travail en hauteur","Polystyrène >90%","Compris entre 20 kg et 25 kg exclus","€/unité",1.25,null,{"$f":"VLOOKUP(J1213,'Codes éco-part'!$C:$E,3,FALSE)","v":"009"},1.5]
["REP ABJ",3,"21102470590",null,"Articles de bricolage","Outils et supports de travail en hauteur","Polystyrène >90%","Compris entre 25 kg et 30 kg exclus","€/unité",1.5,null,{"$f":"VLOOKUP(J1214,'Codes éco-part'!$C:$E,3,FALSE)","v":"059"},1.7999999999999998]
["REP ABJ",3,"21102470600",null,"Articles de bricolage","Outils et supports de travail en hauteur","Polystyrène >90%","Compris entre 40 kg et 50 kg exclus","€/unité",2.5,null,{"$f":"VLOOKUP(J1215,'Codes éco-part'!$C:$E,3,FALSE)","v":"012"},3]
["REP ABJ",3,"21102480000",null,"Articles de bricolage","Outils et supports de travail en hauteur","PVC >90%","Eléments de toutes dimensions et poids","€ / Tonne",50,50,{"$f":"VLOOKUP(J1216,'Codes éco-part'!$C:$E,3,FALSE)","v":"173"},60]
["REP ABJ",3,"21102480200",null,"Articles de bricolage","Outils et supports de travail en hauteur","PVC >90%","Inférieur strictement à 0,5 kg","€/unité",0.01,null,{"$f":"VLOOKUP(J1217,'Codes éco-part'!$C:$E,3,FALSE)","v":"260"},1.2E-2]
["REP ABJ",3,"21102480210",null,"Articles de bricolage","Outils et supports de travail en hauteur","PVC >90%","Compris entre 0,5 kg et 1 kg exclus","€/unité",0.04,null,{"$f":"VLOOKUP(J1218,'Codes éco-part'!$C:$E,3,FALSE)","v":"002"},{"$f":"J1218*1.2","v":4.8000000000000001E-2}]
["REP ABJ",3,"21102480220",null,"Articles de bricolage","Outils et supports de travail en hauteur","PVC >90%","Compris entre 1 kg et 2 kg exclus","€/unité",0.08,null,{"$f":"VLOOKUP(J1219,'Codes éco-part'!$C:$E,3,FALSE)","v":"003"},9.6000000000000002E-2]
["REP ABJ",3,"21102480270",null,"Articles de bricolage","Outils et supports de travail en hauteur","PVC >90%","Compris entre 30 kg et 40 kg exclus","€/unité",2,null,{"$f":"VLOOKUP(J1220,'Codes éco-part'!$C:$E,3,FALSE)","v":"061"},2.4]
["REP ABJ",3,"21102480520",null,"Articles de bricolage","Outils et supports de travail en hauteur","PVC >90%","Compris entre 2 kg et 3 kg exclus","€/unité",0.13,null,{"$f":"VLOOKUP(J1221,'Codes éco-part'!$C:$E,3,FALSE)","v":"004"},0.156]
["REP ABJ",3,"21102480530",null,"Articles de bricolage","Outils et supports de travail en hauteur","PVC >90%","Compris entre 3 kg et 5 kg exclus","€/unité",0.2,null,{"$f":"VLOOKUP(J1222,'Codes éco-part'!$C:$E,3,FALSE)","v":"101"},0.24]
["REP ABJ",3,"21102480540",null,"Articles de bricolage","Outils et supports de travail en hauteur","PVC >90%","Compris entre 5 kg et 7 kg exclus","€/unité",0.35,null,{"$f":"VLOOKUP(J1223,'Codes éco-part'!$C:$E,3,FALSE)","v":"448"},0.42]
["REP ABJ",3,"21102480550",null,"Articles de bricolage","Outils et supports de travail en hauteur","PVC >90%","Compris entre 7 kg et 10 kg exclus","€/unité",0.5,null,{"$f":"VLOOKUP(J1224,'Codes éco-part'!$C:$E,3,FALSE)","v":"053"},0.6]
["REP ABJ",3,"21102480560",null,"Articles de bricolage","Outils et supports de travail en hauteur","PVC >90%","Compris entre 10 kg et 15 kg exclus","€/unité",0.75,null,{"$f":"VLOOKUP(J1225,'Codes éco-part'!$C:$E,3,FALSE)","v":"328"},0.89999999999999991]
["REP ABJ",3,"21102480570",null,"Articles de bricolage","Outils et supports de travail en hauteur","PVC >90%","Compris entre 15 kg et 20 kg exclus","€/unité",1,null,{"$f":"VLOOKUP(J1226,'Codes éco-part'!$C:$E,3,FALSE)","v":"056"},1.2]
["REP ABJ",3,"21102480580",null,"Articles de bricolage","Outils et supports de travail en hauteur","PVC >90%","Compris entre 20 kg et 25 kg exclus","€/unité",1.25,null,{"$f":"VLOOKUP(J1227,'Codes éco-part'!$C:$E,3,FALSE)","v":"009"},1.5]
["REP ABJ",3,"21102480590",null,"Articles de bricolage","Outils et supports de travail en hauteur","PVC >90%","Compris entre 25 kg et 30 kg exclus","€/unité",1.5,null,{"$f":"VLOOKUP(J1228,'Codes éco-part'!$C:$E,3,FALSE)","v":"059"},1.7999999999999998]
["REP ABJ",3,"21102480600",null,"Articles de bricolage","Outils et supports de travail en hauteur","PVC >90%","Compris entre 40 kg et 50 kg exclus","€/unité",2.5,null,{"$f":"VLOOKUP(J1229,'Codes éco-part'!$C:$E,3,FALSE)","v":"012"},3]
["REP ABJ",3,"21102490000",null,"Articles de bricolage","Outils et supports de travail en hauteur","Caoutchouc synthétique >90%","Eléments de toutes dimensions et poids","€ / Tonne",50,50,{"$f":"VLOOKUP(J1230,'Codes éco-part'!$C:$E,3,FALSE)","v":"173"},60]
["REP ABJ",3,"21102490200",null,"Articles de bricolage","Outils et supports de travail en hauteur","Caoutchouc synthétique >90%","Inférieur strictement à 0,5 kg","€/unité",0.01,null,{"$f":"VLOOKUP(J1231,'Codes éco-part'!$C:$E,3,FALSE)","v":"260"},1.2E-2]
["REP ABJ",3,"21102490210",null,"Articles de bricolage","Outils et supports de travail en hauteur","Caoutchouc synthétique >90%","Compris entre 0,5 kg et 1 kg exclus","€/unité",0.04,null,{"$f":"VLOOKUP(J1232,'Codes éco-part'!$C:$E,3,FALSE)","v":"002"},4.8000000000000001E-2]
["REP ABJ",3,"21102490220",null,"Articles de bricolage","Outils et supports de travail en hauteur","Caoutchouc synthétique >90%","Compris entre 1 kg et 2 kg exclus","€/unité",0.08,null,{"$f":"VLOOKUP(J1233,'Codes éco-part'!$C:$E,3,FALSE)","v":"003"},9.6000000000000002E-2]
["REP ABJ",3,"21102490270",null,"Articles de bricolage","Outils et supports de travail en hauteur","Caoutchouc synthétique >90%","Compris entre 30 kg et 40 kg exclus","€/unité",2,null,{"$f":"VLOOKUP(J1234,'Codes éco-part'!$C:$E,3,FALSE)","v":"061"},2.4]
["REP ABJ",3,"21102490520",null,"Articles de bricolage","Outils et supports de travail en hauteur","Caoutchouc synthétique >90%","Compris entre 2 kg et 3 kg exclus","€/unité",0.13,null,{"$f":"VLOOKUP(J1235,'Codes éco-part'!$C:$E,3,FALSE)","v":"004"},0.156]
["REP ABJ",3,"21102490530",null,"Articles de bricolage","Outils et supports de travail en hauteur","Caoutchouc synthétique >90%","Compris entre 3 kg et 5 kg exclus","€/unité",0.2,null,{"$f":"VLOOKUP(J1236,'Codes éco-part'!$C:$E,3,FALSE)","v":"101"},0.24]
["REP ABJ",3,"21102490540",null,"Articles de bricolage","Outils et supports de travail en hauteur","Caoutchouc synthétique >90%","Compris entre 5 kg et 7 kg exclus","€/unité",0.35,null,{"$f":"VLOOKUP(J1237,'Codes éco-part'!$C:$E,3,FALSE)","v":"448"},0.42]
["REP ABJ",3,"21102490550",null,"Articles de bricolage","Outils et supports de travail en hauteur","Caoutchouc synthétique >90%","Compris entre 7 kg et 10 kg exclus","€/unité",0.5,null,{"$f":"VLOOKUP(J1238,'Codes éco-part'!$C:$E,3,FALSE)","v":"053"},0.6]
["REP ABJ",3,"21102490560",null,"Articles de bricolage","Outils et supports de travail en hauteur","Caoutchouc synthétique >90%","Compris entre 10 kg et 15 kg exclus","€/unité",0.75,null,{"$f":"VLOOKUP(J1239,'Codes éco-part'!$C:$E,3,FALSE)","v":"328"},0.89999999999999991]
["REP ABJ",3,"21102490570",null,"Articles de bricolage","Outils et supports de travail en hauteur","Caoutchouc synthétique >90%","Compris entre 15 kg et 20 kg exclus","€/unité",1,null,{"$f":"VLOOKUP(J1240,'Codes éco-part'!$C:$E,3,FALSE)","v":"056"},1.2]
["REP ABJ",3,"21102490580",null,"Articles de bricolage","Outils et supports de travail en hauteur","Caoutchouc synthétique >90%","Compris entre 20 kg et 25 kg exclus","€/unité",1.25,null,{"$f":"VLOOKUP(J1241,'Codes éco-part'!$C:$E,3,FALSE)","v":"009"},1.5]
["REP ABJ",3,"21102490590",null,"Articles de bricolage","Outils et supports de travail en hauteur","Caoutchouc synthétique >90%","Compris entre 25 kg et 30 kg exclus","€/unité",1.5,null,{"$f":"VLOOKUP(J1242,'Codes éco-part'!$C:$E,3,FALSE)","v":"059"},1.7999999999999998]
["REP ABJ",3,"21102490600",null,"Articles de bricolage","Outils et supports de travail en hauteur","Caoutchouc synthétique >90%","Compris entre 40 kg et 50 kg exclus","€/unité",2.5,null,{"$f":"VLOOKUP(J1243,'Codes éco-part'!$C:$E,3,FALSE)","v":"012"},3]
["REP ABJ",3,"21102520000",null,"Articles de bricolage","Outils et supports de travail en hauteur","Massif et assimilés certifiés >90%","Eléments de toutes dimensions et poids","€ / Tonne",10,10,{"$f":"VLOOKUP(J1244,'Codes éco-part'!$C:$E,3,FALSE)","v":"138"},12]
["REP ABJ",3,"21102520200",null,"Articles de bricolage","Outils et supports de travail en hauteur","Massif et assimilés certifiés >90%","Inférieur strictement à 0,5 kg","€/unité",0.01,null,{"$f":"VLOOKUP(J1245,'Codes éco-part'!$C:$E,3,FALSE)","v":"260"},1.2E-2]
["REP ABJ",3,"21102520210",null,"Articles de bricolage","Outils et supports de travail en hauteur","Massif et assimilés certifiés >90%","Compris entre 0,5 kg et 1 kg exclus","€/unité",0.01,null,{"$f":"VLOOKUP(J1246,'Codes éco-part'!$C:$E,3,FALSE)","v":"260"},1.2E-2]
["REP ABJ",3,"21102520220",null,"Articles de bricolage","Outils et supports de travail en hauteur","Massif et assimilés certifiés >90%","Compris entre 1 kg et 2 kg exclus","€/unité",0.02,null,{"$f":"VLOOKUP(J1247,'Codes éco-part'!$C:$E,3,FALSE)","v":"047"},2.4E-2]
["REP ABJ",3,"21102520270",null,"Articles de bricolage","Outils et supports de travail en hauteur","Massif et assimilés certifiés >90%","Compris entre 30 kg et 40 kg exclus","€/unité",0.4,null,{"$f":"VLOOKUP(J1248,'Codes éco-part'!$C:$E,3,FALSE)","v":"105"},0.48]
["REP ABJ",3,"21102520520",null,"Articles de bricolage","Outils et supports de travail en hauteur","Massif et assimilés certifiés >90%","Compris entre 2 kg et 3 kg exclus","€/unité",0.03,null,{"$f":"VLOOKUP(J1249,'Codes éco-part'!$C:$E,3,FALSE)","v":"092"},3.5999999999999997E-2]
["REP ABJ",3,"21102520530",null,"Articles de bricolage","Outils et supports de travail en hauteur","Massif et assimilés certifiés >90%","Compris entre 3 kg et 5 kg exclus","€/unité",0.04,null,{"$f":"VLOOKUP(J1250,'Codes éco-part'!$C:$E,3,FALSE)","v":"002"},4.8000000000000001E-2]
["REP ABJ",3,"21102520540",null,"Articles de bricolage","Outils et supports de travail en hauteur","Massif et assimilés certifiés >90%","Compris entre 5 kg et 7 kg exclus","€/unité",7.0000000000000007E-2,null,{"$f":"VLOOKUP(J1251,'Codes éco-part'!$C:$E,3,FALSE)","v":"247"},8.4000000000000005E-2]
["REP ABJ",3,"21102520550",null,"Articles de bricolage","Outils et supports de travail en hauteur","Massif et assimilés certifiés >90%","Compris entre 7 kg et 10 kg exclus","€/unité",0.1,null,{"$f":"VLOOKUP(J1252,'Codes éco-part'!$C:$E,3,FALSE)","v":"094"},0.12]
["REP ABJ",3,"21102520560",null,"Articles de bricolage","Outils et supports de travail en hauteur","Massif et assimilés certifiés >90%","Compris entre 10 kg et 15 kg exclus","€/unité",0.15,null,{"$f":"VLOOKUP(J1253,'Codes éco-part'!$C:$E,3,FALSE)","v":"050"},0.18]
["REP ABJ",3,"21102520570",null,"Articles de bricolage","Outils et supports de travail en hauteur","Massif et assimilés certifiés >90%","Compris entre 15 kg et 20 kg exclus","€/unité",0.2,null,{"$f":"VLOOKUP(J1254,'Codes éco-part'!$C:$E,3,FALSE)","v":"101"},0.24]
["REP ABJ",3,"21102520580",null,"Articles de bricolage","Outils et supports de travail en hauteur","Massif et assimilés certifiés >90%","Compris entre 20 kg et 25 kg exclus","€/unité",0.25,null,{"$f":"VLOOKUP(J1255,'Codes éco-part'!$C:$E,3,FALSE)","v":"095"},0.3]
["REP ABJ",3,"21102520590",null,"Articles de bricolage","Outils et supports de travail en hauteur","Massif et assimilés certifiés >90%","Compris entre 25 kg et 30 kg exclus","€/unité",0.3,null,{"$f":"VLOOKUP(J1256,'Codes éco-part'!$C:$E,3,FALSE)","v":"446"},0.36]
["REP ABJ",3,"21102520600",null,"Articles de bricolage","Outils et supports de travail en hauteur","Massif et assimilés certifiés >90%","Compris entre 40 kg et 50 kg exclus","€/unité",0.5,null,{"$f":"VLOOKUP(J1257,'Codes éco-part'!$C:$E,3,FALSE)","v":"053"},0.6]
["REP ABJ",3,"21102530000",null,"Articles de bricolage","Outils et supports de travail en hauteur","Massif et assimilés >90%","Eléments de toutes dimensions et poids","€ / Tonne",10,10,{"$f":"VLOOKUP(J1258,'Codes éco-part'!$C:$E,3,FALSE)","v":"138"},12]
["REP ABJ",3,"21102530200",null,"Articles de bricolage","Outils et supports de travail en hauteur","Massif et assimilés >90%","Inférieur strictement à 0,5 kg","€/unité",0.01,null,{"$f":"VLOOKUP(J1259,'Codes éco-part'!$C:$E,3,FALSE)","v":"260"},1.2E-2]
["REP ABJ",3,"21102530210",null,"Articles de bricolage","Outils et supports de travail en hauteur","Massif et assimilés >90%","Compris entre 0,5 kg et 1 kg exclus","€/unité",0.01,null,{"$f":"VLOOKUP(J1260,'Codes éco-part'!$C:$E,3,FALSE)","v":"260"},1.2E-2]
["REP ABJ",3,"21102530220",null,"Articles de bricolage","Outils et supports de travail en hauteur","Massif et assimilés >90%","Compris entre 1 kg et 2 kg exclus","€/unité",0.02,null,{"$f":"VLOOKUP(J1261,'Codes éco-part'!$C:$E,3,FALSE)","v":"047"},2.4E-2]
["REP ABJ",3,"21102530270",null,"Articles de bricolage","Outils et supports de travail en hauteur","Massif et assimilés >90%","Compris entre 30 kg et 40 kg exclus","€/unité",0.4,null,{"$f":"VLOOKUP(J1262,'Codes éco-part'!$C:$E,3,FALSE)","v":"105"},0.48]
["REP ABJ",3,"21102530520",null,"Articles de bricolage","Outils et supports de travail en hauteur","Massif et assimilés >90%","Compris entre 2 kg et 3 kg exclus","€/unité",0.03,null,{"$f":"VLOOKUP(J1263,'Codes éco-part'!$C:$E,3,FALSE)","v":"092"},3.5999999999999997E-2]
["REP ABJ",3,"21102530530",null,"Articles de bricolage","Outils et supports de travail en hauteur","Massif et assimilés >90%","Compris entre 3 kg et 5 kg exclus","€/unité",0.04,null,{"$f":"VLOOKUP(J1264,'Codes éco-part'!$C:$E,3,FALSE)","v":"002"},4.8000000000000001E-2]
["REP ABJ",3,"21102530540",null,"Articles de bricolage","Outils et supports de travail en hauteur","Massif et assimilés >90%","Compris entre 5 kg et 7 kg exclus","€/unité",7.0000000000000007E-2,null,{"$f":"VLOOKUP(J1265,'Codes éco-part'!$C:$E,3,FALSE)","v":"247"},8.4000000000000005E-2]
["REP ABJ",3,"21102530550",null,"Articles de bricolage","Outils et supports de travail en hauteur","Massif et assimilés >90%","Compris entre 7 kg et 10 kg exclus","€/unité",0.1,null,{"$f":"VLOOKUP(J1266,'Codes éco-part'!$C:$E,3,FALSE)","v":"094"},0.12]
["REP ABJ",3,"21102530560",null,"Articles de bricolage","Outils et supports de travail en hauteur","Massif et assimilés >90%","Compris entre 10 kg et 15 kg exclus","€/unité",0.15,null,{"$f":"VLOOKUP(J1267,'Codes éco-part'!$C:$E,3,FALSE)","v":"050"},0.18]
["REP ABJ",3,"21102530570",null,"Articles de bricolage","Outils et supports de travail en hauteur","Massif et assimilés >90%","Compris entre 15 kg et 20 kg exclus","€/unité",0.2,null,{"$f":"VLOOKUP(J1268,'Codes éco-part'!$C:$E,3,FALSE)","v":"101"},0.24]
["REP ABJ",3,"21102530580",null,"Articles de bricolage","Outils et supports de travail en hauteur","Massif et assimilés >90%","Compris entre 20 kg et 25 kg exclus","€/unité",0.25,null,{"$f":"VLOOKUP(J1269,'Codes éco-part'!$C:$E,3,FALSE)","v":"095"},0.3]
["REP ABJ",3,"21102530590",null,"Articles de bricolage","Outils et supports de travail en hauteur","Massif et assimilés >90%","Compris entre 25 kg et 30 kg exclus","€/unité",0.3,null,{"$f":"VLOOKUP(J1270,'Codes éco-part'!$C:$E,3,FALSE)","v":"446"},0.36]
["REP ABJ",3,"21102530600",null,"Articles de bricolage","Outils et supports de travail en hauteur","Massif et assimilés >90%","Compris entre 40 kg et 50 kg exclus","€/unité",0.5,null,{"$f":"VLOOKUP(J1271,'Codes éco-part'!$C:$E,3,FALSE)","v":"053"},0.6]
["REP ABJ",3,"21102550000",null,"Articles de bricolage","Outils et supports de travail en hauteur","Matériaux bio sourcés ou textiles non synthétiques >90%","Eléments de toutes dimensions et poids","€ / Tonne",30,30,{"$f":"VLOOKUP(J1272,'Codes éco-part'!$C:$E,3,FALSE)","v":"153"},36]
["REP ABJ",3,"21102550200",null,"Articles de bricolage","Outils et supports de travail en hauteur","Matériaux bio sourcés ou textiles non synthétiques >90%","Inférieur strictement à 0,5 kg","€/unité",0.01,null,{"$f":"VLOOKUP(J1273,'Codes éco-part'!$C:$E,3,FALSE)","v":"260"},1.2E-2]
["REP ABJ",3,"21102550210",null,"Articles de bricolage","Outils et supports de travail en hauteur","Matériaux bio sourcés ou textiles non synthétiques >90%","Compris entre 0,5 kg et 1 kg exclus","€/unité",0.02,null,{"$f":"VLOOKUP(J1274,'Codes éco-part'!$C:$E,3,FALSE)","v":"047"},2.4E-2]
["REP ABJ",3,"21102550220",null,"Articles de bricolage","Outils et supports de travail en hauteur","Matériaux bio sourcés ou textiles non synthétiques >90%","Compris entre 1 kg et 2 kg exclus","€/unité",0.05,null,{"$f":"VLOOKUP(J1275,'Codes éco-part'!$C:$E,3,FALSE)","v":"048"},0.06]
["REP ABJ",3,"21102550270",null,"Articles de bricolage","Outils et supports de travail en hauteur","Matériaux bio sourcés ou textiles non synthétiques >90%","Compris entre 30 kg et 40 kg exclus","€/unité",1.2,null,{"$f":"VLOOKUP(J1276,'Codes éco-part'!$C:$E,3,FALSE)","v":"505"},1.44]
["REP ABJ",3,"21102550520",null,"Articles de bricolage","Outils et supports de travail en hauteur","Matériaux bio sourcés ou textiles non synthétiques >90%","Compris entre 2 kg et 3 kg exclus","€/unité",0.08,null,{"$f":"VLOOKUP(J1277,'Codes éco-part'!$C:$E,3,FALSE)","v":"003"},9.6000000000000002E-2]
["REP ABJ",3,"21102550530",null,"Articles de bricolage","Outils et supports de travail en hauteur","Matériaux bio sourcés ou textiles non synthétiques >90%","Compris entre 3 kg et 5 kg exclus","€/unité",0.12,null,{"$f":"VLOOKUP(J1278,'Codes éco-part'!$C:$E,3,FALSE)","v":"097"},0.14399999999999999]
["REP ABJ",3,"21102550540",null,"Articles de bricolage","Outils et supports de travail en hauteur","Matériaux bio sourcés ou textiles non synthétiques >90%","Compris entre 5 kg et 7 kg exclus","€/unité",0.21,null,{"$f":"VLOOKUP(J1279,'Codes éco-part'!$C:$E,3,FALSE)","v":"051"},0.252]
["REP ABJ",3,"21102550550",null,"Articles de bricolage","Outils et supports de travail en hauteur","Matériaux bio sourcés ou textiles non synthétiques >90%","Compris entre 7 kg et 10 kg exclus","€/unité",0.3,null,{"$f":"VLOOKUP(J1280,'Codes éco-part'!$C:$E,3,FALSE)","v":"446"},0.36]
["REP ABJ",3,"21102550560",null,"Articles de bricolage","Outils et supports de travail en hauteur","Matériaux bio sourcés ou textiles non synthétiques >90%","Compris entre 10 kg et 15 kg exclus","€/unité",0.45,null,{"$f":"VLOOKUP(J1281,'Codes éco-part'!$C:$E,3,FALSE)","v":"325"},0.54]
["REP ABJ",3,"21102550570",null,"Articles de bricolage","Outils et supports de travail en hauteur","Matériaux bio sourcés ou textiles non synthétiques >90%","Compris entre 15 kg et 20 kg exclus","€/unité",0.6,null,{"$f":"VLOOKUP(J1282,'Codes éco-part'!$C:$E,3,FALSE)","v":"327"},{"$f":"J1282*1.2","v":0.72}]
["REP ABJ",3,"21102550580",null,"Articles de bricolage","Outils et supports de travail en hauteur","Matériaux bio sourcés ou textiles non synthétiques >90%","Compris entre 20 kg et 25 kg exclus","€/unité",0.75,null,{"$f":"VLOOKUP(J1283,'Codes éco-part'!$C:$E,3,FALSE)","v":"328"},0.89999999999999991]
["REP ABJ",3,"21102550590",null,"Articles de bricolage","Outils et supports de travail en hauteur","Matériaux bio sourcés ou textiles non synthétiques >90%","Compris entre 25 kg et 30 kg exclus","€/unité",0.9,null,{"$f":"VLOOKUP(J1284,'Codes éco-part'!$C:$E,3,FALSE)","v":"330"},1.08]
["REP ABJ",3,"21102550600",null,"Articles de bricolage","Outils et supports de travail en hauteur","Matériaux bio sourcés ou textiles non synthétiques >90%","Compris entre 40 kg et 50 kg exclus","€/unité",1.5,null,{"$f":"VLOOKUP(J1285,'Codes éco-part'!$C:$E,3,FALSE)","v":"059"},1.7999999999999998]
["REP ABJ",3,"21102590000",null,"Articles de bricolage","Outils et supports de travail en hauteur","Panneaux de particules ou OSB certifiés >90%","Eléments de toutes dimensions et poids","€ / Tonne",10,10,{"$f":"VLOOKUP(J1286,'Codes éco-part'!$C:$E,3,FALSE)","v":"138"},12]
["REP ABJ",3,"21102590200",null,"Articles de bricolage","Outils et supports de travail en hauteur","Panneaux de particules ou OSB certifiés >90%","Inférieur strictement à 0,5 kg","€/unité",0.01,null,{"$f":"VLOOKUP(J1287,'Codes éco-part'!$C:$E,3,FALSE)","v":"260"},1.2E-2]
["REP ABJ",3,"21102590210",null,"Articles de bricolage","Outils et supports de travail en hauteur","Panneaux de particules ou OSB certifiés >90%","Compris entre 0,5 kg et 1 kg exclus","€/unité",0.01,null,{"$f":"VLOOKUP(J1288,'Codes éco-part'!$C:$E,3,FALSE)","v":"260"},1.2E-2]
["REP ABJ",3,"21102590220",null,"Articles de bricolage","Outils et supports de travail en hauteur","Panneaux de particules ou OSB certifiés >90%","Compris entre 1 kg et 2 kg exclus","€/unité",0.02,null,{"$f":"VLOOKUP(J1289,'Codes éco-part'!$C:$E,3,FALSE)","v":"047"},2.4E-2]
["REP ABJ",3,"21102590270",null,"Articles de bricolage","Outils et supports de travail en hauteur","Panneaux de particules ou OSB certifiés >90%","Compris entre 30 kg et 40 kg exclus","€/unité",0.4,null,{"$f":"VLOOKUP(J1290,'Codes éco-part'!$C:$E,3,FALSE)","v":"105"},0.48]
["REP ABJ",3,"21102590520",null,"Articles de bricolage","Outils et supports de travail en hauteur","Panneaux de particules ou OSB certifiés >90%","Compris entre 2 kg et 3 kg exclus","€/unité",0.03,null,{"$f":"VLOOKUP(J1291,'Codes éco-part'!$C:$E,3,FALSE)","v":"092"},3.5999999999999997E-2]
["REP ABJ",3,"21102590530",null,"Articles de bricolage","Outils et supports de travail en hauteur","Panneaux de particules ou OSB certifiés >90%","Compris entre 3 kg et 5 kg exclus","€/unité",0.04,null,{"$f":"VLOOKUP(J1292,'Codes éco-part'!$C:$E,3,FALSE)","v":"002"},4.8000000000000001E-2]
["REP ABJ",3,"21102590540",null,"Articles de bricolage","Outils et supports de travail en hauteur","Panneaux de particules ou OSB certifiés >90%","Compris entre 5 kg et 7 kg exclus","€/unité",7.0000000000000007E-2,null,{"$f":"VLOOKUP(J1293,'Codes éco-part'!$C:$E,3,FALSE)","v":"247"},8.4000000000000005E-2]
["REP ABJ",3,"21102590550",null,"Articles de bricolage","Outils et supports de travail en hauteur","Panneaux de particules ou OSB certifiés >90%","Compris entre 7 kg et 10 kg exclus","€/unité",0.1,null,{"$f":"VLOOKUP(J1294,'Codes éco-part'!$C:$E,3,FALSE)","v":"094"},0.12]
["REP ABJ",3,"21102590560",null,"Articles de bricolage","Outils et supports de travail en hauteur","Panneaux de particules ou OSB certifiés >90%","Compris entre 10 kg et 15 kg exclus","€/unité",0.15,null,{"$f":"VLOOKUP(J1295,'Codes éco-part'!$C:$E,3,FALSE)","v":"050"},0.18]
["REP ABJ",3,"21102590570",null,"Articles de bricolage","Outils et supports de travail en hauteur","Panneaux de particules ou OSB certifiés >90%","Compris entre 15 kg et 20 kg exclus","€/unité",0.2,null,{"$f":"VLOOKUP(J1296,'Codes éco-part'!$C:$E,3,FALSE)","v":"101"},0.24]
["REP ABJ",3,"21102590580",null,"Articles de bricolage","Outils et supports de travail en hauteur","Panneaux de particules ou OSB certifiés >90%","Compris entre 20 kg et 25 kg exclus","€/unité",0.25,null,{"$f":"VLOOKUP(J1297,'Codes éco-part'!$C:$E,3,FALSE)","v":"095"},0.3]
["REP ABJ",3,"21102590590",null,"Articles de bricolage","Outils et supports de travail en hauteur","Panneaux de particules ou OSB certifiés >90%","Compris entre 25 kg et 30 kg exclus","€/unité",0.3,null,{"$f":"VLOOKUP(J1298,'Codes éco-part'!$C:$E,3,FALSE)","v":"446"},0.36]
["REP ABJ",3,"21102590600",null,"Articles de bricolage","Outils et supports de travail en hauteur","Panneaux de particules ou OSB certifiés >90%","Compris entre 40 kg et 50 kg exclus","€/unité",0.5,null,{"$f":"VLOOKUP(J1299,'Codes éco-part'!$C:$E,3,FALSE)","v":"053"},0.6]
["REP ABJ",3,"21102600000",null,"Articles de bricolage","Outils et supports de travail en hauteur","Panneaux de particules ou OSB certifiés >75%","Eléments de toutes dimensions et poids","€ / Tonne",10,10,{"$f":"VLOOKUP(J1300,'Codes éco-part'!$C:$E,3,FALSE)","v":"138"},12]
["REP ABJ",3,"21102600200",null,"Articles de bricolage","Outils et supports de travail en hauteur","Panneaux de particules ou OSB certifiés >75%","Inférieur strictement à 0,5 kg","€/unité",0.01,null,{"$f":"VLOOKUP(J1301,'Codes éco-part'!$C:$E,3,FALSE)","v":"260"},1.2E-2]
["REP ABJ",3,"21102600210",null,"Articles de bricolage","Outils et supports de travail en hauteur","Panneaux de particules ou OSB certifiés >75%","Compris entre 0,5 kg et 1 kg exclus","€/unité",0.01,null,{"$f":"VLOOKUP(J1302,'Codes éco-part'!$C:$E,3,FALSE)","v":"260"},1.2E-2]
["REP ABJ",3,"21102600220",null,"Articles de bricolage","Outils et supports de travail en hauteur","Panneaux de particules ou OSB certifiés >75%","Compris entre 1 kg et 2 kg exclus","€/unité",0.02,null,{"$f":"VLOOKUP(J1303,'Codes éco-part'!$C:$E,3,FALSE)","v":"047"},2.4E-2]
["REP ABJ",3,"21102600270",null,"Articles de bricolage","Outils et supports de travail en hauteur","Panneaux de particules ou OSB certifiés >75%","Compris entre 30 kg et 40 kg exclus","€/unité",0.4,null,{"$f":"VLOOKUP(J1304,'Codes éco-part'!$C:$E,3,FALSE)","v":"105"},0.48]
["REP ABJ",3,"21102600520",null,"Articles de bricolage","Outils et supports de travail en hauteur","Panneaux de particules ou OSB certifiés >75%","Compris entre 2 kg et 3 kg exclus","€/unité",0.03,null,{"$f":"VLOOKUP(J1305,'Codes éco-part'!$C:$E,3,FALSE)","v":"092"},3.5999999999999997E-2]
["REP ABJ",3,"21102600530",null,"Articles de bricolage","Outils et supports de travail en hauteur","Panneaux de particules ou OSB certifiés >75%","Compris entre 3 kg et 5 kg exclus","€/unité",0.04,null,{"$f":"VLOOKUP(J1306,'Codes éco-part'!$C:$E,3,FALSE)","v":"002"},4.8000000000000001E-2]
["REP ABJ",3,"21102600540",null,"Articles de bricolage","Outils et supports de travail en hauteur","Panneaux de particules ou OSB certifiés >75%","Compris entre 5 kg et 7 kg exclus","€/unité",7.0000000000000007E-2,null,{"$f":"VLOOKUP(J1307,'Codes éco-part'!$C:$E,3,FALSE)","v":"247"},8.4000000000000005E-2]
["REP ABJ",3,"21102600550",null,"Articles de bricolage","Outils et supports de travail en hauteur","Panneaux de particules ou OSB certifiés >75%","Compris entre 7 kg et 10 kg exclus","€/unité",0.1,null,{"$f":"VLOOKUP(J1308,'Codes éco-part'!$C:$E,3,FALSE)","v":"094"},0.12]
["REP ABJ",3,"21102600560",null,"Articles de bricolage","Outils et supports de travail en hauteur","Panneaux de particules ou OSB certifiés >75%","Compris entre 10 kg et 15 kg exclus","€/unité",0.15,null,{"$f":"VLOOKUP(J1309,'Codes éco-part'!$C:$E,3,FALSE)","v":"050"},0.18]
["REP ABJ",3,"21102600570",null,"Articles de bricolage","Outils et supports de travail en hauteur","Panneaux de particules ou OSB certifiés >75%","Compris entre 15 kg et 20 kg exclus","€/unité",0.2,null,{"$f":"VLOOKUP(J1310,'Codes éco-part'!$C:$E,3,FALSE)","v":"101"},0.24]
["REP ABJ",3,"21102600580",null,"Articles de bricolage","Outils et supports de travail en hauteur","Panneaux de particules ou OSB certifiés >75%","Compris entre 20 kg et 25 kg exclus","€/unité",0.25,null,{"$f":"VLOOKUP(J1311,'Codes éco-part'!$C:$E,3,FALSE)","v":"095"},0.3]
["REP ABJ",3,"21102600590",null,"Articles de bricolage","Outils et supports de travail en hauteur","Panneaux de particules ou OSB certifiés >75%","Compris entre 25 kg et 30 kg exclus","€/unité",0.3,null,{"$f":"VLOOKUP(J1312,'Codes éco-part'!$C:$E,3,FALSE)","v":"446"},0.36]
["REP ABJ",3,"21102600600",null,"Articles de bricolage","Outils et supports de travail en hauteur","Panneaux de particules ou OSB certifiés >75%","Compris entre 40 kg et 50 kg exclus","€/unité",0.5,null,{"$f":"VLOOKUP(J1313,'Codes éco-part'!$C:$E,3,FALSE)","v":"053"},0.6]
["REP ABJ",3,"21102610000",null,"Articles de bricolage","Outils et supports de travail en hauteur","Panneaux de particules ou OSB >90%","Eléments de toutes dimensions et poids","€ / Tonne",10,10,{"$f":"VLOOKUP(J1314,'Codes éco-part'!$C:$E,3,FALSE)","v":"138"},12]
["REP ABJ",3,"21102610200",null,"Articles de bricolage","Outils et supports de travail en hauteur","Panneaux de particules ou OSB >90%","Inférieur strictement à 0,5 kg","€/unité",0.01,null,{"$f":"VLOOKUP(J1315,'Codes éco-part'!$C:$E,3,FALSE)","v":"260"},1.2E-2]
["REP ABJ",3,"21102610210",null,"Articles de bricolage","Outils et supports de travail en hauteur","Panneaux de particules ou OSB >90%","Compris entre 0,5 kg et 1 kg exclus","€/unité",0.01,null,{"$f":"VLOOKUP(J1316,'Codes éco-part'!$C:$E,3,FALSE)","v":"260"},1.2E-2]
["REP ABJ",3,"21102610220",null,"Articles de bricolage","Outils et supports de travail en hauteur","Panneaux de particules ou OSB >90%","Compris entre 1 kg et 2 kg exclus","€/unité",0.02,null,{"$f":"VLOOKUP(J1317,'Codes éco-part'!$C:$E,3,FALSE)","v":"047"},2.4E-2]
["REP ABJ",3,"21102610270",null,"Articles de bricolage","Outils et supports de travail en hauteur","Panneaux de particules ou OSB >90%","Compris entre 30 kg et 40 kg exclus","€/unité",0.4,null,{"$f":"VLOOKUP(J1318,'Codes éco-part'!$C:$E,3,FALSE)","v":"105"},0.48]
["REP ABJ",3,"21102610520",null,"Articles de bricolage","Outils et supports de travail en hauteur","Panneaux de particules ou OSB >90%","Compris entre 2 kg et 3 kg exclus","€/unité",0.03,null,{"$f":"VLOOKUP(J1319,'Codes éco-part'!$C:$E,3,FALSE)","v":"092"},3.5999999999999997E-2]
["REP ABJ",3,"21102610530",null,"Articles de bricolage","Outils et supports de travail en hauteur","Panneaux de particules ou OSB >90%","Compris entre 3 kg et 5 kg exclus","€/unité",0.04,null,{"$f":"VLOOKUP(J1320,'Codes éco-part'!$C:$E,3,FALSE)","v":"002"},4.8000000000000001E-2]
["REP ABJ",3,"21102610540",null,"Articles de bricolage","Outils et supports de travail en hauteur","Panneaux de particules ou OSB >90%","Compris entre 5 kg et 7 kg exclus","€/unité",7.0000000000000007E-2,null,{"$f":"VLOOKUP(J1321,'Codes éco-part'!$C:$E,3,FALSE)","v":"247"},8.4000000000000005E-2]
["REP ABJ",3,"21102610550",null,"Articles de bricolage","Outils et supports de travail en hauteur","Panneaux de particules ou OSB >90%","Compris entre 7 kg et 10 kg exclus","€/unité",0.1,null,{"$f":"VLOOKUP(J1322,'Codes éco-part'!$C:$E,3,FALSE)","v":"094"},0.12]
["REP ABJ",3,"21102610560",null,"Articles de bricolage","Outils et supports de travail en hauteur","Panneaux de particules ou OSB >90%","Compris entre 10 kg et 15 kg exclus","€/unité",0.15,null,{"$f":"VLOOKUP(J1323,'Codes éco-part'!$C:$E,3,FALSE)","v":"050"},0.18]
["REP ABJ",3,"21102610570",null,"Articles de bricolage","Outils et supports de travail en hauteur","Panneaux de particules ou OSB >90%","Compris entre 15 kg et 20 kg exclus","€/unité",0.2,null,{"$f":"VLOOKUP(J1324,'Codes éco-part'!$C:$E,3,FALSE)","v":"101"},0.24]
["REP ABJ",3,"21102610580",null,"Articles de bricolage","Outils et supports de travail en hauteur","Panneaux de particules ou OSB >90%","Compris entre 20 kg et 25 kg exclus","€/unité",0.25,null,{"$f":"VLOOKUP(J1325,'Codes éco-part'!$C:$E,3,FALSE)","v":"095"},0.3]
["REP ABJ",3,"21102610590",null,"Articles de bricolage","Outils et supports de travail en hauteur","Panneaux de particules ou OSB >90%","Compris entre 25 kg et 30 kg exclus","€/unité",0.3,null,{"$f":"VLOOKUP(J1326,'Codes éco-part'!$C:$E,3,FALSE)","v":"446"},0.36]
["REP ABJ",3,"21102610600",null,"Articles de bricolage","Outils et supports de travail en hauteur","Panneaux de particules ou OSB >90%","Compris entre 40 kg et 50 kg exclus","€/unité",0.5,null,{"$f":"VLOOKUP(J1327,'Codes éco-part'!$C:$E,3,FALSE)","v":"053"},0.6]
["REP ABJ",3,"21102620000",null,"Articles de bricolage","Outils et supports de travail en hauteur","Dérivés de bois >90%","Eléments de toutes dimensions et poids","€ / Tonne",10,10,{"$f":"VLOOKUP(J1328,'Codes éco-part'!$C:$E,3,FALSE)","v":"138"},12]
["REP ABJ",3,"21102620200",null,"Articles de bricolage","Outils et supports de travail en hauteur","Dérivés de bois >90%","Inférieur strictement à 0,5 kg","€/unité",0.01,null,{"$f":"VLOOKUP(J1329,'Codes éco-part'!$C:$E,3,FALSE)","v":"260"},1.2E-2]
["REP ABJ",3,"21102620210",null,"Articles de bricolage","Outils et supports de travail en hauteur","Dérivés de bois >90%","Compris entre 0,5 kg et 1 kg exclus","€/unité",0.01,null,{"$f":"VLOOKUP(J1330,'Codes éco-part'!$C:$E,3,FALSE)","v":"260"},1.2E-2]
["REP ABJ",3,"21102620220",null,"Articles de bricolage","Outils et supports de travail en hauteur","Dérivés de bois >90%","Compris entre 1 kg et 2 kg exclus","€/unité",0.02,null,{"$f":"VLOOKUP(J1331,'Codes éco-part'!$C:$E,3,FALSE)","v":"047"},2.4E-2]
["REP ABJ",3,"21102620270",null,"Articles de bricolage","Outils et supports de travail en hauteur","Dérivés de bois >90%","Compris entre 30 kg et 40 kg exclus","€/unité",0.4,null,{"$f":"VLOOKUP(J1332,'Codes éco-part'!$C:$E,3,FALSE)","v":"105"},0.48]
["REP ABJ",3,"21102620520",null,"Articles de bricolage","Outils et supports de travail en hauteur","Dérivés de bois >90%","Compris entre 2 kg et 3 kg exclus","€/unité",0.03,null,{"$f":"VLOOKUP(J1333,'Codes éco-part'!$C:$E,3,FALSE)","v":"092"},3.5999999999999997E-2]
["REP ABJ",3,"21102620530",null,"Articles de bricolage","Outils et supports de travail en hauteur","Dérivés de bois >90%","Compris entre 3 kg et 5 kg exclus","€/unité",0.04,null,{"$f":"VLOOKUP(J1334,'Codes éco-part'!$C:$E,3,FALSE)","v":"002"},4.8000000000000001E-2]
["REP ABJ",3,"21102620540",null,"Articles de bricolage","Outils et supports de travail en hauteur","Dérivés de bois >90%","Compris entre 5 kg et 7 kg exclus","€/unité",7.0000000000000007E-2,null,{"$f":"VLOOKUP(J1335,'Codes éco-part'!$C:$E,3,FALSE)","v":"247"},8.4000000000000005E-2]
["REP ABJ",3,"21102620550",null,"Articles de bricolage","Outils et supports de travail en hauteur","Dérivés de bois >90%","Compris entre 7 kg et 10 kg exclus","€/unité",0.1,null,{"$f":"VLOOKUP(J1336,'Codes éco-part'!$C:$E,3,FALSE)","v":"094"},0.12]
["REP ABJ",3,"21102620560",null,"Articles de bricolage","Outils et supports de travail en hauteur","Dérivés de bois >90%","Compris entre 10 kg et 15 kg exclus","€/unité",0.15,null,{"$f":"VLOOKUP(J1337,'Codes éco-part'!$C:$E,3,FALSE)","v":"050"},0.18]
["REP ABJ",3,"21102620570",null,"Articles de bricolage","Outils et supports de travail en hauteur","Dérivés de bois >90%","Compris entre 15 kg et 20 kg exclus","€/unité",0.2,null,{"$f":"VLOOKUP(J1338,'Codes éco-part'!$C:$E,3,FALSE)","v":"101"},0.24]
["REP ABJ",3,"21102620580",null,"Articles de bricolage","Outils et supports de travail en hauteur","Dérivés de bois >90%","Compris entre 20 kg et 25 kg exclus","€/unité",0.25,null,{"$f":"VLOOKUP(J1339,'Codes éco-part'!$C:$E,3,FALSE)","v":"095"},0.3]
["REP ABJ",3,"21102620590",null,"Articles de bricolage","Outils et supports de travail en hauteur","Dérivés de bois >90%","Compris entre 25 kg et 30 kg exclus","€/unité",0.3,null,{"$f":"VLOOKUP(J1340,'Codes éco-part'!$C:$E,3,FALSE)","v":"446"},0.36]
["REP ABJ",3,"21102620600",null,"Articles de bricolage","Outils et supports de travail en hauteur","Dérivés de bois >90%","Compris entre 40 kg et 50 kg exclus","€/unité",0.5,null,{"$f":"VLOOKUP(J1341,'Codes éco-part'!$C:$E,3,FALSE)","v":"053"},0.6]
["REP ABJ",3,"21102630000",null,"Articles de bricolage","Outils et supports de travail en hauteur","Caoutchouc naturel >90%","Eléments de toutes dimensions et poids","€ / Tonne",30,30,{"$f":"VLOOKUP(J1342,'Codes éco-part'!$C:$E,3,FALSE)","v":"153"},36]
["REP ABJ",3,"21102630200",null,"Articles de bricolage","Outils et supports de travail en hauteur","Caoutchouc naturel >90%","Inférieur strictement à 0,5 kg","€/unité",0.01,null,{"$f":"VLOOKUP(J1343,'Codes éco-part'!$C:$E,3,FALSE)","v":"260"},1.2E-2]
["REP ABJ",3,"21102630210",null,"Articles de bricolage","Outils et supports de travail en hauteur","Caoutchouc naturel >90%","Compris entre 0,5 kg et 1 kg exclus","€/unité",0.02,null,{"$f":"VLOOKUP(J1344,'Codes éco-part'!$C:$E,3,FALSE)","v":"047"},2.4E-2]
["REP ABJ",3,"21102630220",null,"Articles de bricolage","Outils et supports de travail en hauteur","Caoutchouc naturel >90%","Compris entre 1 kg et 2 kg exclus","€/unité",0.05,null,{"$f":"VLOOKUP(J1345,'Codes éco-part'!$C:$E,3,FALSE)","v":"048"},0.06]
["REP ABJ",3,"21102630270",null,"Articles de bricolage","Outils et supports de travail en hauteur","Caoutchouc naturel >90%","Compris entre 30 kg et 40 kg exclus","€/unité",1.2,null,{"$f":"VLOOKUP(J1346,'Codes éco-part'!$C:$E,3,FALSE)","v":"505"},{"$f":"J1346*1.2","v":1.44}]
["REP ABJ",3,"21102630520",null,"Articles de bricolage","Outils et supports de travail en hauteur","Caoutchouc naturel >90%","Compris entre 2 kg et 3 kg exclus","€/unité",0.08,null,{"$f":"VLOOKUP(J1347,'Codes éco-part'!$C:$E,3,FALSE)","v":"003"},9.6000000000000002E-2]
["REP ABJ",3,"21102630530",null,"Articles de bricolage","Outils et supports de travail en hauteur","Caoutchouc naturel >90%","Compris entre 3 kg et 5 kg exclus","€/unité",0.12,null,{"$f":"VLOOKUP(J1348,'Codes éco-part'!$C:$E,3,FALSE)","v":"097"},0.14399999999999999]
["REP ABJ",3,"21102630540",null,"Articles de bricolage","Outils et supports de travail en hauteur","Caoutchouc naturel >90%","Compris entre 5 kg et 7 kg exclus","€/unité",0.21,null,{"$f":"VLOOKUP(J1349,'Codes éco-part'!$C:$E,3,FALSE)","v":"051"},0.252]
["REP ABJ",3,"21102630550",null,"Articles de bricolage","Outils et supports de travail en hauteur","Caoutchouc naturel >90%","Compris entre 7 kg et 10 kg exclus","€/unité",0.3,null,{"$f":"VLOOKUP(J1350,'Codes éco-part'!$C:$E,3,FALSE)","v":"446"},0.36]
["REP ABJ",3,"21102630560",null,"Articles de bricolage","Outils et supports de travail en hauteur","Caoutchouc naturel >90%","Compris entre 10 kg et 15 kg exclus","€/unité",0.45,null,{"$f":"VLOOKUP(J1351,'Codes éco-part'!$C:$E,3,FALSE)","v":"325"},0.54]
["REP ABJ",3,"21102630570",null,"Articles de bricolage","Outils et supports de travail en hauteur","Caoutchouc naturel >90%","Compris entre 15 kg et 20 kg exclus","€/unité",0.6,null,{"$f":"VLOOKUP(J1352,'Codes éco-part'!$C:$E,3,FALSE)","v":"327"},0.72]
["REP ABJ",3,"21102630580",null,"Articles de bricolage","Outils et supports de travail en hauteur","Caoutchouc naturel >90%","Compris entre 20 kg et 25 kg exclus","€/unité",0.75,null,{"$f":"VLOOKUP(J1353,'Codes éco-part'!$C:$E,3,FALSE)","v":"328"},0.89999999999999991]
["REP ABJ",3,"21102630590",null,"Articles de bricolage","Outils et supports de travail en hauteur","Caoutchouc naturel >90%","Compris entre 25 kg et 30 kg exclus","€/unité",0.9,null,{"$f":"VLOOKUP(J1354,'Codes éco-part'!$C:$E,3,FALSE)","v":"330"},1.08]
["REP ABJ",3,"21102630600",null,"Articles de bricolage","Outils et supports de travail en hauteur","Caoutchouc naturel >90%","Compris entre 40 kg et 50 kg exclus","€/unité",1.5,null,{"$f":"VLOOKUP(J1355,'Codes éco-part'!$C:$E,3,FALSE)","v":"059"},1.7999999999999998]
["REP ABJ",3,"21102640000",null,"Articles de bricolage","Outils et supports de travail en hauteur","Caoutchouc naturel >50%","Eléments de toutes dimensions et poids","€ / Tonne",75,75,{"$f":"VLOOKUP(J1356,'Codes éco-part'!$C:$E,3,FALSE)","v":"192"},90]
["REP ABJ",3,"21102640200",null,"Articles de bricolage","Outils et supports de travail en hauteur","Caoutchouc naturel >50%","Inférieur strictement à 0,5 kg","€/unité",0.02,null,{"$f":"VLOOKUP(J1357,'Codes éco-part'!$C:$E,3,FALSE)","v":"047"},2.4E-2]
["REP ABJ",3,"21102640210",null,"Articles de bricolage","Outils et supports de travail en hauteur","Caoutchouc naturel >50%","Compris entre 0,5 kg et 1 kg exclus","€/unité",0.06,null,{"$f":"VLOOKUP(J1358,'Codes éco-part'!$C:$E,3,FALSE)","v":"096"},7.1999999999999995E-2]
["REP ABJ",3,"21102640220",null,"Articles de bricolage","Outils et supports de travail en hauteur","Caoutchouc naturel >50%","Compris entre 1 kg et 2 kg exclus","€/unité",0.11,null,{"$f":"VLOOKUP(J1359,'Codes éco-part'!$C:$E,3,FALSE)","v":"262"},0.13200000000000001]
["REP ABJ",3,"21102640270",null,"Articles de bricolage","Outils et supports de travail en hauteur","Caoutchouc naturel >50%","Compris entre 30 kg et 40 kg exclus","€/unité",3,null,{"$f":"VLOOKUP(J1360,'Codes éco-part'!$C:$E,3,FALSE)","v":"474"},3.5999999999999996]
["REP ABJ",3,"21102640520",null,"Articles de bricolage","Outils et supports de travail en hauteur","Caoutchouc naturel >50%","Compris entre 2 kg et 3 kg exclus","€/unité",0.19,null,{"$f":"VLOOKUP(J1361,'Codes éco-part'!$C:$E,3,FALSE)","v":"291"},0.22799999999999998]
["REP ABJ",3,"21102640530",null,"Articles de bricolage","Outils et supports de travail en hauteur","Caoutchouc naturel >50%","Compris entre 3 kg et 5 kg exclus","€/unité",0.3,null,{"$f":"VLOOKUP(J1362,'Codes éco-part'!$C:$E,3,FALSE)","v":"446"},0.36]
["REP ABJ",3,"21102640540",null,"Articles de bricolage","Outils et supports de travail en hauteur","Caoutchouc naturel >50%","Compris entre 5 kg et 7 kg exclus","€/unité",0.53,null,{"$f":"VLOOKUP(J1363,'Codes éco-part'!$C:$E,3,FALSE)","v":"451"},0.63600000000000001]
["REP ABJ",3,"21102640550",null,"Articles de bricolage","Outils et supports de travail en hauteur","Caoutchouc naturel >50%","Compris entre 7 kg et 10 kg exclus","€/unité",0.75,null,{"$f":"VLOOKUP(J1364,'Codes éco-part'!$C:$E,3,FALSE)","v":"328"},0.89999999999999991]
["REP ABJ",3,"21102640560",null,"Articles de bricolage","Outils et supports de travail en hauteur","Caoutchouc naturel >50%","Compris entre 10 kg et 15 kg exclus","€/unité",1.1299999999999999,null,{"$f":"VLOOKUP(J1365,'Codes éco-part'!$C:$E,3,FALSE)","v":"331"},1.3559999999999999]
["REP ABJ",3,"21102640570",null,"Articles de bricolage","Outils et supports de travail en hauteur","Caoutchouc naturel >50%","Compris entre 15 kg et 20 kg exclus","€/unité",1.5,null,{"$f":"VLOOKUP(J1366,'Codes éco-part'!$C:$E,3,FALSE)","v":"059"},1.7999999999999998]
["REP ABJ",3,"21102640580",null,"Articles de bricolage","Outils et supports de travail en hauteur","Caoutchouc naturel >50%","Compris entre 20 kg et 25 kg exclus","€/unité",1.88,null,{"$f":"VLOOKUP(J1367,'Codes éco-part'!$C:$E,3,FALSE)","v":"335"},2.2559999999999998]
["REP ABJ",3,"21102640590",null,"Articles de bricolage","Outils et supports de travail en hauteur","Caoutchouc naturel >50%","Compris entre 25 kg et 30 kg exclus","€/unité",2.25,null,{"$f":"VLOOKUP(J1368,'Codes éco-part'!$C:$E,3,FALSE)","v":"118"},2.6999999999999997]
["REP ABJ",3,"21102640600",null,"Articles de bricolage","Outils et supports de travail en hauteur","Caoutchouc naturel >50%","Compris entre 40 kg et 50 kg exclus","€/unité",3.75,null,{"$f":"VLOOKUP(J1369,'Codes éco-part'!$C:$E,3,FALSE)","v":"015"},4.5]
["REP ABJ",3,"21102650000",null,"Articles de bricolage","Outils et supports de travail en hauteur","Matériaux ou fibres synthétiques >90%","Eléments de toutes dimensions et poids","€ / Tonne",50,50,{"$f":"VLOOKUP(J1370,'Codes éco-part'!$C:$E,3,FALSE)","v":"173"},60]
["REP ABJ",3,"21102650200",null,"Articles de bricolage","Outils et supports de travail en hauteur","Matériaux ou fibres synthétiques >90%","Inférieur strictement à 0,5 kg","€/unité",0.01,null,{"$f":"VLOOKUP(J1371,'Codes éco-part'!$C:$E,3,FALSE)","v":"260"},1.2E-2]
["REP ABJ",3,"21102650210",null,"Articles de bricolage","Outils et supports de travail en hauteur","Matériaux ou fibres synthétiques >90%","Compris entre 0,5 kg et 1 kg exclus","€/unité",0.04,null,{"$f":"VLOOKUP(J1372,'Codes éco-part'!$C:$E,3,FALSE)","v":"002"},4.8000000000000001E-2]
["REP ABJ",3,"21102650220",null,"Articles de bricolage","Outils et supports de travail en hauteur","Matériaux ou fibres synthétiques >90%","Compris entre 1 kg et 2 kg exclus","€/unité",0.08,null,{"$f":"VLOOKUP(J1373,'Codes éco-part'!$C:$E,3,FALSE)","v":"003"},9.6000000000000002E-2]
["REP ABJ",3,"21102650270",null,"Articles de bricolage","Outils et supports de travail en hauteur","Matériaux ou fibres synthétiques >90%","Compris entre 30 kg et 40 kg exclus","€/unité",2,null,{"$f":"VLOOKUP(J1374,'Codes éco-part'!$C:$E,3,FALSE)","v":"061"},2.4]
["REP ABJ",3,"21102650520",null,"Articles de bricolage","Outils et supports de travail en hauteur","Matériaux ou fibres synthétiques >90%","Compris entre 2 kg et 3 kg exclus","€/unité",0.13,null,{"$f":"VLOOKUP(J1375,'Codes éco-part'!$C:$E,3,FALSE)","v":"004"},0.156]
["REP ABJ",3,"21102650530",null,"Articles de bricolage","Outils et supports de travail en hauteur","Matériaux ou fibres synthétiques >90%","Compris entre 3 kg et 5 kg exclus","€/unité",0.2,null,{"$f":"VLOOKUP(J1376,'Codes éco-part'!$C:$E,3,FALSE)","v":"101"},0.24]
["REP ABJ",3,"21102650540",null,"Articles de bricolage","Outils et supports de travail en hauteur","Matériaux ou fibres synthétiques >90%","Compris entre 5 kg et 7 kg exclus","€/unité",0.35,null,{"$f":"VLOOKUP(J1377,'Codes éco-part'!$C:$E,3,FALSE)","v":"448"},0.42]
["REP ABJ",3,"21102650550",null,"Articles de bricolage","Outils et supports de travail en hauteur","Matériaux ou fibres synthétiques >90%","Compris entre 7 kg et 10 kg exclus","€/unité",0.5,null,{"$f":"VLOOKUP(J1378,'Codes éco-part'!$C:$E,3,FALSE)","v":"053"},0.6]
["REP ABJ",3,"21102650560",null,"Articles de bricolage","Outils et supports de travail en hauteur","Matériaux ou fibres synthétiques >90%","Compris entre 10 kg et 15 kg exclus","€/unité",0.75,null,{"$f":"VLOOKUP(J1379,'Codes éco-part'!$C:$E,3,FALSE)","v":"328"},0.89999999999999991]
["REP ABJ",3,"21102650570",null,"Articles de bricolage","Outils et supports de travail en hauteur","Matériaux ou fibres synthétiques >90%","Compris entre 15 kg et 20 kg exclus","€/unité",1,null,{"$f":"VLOOKUP(J1380,'Codes éco-part'!$C:$E,3,FALSE)","v":"056"},1.2]
["REP ABJ",3,"21102650580",null,"Articles de bricolage","Outils et supports de travail en hauteur","Matériaux ou fibres synthétiques >90%","Compris entre 20 kg et 25 kg exclus","€/unité",1.25,null,{"$f":"VLOOKUP(J1381,'Codes éco-part'!$C:$E,3,FALSE)","v":"009"},1.5]
["REP ABJ",3,"21102650590",null,"Articles de bricolage","Outils et supports de travail en hauteur","Matériaux ou fibres synthétiques >90%","Compris entre 25 kg et 30 kg exclus","€/unité",1.5,null,{"$f":"VLOOKUP(J1382,'Codes éco-part'!$C:$E,3,FALSE)","v":"059"},1.7999999999999998]
["REP ABJ",3,"21102650600",null,"Articles de bricolage","Outils et supports de travail en hauteur","Matériaux ou fibres synthétiques >90%","Compris entre 40 kg et 50 kg exclus","€/unité",2.5,null,{"$f":"VLOOKUP(J1383,'Codes éco-part'!$C:$E,3,FALSE)","v":"012"},3]
["REP ABJ",3,"21102670000",null,"Articles de bricolage","Outils et supports de travail en hauteur","Assemblage matériaux ou fibres synthétiques >50% avec d'autres matériaux","Eléments de toutes dimensions et poids","€ / Tonne",75,75,{"$f":"VLOOKUP(J1384,'Codes éco-part'!$C:$E,3,FALSE)","v":"192"},90]
["REP ABJ",3,"21102670200",null,"Articles de bricolage","Outils et supports de travail en hauteur","Assemblage matériaux ou fibres synthétiques >50% avec d'autres matériaux","Inférieur strictement à 0,5 kg","€/unité",0.02,null,{"$f":"VLOOKUP(J1385,'Codes éco-part'!$C:$E,3,FALSE)","v":"047"},2.4E-2]
["REP ABJ",3,"21102670210",null,"Articles de bricolage","Outils et supports de travail en hauteur","Assemblage matériaux ou fibres synthétiques >50% avec d'autres matériaux","Compris entre 0,5 kg et 1 kg exclus","€/unité",0.06,null,{"$f":"VLOOKUP(J1386,'Codes éco-part'!$C:$E,3,FALSE)","v":"096"},7.1999999999999995E-2]
["REP ABJ",3,"21102670220",null,"Articles de bricolage","Outils et supports de travail en hauteur","Assemblage matériaux ou fibres synthétiques >50% avec d'autres matériaux","Compris entre 1 kg et 2 kg exclus","€/unité",0.11,null,{"$f":"VLOOKUP(J1387,'Codes éco-part'!$C:$E,3,FALSE)","v":"262"},0.13200000000000001]
["REP ABJ",3,"21102670270",null,"Articles de bricolage","Outils et supports de travail en hauteur","Assemblage matériaux ou fibres synthétiques >50% avec d'autres matériaux","Compris entre 30 kg et 40 kg exclus","€/unité",3,null,{"$f":"VLOOKUP(J1388,'Codes éco-part'!$C:$E,3,FALSE)","v":"474"},3.5999999999999996]
["REP ABJ",3,"21102670520",null,"Articles de bricolage","Outils et supports de travail en hauteur","Assemblage matériaux ou fibres synthétiques >50% avec d'autres matériaux","Compris entre 2 kg et 3 kg exclus","€/unité",0.19,null,{"$f":"VLOOKUP(J1389,'Codes éco-part'!$C:$E,3,FALSE)","v":"291"},0.22799999999999998]
["REP ABJ",3,"21102670530",null,"Articles de bricolage","Outils et supports de travail en hauteur","Assemblage matériaux ou fibres synthétiques >50% avec d'autres matériaux","Compris entre 3 kg et 5 kg exclus","€/unité",0.3,null,{"$f":"VLOOKUP(J1390,'Codes éco-part'!$C:$E,3,FALSE)","v":"446"},0.36]
["REP ABJ",3,"21102670540",null,"Articles de bricolage","Outils et supports de travail en hauteur","Assemblage matériaux ou fibres synthétiques >50% avec d'autres matériaux","Compris entre 5 kg et 7 kg exclus","€/unité",0.53,null,{"$f":"VLOOKUP(J1391,'Codes éco-part'!$C:$E,3,FALSE)","v":"451"},0.63600000000000001]
["REP ABJ",3,"21102670550",null,"Articles de bricolage","Outils et supports de travail en hauteur","Assemblage matériaux ou fibres synthétiques >50% avec d'autres matériaux","Compris entre 7 kg et 10 kg exclus","€/unité",0.75,null,{"$f":"VLOOKUP(J1392,'Codes éco-part'!$C:$E,3,FALSE)","v":"328"},0.89999999999999991]
["REP ABJ",3,"21102670560",null,"Articles de bricolage","Outils et supports de travail en hauteur","Assemblage matériaux ou fibres synthétiques >50% avec d'autres matériaux","Compris entre 10 kg et 15 kg exclus","€/unité",1.1299999999999999,null,{"$f":"VLOOKUP(J1393,'Codes éco-part'!$C:$E,3,FALSE)","v":"331"},1.3559999999999999]
["REP ABJ",3,"21102670570",null,"Articles de bricolage","Outils et supports de travail en hauteur","Assemblage matériaux ou fibres synthétiques >50% avec d'autres matériaux","Compris entre 15 kg et 20 kg exclus","€/unité",1.5,null,{"$f":"VLOOKUP(J1394,'Codes éco-part'!$C:$E,3,FALSE)","v":"059"},1.7999999999999998]
["REP ABJ",3,"21102670580",null,"Articles de bricolage","Outils et supports de travail en hauteur","Assemblage matériaux ou fibres synthétiques >50% avec d'autres matériaux","Compris entre 20 kg et 25 kg exclus","€/unité",1.88,null,{"$f":"VLOOKUP(J1395,'Codes éco-part'!$C:$E,3,FALSE)","v":"335"},2.2559999999999998]
["REP ABJ",3,"21102670590",null,"Articles de bricolage","Outils et supports de travail en hauteur","Assemblage matériaux ou fibres synthétiques >50% avec d'autres matériaux","Compris entre 25 kg et 30 kg exclus","€/unité",2.25,null,{"$f":"VLOOKUP(J1396,'Codes éco-part'!$C:$E,3,FALSE)","v":"118"},2.6999999999999997]
["REP ABJ",3,"21102670600",null,"Articles de bricolage","Outils et supports de travail en hauteur","Assemblage matériaux ou fibres synthétiques >50% avec d'autres matériaux","Compris entre 40 kg et 50 kg exclus","€/unité",3.75,null,{"$f":"VLOOKUP(J1397,'Codes éco-part'!$C:$E,3,FALSE)","v":"015"},4.5]
["REP ABJ",3,"21102680000",null,"Articles de bricolage","Outils et supports de travail en hauteur","Verre >90%","Eléments de toutes dimensions et poids","€ / Tonne",5,5,{"$f":"VLOOKUP(J1398,'Codes éco-part'!$C:$E,3,FALSE)","v":"042"},6]
["REP ABJ",3,"21102680200",null,"Articles de bricolage","Outils et supports de travail en hauteur","Verre >90%","Inférieur strictement à 0,5 kg","€/unité",0.01,null,{"$f":"VLOOKUP(J1399,'Codes éco-part'!$C:$E,3,FALSE)","v":"260"},1.2E-2]
["REP ABJ",3,"21102680210",null,"Articles de bricolage","Outils et supports de travail en hauteur","Verre >90%","Compris entre 0,5 kg et 1 kg exclus","€/unité",0.01,null,{"$f":"VLOOKUP(J1400,'Codes éco-part'!$C:$E,3,FALSE)","v":"260"},1.2E-2]
["REP ABJ",3,"21102680220",null,"Articles de bricolage","Outils et supports de travail en hauteur","Verre >90%","Compris entre 1 kg et 2 kg exclus","€/unité",0.01,null,{"$f":"VLOOKUP(J1401,'Codes éco-part'!$C:$E,3,FALSE)","v":"260"},1.2E-2]
["REP ABJ",3,"21102680270",null,"Articles de bricolage","Outils et supports de travail en hauteur","Verre >90%","Compris entre 30 kg et 40 kg exclus","€/unité",0.2,null,{"$f":"VLOOKUP(J1402,'Codes éco-part'!$C:$E,3,FALSE)","v":"101"},0.24]
["REP ABJ",3,"21102680520",null,"Articles de bricolage","Outils et supports de travail en hauteur","Verre >90%","Compris entre 2 kg et 3 kg exclus","€/unité",0.01,null,{"$f":"VLOOKUP(J1403,'Codes éco-part'!$C:$E,3,FALSE)","v":"260"},1.2E-2]
["REP ABJ",3,"21102680530",null,"Articles de bricolage","Outils et supports de travail en hauteur","Verre >90%","Compris entre 3 kg et 5 kg exclus","€/unité",0.02,null,{"$f":"VLOOKUP(J1404,'Codes éco-part'!$C:$E,3,FALSE)","v":"047"},2.4E-2]
["REP ABJ",3,"21102680540",null,"Articles de bricolage","Outils et supports de travail en hauteur","Verre >90%","Compris entre 5 kg et 7 kg exclus","€/unité",0.04,null,{"$f":"VLOOKUP(J1405,'Codes éco-part'!$C:$E,3,FALSE)","v":"002"},4.8000000000000001E-2]
["REP ABJ",3,"21102680550",null,"Articles de bricolage","Outils et supports de travail en hauteur","Verre >90%","Compris entre 7 kg et 10 kg exclus","€/unité",0.05,null,{"$f":"VLOOKUP(J1406,'Codes éco-part'!$C:$E,3,FALSE)","v":"048"},0.06]
["REP ABJ",3,"21102680560",null,"Articles de bricolage","Outils et supports de travail en hauteur","Verre >90%","Compris entre 10 kg et 15 kg exclus","€/unité",0.08,null,{"$f":"VLOOKUP(J1407,'Codes éco-part'!$C:$E,3,FALSE)","v":"003"},9.6000000000000002E-2]
["REP ABJ",3,"21102680570",null,"Articles de bricolage","Outils et supports de travail en hauteur","Verre >90%","Compris entre 15 kg et 20 kg exclus","€/unité",0.1,null,{"$f":"VLOOKUP(J1408,'Codes éco-part'!$C:$E,3,FALSE)","v":"094"},0.12]
["REP ABJ",3,"21102680580",null,"Articles de bricolage","Outils et supports de travail en hauteur","Verre >90%","Compris entre 20 kg et 25 kg exclus","€/unité",0.13,null,{"$f":"VLOOKUP(J1409,'Codes éco-part'!$C:$E,3,FALSE)","v":"004"},0.156]
["REP ABJ",3,"21102680590",null,"Articles de bricolage","Outils et supports de travail en hauteur","Verre >90%","Compris entre 25 kg et 30 kg exclus","€/unité",0.15,null,{"$f":"VLOOKUP(J1410,'Codes éco-part'!$C:$E,3,FALSE)","v":"050"},{"$f":"J1410*1.2","v":0.18}]
["REP ABJ",3,"21102680600",null,"Articles de bricolage","Outils et supports de travail en hauteur","Verre >90%","Compris entre 40 kg et 50 kg exclus","€/unité",0.25,null,{"$f":"VLOOKUP(J1411,'Codes éco-part'!$C:$E,3,FALSE)","v":"095"},0.3]
["REP ABJ",3,"21102700000",null,"Articles de bricolage","Outils et supports de travail en hauteur","Assemblage verre à plus de 50% avec métal","Eléments de toutes dimensions et poids","€ / Tonne",75,75,{"$f":"VLOOKUP(J1412,'Codes éco-part'!$C:$E,3,FALSE)","v":"192"},90]
["REP ABJ",3,"21102700200",null,"Articles de bricolage","Outils et supports de travail en hauteur","Assemblage verre à plus de 50% avec métal","Inférieur strictement à 0,5 kg","€/unité",0.02,null,{"$f":"VLOOKUP(J1413,'Codes éco-part'!$C:$E,3,FALSE)","v":"047"},2.4E-2]
["REP ABJ",3,"21102700210",null,"Articles de bricolage","Outils et supports de travail en hauteur","Assemblage verre à plus de 50% avec métal","Compris entre 0,5 kg et 1 kg exclus","€/unité",0.06,null,{"$f":"VLOOKUP(J1414,'Codes éco-part'!$C:$E,3,FALSE)","v":"096"},7.1999999999999995E-2]
["REP ABJ",3,"21102700220",null,"Articles de bricolage","Outils et supports de travail en hauteur","Assemblage verre à plus de 50% avec métal","Compris entre 1 kg et 2 kg exclus","€/unité",0.11,null,{"$f":"VLOOKUP(J1415,'Codes éco-part'!$C:$E,3,FALSE)","v":"262"},0.13200000000000001]
["REP ABJ",3,"21102700270",null,"Articles de bricolage","Outils et supports de travail en hauteur","Assemblage verre à plus de 50% avec métal","Compris entre 30 kg et 40 kg exclus","€/unité",3,null,{"$f":"VLOOKUP(J1416,'Codes éco-part'!$C:$E,3,FALSE)","v":"474"},3.5999999999999996]
["REP ABJ",3,"21102700520",null,"Articles de bricolage","Outils et supports de travail en hauteur","Assemblage verre à plus de 50% avec métal","Compris entre 2 kg et 3 kg exclus","€/unité",0.19,null,{"$f":"VLOOKUP(J1417,'Codes éco-part'!$C:$E,3,FALSE)","v":"291"},0.22799999999999998]
["REP ABJ",3,"21102700530",null,"Articles de bricolage","Outils et supports de travail en hauteur","Assemblage verre à plus de 50% avec métal","Compris entre 3 kg et 5 kg exclus","€/unité",0.3,null,{"$f":"VLOOKUP(J1418,'Codes éco-part'!$C:$E,3,FALSE)","v":"446"},0.36]
["REP ABJ",3,"21102700540",null,"Articles de bricolage","Outils et supports de travail en hauteur","Assemblage verre à plus de 50% avec métal","Compris entre 5 kg et 7 kg exclus","€/unité",0.53,null,{"$f":"VLOOKUP(J1419,'Codes éco-part'!$C:$E,3,FALSE)","v":"451"},0.63600000000000001]
["REP ABJ",3,"21102700550",null,"Articles de bricolage","Outils et supports de travail en hauteur","Assemblage verre à plus de 50% avec métal","Compris entre 7 kg et 10 kg exclus","€/unité",0.75,null,{"$f":"VLOOKUP(J1420,'Codes éco-part'!$C:$E,3,FALSE)","v":"328"},0.89999999999999991]
["REP ABJ",3,"21102700560",null,"Articles de bricolage","Outils et supports de travail en hauteur","Assemblage verre à plus de 50% avec métal","Compris entre 10 kg et 15 kg exclus","€/unité",1.1299999999999999,null,{"$f":"VLOOKUP(J1421,'Codes éco-part'!$C:$E,3,FALSE)","v":"331"},1.3559999999999999]
["REP ABJ",3,"21102700570",null,"Articles de bricolage","Outils et supports de travail en hauteur","Assemblage verre à plus de 50% avec métal","Compris entre 15 kg et 20 kg exclus","€/unité",1.5,null,{"$f":"VLOOKUP(J1422,'Codes éco-part'!$C:$E,3,FALSE)","v":"059"},1.7999999999999998]
["REP ABJ",3,"21102700580",null,"Articles de bricolage","Outils et supports de travail en hauteur","Assemblage verre à plus de 50% avec métal","Compris entre 20 kg et 25 kg exclus","€/unité",1.88,null,{"$f":"VLOOKUP(J1423,'Codes éco-part'!$C:$E,3,FALSE)","v":"335"},2.2559999999999998]
["REP ABJ",3,"21102700590",null,"Articles de bricolage","Outils et supports de travail en hauteur","Assemblage verre à plus de 50% avec métal","Compris entre 25 kg et 30 kg exclus","€/unité",2.25,null,{"$f":"VLOOKUP(J1424,'Codes éco-part'!$C:$E,3,FALSE)","v":"118"},2.6999999999999997]
["REP ABJ",3,"21102700600",null,"Articles de bricolage","Outils et supports de travail en hauteur","Assemblage verre à plus de 50% avec métal","Compris entre 40 kg et 50 kg exclus","€/unité",3.75,null,{"$f":"VLOOKUP(J1425,'Codes éco-part'!$C:$E,3,FALSE)","v":"015"},4.5]
["REP ABJ",3,"21102710000",null,"Articles de bricolage","Outils et supports de travail en hauteur","Assemblage verre à plus de 50% avec Inerte","Eléments de toutes dimensions et poids","€ / Tonne",75,75,{"$f":"VLOOKUP(J1426,'Codes éco-part'!$C:$E,3,FALSE)","v":"192"},90]
["REP ABJ",3,"21102710200",null,"Articles de bricolage","Outils et supports de travail en hauteur","Assemblage verre à plus de 50% avec Inerte","Inférieur strictement à 0,5 kg","€/unité",0.02,null,{"$f":"VLOOKUP(J1427,'Codes éco-part'!$C:$E,3,FALSE)","v":"047"},2.4E-2]
["REP ABJ",3,"21102710210",null,"Articles de bricolage","Outils et supports de travail en hauteur","Assemblage verre à plus de 50% avec Inerte","Compris entre 0,5 kg et 1 kg exclus","€/unité",0.06,null,{"$f":"VLOOKUP(J1428,'Codes éco-part'!$C:$E,3,FALSE)","v":"096"},7.1999999999999995E-2]
["REP ABJ",3,"21102710220",null,"Articles de bricolage","Outils et supports de travail en hauteur","Assemblage verre à plus de 50% avec Inerte","Compris entre 1 kg et 2 kg exclus","€/unité",0.11,null,{"$f":"VLOOKUP(J1429,'Codes éco-part'!$C:$E,3,FALSE)","v":"262"},0.13200000000000001]
["REP ABJ",3,"21102710270",null,"Articles de bricolage","Outils et supports de travail en hauteur","Assemblage verre à plus de 50% avec Inerte","Compris entre 30 kg et 40 kg exclus","€/unité",3,null,{"$f":"VLOOKUP(J1430,'Codes éco-part'!$C:$E,3,FALSE)","v":"474"},3.5999999999999996]
["REP ABJ",3,"21102710520",null,"Articles de bricolage","Outils et supports de travail en hauteur","Assemblage verre à plus de 50% avec Inerte","Compris entre 2 kg et 3 kg exclus","€/unité",0.19,null,{"$f":"VLOOKUP(J1431,'Codes éco-part'!$C:$E,3,FALSE)","v":"291"},0.22799999999999998]
["REP ABJ",3,"21102710530",null,"Articles de bricolage","Outils et supports de travail en hauteur","Assemblage verre à plus de 50% avec Inerte","Compris entre 3 kg et 5 kg exclus","€/unité",0.3,null,{"$f":"VLOOKUP(J1432,'Codes éco-part'!$C:$E,3,FALSE)","v":"446"},0.36]
["REP ABJ",3,"21102710540",null,"Articles de bricolage","Outils et supports de travail en hauteur","Assemblage verre à plus de 50% avec Inerte","Compris entre 5 kg et 7 kg exclus","€/unité",0.53,null,{"$f":"VLOOKUP(J1433,'Codes éco-part'!$C:$E,3,FALSE)","v":"451"},0.63600000000000001]
["REP ABJ",3,"21102710550",null,"Articles de bricolage","Outils et supports de travail en hauteur","Assemblage verre à plus de 50% avec Inerte","Compris entre 7 kg et 10 kg exclus","€/unité",0.75,null,{"$f":"VLOOKUP(J1434,'Codes éco-part'!$C:$E,3,FALSE)","v":"328"},0.89999999999999991]
["REP ABJ",3,"21102710560",null,"Articles de bricolage","Outils et supports de travail en hauteur","Assemblage verre à plus de 50% avec Inerte","Compris entre 10 kg et 15 kg exclus","€/unité",1.1299999999999999,null,{"$f":"VLOOKUP(J1435,'Codes éco-part'!$C:$E,3,FALSE)","v":"331"},1.3559999999999999]
["REP ABJ",3,"21102710570",null,"Articles de bricolage","Outils et supports de travail en hauteur","Assemblage verre à plus de 50% avec Inerte","Compris entre 15 kg et 20 kg exclus","€/unité",1.5,null,{"$f":"VLOOKUP(J1436,'Codes éco-part'!$C:$E,3,FALSE)","v":"059"},1.7999999999999998]
["REP ABJ",3,"21102710580",null,"Articles de bricolage","Outils et supports de travail en hauteur","Assemblage verre à plus de 50% avec Inerte","Compris entre 20 kg et 25 kg exclus","€/unité",1.88,null,{"$f":"VLOOKUP(J1437,'Codes éco-part'!$C:$E,3,FALSE)","v":"335"},2.2559999999999998]
["REP ABJ",3,"21102710590",null,"Articles de bricolage","Outils et supports de travail en hauteur","Assemblage verre à plus de 50% avec Inerte","Compris entre 25 kg et 30 kg exclus","€/unité",2.25,null,{"$f":"VLOOKUP(J1438,'Codes éco-part'!$C:$E,3,FALSE)","v":"118"},2.6999999999999997]
["REP ABJ",3,"21102710600",null,"Articles de bricolage","Outils et supports de travail en hauteur","Assemblage verre à plus de 50% avec Inerte","Compris entre 40 kg et 50 kg exclus","€/unité",3.75,null,{"$f":"VLOOKUP(J1439,'Codes éco-part'!$C:$E,3,FALSE)","v":"015"},4.5]
["REP ABJ",3,"21102720000",null,"Articles de bricolage","Outils et supports de travail en hauteur","Assemblage verre à plus de 50% avec bois ou dérivés de bois","Eléments de toutes dimensions et poids","€ / Tonne",75,75,{"$f":"VLOOKUP(J1440,'Codes éco-part'!$C:$E,3,FALSE)","v":"192"},90]
["REP ABJ",3,"21102720200",null,"Articles de bricolage","Outils et supports de travail en hauteur","Assemblage verre à plus de 50% avec bois ou dérivés de bois","Inférieur strictement à 0,5 kg","€/unité",0.02,null,{"$f":"VLOOKUP(J1441,'Codes éco-part'!$C:$E,3,FALSE)","v":"047"},2.4E-2]
["REP ABJ",3,"21102720210",null,"Articles de bricolage","Outils et supports de travail en hauteur","Assemblage verre à plus de 50% avec bois ou dérivés de bois","Compris entre 0,5 kg et 1 kg exclus","€/unité",0.06,null,{"$f":"VLOOKUP(J1442,'Codes éco-part'!$C:$E,3,FALSE)","v":"096"},7.1999999999999995E-2]
["REP ABJ",3,"21102720220",null,"Articles de bricolage","Outils et supports de travail en hauteur","Assemblage verre à plus de 50% avec bois ou dérivés de bois","Compris entre 1 kg et 2 kg exclus","€/unité",0.11,null,{"$f":"VLOOKUP(J1443,'Codes éco-part'!$C:$E,3,FALSE)","v":"262"},0.13200000000000001]
["REP ABJ",3,"21102720270",null,"Articles de bricolage","Outils et supports de travail en hauteur","Assemblage verre à plus de 50% avec bois ou dérivés de bois","Compris entre 30 kg et 40 kg exclus","€/unité",3,null,{"$f":"VLOOKUP(J1444,'Codes éco-part'!$C:$E,3,FALSE)","v":"474"},3.5999999999999996]
["REP ABJ",3,"21102720520",null,"Articles de bricolage","Outils et supports de travail en hauteur","Assemblage verre à plus de 50% avec bois ou dérivés de bois","Compris entre 2 kg et 3 kg exclus","€/unité",0.19,null,{"$f":"VLOOKUP(J1445,'Codes éco-part'!$C:$E,3,FALSE)","v":"291"},0.22799999999999998]
["REP ABJ",3,"21102720530",null,"Articles de bricolage","Outils et supports de travail en hauteur","Assemblage verre à plus de 50% avec bois ou dérivés de bois","Compris entre 3 kg et 5 kg exclus","€/unité",0.3,null,{"$f":"VLOOKUP(J1446,'Codes éco-part'!$C:$E,3,FALSE)","v":"446"},0.36]
["REP ABJ",3,"21102720540",null,"Articles de bricolage","Outils et supports de travail en hauteur","Assemblage verre à plus de 50% avec bois ou dérivés de bois","Compris entre 5 kg et 7 kg exclus","€/unité",0.53,null,{"$f":"VLOOKUP(J1447,'Codes éco-part'!$C:$E,3,FALSE)","v":"451"},0.63600000000000001]
["REP ABJ",3,"21102720550",null,"Articles de bricolage","Outils et supports de travail en hauteur","Assemblage verre à plus de 50% avec bois ou dérivés de bois","Compris entre 7 kg et 10 kg exclus","€/unité",0.75,null,{"$f":"VLOOKUP(J1448,'Codes éco-part'!$C:$E,3,FALSE)","v":"328"},0.89999999999999991]
["REP ABJ",3,"21102720560",null,"Articles de bricolage","Outils et supports de travail en hauteur","Assemblage verre à plus de 50% avec bois ou dérivés de bois","Compris entre 10 kg et 15 kg exclus","€/unité",1.1299999999999999,null,{"$f":"VLOOKUP(J1449,'Codes éco-part'!$C:$E,3,FALSE)","v":"331"},1.3559999999999999]
["REP ABJ",3,"21102720570",null,"Articles de bricolage","Outils et supports de travail en hauteur","Assemblage verre à plus de 50% avec bois ou dérivés de bois","Compris entre 15 kg et 20 kg exclus","€/unité",1.5,null,{"$f":"VLOOKUP(J1450,'Codes éco-part'!$C:$E,3,FALSE)","v":"059"},1.7999999999999998]
["REP ABJ",3,"21102720580",null,"Articles de bricolage","Outils et supports de travail en hauteur","Assemblage verre à plus de 50% avec bois ou dérivés de bois","Compris entre 20 kg et 25 kg exclus","€/unité",1.88,null,{"$f":"VLOOKUP(J1451,'Codes éco-part'!$C:$E,3,FALSE)","v":"335"},2.2559999999999998]
["REP ABJ",3,"21102720590",null,"Articles de bricolage","Outils et supports de travail en hauteur","Assemblage verre à plus de 50% avec bois ou dérivés de bois","Compris entre 25 kg et 30 kg exclus","€/unité",2.25,null,{"$f":"VLOOKUP(J1452,'Codes éco-part'!$C:$E,3,FALSE)","v":"118"},2.6999999999999997]
["REP ABJ",3,"21102720600",null,"Articles de bricolage","Outils et supports de travail en hauteur","Assemblage verre à plus de 50% avec bois ou dérivés de bois","Compris entre 40 kg et 50 kg exclus","€/unité",3.75,null,{"$f":"VLOOKUP(J1453,'Codes éco-part'!$C:$E,3,FALSE)","v":"015"},4.5]
["REP ABJ",3,"21102730000",null,"Articles de bricolage","Outils et supports de travail en hauteur","Assemblage verre à plus de 50% avec plastique","Eléments de toutes dimensions et poids","€ / Tonne",75,75,{"$f":"VLOOKUP(J1454,'Codes éco-part'!$C:$E,3,FALSE)","v":"192"},90]
["REP ABJ",3,"21102730200",null,"Articles de bricolage","Outils et supports de travail en hauteur","Assemblage verre à plus de 50% avec plastique","Inférieur strictement à 0,5 kg","€/unité",0.02,null,{"$f":"VLOOKUP(J1455,'Codes éco-part'!$C:$E,3,FALSE)","v":"047"},2.4E-2]
["REP ABJ",3,"21102730210",null,"Articles de bricolage","Outils et supports de travail en hauteur","Assemblage verre à plus de 50% avec plastique","Compris entre 0,5 kg et 1 kg exclus","€/unité",0.06,null,{"$f":"VLOOKUP(J1456,'Codes éco-part'!$C:$E,3,FALSE)","v":"096"},7.1999999999999995E-2]
["REP ABJ",3,"21102730220",null,"Articles de bricolage","Outils et supports de travail en hauteur","Assemblage verre à plus de 50% avec plastique","Compris entre 1 kg et 2 kg exclus","€/unité",0.11,null,{"$f":"VLOOKUP(J1457,'Codes éco-part'!$C:$E,3,FALSE)","v":"262"},0.13200000000000001]
["REP ABJ",3,"21102730270",null,"Articles de bricolage","Outils et supports de travail en hauteur","Assemblage verre à plus de 50% avec plastique","Compris entre 30 kg et 40 kg exclus","€/unité",3,null,{"$f":"VLOOKUP(J1458,'Codes éco-part'!$C:$E,3,FALSE)","v":"474"},3.5999999999999996]
["REP ABJ",3,"21102730520",null,"Articles de bricolage","Outils et supports de travail en hauteur","Assemblage verre à plus de 50% avec plastique","Compris entre 2 kg et 3 kg exclus","€/unité",0.19,null,{"$f":"VLOOKUP(J1459,'Codes éco-part'!$C:$E,3,FALSE)","v":"291"},0.22799999999999998]
["REP ABJ",3,"21102730530",null,"Articles de bricolage","Outils et supports de travail en hauteur","Assemblage verre à plus de 50% avec plastique","Compris entre 3 kg et 5 kg exclus","€/unité",0.3,null,{"$f":"VLOOKUP(J1460,'Codes éco-part'!$C:$E,3,FALSE)","v":"446"},0.36]
["REP ABJ",3,"21102730540",null,"Articles de bricolage","Outils et supports de travail en hauteur","Assemblage verre à plus de 50% avec plastique","Compris entre 5 kg et 7 kg exclus","€/unité",0.53,null,{"$f":"VLOOKUP(J1461,'Codes éco-part'!$C:$E,3,FALSE)","v":"451"},0.63600000000000001]
["REP ABJ",3,"21102730550",null,"Articles de bricolage","Outils et supports de travail en hauteur","Assemblage verre à plus de 50% avec plastique","Compris entre 7 kg et 10 kg exclus","€/unité",0.75,null,{"$f":"VLOOKUP(J1462,'Codes éco-part'!$C:$E,3,FALSE)","v":"328"},0.89999999999999991]
["REP ABJ",3,"21102730560",null,"Articles de bricolage","Outils et supports de travail en hauteur","Assemblage verre à plus de 50% avec plastique","Compris entre 10 kg et 15 kg exclus","€/unité",1.1299999999999999,null,{"$f":"VLOOKUP(J1463,'Codes éco-part'!$C:$E,3,FALSE)","v":"331"},1.3559999999999999]
["REP ABJ",3,"21102730570",null,"Articles de bricolage","Outils et supports de travail en hauteur","Assemblage verre à plus de 50% avec plastique","Compris entre 15 kg et 20 kg exclus","€/unité",1.5,null,{"$f":"VLOOKUP(J1464,'Codes éco-part'!$C:$E,3,FALSE)","v":"059"},1.7999999999999998]
["REP ABJ",3,"21102730580",null,"Articles de bricolage","Outils et supports de travail en hauteur","Assemblage verre à plus de 50% avec plastique","Compris entre 20 kg et 25 kg exclus","€/unité",1.88,null,{"$f":"VLOOKUP(J1465,'Codes éco-part'!$C:$E,3,FALSE)","v":"335"},2.2559999999999998]
["REP ABJ",3,"21102730590",null,"Articles de bricolage","Outils et supports de travail en hauteur","Assemblage verre à plus de 50% avec plastique","Compris entre 25 kg et 30 kg exclus","€/unité",2.25,null,{"$f":"VLOOKUP(J1466,'Codes éco-part'!$C:$E,3,FALSE)","v":"118"},2.6999999999999997]
["REP ABJ",3,"21102730600",null,"Articles de bricolage","Outils et supports de travail en hauteur","Assemblage verre à plus de 50% avec plastique","Compris entre 40 kg et 50 kg exclus","€/unité",3.75,null,{"$f":"VLOOKUP(J1467,'Codes éco-part'!$C:$E,3,FALSE)","v":"015"},4.5]
["REP ABJ",3,"21102740000",null,"Articles de bricolage","Outils et supports de travail en hauteur","Béton >90%","Eléments de toutes dimensions et poids","€ / Tonne",5,5,{"$f":"VLOOKUP(J1468,'Codes éco-part'!$C:$E,3,FALSE)","v":"042"},6]
["REP ABJ",3,"21102740200",null,"Articles de bricolage","Outils et supports de travail en hauteur","Béton >90%","Inférieur strictement à 0,5 kg","€/unité",0.01,null,{"$f":"VLOOKUP(J1469,'Codes éco-part'!$C:$E,3,FALSE)","v":"260"},1.2E-2]
["REP ABJ",3,"21102740210",null,"Articles de bricolage","Outils et supports de travail en hauteur","Béton >90%","Compris entre 0,5 kg et 1 kg exclus","€/unité",0.01,null,{"$f":"VLOOKUP(J1470,'Codes éco-part'!$C:$E,3,FALSE)","v":"260"},1.2E-2]
["REP ABJ",3,"21102740220",null,"Articles de bricolage","Outils et supports de travail en hauteur","Béton >90%","Compris entre 1 kg et 2 kg exclus","€/unité",0.01,null,{"$f":"VLOOKUP(J1471,'Codes éco-part'!$C:$E,3,FALSE)","v":"260"},1.2E-2]
["REP ABJ",3,"21102740270",null,"Articles de bricolage","Outils et supports de travail en hauteur","Béton >90%","Compris entre 30 kg et 40 kg exclus","€/unité",0.2,null,{"$f":"VLOOKUP(J1472,'Codes éco-part'!$C:$E,3,FALSE)","v":"101"},0.24]
["REP ABJ",3,"21102740520",null,"Articles de bricolage","Outils et supports de travail en hauteur","Béton >90%","Compris entre 2 kg et 3 kg exclus","€/unité",0.01,null,{"$f":"VLOOKUP(J1473,'Codes éco-part'!$C:$E,3,FALSE)","v":"260"},1.2E-2]
["REP ABJ",3,"21102740530",null,"Articles de bricolage","Outils et supports de travail en hauteur","Béton >90%","Compris entre 3 kg et 5 kg exclus","€/unité",0.02,null,{"$f":"VLOOKUP(J1474,'Codes éco-part'!$C:$E,3,FALSE)","v":"047"},{"$f":"J1474*1.2","v":2.4E-2}]
["REP ABJ",3,"21102740540",null,"Articles de bricolage","Outils et supports de travail en hauteur","Béton >90%","Compris entre 5 kg et 7 kg exclus","€/unité",0.04,null,{"$f":"VLOOKUP(J1475,'Codes éco-part'!$C:$E,3,FALSE)","v":"002"},4.8000000000000001E-2]
["REP ABJ",3,"21102740550",null,"Articles de bricolage","Outils et supports de travail en hauteur","Béton >90%","Compris entre 7 kg et 10 kg exclus","€/unité",0.05,null,{"$f":"VLOOKUP(J1476,'Codes éco-part'!$C:$E,3,FALSE)","v":"048"},0.06]
["REP ABJ",3,"21102740560",null,"Articles de bricolage","Outils et supports de travail en hauteur","Béton >90%","Compris entre 10 kg et 15 kg exclus","€/unité",0.08,null,{"$f":"VLOOKUP(J1477,'Codes éco-part'!$C:$E,3,FALSE)","v":"003"},9.6000000000000002E-2]
["REP ABJ",3,"21102740570",null,"Articles de bricolage","Outils et supports de travail en hauteur","Béton >90%","Compris entre 15 kg et 20 kg exclus","€/unité",0.1,null,{"$f":"VLOOKUP(J1478,'Codes éco-part'!$C:$E,3,FALSE)","v":"094"},0.12]
["REP ABJ",3,"21102740580",null,"Articles de bricolage","Outils et supports de travail en hauteur","Béton >90%","Compris entre 20 kg et 25 kg exclus","€/unité",0.13,null,{"$f":"VLOOKUP(J1479,'Codes éco-part'!$C:$E,3,FALSE)","v":"004"},0.156]
["REP ABJ",3,"21102740590",null,"Articles de bricolage","Outils et supports de travail en hauteur","Béton >90%","Compris entre 25 kg et 30 kg exclus","€/unité",0.15,null,{"$f":"VLOOKUP(J1480,'Codes éco-part'!$C:$E,3,FALSE)","v":"050"},0.18]
["REP ABJ",3,"21102740600",null,"Articles de bricolage","Outils et supports de travail en hauteur","Béton >90%","Compris entre 40 kg et 50 kg exclus","€/unité",0.25,null,{"$f":"VLOOKUP(J1481,'Codes éco-part'!$C:$E,3,FALSE)","v":"095"},0.3]
["REP ABJ",3,"21102810000",null,"Articles de bricolage","Outils et supports de travail en hauteur","Assemblage dont la composition conjointe en bois, dérivés de bois et en métal dépasse 90%","Eléments de toutes dimensions et poids","€ / Tonne",10,10,{"$f":"VLOOKUP(J1482,'Codes éco-part'!$C:$E,3,FALSE)","v":"138"},12]
["REP ABJ",3,"21102810200",null,"Articles de bricolage","Outils et supports de travail en hauteur","Assemblage dont la composition conjointe en bois, dérivés de bois et en métal dépasse 90%","Inférieur strictement à 0,5 kg","€/unité",0.01,null,{"$f":"VLOOKUP(J1483,'Codes éco-part'!$C:$E,3,FALSE)","v":"260"},1.2E-2]
["REP ABJ",3,"21102810210",null,"Articles de bricolage","Outils et supports de travail en hauteur","Assemblage dont la composition conjointe en bois, dérivés de bois et en métal dépasse 90%","Compris entre 0,5 kg et 1 kg exclus","€/unité",0.01,null,{"$f":"VLOOKUP(J1484,'Codes éco-part'!$C:$E,3,FALSE)","v":"260"},1.2E-2]
["REP ABJ",3,"21102810220",null,"Articles de bricolage","Outils et supports de travail en hauteur","Assemblage dont la composition conjointe en bois, dérivés de bois et en métal dépasse 90%","Compris entre 1 kg et 2 kg exclus","€/unité",0.02,null,{"$f":"VLOOKUP(J1485,'Codes éco-part'!$C:$E,3,FALSE)","v":"047"},2.4E-2]
["REP ABJ",3,"21102810270",null,"Articles de bricolage","Outils et supports de travail en hauteur","Assemblage dont la composition conjointe en bois, dérivés de bois et en métal dépasse 90%","Compris entre 30 kg et 40 kg exclus","€/unité",0.4,null,{"$f":"VLOOKUP(J1486,'Codes éco-part'!$C:$E,3,FALSE)","v":"105"},0.48]
["REP ABJ",3,"21102810520",null,"Articles de bricolage","Outils et supports de travail en hauteur","Assemblage dont la composition conjointe en bois, dérivés de bois et en métal dépasse 90%","Compris entre 2 kg et 3 kg exclus","€/unité",0.03,null,{"$f":"VLOOKUP(J1487,'Codes éco-part'!$C:$E,3,FALSE)","v":"092"},3.5999999999999997E-2]
["REP ABJ",3,"21102810530",null,"Articles de bricolage","Outils et supports de travail en hauteur","Assemblage dont la composition conjointe en bois, dérivés de bois et en métal dépasse 90%","Compris entre 3 kg et 5 kg exclus","€/unité",0.04,null,{"$f":"VLOOKUP(J1488,'Codes éco-part'!$C:$E,3,FALSE)","v":"002"},4.8000000000000001E-2]
["REP ABJ",3,"21102810540",null,"Articles de bricolage","Outils et supports de travail en hauteur","Assemblage dont la composition conjointe en bois, dérivés de bois et en métal dépasse 90%","Compris entre 5 kg et 7 kg exclus","€/unité",7.0000000000000007E-2,null,{"$f":"VLOOKUP(J1489,'Codes éco-part'!$C:$E,3,FALSE)","v":"247"},8.4000000000000005E-2]
["REP ABJ",3,"21102810550",null,"Articles de bricolage","Outils et supports de travail en hauteur","Assemblage dont la composition conjointe en bois, dérivés de bois et en métal dépasse 90%","Compris entre 7 kg et 10 kg exclus","€/unité",0.1,null,{"$f":"VLOOKUP(J1490,'Codes éco-part'!$C:$E,3,FALSE)","v":"094"},0.12]
["REP ABJ",3,"21102810560",null,"Articles de bricolage","Outils et supports de travail en hauteur","Assemblage dont la composition conjointe en bois, dérivés de bois et en métal dépasse 90%","Compris entre 10 kg et 15 kg exclus","€/unité",0.15,null,{"$f":"VLOOKUP(J1491,'Codes éco-part'!$C:$E,3,FALSE)","v":"050"},0.18]
["REP ABJ",3,"21102810570",null,"Articles de bricolage","Outils et supports de travail en hauteur","Assemblage dont la composition conjointe en bois, dérivés de bois et en métal dépasse 90%","Compris entre 15 kg et 20 kg exclus","€/unité",0.2,null,{"$f":"VLOOKUP(J1492,'Codes éco-part'!$C:$E,3,FALSE)","v":"101"},0.24]
["REP ABJ",3,"21102810580",null,"Articles de bricolage","Outils et supports de travail en hauteur","Assemblage dont la composition conjointe en bois, dérivés de bois et en métal dépasse 90%","Compris entre 20 kg et 25 kg exclus","€/unité",0.25,null,{"$f":"VLOOKUP(J1493,'Codes éco-part'!$C:$E,3,FALSE)","v":"095"},0.3]
["REP ABJ",3,"21102810590",null,"Articles de bricolage","Outils et supports de travail en hauteur","Assemblage dont la composition conjointe en bois, dérivés de bois et en métal dépasse 90%","Compris entre 25 kg et 30 kg exclus","€/unité",0.3,null,{"$f":"VLOOKUP(J1494,'Codes éco-part'!$C:$E,3,FALSE)","v":"446"},0.36]
["REP ABJ",3,"21102810600",null,"Articles de bricolage","Outils et supports de travail en hauteur","Assemblage dont la composition conjointe en bois, dérivés de bois et en métal dépasse 90%","Compris entre 40 kg et 50 kg exclus","€/unité",0.5,null,{"$f":"VLOOKUP(J1495,'Codes éco-part'!$C:$E,3,FALSE)","v":"053"},0.6]
["REP ABJ",3,"21102820000",null,"Articles de bricolage","Outils et supports de travail en hauteur","Assemblage de 3 matériaux ou plus sans un matériau à plus de 50%","Eléments de toutes dimensions et poids","€ / Tonne",75,75,{"$f":"VLOOKUP(J1496,'Codes éco-part'!$C:$E,3,FALSE)","v":"192"},90]
["REP ABJ",3,"21102820200",null,"Articles de bricolage","Outils et supports de travail en hauteur","Assemblage de 3 matériaux ou plus sans un matériau à plus de 50%","Inférieur strictement à 0,5 kg","€/unité",0.02,null,{"$f":"VLOOKUP(J1497,'Codes éco-part'!$C:$E,3,FALSE)","v":"047"},2.4E-2]
["REP ABJ",3,"21102820210",null,"Articles de bricolage","Outils et supports de travail en hauteur","Assemblage de 3 matériaux ou plus sans un matériau à plus de 50%","Compris entre 0,5 kg et 1 kg exclus","€/unité",0.06,null,{"$f":"VLOOKUP(J1498,'Codes éco-part'!$C:$E,3,FALSE)","v":"096"},7.1999999999999995E-2]
["REP ABJ",3,"21102820220",null,"Articles de bricolage","Outils et supports de travail en hauteur","Assemblage de 3 matériaux ou plus sans un matériau à plus de 50%","Compris entre 1 kg et 2 kg exclus","€/unité",0.11,null,{"$f":"VLOOKUP(J1499,'Codes éco-part'!$C:$E,3,FALSE)","v":"262"},0.13200000000000001]
["REP ABJ",3,"21102820270",null,"Articles de bricolage","Outils et supports de travail en hauteur","Assemblage de 3 matériaux ou plus sans un matériau à plus de 50%","Compris entre 30 kg et 40 kg exclus","€/unité",3,null,{"$f":"VLOOKUP(J1500,'Codes éco-part'!$C:$E,3,FALSE)","v":"474"},3.5999999999999996]
["REP ABJ",3,"21102820520",null,"Articles de bricolage","Outils et supports de travail en hauteur","Assemblage de 3 matériaux ou plus sans un matériau à plus de 50%","Compris entre 2 kg et 3 kg exclus","€/unité",0.19,null,{"$f":"VLOOKUP(J1501,'Codes éco-part'!$C:$E,3,FALSE)","v":"291"},0.22799999999999998]
["REP ABJ",3,"21102820530",null,"Articles de bricolage","Outils et supports de travail en hauteur","Assemblage de 3 matériaux ou plus sans un matériau à plus de 50%","Compris entre 3 kg et 5 kg exclus","€/unité",0.3,null,{"$f":"VLOOKUP(J1502,'Codes éco-part'!$C:$E,3,FALSE)","v":"446"},0.36]
["REP ABJ",3,"21102820540",null,"Articles de bricolage","Outils et supports de travail en hauteur","Assemblage de 3 matériaux ou plus sans un matériau à plus de 50%","Compris entre 5 kg et 7 kg exclus","€/unité",0.53,null,{"$f":"VLOOKUP(J1503,'Codes éco-part'!$C:$E,3,FALSE)","v":"451"},0.63600000000000001]
["REP ABJ",3,"21102820550",null,"Articles de bricolage","Outils et supports de travail en hauteur","Assemblage de 3 matériaux ou plus sans un matériau à plus de 50%","Compris entre 7 kg et 10 kg exclus","€/unité",0.75,null,{"$f":"VLOOKUP(J1504,'Codes éco-part'!$C:$E,3,FALSE)","v":"328"},0.89999999999999991]
["REP ABJ",3,"21102820560",null,"Articles de bricolage","Outils et supports de travail en hauteur","Assemblage de 3 matériaux ou plus sans un matériau à plus de 50%","Compris entre 10 kg et 15 kg exclus","€/unité",1.1299999999999999,null,{"$f":"VLOOKUP(J1505,'Codes éco-part'!$C:$E,3,FALSE)","v":"331"},1.3559999999999999]
["REP ABJ",3,"21102820570",null,"Articles de bricolage","Outils et supports de travail en hauteur","Assemblage de 3 matériaux ou plus sans un matériau à plus de 50%","Compris entre 15 kg et 20 kg exclus","€/unité",1.5,null,{"$f":"VLOOKUP(J1506,'Codes éco-part'!$C:$E,3,FALSE)","v":"059"},1.7999999999999998]
["REP ABJ",3,"21102820580",null,"Articles de bricolage","Outils et supports de travail en hauteur","Assemblage de 3 matériaux ou plus sans un matériau à plus de 50%","Compris entre 20 kg et 25 kg exclus","€/unité",1.88,null,{"$f":"VLOOKUP(J1507,'Codes éco-part'!$C:$E,3,FALSE)","v":"335"},2.2559999999999998]
["REP ABJ",3,"21102820590",null,"Articles de bricolage","Outils et supports de travail en hauteur","Assemblage de 3 matériaux ou plus sans un matériau à plus de 50%","Compris entre 25 kg et 30 kg exclus","€/unité",2.25,null,{"$f":"VLOOKUP(J1508,'Codes éco-part'!$C:$E,3,FALSE)","v":"118"},2.6999999999999997]
["REP ABJ",3,"21102820600",null,"Articles de bricolage","Outils et supports de travail en hauteur","Assemblage de 3 matériaux ou plus sans un matériau à plus de 50%","Compris entre 40 kg et 50 kg exclus","€/unité",3.75,null,{"$f":"VLOOKUP(J1509,'Codes éco-part'!$C:$E,3,FALSE)","v":"015"},4.5]
["REP ABJ",3,"21102840000",null,"Articles de bricolage","Outils et supports de travail en hauteur","Ardoise >90%","Eléments de toutes dimensions et poids","€ / Tonne",5,5,{"$f":"VLOOKUP(J1510,'Codes éco-part'!$C:$E,3,FALSE)","v":"042"},6]
["REP ABJ",3,"21102840200",null,"Articles de bricolage","Outils et supports de travail en hauteur","Ardoise >90%","Inférieur strictement à 0,5 kg","€/unité",0.01,null,{"$f":"VLOOKUP(J1511,'Codes éco-part'!$C:$E,3,FALSE)","v":"260"},1.2E-2]
["REP ABJ",3,"21102840210",null,"Articles de bricolage","Outils et supports de travail en hauteur","Ardoise >90%","Compris entre 0,5 kg et 1 kg exclus","€/unité",0.01,null,{"$f":"VLOOKUP(J1512,'Codes éco-part'!$C:$E,3,FALSE)","v":"260"},1.2E-2]
["REP ABJ",3,"21102840220",null,"Articles de bricolage","Outils et supports de travail en hauteur","Ardoise >90%","Compris entre 1 kg et 2 kg exclus","€/unité",0.01,null,{"$f":"VLOOKUP(J1513,'Codes éco-part'!$C:$E,3,FALSE)","v":"260"},1.2E-2]
["REP ABJ",3,"21102840270",null,"Articles de bricolage","Outils et supports de travail en hauteur","Ardoise >90%","Compris entre 30 kg et 40 kg exclus","€/unité",0.2,null,{"$f":"VLOOKUP(J1514,'Codes éco-part'!$C:$E,3,FALSE)","v":"101"},0.24]
["REP ABJ",3,"21102840520",null,"Articles de bricolage","Outils et supports de travail en hauteur","Ardoise >90%","Compris entre 2 kg et 3 kg exclus","€/unité",0.01,null,{"$f":"VLOOKUP(J1515,'Codes éco-part'!$C:$E,3,FALSE)","v":"260"},1.2E-2]
["REP ABJ",3,"21102840530",null,"Articles de bricolage","Outils et supports de travail en hauteur","Ardoise >90%","Compris entre 3 kg et 5 kg exclus","€/unité",0.02,null,{"$f":"VLOOKUP(J1516,'Codes éco-part'!$C:$E,3,FALSE)","v":"047"},2.4E-2]
["REP ABJ",3,"21102840540",null,"Articles de bricolage","Outils et supports de travail en hauteur","Ardoise >90%","Compris entre 5 kg et 7 kg exclus","€/unité",0.04,null,{"$f":"VLOOKUP(J1517,'Codes éco-part'!$C:$E,3,FALSE)","v":"002"},4.8000000000000001E-2]
["REP ABJ",3,"21102840550",null,"Articles de bricolage","Outils et supports de travail en hauteur","Ardoise >90%","Compris entre 7 kg et 10 kg exclus","€/unité",0.05,null,{"$f":"VLOOKUP(J1518,'Codes éco-part'!$C:$E,3,FALSE)","v":"048"},0.06]
["REP ABJ",3,"21102840560",null,"Articles de bricolage","Outils et supports de travail en hauteur","Ardoise >90%","Compris entre 10 kg et 15 kg exclus","€/unité",0.08,null,{"$f":"VLOOKUP(J1519,'Codes éco-part'!$C:$E,3,FALSE)","v":"003"},9.6000000000000002E-2]
["REP ABJ",3,"21102840570",null,"Articles de bricolage","Outils et supports de travail en hauteur","Ardoise >90%","Compris entre 15 kg et 20 kg exclus","€/unité",0.1,null,{"$f":"VLOOKUP(J1520,'Codes éco-part'!$C:$E,3,FALSE)","v":"094"},0.12]
["REP ABJ",3,"21102840580",null,"Articles de bricolage","Outils et supports de travail en hauteur","Ardoise >90%","Compris entre 20 kg et 25 kg exclus","€/unité",0.13,null,{"$f":"VLOOKUP(J1521,'Codes éco-part'!$C:$E,3,FALSE)","v":"004"},0.156]
["REP ABJ",3,"21102840590",null,"Articles de bricolage","Outils et supports de travail en hauteur","Ardoise >90%","Compris entre 25 kg et 30 kg exclus","€/unité",0.15,null,{"$f":"VLOOKUP(J1522,'Codes éco-part'!$C:$E,3,FALSE)","v":"050"},0.18]
["REP ABJ",3,"21102840600",null,"Articles de bricolage","Outils et supports de travail en hauteur","Ardoise >90%","Compris entre 40 kg et 50 kg exclus","€/unité",0.25,null,{"$f":"VLOOKUP(J1523,'Codes éco-part'!$C:$E,3,FALSE)","v":"095"},0.3]
["REP ABJ",3,"21102860000",null,"Articles de bricolage","Outils et supports de travail en hauteur","Pierre calcaire >90%","Eléments de toutes dimensions et poids","€ / Tonne",5,5,{"$f":"VLOOKUP(J1524,'Codes éco-part'!$C:$E,3,FALSE)","v":"042"},6]
["REP ABJ",3,"21102860200",null,"Articles de bricolage","Outils et supports de travail en hauteur","Pierre calcaire >90%","Inférieur strictement à 0,5 kg","€/unité",0.01,null,{"$f":"VLOOKUP(J1525,'Codes éco-part'!$C:$E,3,FALSE)","v":"260"},1.2E-2]
["REP ABJ",3,"21102860210",null,"Articles de bricolage","Outils et supports de travail en hauteur","Pierre calcaire >90%","Compris entre 0,5 kg et 1 kg exclus","€/unité",0.01,null,{"$f":"VLOOKUP(J1526,'Codes éco-part'!$C:$E,3,FALSE)","v":"260"},1.2E-2]
["REP ABJ",3,"21102860220",null,"Articles de bricolage","Outils et supports de travail en hauteur","Pierre calcaire >90%","Compris entre 1 kg et 2 kg exclus","€/unité",0.01,null,{"$f":"VLOOKUP(J1527,'Codes éco-part'!$C:$E,3,FALSE)","v":"260"},1.2E-2]
["REP ABJ",3,"21102860270",null,"Articles de bricolage","Outils et supports de travail en hauteur","Pierre calcaire >90%","Compris entre 30 kg et 40 kg exclus","€/unité",0.2,null,{"$f":"VLOOKUP(J1528,'Codes éco-part'!$C:$E,3,FALSE)","v":"101"},0.24]
["REP ABJ",3,"21102860520",null,"Articles de bricolage","Outils et supports de travail en hauteur","Pierre calcaire >90%","Compris entre 2 kg et 3 kg exclus","€/unité",0.01,null,{"$f":"VLOOKUP(J1529,'Codes éco-part'!$C:$E,3,FALSE)","v":"260"},1.2E-2]
["REP ABJ",3,"21102860530",null,"Articles de bricolage","Outils et supports de travail en hauteur","Pierre calcaire >90%","Compris entre 3 kg et 5 kg exclus","€/unité",0.02,null,{"$f":"VLOOKUP(J1530,'Codes éco-part'!$C:$E,3,FALSE)","v":"047"},2.4E-2]
["REP ABJ",3,"21102860540",null,"Articles de bricolage","Outils et supports de travail en hauteur","Pierre calcaire >90%","Compris entre 5 kg et 7 kg exclus","€/unité",0.04,null,{"$f":"VLOOKUP(J1531,'Codes éco-part'!$C:$E,3,FALSE)","v":"002"},4.8000000000000001E-2]
["REP ABJ",3,"21102860550",null,"Articles de bricolage","Outils et supports de travail en hauteur","Pierre calcaire >90%","Compris entre 7 kg et 10 kg exclus","€/unité",0.05,null,{"$f":"VLOOKUP(J1532,'Codes éco-part'!$C:$E,3,FALSE)","v":"048"},0.06]
["REP ABJ",3,"21102860560",null,"Articles de bricolage","Outils et supports de travail en hauteur","Pierre calcaire >90%","Compris entre 10 kg et 15 kg exclus","€/unité",0.08,null,{"$f":"VLOOKUP(J1533,'Codes éco-part'!$C:$E,3,FALSE)","v":"003"},9.6000000000000002E-2]
["REP ABJ",3,"21102860570",null,"Articles de bricolage","Outils et supports de travail en hauteur","Pierre calcaire >90%","Compris entre 15 kg et 20 kg exclus","€/unité",0.1,null,{"$f":"VLOOKUP(J1534,'Codes éco-part'!$C:$E,3,FALSE)","v":"094"},0.12]
["REP ABJ",3,"21102860580",null,"Articles de bricolage","Outils et supports de travail en hauteur","Pierre calcaire >90%","Compris entre 20 kg et 25 kg exclus","€/unité",0.13,null,{"$f":"VLOOKUP(J1535,'Codes éco-part'!$C:$E,3,FALSE)","v":"004"},0.156]
["REP ABJ",3,"21102860590",null,"Articles de bricolage","Outils et supports de travail en hauteur","Pierre calcaire >90%","Compris entre 25 kg et 30 kg exclus","€/unité",0.15,null,{"$f":"VLOOKUP(J1536,'Codes éco-part'!$C:$E,3,FALSE)","v":"050"},0.18]
["REP ABJ",3,"21102860600",null,"Articles de bricolage","Outils et supports de travail en hauteur","Pierre calcaire >90%","Compris entre 40 kg et 50 kg exclus","€/unité",0.25,null,{"$f":"VLOOKUP(J1537,'Codes éco-part'!$C:$E,3,FALSE)","v":"095"},0.3]
["REP ABJ",3,"21102870000",null,"Articles de bricolage","Outils et supports de travail en hauteur","Lave >90%","Eléments de toutes dimensions et poids","€ / Tonne",5,5,{"$f":"VLOOKUP(J1538,'Codes éco-part'!$C:$E,3,FALSE)","v":"042"},{"$f":"J1538*1.2","v":6}]
["REP ABJ",3,"21102870200",null,"Articles de bricolage","Outils et supports de travail en hauteur","Lave >90%","Inférieur strictement à 0,5 kg","€/unité",0.01,null,{"$f":"VLOOKUP(J1539,'Codes éco-part'!$C:$E,3,FALSE)","v":"260"},1.2E-2]
["REP ABJ",3,"21102870210",null,"Articles de bricolage","Outils et supports de travail en hauteur","Lave >90%","Compris entre 0,5 kg et 1 kg exclus","€/unité",0.01,null,{"$f":"VLOOKUP(J1540,'Codes éco-part'!$C:$E,3,FALSE)","v":"260"},1.2E-2]
["REP ABJ",3,"21102870220",null,"Articles de bricolage","Outils et supports de travail en hauteur","Lave >90%","Compris entre 1 kg et 2 kg exclus","€/unité",0.01,null,{"$f":"VLOOKUP(J1541,'Codes éco-part'!$C:$E,3,FALSE)","v":"260"},1.2E-2]
["REP ABJ",3,"21102870270",null,"Articles de bricolage","Outils et supports de travail en hauteur","Lave >90%","Compris entre 30 kg et 40 kg exclus","€/unité",0.2,null,{"$f":"VLOOKUP(J1542,'Codes éco-part'!$C:$E,3,FALSE)","v":"101"},0.24]
["REP ABJ",3,"21102870520",null,"Articles de bricolage","Outils et supports de travail en hauteur","Lave >90%","Compris entre 2 kg et 3 kg exclus","€/unité",0.01,null,{"$f":"VLOOKUP(J1543,'Codes éco-part'!$C:$E,3,FALSE)","v":"260"},1.2E-2]
["REP ABJ",3,"21102870530",null,"Articles de bricolage","Outils et supports de travail en hauteur","Lave >90%","Compris entre 3 kg et 5 kg exclus","€/unité",0.02,null,{"$f":"VLOOKUP(J1544,'Codes éco-part'!$C:$E,3,FALSE)","v":"047"},2.4E-2]
["REP ABJ",3,"21102870540",null,"Articles de bricolage","Outils et supports de travail en hauteur","Lave >90%","Compris entre 5 kg et 7 kg exclus","€/unité",0.04,null,{"$f":"VLOOKUP(J1545,'Codes éco-part'!$C:$E,3,FALSE)","v":"002"},4.8000000000000001E-2]
["REP ABJ",3,"21102870550",null,"Articles de bricolage","Outils et supports de travail en hauteur","Lave >90%","Compris entre 7 kg et 10 kg exclus","€/unité",0.05,null,{"$f":"VLOOKUP(J1546,'Codes éco-part'!$C:$E,3,FALSE)","v":"048"},0.06]
["REP ABJ",3,"21102870560",null,"Articles de bricolage","Outils et supports de travail en hauteur","Lave >90%","Compris entre 10 kg et 15 kg exclus","€/unité",0.08,null,{"$f":"VLOOKUP(J1547,'Codes éco-part'!$C:$E,3,FALSE)","v":"003"},9.6000000000000002E-2]
["REP ABJ",3,"21102870570",null,"Articles de bricolage","Outils et supports de travail en hauteur","Lave >90%","Compris entre 15 kg et 20 kg exclus","€/unité",0.1,null,{"$f":"VLOOKUP(J1548,'Codes éco-part'!$C:$E,3,FALSE)","v":"094"},0.12]
["REP ABJ",3,"21102870580",null,"Articles de bricolage","Outils et supports de travail en hauteur","Lave >90%","Compris entre 20 kg et 25 kg exclus","€/unité",0.13,null,{"$f":"VLOOKUP(J1549,'Codes éco-part'!$C:$E,3,FALSE)","v":"004"},0.156]
["REP ABJ",3,"21102870590",null,"Articles de bricolage","Outils et supports de travail en hauteur","Lave >90%","Compris entre 25 kg et 30 kg exclus","€/unité",0.15,null,{"$f":"VLOOKUP(J1550,'Codes éco-part'!$C:$E,3,FALSE)","v":"050"},0.18]
["REP ABJ",3,"21102870600",null,"Articles de bricolage","Outils et supports de travail en hauteur","Lave >90%","Compris entre 40 kg et 50 kg exclus","€/unité",0.25,null,{"$f":"VLOOKUP(J1551,'Codes éco-part'!$C:$E,3,FALSE)","v":"095"},0.3]
["REP ABJ",3,"21102890000",null,"Articles de bricolage","Outils et supports de travail en hauteur","Terre cuite ou crue >90%","Eléments de toutes dimensions et poids","€ / Tonne",5,5,{"$f":"VLOOKUP(J1552,'Codes éco-part'!$C:$E,3,FALSE)","v":"042"},6]
["REP ABJ",3,"21102890200",null,"Articles de bricolage","Outils et supports de travail en hauteur","Terre cuite ou crue >90%","Inférieur strictement à 0,5 kg","€/unité",0.01,null,{"$f":"VLOOKUP(J1553,'Codes éco-part'!$C:$E,3,FALSE)","v":"260"},1.2E-2]
["REP ABJ",3,"21102890210",null,"Articles de bricolage","Outils et supports de travail en hauteur","Terre cuite ou crue >90%","Compris entre 0,5 kg et 1 kg exclus","€/unité",0.01,null,{"$f":"VLOOKUP(J1554,'Codes éco-part'!$C:$E,3,FALSE)","v":"260"},1.2E-2]
["REP ABJ",3,"21102890220",null,"Articles de bricolage","Outils et supports de travail en hauteur","Terre cuite ou crue >90%","Compris entre 1 kg et 2 kg exclus","€/unité",0.01,null,{"$f":"VLOOKUP(J1555,'Codes éco-part'!$C:$E,3,FALSE)","v":"260"},1.2E-2]
["REP ABJ",3,"21102890270",null,"Articles de bricolage","Outils et supports de travail en hauteur","Terre cuite ou crue >90%","Compris entre 30 kg et 40 kg exclus","€/unité",0.2,null,{"$f":"VLOOKUP(J1556,'Codes éco-part'!$C:$E,3,FALSE)","v":"101"},0.24]
["REP ABJ",3,"21102890520",null,"Articles de bricolage","Outils et supports de travail en hauteur","Terre cuite ou crue >90%","Compris entre 2 kg et 3 kg exclus","€/unité",0.01,null,{"$f":"VLOOKUP(J1557,'Codes éco-part'!$C:$E,3,FALSE)","v":"260"},1.2E-2]
["REP ABJ",3,"21102890530",null,"Articles de bricolage","Outils et supports de travail en hauteur","Terre cuite ou crue >90%","Compris entre 3 kg et 5 kg exclus","€/unité",0.02,null,{"$f":"VLOOKUP(J1558,'Codes éco-part'!$C:$E,3,FALSE)","v":"047"},2.4E-2]
["REP ABJ",3,"21102890540",null,"Articles de bricolage","Outils et supports de travail en hauteur","Terre cuite ou crue >90%","Compris entre 5 kg et 7 kg exclus","€/unité",0.04,null,{"$f":"VLOOKUP(J1559,'Codes éco-part'!$C:$E,3,FALSE)","v":"002"},4.8000000000000001E-2]
["REP ABJ",3,"21102890550",null,"Articles de bricolage","Outils et supports de travail en hauteur","Terre cuite ou crue >90%","Compris entre 7 kg et 10 kg exclus","€/unité",0.05,null,{"$f":"VLOOKUP(J1560,'Codes éco-part'!$C:$E,3,FALSE)","v":"048"},0.06]
["REP ABJ",3,"21102890560",null,"Articles de bricolage","Outils et supports de travail en hauteur","Terre cuite ou crue >90%","Compris entre 10 kg et 15 kg exclus","€/unité",0.08,null,{"$f":"VLOOKUP(J1561,'Codes éco-part'!$C:$E,3,FALSE)","v":"003"},9.6000000000000002E-2]
["REP ABJ",3,"21102890570",null,"Articles de bricolage","Outils et supports de travail en hauteur","Terre cuite ou crue >90%","Compris entre 15 kg et 20 kg exclus","€/unité",0.1,null,{"$f":"VLOOKUP(J1562,'Codes éco-part'!$C:$E,3,FALSE)","v":"094"},0.12]
["REP ABJ",3,"21102890580",null,"Articles de bricolage","Outils et supports de travail en hauteur","Terre cuite ou crue >90%","Compris entre 20 kg et 25 kg exclus","€/unité",0.13,null,{"$f":"VLOOKUP(J1563,'Codes éco-part'!$C:$E,3,FALSE)","v":"004"},0.156]
["REP ABJ",3,"21102890590",null,"Articles de bricolage","Outils et supports de travail en hauteur","Terre cuite ou crue >90%","Compris entre 25 kg et 30 kg exclus","€/unité",0.15,null,{"$f":"VLOOKUP(J1564,'Codes éco-part'!$C:$E,3,FALSE)","v":"050"},0.18]
["REP ABJ",3,"21102890600",null,"Articles de bricolage","Outils et supports de travail en hauteur","Terre cuite ou crue >90%","Compris entre 40 kg et 50 kg exclus","€/unité",0.25,null,{"$f":"VLOOKUP(J1565,'Codes éco-part'!$C:$E,3,FALSE)","v":"095"},0.3]
["REP ABJ",3,"21102900000",null,"Articles de bricolage","Outils et supports de travail en hauteur","Ciment >90%","Eléments de toutes dimensions et poids","€ / Tonne",5,5,{"$f":"VLOOKUP(J1566,'Codes éco-part'!$C:$E,3,FALSE)","v":"042"},6]
["REP ABJ",3,"21102900200",null,"Articles de bricolage","Outils et supports de travail en hauteur","Ciment >90%","Inférieur strictement à 0,5 kg","€/unité",0.01,null,{"$f":"VLOOKUP(J1567,'Codes éco-part'!$C:$E,3,FALSE)","v":"260"},1.2E-2]
["REP ABJ",3,"21102900210",null,"Articles de bricolage","Outils et supports de travail en hauteur","Ciment >90%","Compris entre 0,5 kg et 1 kg exclus","€/unité",0.01,null,{"$f":"VLOOKUP(J1568,'Codes éco-part'!$C:$E,3,FALSE)","v":"260"},1.2E-2]
["REP ABJ",3,"21102900220",null,"Articles de bricolage","Outils et supports de travail en hauteur","Ciment >90%","Compris entre 1 kg et 2 kg exclus","€/unité",0.01,null,{"$f":"VLOOKUP(J1569,'Codes éco-part'!$C:$E,3,FALSE)","v":"260"},1.2E-2]
["REP ABJ",3,"21102900270",null,"Articles de bricolage","Outils et supports de travail en hauteur","Ciment >90%","Compris entre 30 kg et 40 kg exclus","€/unité",0.2,null,{"$f":"VLOOKUP(J1570,'Codes éco-part'!$C:$E,3,FALSE)","v":"101"},0.24]
["REP ABJ",3,"21102900520",null,"Articles de bricolage","Outils et supports de travail en hauteur","Ciment >90%","Compris entre 2 kg et 3 kg exclus","€/unité",0.01,null,{"$f":"VLOOKUP(J1571,'Codes éco-part'!$C:$E,3,FALSE)","v":"260"},1.2E-2]
["REP ABJ",3,"21102900530",null,"Articles de bricolage","Outils et supports de travail en hauteur","Ciment >90%","Compris entre 3 kg et 5 kg exclus","€/unité",0.02,null,{"$f":"VLOOKUP(J1572,'Codes éco-part'!$C:$E,3,FALSE)","v":"047"},2.4E-2]
["REP ABJ",3,"21102900540",null,"Articles de bricolage","Outils et supports de travail en hauteur","Ciment >90%","Compris entre 5 kg et 7 kg exclus","€/unité",0.04,null,{"$f":"VLOOKUP(J1573,'Codes éco-part'!$C:$E,3,FALSE)","v":"002"},4.8000000000000001E-2]
["REP ABJ",3,"21102900550",null,"Articles de bricolage","Outils et supports de travail en hauteur","Ciment >90%","Compris entre 7 kg et 10 kg exclus","€/unité",0.05,null,{"$f":"VLOOKUP(J1574,'Codes éco-part'!$C:$E,3,FALSE)","v":"048"},0.06]
["REP ABJ",3,"21102900560",null,"Articles de bricolage","Outils et supports de travail en hauteur","Ciment >90%","Compris entre 10 kg et 15 kg exclus","€/unité",0.08,null,{"$f":"VLOOKUP(J1575,'Codes éco-part'!$C:$E,3,FALSE)","v":"003"},9.6000000000000002E-2]
["REP ABJ",3,"21102900570",null,"Articles de bricolage","Outils et supports de travail en hauteur","Ciment >90%","Compris entre 15 kg et 20 kg exclus","€/unité",0.1,null,{"$f":"VLOOKUP(J1576,'Codes éco-part'!$C:$E,3,FALSE)","v":"094"},0.12]
["REP ABJ",3,"21102900580",null,"Articles de bricolage","Outils et supports de travail en hauteur","Ciment >90%","Compris entre 20 kg et 25 kg exclus","€/unité",0.13,null,{"$f":"VLOOKUP(J1577,'Codes éco-part'!$C:$E,3,FALSE)","v":"004"},0.156]
["REP ABJ",3,"21102900590",null,"Articles de bricolage","Outils et supports de travail en hauteur","Ciment >90%","Compris entre 25 kg et 30 kg exclus","€/unité",0.15,null,{"$f":"VLOOKUP(J1578,'Codes éco-part'!$C:$E,3,FALSE)","v":"050"},0.18]
["REP ABJ",3,"21102900600",null,"Articles de bricolage","Outils et supports de travail en hauteur","Ciment >90%","Compris entre 40 kg et 50 kg exclus","€/unité",0.25,null,{"$f":"VLOOKUP(J1579,'Codes éco-part'!$C:$E,3,FALSE)","v":"095"},0.3]
["REP ABJ",3,"21102910000",null,"Articles de bricolage","Outils et supports de travail en hauteur","Granit >90%","Eléments de toutes dimensions et poids","€ / Tonne",5,5,{"$f":"VLOOKUP(J1580,'Codes éco-part'!$C:$E,3,FALSE)","v":"042"},6]
["REP ABJ",3,"21102910200",null,"Articles de bricolage","Outils et supports de travail en hauteur","Granit >90%","Inférieur strictement à 0,5 kg","€/unité",0.01,null,{"$f":"VLOOKUP(J1581,'Codes éco-part'!$C:$E,3,FALSE)","v":"260"},1.2E-2]
["REP ABJ",3,"21102910210",null,"Articles de bricolage","Outils et supports de travail en hauteur","Granit >90%","Compris entre 0,5 kg et 1 kg exclus","€/unité",0.01,null,{"$f":"VLOOKUP(J1582,'Codes éco-part'!$C:$E,3,FALSE)","v":"260"},1.2E-2]
["REP ABJ",3,"21102910220",null,"Articles de bricolage","Outils et supports de travail en hauteur","Granit >90%","Compris entre 1 kg et 2 kg exclus","€/unité",0.01,null,{"$f":"VLOOKUP(J1583,'Codes éco-part'!$C:$E,3,FALSE)","v":"260"},1.2E-2]
["REP ABJ",3,"21102910270",null,"Articles de bricolage","Outils et supports de travail en hauteur","Granit >90%","Compris entre 30 kg et 40 kg exclus","€/unité",0.2,null,{"$f":"VLOOKUP(J1584,'Codes éco-part'!$C:$E,3,FALSE)","v":"101"},0.24]
["REP ABJ",3,"21102910520",null,"Articles de bricolage","Outils et supports de travail en hauteur","Granit >90%","Compris entre 2 kg et 3 kg exclus","€/unité",0.01,null,{"$f":"VLOOKUP(J1585,'Codes éco-part'!$C:$E,3,FALSE)","v":"260"},1.2E-2]
["REP ABJ",3,"21102910530",null,"Articles de bricolage","Outils et supports de travail en hauteur","Granit >90%","Compris entre 3 kg et 5 kg exclus","€/unité",0.02,null,{"$f":"VLOOKUP(J1586,'Codes éco-part'!$C:$E,3,FALSE)","v":"047"},2.4E-2]
["REP ABJ",3,"21102910540",null,"Articles de bricolage","Outils et supports de travail en hauteur","Granit >90%","Compris entre 5 kg et 7 kg exclus","€/unité",0.04,null,{"$f":"VLOOKUP(J1587,'Codes éco-part'!$C:$E,3,FALSE)","v":"002"},4.8000000000000001E-2]
["REP ABJ",3,"21102910550",null,"Articles de bricolage","Outils et supports de travail en hauteur","Granit >90%","Compris entre 7 kg et 10 kg exclus","€/unité",0.05,null,{"$f":"VLOOKUP(J1588,'Codes éco-part'!$C:$E,3,FALSE)","v":"048"},0.06]
["REP ABJ",3,"21102910560",null,"Articles de bricolage","Outils et supports de travail en hauteur","Granit >90%","Compris entre 10 kg et 15 kg exclus","€/unité",0.08,null,{"$f":"VLOOKUP(J1589,'Codes éco-part'!$C:$E,3,FALSE)","v":"003"},9.6000000000000002E-2]
["REP ABJ",3,"21102910570",null,"Articles de bricolage","Outils et supports de travail en hauteur","Granit >90%","Compris entre 15 kg et 20 kg exclus","€/unité",0.1,null,{"$f":"VLOOKUP(J1590,'Codes éco-part'!$C:$E,3,FALSE)","v":"094"},0.12]
["REP ABJ",3,"21102910580",null,"Articles de bricolage","Outils et supports de travail en hauteur","Granit >90%","Compris entre 20 kg et 25 kg exclus","€/unité",0.13,null,{"$f":"VLOOKUP(J1591,'Codes éco-part'!$C:$E,3,FALSE)","v":"004"},0.156]
["REP ABJ",3,"21102910590",null,"Articles de bricolage","Outils et supports de travail en hauteur","Granit >90%","Compris entre 25 kg et 30 kg exclus","€/unité",0.15,null,{"$f":"VLOOKUP(J1592,'Codes éco-part'!$C:$E,3,FALSE)","v":"050"},0.18]
["REP ABJ",3,"21102910600",null,"Articles de bricolage","Outils et supports de travail en hauteur","Granit >90%","Compris entre 40 kg et 50 kg exclus","€/unité",0.25,null,{"$f":"VLOOKUP(J1593,'Codes éco-part'!$C:$E,3,FALSE)","v":"095"},0.3]
["REP ABJ",3,"21102940000",null,"Articles de bricolage","Outils et supports de travail en hauteur","Grès >90%","Eléments de toutes dimensions et poids","€ / Tonne",5,5,{"$f":"VLOOKUP(J1594,'Codes éco-part'!$C:$E,3,FALSE)","v":"042"},6]
["REP ABJ",3,"21102940200",null,"Articles de bricolage","Outils et supports de travail en hauteur","Grès >90%","Inférieur strictement à 0,5 kg","€/unité",0.01,null,{"$f":"VLOOKUP(J1595,'Codes éco-part'!$C:$E,3,FALSE)","v":"260"},1.2E-2]
["REP ABJ",3,"21102940210",null,"Articles de bricolage","Outils et supports de travail en hauteur","Grès >90%","Compris entre 0,5 kg et 1 kg exclus","€/unité",0.01,null,{"$f":"VLOOKUP(J1596,'Codes éco-part'!$C:$E,3,FALSE)","v":"260"},1.2E-2]
["REP ABJ",3,"21102940220",null,"Articles de bricolage","Outils et supports de travail en hauteur","Grès >90%","Compris entre 1 kg et 2 kg exclus","€/unité",0.01,null,{"$f":"VLOOKUP(J1597,'Codes éco-part'!$C:$E,3,FALSE)","v":"260"},1.2E-2]
["REP ABJ",3,"21102940270",null,"Articles de bricolage","Outils et supports de travail en hauteur","Grès >90%","Compris entre 30 kg et 40 kg exclus","€/unité",0.2,null,{"$f":"VLOOKUP(J1598,'Codes éco-part'!$C:$E,3,FALSE)","v":"101"},0.24]
["REP ABJ",3,"21102940520",null,"Articles de bricolage","Outils et supports de travail en hauteur","Grès >90%","Compris entre 2 kg et 3 kg exclus","€/unité",0.01,null,{"$f":"VLOOKUP(J1599,'Codes éco-part'!$C:$E,3,FALSE)","v":"260"},1.2E-2]
["REP ABJ",3,"21102940530",null,"Articles de bricolage","Outils et supports de travail en hauteur","Grès >90%","Compris entre 3 kg et 5 kg exclus","€/unité",0.02,null,{"$f":"VLOOKUP(J1600,'Codes éco-part'!$C:$E,3,FALSE)","v":"047"},2.4E-2]
["REP ABJ",3,"21102940540",null,"Articles de bricolage","Outils et supports de travail en hauteur","Grès >90%","Compris entre 5 kg et 7 kg exclus","€/unité",0.04,null,{"$f":"VLOOKUP(J1601,'Codes éco-part'!$C:$E,3,FALSE)","v":"002"},4.8000000000000001E-2]
["REP ABJ",3,"21102940550",null,"Articles de bricolage","Outils et supports de travail en hauteur","Grès >90%","Compris entre 7 kg et 10 kg exclus","€/unité",0.05,null,{"$f":"VLOOKUP(J1602,'Codes éco-part'!$C:$E,3,FALSE)","v":"048"},{"$f":"J1602*1.2","v":0.06}]
["REP ABJ",3,"21102940560",null,"Articles de bricolage","Outils et supports de travail en hauteur","Grès >90%","Compris entre 10 kg et 15 kg exclus","€/unité",0.08,null,{"$f":"VLOOKUP(J1603,'Codes éco-part'!$C:$E,3,FALSE)","v":"003"},9.6000000000000002E-2]
["REP ABJ",3,"21102940570",null,"Articles de bricolage","Outils et supports de travail en hauteur","Grès >90%","Compris entre 15 kg et 20 kg exclus","€/unité",0.1,null,{"$f":"VLOOKUP(J1604,'Codes éco-part'!$C:$E,3,FALSE)","v":"094"},0.12]
["REP ABJ",3,"21102940580",null,"Articles de bricolage","Outils et supports de travail en hauteur","Grès >90%","Compris entre 20 kg et 25 kg exclus","€/unité",0.13,null,{"$f":"VLOOKUP(J1605,'Codes éco-part'!$C:$E,3,FALSE)","v":"004"},0.156]
["REP ABJ",3,"21102940590",null,"Articles de bricolage","Outils et supports de travail en hauteur","Grès >90%","Compris entre 25 kg et 30 kg exclus","€/unité",0.15,null,{"$f":"VLOOKUP(J1606,'Codes éco-part'!$C:$E,3,FALSE)","v":"050"},0.18]
["REP ABJ",3,"21102940600",null,"Articles de bricolage","Outils et supports de travail en hauteur","Grès >90%","Compris entre 40 kg et 50 kg exclus","€/unité",0.25,null,{"$f":"VLOOKUP(J1607,'Codes éco-part'!$C:$E,3,FALSE)","v":"095"},0.3]
["REP ABJ",3,"21102970000",null,"Articles de bricolage","Outils et supports de travail en hauteur","Céramique >90%","Eléments de toutes dimensions et poids","€ / Tonne",10,10,{"$f":"VLOOKUP(J1608,'Codes éco-part'!$C:$E,3,FALSE)","v":"138"},12]
["REP ABJ",3,"21102970200",null,"Articles de bricolage","Outils et supports de travail en hauteur","Céramique >90%","Inférieur strictement à 0,5 kg","€/unité",0.01,null,{"$f":"VLOOKUP(J1609,'Codes éco-part'!$C:$E,3,FALSE)","v":"260"},1.2E-2]
["REP ABJ",3,"21102970210",null,"Articles de bricolage","Outils et supports de travail en hauteur","Céramique >90%","Compris entre 0,5 kg et 1 kg exclus","€/unité",0.01,null,{"$f":"VLOOKUP(J1610,'Codes éco-part'!$C:$E,3,FALSE)","v":"260"},1.2E-2]
["REP ABJ",3,"21102970220",null,"Articles de bricolage","Outils et supports de travail en hauteur","Céramique >90%","Compris entre 1 kg et 2 kg exclus","€/unité",0.02,null,{"$f":"VLOOKUP(J1611,'Codes éco-part'!$C:$E,3,FALSE)","v":"047"},2.4E-2]
["REP ABJ",3,"21102970270",null,"Articles de bricolage","Outils et supports de travail en hauteur","Céramique >90%","Compris entre 30 kg et 40 kg exclus","€/unité",0.4,null,{"$f":"VLOOKUP(J1612,'Codes éco-part'!$C:$E,3,FALSE)","v":"105"},0.48]
["REP ABJ",3,"21102970520",null,"Articles de bricolage","Outils et supports de travail en hauteur","Céramique >90%","Compris entre 2 kg et 3 kg exclus","€/unité",0.03,null,{"$f":"VLOOKUP(J1613,'Codes éco-part'!$C:$E,3,FALSE)","v":"092"},3.5999999999999997E-2]
["REP ABJ",3,"21102970530",null,"Articles de bricolage","Outils et supports de travail en hauteur","Céramique >90%","Compris entre 3 kg et 5 kg exclus","€/unité",0.04,null,{"$f":"VLOOKUP(J1614,'Codes éco-part'!$C:$E,3,FALSE)","v":"002"},4.8000000000000001E-2]
["REP ABJ",3,"21102970540",null,"Articles de bricolage","Outils et supports de travail en hauteur","Céramique >90%","Compris entre 5 kg et 7 kg exclus","€/unité",7.0000000000000007E-2,null,{"$f":"VLOOKUP(J1615,'Codes éco-part'!$C:$E,3,FALSE)","v":"247"},8.4000000000000005E-2]
["REP ABJ",3,"21102970550",null,"Articles de bricolage","Outils et supports de travail en hauteur","Céramique >90%","Compris entre 7 kg et 10 kg exclus","€/unité",0.1,null,{"$f":"VLOOKUP(J1616,'Codes éco-part'!$C:$E,3,FALSE)","v":"094"},0.12]
["REP ABJ",3,"21102970560",null,"Articles de bricolage","Outils et supports de travail en hauteur","Céramique >90%","Compris entre 10 kg et 15 kg exclus","€/unité",0.15,null,{"$f":"VLOOKUP(J1617,'Codes éco-part'!$C:$E,3,FALSE)","v":"050"},0.18]
["REP ABJ",3,"21102970570",null,"Articles de bricolage","Outils et supports de travail en hauteur","Céramique >90%","Compris entre 15 kg et 20 kg exclus","€/unité",0.2,null,{"$f":"VLOOKUP(J1618,'Codes éco-part'!$C:$E,3,FALSE)","v":"101"},0.24]
["REP ABJ",3,"21102970580",null,"Articles de bricolage","Outils et supports de travail en hauteur","Céramique >90%","Compris entre 20 kg et 25 kg exclus","€/unité",0.25,null,{"$f":"VLOOKUP(J1619,'Codes éco-part'!$C:$E,3,FALSE)","v":"095"},0.3]
["REP ABJ",3,"21102970590",null,"Articles de bricolage","Outils et supports de travail en hauteur","Céramique >90%","Compris entre 25 kg et 30 kg exclus","€/unité",0.3,null,{"$f":"VLOOKUP(J1620,'Codes éco-part'!$C:$E,3,FALSE)","v":"446"},0.36]
["REP ABJ",3,"21102970600",null,"Articles de bricolage","Outils et supports de travail en hauteur","Céramique >90%","Compris entre 40 kg et 50 kg exclus","€/unité",0.5,null,{"$f":"VLOOKUP(J1621,'Codes éco-part'!$C:$E,3,FALSE)","v":"053"},0.6]
["REP ABJ",3,"21102980000",null,"Articles de bricolage","Outils et supports de travail en hauteur","Pierre artificielle >90%","Eléments de toutes dimensions et poids","€ / Tonne",5,5,{"$f":"VLOOKUP(J1622,'Codes éco-part'!$C:$E,3,FALSE)","v":"042"},6]
["REP ABJ",3,"21102980200",null,"Articles de bricolage","Outils et supports de travail en hauteur","Pierre artificielle >90%","Inférieur strictement à 0,5 kg","€/unité",0.01,null,{"$f":"VLOOKUP(J1623,'Codes éco-part'!$C:$E,3,FALSE)","v":"260"},1.2E-2]
["REP ABJ",3,"21102980210",null,"Articles de bricolage","Outils et supports de travail en hauteur","Pierre artificielle >90%","Compris entre 0,5 kg et 1 kg exclus","€/unité",0.01,null,{"$f":"VLOOKUP(J1624,'Codes éco-part'!$C:$E,3,FALSE)","v":"260"},1.2E-2]
["REP ABJ",3,"21102980220",null,"Articles de bricolage","Outils et supports de travail en hauteur","Pierre artificielle >90%","Compris entre 1 kg et 2 kg exclus","€/unité",0.01,null,{"$f":"VLOOKUP(J1625,'Codes éco-part'!$C:$E,3,FALSE)","v":"260"},1.2E-2]
["REP ABJ",3,"21102980270",null,"Articles de bricolage","Outils et supports de travail en hauteur","Pierre artificielle >90%","Compris entre 30 kg et 40 kg exclus","€/unité",0.2,null,{"$f":"VLOOKUP(J1626,'Codes éco-part'!$C:$E,3,FALSE)","v":"101"},0.24]
["REP ABJ",3,"21102980520",null,"Articles de bricolage","Outils et supports de travail en hauteur","Pierre artificielle >90%","Compris entre 2 kg et 3 kg exclus","€/unité",0.01,null,{"$f":"VLOOKUP(J1627,'Codes éco-part'!$C:$E,3,FALSE)","v":"260"},1.2E-2]
["REP ABJ",3,"21102980530",null,"Articles de bricolage","Outils et supports de travail en hauteur","Pierre artificielle >90%","Compris entre 3 kg et 5 kg exclus","€/unité",0.02,null,{"$f":"VLOOKUP(J1628,'Codes éco-part'!$C:$E,3,FALSE)","v":"047"},2.4E-2]
["REP ABJ",3,"21102980540",null,"Articles de bricolage","Outils et supports de travail en hauteur","Pierre artificielle >90%","Compris entre 5 kg et 7 kg exclus","€/unité",0.04,null,{"$f":"VLOOKUP(J1629,'Codes éco-part'!$C:$E,3,FALSE)","v":"002"},4.8000000000000001E-2]
["REP ABJ",3,"21102980550",null,"Articles de bricolage","Outils et supports de travail en hauteur","Pierre artificielle >90%","Compris entre 7 kg et 10 kg exclus","€/unité",0.05,null,{"$f":"VLOOKUP(J1630,'Codes éco-part'!$C:$E,3,FALSE)","v":"048"},0.06]
["REP ABJ",3,"21102980560",null,"Articles de bricolage","Outils et supports de travail en hauteur","Pierre artificielle >90%","Compris entre 10 kg et 15 kg exclus","€/unité",0.08,null,{"$f":"VLOOKUP(J1631,'Codes éco-part'!$C:$E,3,FALSE)","v":"003"},9.6000000000000002E-2]
["REP ABJ",3,"21102980570",null,"Articles de bricolage","Outils et supports de travail en hauteur","Pierre artificielle >90%","Compris entre 15 kg et 20 kg exclus","€/unité",0.1,null,{"$f":"VLOOKUP(J1632,'Codes éco-part'!$C:$E,3,FALSE)","v":"094"},0.12]
["REP ABJ",3,"21102980580",null,"Articles de bricolage","Outils et supports de travail en hauteur","Pierre artificielle >90%","Compris entre 20 kg et 25 kg exclus","€/unité",0.13,null,{"$f":"VLOOKUP(J1633,'Codes éco-part'!$C:$E,3,FALSE)","v":"004"},0.156]
["REP ABJ",3,"21102980590",null,"Articles de bricolage","Outils et supports de travail en hauteur","Pierre artificielle >90%","Compris entre 25 kg et 30 kg exclus","€/unité",0.15,null,{"$f":"VLOOKUP(J1634,'Codes éco-part'!$C:$E,3,FALSE)","v":"050"},0.18]
["REP ABJ",3,"21102980600",null,"Articles de bricolage","Outils et supports de travail en hauteur","Pierre artificielle >90%","Compris entre 40 kg et 50 kg exclus","€/unité",0.25,null,{"$f":"VLOOKUP(J1635,'Codes éco-part'!$C:$E,3,FALSE)","v":"095"},0.3]
["REP ABJ",3,"21103000000",null,"Articles de bricolage","Equipement personnel et accessoires de protection de bricolage","Non connu ou non spécifié par l'entreprise","Eléments de toutes dimensions et poids","€ / Tonne",215,215,{"$f":"VLOOKUP(J1636,'Codes éco-part'!$C:$E,3,FALSE)","v":"498"},258]
["REP ABJ",3,"21103000200",null,"Articles de bricolage","Equipement personnel et accessoires de protection de bricolage","Non connu ou non spécifié par l'entreprise","Inférieur strictement à 0,5 kg","€/unité",0.05,0.05,{"$f":"VLOOKUP(J1637,'Codes éco-part'!$C:$E,3,FALSE)","v":"048"},0.06]
["REP ABJ",3,"21103000210",null,"Articles de bricolage","Equipement personnel et accessoires de protection de bricolage","Non connu ou non spécifié par l'entreprise","Compris entre 0,5 kg et 1 kg exclus","€/unité",0.16,0.16,{"$f":"VLOOKUP(J1638,'Codes éco-part'!$C:$E,3,FALSE)","v":"099"},0.192]
["REP ABJ",3,"21103000220",null,"Articles de bricolage","Equipement personnel et accessoires de protection de bricolage","Non connu ou non spécifié par l'entreprise","Compris entre 1 kg et 2 kg exclus","€/unité",0.32,0.32,{"$f":"VLOOKUP(J1639,'Codes éco-part'!$C:$E,3,FALSE)","v":"447"},0.38400000000000001]
["REP ABJ",3,"21103000520",null,"Articles de bricolage","Equipement personnel et accessoires de protection de bricolage","Non connu ou non spécifié par l'entreprise","Compris entre 2 kg et 3 kg exclus","€/unité",0.54,0.54,{"$f":"VLOOKUP(J1640,'Codes éco-part'!$C:$E,3,FALSE)","v":"500"},0.64800000000000002]
["REP ABJ",3,"21103000530",null,"Articles de bricolage","Equipement personnel et accessoires de protection de bricolage","Non connu ou non spécifié par l'entreprise","Compris entre 3 kg et 5 kg exclus","€/unité",0.86,0.86,{"$f":"VLOOKUP(J1641,'Codes éco-part'!$C:$E,3,FALSE)","v":"501"},1.032]
["REP ABJ",3,"21103000540",null,"Articles de bricolage","Equipement personnel et accessoires de protection de bricolage","Non connu ou non spécifié par l'entreprise","Compris entre 5 kg et 7 kg exclus","€/unité",1.51,1.51,{"$f":"VLOOKUP(J1642,'Codes éco-part'!$C:$E,3,FALSE)","v":"502"},1.8119999999999998]
["REP ABJ",3,"21103000900",null,"Articles de bricolage","Equipement personnel et accessoires de protection de bricolage","Non connu ou non spécifié par l'entreprise","Lot de 10","€/Lot",4.3,4.3,{"$f":"VLOOKUP(J1643,'Codes éco-part'!$C:$E,3,FALSE)","v":"515"},5.1599999999999993]
["REP ABJ",3,"21103010000",null,"Articles de bricolage","Equipement personnel et accessoires de protection de bricolage","Assemblage de bois, dérivés de bois à plus de 50% avec d'autres matériaux ou bois composite (hors verre)","Eléments de toutes dimensions et poids","€ / Tonne",45,45,{"$f":"VLOOKUP(J1644,'Codes éco-part'!$C:$E,3,FALSE)","v":"169"},54]
["REP ABJ",3,"21103010200",null,"Articles de bricolage","Equipement personnel et accessoires de protection de bricolage","Assemblage de bois, dérivés de bois à plus de 50% avec d'autres matériaux ou bois composite (hors verre)","Inférieur strictement à 0,5 kg","€/unité",0.01,0.01,{"$f":"VLOOKUP(J1645,'Codes éco-part'!$C:$E,3,FALSE)","v":"260"},1.2E-2]
["REP ABJ",3,"21103010210",null,"Articles de bricolage","Equipement personnel et accessoires de protection de bricolage","Assemblage de bois, dérivés de bois à plus de 50% avec d'autres matériaux ou bois composite (hors verre)","Compris entre 0,5 kg et 1 kg exclus","€/unité",0.03,0.03,{"$f":"VLOOKUP(J1646,'Codes éco-part'!$C:$E,3,FALSE)","v":"092"},3.5999999999999997E-2]
["REP ABJ",3,"21103010220",null,"Articles de bricolage","Equipement personnel et accessoires de protection de bricolage","Assemblage de bois, dérivés de bois à plus de 50% avec d'autres matériaux ou bois composite (hors verre)","Compris entre 1 kg et 2 kg exclus","€/unité",7.0000000000000007E-2,7.0000000000000007E-2,{"$f":"VLOOKUP(J1647,'Codes éco-part'!$C:$E,3,FALSE)","v":"247"},8.4000000000000005E-2]
["REP ABJ",3,"21103010520",null,"Articles de bricolage","Equipement personnel et accessoires de protection de bricolage","Assemblage de bois, dérivés de bois à plus de 50% avec d'autres matériaux ou bois composite (hors verre)","Compris entre 2 kg et 3 kg exclus","€/unité",0.11,0.11,{"$f":"VLOOKUP(J1648,'Codes éco-part'!$C:$E,3,FALSE)","v":"262"},0.13200000000000001]
["REP ABJ",3,"21103010530",null,"Articles de bricolage","Equipement personnel et accessoires de protection de bricolage","Assemblage de bois, dérivés de bois à plus de 50% avec d'autres matériaux ou bois composite (hors verre)","Compris entre 3 kg et 5 kg exclus","€/unité",0.18,0.18,{"$f":"VLOOKUP(J1649,'Codes éco-part'!$C:$E,3,FALSE)","v":"100"},0.216]
["REP ABJ",3,"21103010540",null,"Articles de bricolage","Equipement personnel et accessoires de protection de bricolage","Assemblage de bois, dérivés de bois à plus de 50% avec d'autres matériaux ou bois composite (hors verre)","Compris entre 5 kg et 7 kg exclus","€/unité",0.32,0.32,{"$f":"VLOOKUP(J1650,'Codes éco-part'!$C:$E,3,FALSE)","v":"447"},0.38400000000000001]
["REP ABJ",3,"21103020000",null,"Articles de bricolage","Equipement personnel et accessoires de protection de bricolage","Assemblage avec métal >50% et autres matériaux","Eléments de toutes dimensions et poids","€ / Tonne",10,10,{"$f":"VLOOKUP(J1651,'Codes éco-part'!$C:$E,3,FALSE)","v":"138"},12]
["REP ABJ",3,"21103020200",null,"Articles de bricolage","Equipement personnel et accessoires de protection de bricolage","Assemblage avec métal >50% et autres matériaux","Inférieur strictement à 0,5 kg","€/unité",0.01,0.01,{"$f":"VLOOKUP(J1652,'Codes éco-part'!$C:$E,3,FALSE)","v":"260"},1.2E-2]
["REP ABJ",3,"21103020210",null,"Articles de bricolage","Equipement personnel et accessoires de protection de bricolage","Assemblage avec métal >50% et autres matériaux","Compris entre 0,5 kg et 1 kg exclus","€/unité",0.01,0.01,{"$f":"VLOOKUP(J1653,'Codes éco-part'!$C:$E,3,FALSE)","v":"260"},1.2E-2]
["REP ABJ",3,"21103020220",null,"Articles de bricolage","Equipement personnel et accessoires de protection de bricolage","Assemblage avec métal >50% et autres matériaux","Compris entre 1 kg et 2 kg exclus","€/unité",0.02,0.02,{"$f":"VLOOKUP(J1654,'Codes éco-part'!$C:$E,3,FALSE)","v":"047"},2.4E-2]
["REP ABJ",3,"21103020520",null,"Articles de bricolage","Equipement personnel et accessoires de protection de bricolage","Assemblage avec métal >50% et autres matériaux","Compris entre 2 kg et 3 kg exclus","€/unité",0.03,0.03,{"$f":"VLOOKUP(J1655,'Codes éco-part'!$C:$E,3,FALSE)","v":"092"},3.5999999999999997E-2]
["REP ABJ",3,"21103020530",null,"Articles de bricolage","Equipement personnel et accessoires de protection de bricolage","Assemblage avec métal >50% et autres matériaux","Compris entre 3 kg et 5 kg exclus","€/unité",0.04,0.04,{"$f":"VLOOKUP(J1656,'Codes éco-part'!$C:$E,3,FALSE)","v":"002"},4.8000000000000001E-2]
["REP ABJ",3,"21103020540",null,"Articles de bricolage","Equipement personnel et accessoires de protection de bricolage","Assemblage avec métal >50% et autres matériaux","Compris entre 5 kg et 7 kg exclus","€/unité",7.0000000000000007E-2,7.0000000000000007E-2,{"$f":"VLOOKUP(J1657,'Codes éco-part'!$C:$E,3,FALSE)","v":"247"},8.4000000000000005E-2]
["REP ABJ",3,"21103040000",null,"Articles de bricolage","Equipement personnel et accessoires de protection de bricolage","Matériaux bio sourcés ou textiles non synthétiques >50%","Eléments de toutes dimensions et poids","€ / Tonne",215,215,{"$f":"VLOOKUP(J1658,'Codes éco-part'!$C:$E,3,FALSE)","v":"498"},258]
["REP ABJ",3,"21103040200",null,"Articles de bricolage","Equipement personnel et accessoires de protection de bricolage","Matériaux bio sourcés ou textiles non synthétiques >50%","Inférieur strictement à 0,5 kg","€/unité",0.05,0.05,{"$f":"VLOOKUP(J1659,'Codes éco-part'!$C:$E,3,FALSE)","v":"048"},0.06]
["REP ABJ",3,"21103040210",null,"Articles de bricolage","Equipement personnel et accessoires de protection de bricolage","Matériaux bio sourcés ou textiles non synthétiques >50%","Compris entre 0,5 kg et 1 kg exclus","€/unité",0.16,0.16,{"$f":"VLOOKUP(J1660,'Codes éco-part'!$C:$E,3,FALSE)","v":"099"},0.192]
["REP ABJ",3,"21103040220",null,"Articles de bricolage","Equipement personnel et accessoires de protection de bricolage","Matériaux bio sourcés ou textiles non synthétiques >50%","Compris entre 1 kg et 2 kg exclus","€/unité",0.32,0.32,{"$f":"VLOOKUP(J1661,'Codes éco-part'!$C:$E,3,FALSE)","v":"447"},0.38400000000000001]
["REP ABJ",3,"21103040520",null,"Articles de bricolage","Equipement personnel et accessoires de protection de bricolage","Matériaux bio sourcés ou textiles non synthétiques >50%","Compris entre 2 kg et 3 kg exclus","€/unité",0.54,0.54,{"$f":"VLOOKUP(J1662,'Codes éco-part'!$C:$E,3,FALSE)","v":"500"},0.64800000000000002]
["REP ABJ",3,"21103040530",null,"Articles de bricolage","Equipement personnel et accessoires de protection de bricolage","Matériaux bio sourcés ou textiles non synthétiques >50%","Compris entre 3 kg et 5 kg exclus","€/unité",0.86,0.86,{"$f":"VLOOKUP(J1663,'Codes éco-part'!$C:$E,3,FALSE)","v":"501"},1.032]
["REP ABJ",3,"21103040540",null,"Articles de bricolage","Equipement personnel et accessoires de protection de bricolage","Matériaux bio sourcés ou textiles non synthétiques >50%","Compris entre 5 kg et 7 kg exclus","€/unité",1.51,1.51,{"$f":"VLOOKUP(J1664,'Codes éco-part'!$C:$E,3,FALSE)","v":"502"},1.8119999999999998]
["REP ABJ",3,"21103050000",null,"Articles de bricolage","Equipement personnel et accessoires de protection de bricolage","Plastiques ou autres matériaux synthétiques >50%","Eléments de toutes dimensions et poids","€ / Tonne",215,215,{"$f":"VLOOKUP(J1665,'Codes éco-part'!$C:$E,3,FALSE)","v":"498"},258]
["REP ABJ",3,"21103050200",null,"Articles de bricolage","Equipement personnel et accessoires de protection de bricolage","Plastiques ou autres matériaux synthétiques >50%","Inférieur strictement à 0,5 kg","€/unité",0.05,0.05,{"$f":"VLOOKUP(J1666,'Codes éco-part'!$C:$E,3,FALSE)","v":"048"},{"$f":"J1666*1.2","v":0.06}]
["REP ABJ",3,"21103050210",null,"Articles de bricolage","Equipement personnel et accessoires de protection de bricolage","Plastiques ou autres matériaux synthétiques >50%","Compris entre 0,5 kg et 1 kg exclus","€/unité",0.16,0.16,{"$f":"VLOOKUP(J1667,'Codes éco-part'!$C:$E,3,FALSE)","v":"099"},0.192]
["REP ABJ",3,"21103050220",null,"Articles de bricolage","Equipement personnel et accessoires de protection de bricolage","Plastiques ou autres matériaux synthétiques >50%","Compris entre 1 kg et 2 kg exclus","€/unité",0.32,0.32,{"$f":"VLOOKUP(J1668,'Codes éco-part'!$C:$E,3,FALSE)","v":"447"},0.38400000000000001]
["REP ABJ",3,"21103050520",null,"Articles de bricolage","Equipement personnel et accessoires de protection de bricolage","Plastiques ou autres matériaux synthétiques >50%","Compris entre 2 kg et 3 kg exclus","€/unité",0.54,0.54,{"$f":"VLOOKUP(J1669,'Codes éco-part'!$C:$E,3,FALSE)","v":"500"},0.64800000000000002]
["REP ABJ",3,"21103050530",null,"Articles de bricolage","Equipement personnel et accessoires de protection de bricolage","Plastiques ou autres matériaux synthétiques >50%","Compris entre 3 kg et 5 kg exclus","€/unité",0.86,0.86,{"$f":"VLOOKUP(J1670,'Codes éco-part'!$C:$E,3,FALSE)","v":"501"},1.032]
["REP ABJ",3,"21103050540",null,"Articles de bricolage","Equipement personnel et accessoires de protection de bricolage","Plastiques ou autres matériaux synthétiques >50%","Compris entre 5 kg et 7 kg exclus","€/unité",1.51,1.51,{"$f":"VLOOKUP(J1671,'Codes éco-part'!$C:$E,3,FALSE)","v":"502"},1.8119999999999998]
["REP ABJ",3,"21103060000",null,"Articles de bricolage","Equipement personnel et accessoires de protection de bricolage","Matériaux d'origine animale >50%","Eléments de toutes dimensions et poids","€ / Tonne",215,215,{"$f":"VLOOKUP(J1672,'Codes éco-part'!$C:$E,3,FALSE)","v":"498"},258]
["REP ABJ",3,"21103060200",null,"Articles de bricolage","Equipement personnel et accessoires de protection de bricolage","Matériaux d'origine animale >50%","Inférieur strictement à 0,5 kg","€/unité",0.05,0.05,{"$f":"VLOOKUP(J1673,'Codes éco-part'!$C:$E,3,FALSE)","v":"048"},0.06]
["REP ABJ",3,"21103060210",null,"Articles de bricolage","Equipement personnel et accessoires de protection de bricolage","Matériaux d'origine animale >50%","Compris entre 0,5 kg et 1 kg exclus","€/unité",0.16,0.16,{"$f":"VLOOKUP(J1674,'Codes éco-part'!$C:$E,3,FALSE)","v":"099"},0.192]
["REP ABJ",3,"21103060220",null,"Articles de bricolage","Equipement personnel et accessoires de protection de bricolage","Matériaux d'origine animale >50%","Compris entre 1 kg et 2 kg exclus","€/unité",0.32,0.32,{"$f":"VLOOKUP(J1675,'Codes éco-part'!$C:$E,3,FALSE)","v":"447"},0.38400000000000001]
["REP ABJ",3,"21103060520",null,"Articles de bricolage","Equipement personnel et accessoires de protection de bricolage","Matériaux d'origine animale >50%","Compris entre 2 kg et 3 kg exclus","€/unité",0.54,0.54,{"$f":"VLOOKUP(J1676,'Codes éco-part'!$C:$E,3,FALSE)","v":"500"},0.64800000000000002]
["REP ABJ",3,"21103060530",null,"Articles de bricolage","Equipement personnel et accessoires de protection de bricolage","Matériaux d'origine animale >50%","Compris entre 3 kg et 5 kg exclus","€/unité",0.86,0.86,{"$f":"VLOOKUP(J1677,'Codes éco-part'!$C:$E,3,FALSE)","v":"501"},1.032]
["REP ABJ",3,"21103060540",null,"Articles de bricolage","Equipement personnel et accessoires de protection de bricolage","Matériaux d'origine animale >50%","Compris entre 5 kg et 7 kg exclus","€/unité",1.51,1.51,{"$f":"VLOOKUP(J1678,'Codes éco-part'!$C:$E,3,FALSE)","v":"502"},1.8119999999999998]
["REP ABJ",3,"21103190000",null,"Articles de bricolage","Equipement personnel et accessoires de protection de bricolage","Papier carton >50% avec d'autres matériaux (hors verre)","Eléments de toutes dimensions et poids","€ / Tonne",215,215,{"$f":"VLOOKUP(J1679,'Codes éco-part'!$C:$E,3,FALSE)","v":"498"},258]
["REP ABJ",3,"21103190200",null,"Articles de bricolage","Equipement personnel et accessoires de protection de bricolage","Papier carton >50% avec d'autres matériaux (hors verre)","Inférieur strictement à 0,5 kg","€/unité",0.05,0.05,{"$f":"VLOOKUP(J1680,'Codes éco-part'!$C:$E,3,FALSE)","v":"048"},0.06]
["REP ABJ",3,"21103190210",null,"Articles de bricolage","Equipement personnel et accessoires de protection de bricolage","Papier carton >50% avec d'autres matériaux (hors verre)","Compris entre 0,5 kg et 1 kg exclus","€/unité",0.16,0.16,{"$f":"VLOOKUP(J1681,'Codes éco-part'!$C:$E,3,FALSE)","v":"099"},0.192]
["REP ABJ",3,"21103190220",null,"Articles de bricolage","Equipement personnel et accessoires de protection de bricolage","Papier carton >50% avec d'autres matériaux (hors verre)","Compris entre 1 kg et 2 kg exclus","€/unité",0.32,0.32,{"$f":"VLOOKUP(J1682,'Codes éco-part'!$C:$E,3,FALSE)","v":"447"},0.38400000000000001]
["REP ABJ",3,"21103190520",null,"Articles de bricolage","Equipement personnel et accessoires de protection de bricolage","Papier carton >50% avec d'autres matériaux (hors verre)","Compris entre 2 kg et 3 kg exclus","€/unité",0.54,0.54,{"$f":"VLOOKUP(J1683,'Codes éco-part'!$C:$E,3,FALSE)","v":"500"},0.64800000000000002]
["REP ABJ",3,"21103190530",null,"Articles de bricolage","Equipement personnel et accessoires de protection de bricolage","Papier carton >50% avec d'autres matériaux (hors verre)","Compris entre 3 kg et 5 kg exclus","€/unité",0.86,0.86,{"$f":"VLOOKUP(J1684,'Codes éco-part'!$C:$E,3,FALSE)","v":"501"},1.032]
["REP ABJ",3,"21103190540",null,"Articles de bricolage","Equipement personnel et accessoires de protection de bricolage","Papier carton >50% avec d'autres matériaux (hors verre)","Compris entre 5 kg et 7 kg exclus","€/unité",1.51,1.51,{"$f":"VLOOKUP(J1685,'Codes éco-part'!$C:$E,3,FALSE)","v":"502"},1.8119999999999998]
["REP ABJ",3,"21103200000",null,"Articles de bricolage","Equipement personnel et accessoires de protection de bricolage","Massif et assimilés certifiés >75%","Eléments de toutes dimensions et poids","€ / Tonne",45,45,{"$f":"VLOOKUP(J1686,'Codes éco-part'!$C:$E,3,FALSE)","v":"169"},54]
["REP ABJ",3,"21103200200",null,"Articles de bricolage","Equipement personnel et accessoires de protection de bricolage","Massif et assimilés certifiés >75%","Inférieur strictement à 0,5 kg","€/unité",0.01,0.01,{"$f":"VLOOKUP(J1687,'Codes éco-part'!$C:$E,3,FALSE)","v":"260"},1.2E-2]
["REP ABJ",3,"21103200210",null,"Articles de bricolage","Equipement personnel et accessoires de protection de bricolage","Massif et assimilés certifiés >75%","Compris entre 0,5 kg et 1 kg exclus","€/unité",0.03,0.03,{"$f":"VLOOKUP(J1688,'Codes éco-part'!$C:$E,3,FALSE)","v":"092"},3.5999999999999997E-2]
["REP ABJ",3,"21103200220",null,"Articles de bricolage","Equipement personnel et accessoires de protection de bricolage","Massif et assimilés certifiés >75%","Compris entre 1 kg et 2 kg exclus","€/unité",7.0000000000000007E-2,7.0000000000000007E-2,{"$f":"VLOOKUP(J1689,'Codes éco-part'!$C:$E,3,FALSE)","v":"247"},8.4000000000000005E-2]
["REP ABJ",3,"21103200520",null,"Articles de bricolage","Equipement personnel et accessoires de protection de bricolage","Massif et assimilés certifiés >75%","Compris entre 2 kg et 3 kg exclus","€/unité",0.11,0.11,{"$f":"VLOOKUP(J1690,'Codes éco-part'!$C:$E,3,FALSE)","v":"262"},0.13200000000000001]
["REP ABJ",3,"21103200530",null,"Articles de bricolage","Equipement personnel et accessoires de protection de bricolage","Massif et assimilés certifiés >75%","Compris entre 3 kg et 5 kg exclus","€/unité",0.18,0.18,{"$f":"VLOOKUP(J1691,'Codes éco-part'!$C:$E,3,FALSE)","v":"100"},0.216]
["REP ABJ",3,"21103200540",null,"Articles de bricolage","Equipement personnel et accessoires de protection de bricolage","Massif et assimilés certifiés >75%","Compris entre 5 kg et 7 kg exclus","€/unité",0.32,0.32,{"$f":"VLOOKUP(J1692,'Codes éco-part'!$C:$E,3,FALSE)","v":"447"},0.38400000000000001]
["REP ABJ",3,"21103210000",null,"Articles de bricolage","Equipement personnel et accessoires de protection de bricolage","Massif et assimilés >75%","Eléments de toutes dimensions et poids","€ / Tonne",45,45,{"$f":"VLOOKUP(J1693,'Codes éco-part'!$C:$E,3,FALSE)","v":"169"},54]
["REP ABJ",3,"21103210200",null,"Articles de bricolage","Equipement personnel et accessoires de protection de bricolage","Massif et assimilés >75%","Inférieur strictement à 0,5 kg","€/unité",0.01,0.01,{"$f":"VLOOKUP(J1694,'Codes éco-part'!$C:$E,3,FALSE)","v":"260"},1.2E-2]
["REP ABJ",3,"21103210210",null,"Articles de bricolage","Equipement personnel et accessoires de protection de bricolage","Massif et assimilés >75%","Compris entre 0,5 kg et 1 kg exclus","€/unité",0.03,0.03,{"$f":"VLOOKUP(J1695,'Codes éco-part'!$C:$E,3,FALSE)","v":"092"},3.5999999999999997E-2]
["REP ABJ",3,"21103210220",null,"Articles de bricolage","Equipement personnel et accessoires de protection de bricolage","Massif et assimilés >75%","Compris entre 1 kg et 2 kg exclus","€/unité",7.0000000000000007E-2,7.0000000000000007E-2,{"$f":"VLOOKUP(J1696,'Codes éco-part'!$C:$E,3,FALSE)","v":"247"},8.4000000000000005E-2]
["REP ABJ",3,"21103210520",null,"Articles de bricolage","Equipement personnel et accessoires de protection de bricolage","Massif et assimilés >75%","Compris entre 2 kg et 3 kg exclus","€/unité",0.11,0.11,{"$f":"VLOOKUP(J1697,'Codes éco-part'!$C:$E,3,FALSE)","v":"262"},0.13200000000000001]
["REP ABJ",3,"21103210530",null,"Articles de bricolage","Equipement personnel et accessoires de protection de bricolage","Massif et assimilés >75%","Compris entre 3 kg et 5 kg exclus","€/unité",0.18,0.18,{"$f":"VLOOKUP(J1698,'Codes éco-part'!$C:$E,3,FALSE)","v":"100"},0.216]
["REP ABJ",3,"21103210540",null,"Articles de bricolage","Equipement personnel et accessoires de protection de bricolage","Massif et assimilés >75%","Compris entre 5 kg et 7 kg exclus","€/unité",0.32,0.32,{"$f":"VLOOKUP(J1699,'Codes éco-part'!$C:$E,3,FALSE)","v":"447"},0.38400000000000001]
["REP ABJ",3,"21103250000",null,"Articles de bricolage","Equipement personnel et accessoires de protection de bricolage","Panneaux de particules ou OSB >75%","Eléments de toutes dimensions et poids","€ / Tonne",45,45,{"$f":"VLOOKUP(J1700,'Codes éco-part'!$C:$E,3,FALSE)","v":"169"},54]
["REP ABJ",3,"21103250200",null,"Articles de bricolage","Equipement personnel et accessoires de protection de bricolage","Panneaux de particules ou OSB >75%","Inférieur strictement à 0,5 kg","€/unité",0.01,0.01,{"$f":"VLOOKUP(J1701,'Codes éco-part'!$C:$E,3,FALSE)","v":"260"},1.2E-2]
["REP ABJ",3,"21103250210",null,"Articles de bricolage","Equipement personnel et accessoires de protection de bricolage","Panneaux de particules ou OSB >75%","Compris entre 0,5 kg et 1 kg exclus","€/unité",0.03,0.03,{"$f":"VLOOKUP(J1702,'Codes éco-part'!$C:$E,3,FALSE)","v":"092"},3.5999999999999997E-2]
["REP ABJ",3,"21103250220",null,"Articles de bricolage","Equipement personnel et accessoires de protection de bricolage","Panneaux de particules ou OSB >75%","Compris entre 1 kg et 2 kg exclus","€/unité",7.0000000000000007E-2,7.0000000000000007E-2,{"$f":"VLOOKUP(J1703,'Codes éco-part'!$C:$E,3,FALSE)","v":"247"},8.4000000000000005E-2]
["REP ABJ",3,"21103250520",null,"Articles de bricolage","Equipement personnel et accessoires de protection de bricolage","Panneaux de particules ou OSB >75%","Compris entre 2 kg et 3 kg exclus","€/unité",0.11,0.11,{"$f":"VLOOKUP(J1704,'Codes éco-part'!$C:$E,3,FALSE)","v":"262"},0.13200000000000001]
["REP ABJ",3,"21103250530",null,"Articles de bricolage","Equipement personnel et accessoires de protection de bricolage","Panneaux de particules ou OSB >75%","Compris entre 3 kg et 5 kg exclus","€/unité",0.18,0.18,{"$f":"VLOOKUP(J1705,'Codes éco-part'!$C:$E,3,FALSE)","v":"100"},0.216]
["REP ABJ",3,"21103250540",null,"Articles de bricolage","Equipement personnel et accessoires de protection de bricolage","Panneaux de particules ou OSB >75%","Compris entre 5 kg et 7 kg exclus","€/unité",0.32,0.32,{"$f":"VLOOKUP(J1706,'Codes éco-part'!$C:$E,3,FALSE)","v":"447"},0.38400000000000001]
["REP ABJ",3,"21103280000",null,"Articles de bricolage","Equipement personnel et accessoires de protection de bricolage","Métal >90%","Eléments de toutes dimensions et poids","€ / Tonne",10,10,{"$f":"VLOOKUP(J1707,'Codes éco-part'!$C:$E,3,FALSE)","v":"138"},12]
["REP ABJ",3,"21103280200",null,"Articles de bricolage","Equipement personnel et accessoires de protection de bricolage","Métal >90%","Inférieur strictement à 0,5 kg","€/unité",0.01,0.01,{"$f":"VLOOKUP(J1708,'Codes éco-part'!$C:$E,3,FALSE)","v":"260"},1.2E-2]
["REP ABJ",3,"21103280210",null,"Articles de bricolage","Equipement personnel et accessoires de protection de bricolage","Métal >90%","Compris entre 0,5 kg et 1 kg exclus","€/unité",0.01,0.01,{"$f":"VLOOKUP(J1709,'Codes éco-part'!$C:$E,3,FALSE)","v":"260"},1.2E-2]
["REP ABJ",3,"21103280220",null,"Articles de bricolage","Equipement personnel et accessoires de protection de bricolage","Métal >90%","Compris entre 1 kg et 2 kg exclus","€/unité",0.02,0.02,{"$f":"VLOOKUP(J1710,'Codes éco-part'!$C:$E,3,FALSE)","v":"047"},2.4E-2]
["REP ABJ",3,"21103280520",null,"Articles de bricolage","Equipement personnel et accessoires de protection de bricolage","Métal >90%","Compris entre 2 kg et 3 kg exclus","€/unité",0.03,0.03,{"$f":"VLOOKUP(J1711,'Codes éco-part'!$C:$E,3,FALSE)","v":"092"},3.5999999999999997E-2]
["REP ABJ",3,"21103280530",null,"Articles de bricolage","Equipement personnel et accessoires de protection de bricolage","Métal >90%","Compris entre 3 kg et 5 kg exclus","€/unité",0.04,0.04,{"$f":"VLOOKUP(J1712,'Codes éco-part'!$C:$E,3,FALSE)","v":"002"},4.8000000000000001E-2]
["REP ABJ",3,"21103280540",null,"Articles de bricolage","Equipement personnel et accessoires de protection de bricolage","Métal >90%","Compris entre 5 kg et 7 kg exclus","€/unité",7.0000000000000007E-2,7.0000000000000007E-2,{"$f":"VLOOKUP(J1713,'Codes éco-part'!$C:$E,3,FALSE)","v":"247"},8.4000000000000005E-2]
["REP ABJ",3,"21103400000",null,"Articles de bricolage","Equipement personnel et accessoires de protection de bricolage","Assemblage caoutchouc synthétique ou latex >50% avec d'autres matériaux","Eléments de toutes dimensions et poids","€ / Tonne",215,215,{"$f":"VLOOKUP(J1714,'Codes éco-part'!$C:$E,3,FALSE)","v":"498"},258]
["REP ABJ",3,"21103400200",null,"Articles de bricolage","Equipement personnel et accessoires de protection de bricolage","Assemblage caoutchouc synthétique ou latex >50% avec d'autres matériaux","Inférieur strictement à 0,5 kg","€/unité",0.05,0.05,{"$f":"VLOOKUP(J1715,'Codes éco-part'!$C:$E,3,FALSE)","v":"048"},0.06]
["REP ABJ",3,"21103400210",null,"Articles de bricolage","Equipement personnel et accessoires de protection de bricolage","Assemblage caoutchouc synthétique ou latex >50% avec d'autres matériaux","Compris entre 0,5 kg et 1 kg exclus","€/unité",0.16,0.16,{"$f":"VLOOKUP(J1716,'Codes éco-part'!$C:$E,3,FALSE)","v":"099"},0.192]
["REP ABJ",3,"21103400220",null,"Articles de bricolage","Equipement personnel et accessoires de protection de bricolage","Assemblage caoutchouc synthétique ou latex >50% avec d'autres matériaux","Compris entre 1 kg et 2 kg exclus","€/unité",0.32,0.32,{"$f":"VLOOKUP(J1717,'Codes éco-part'!$C:$E,3,FALSE)","v":"447"},0.38400000000000001]
["REP ABJ",3,"21103400520",null,"Articles de bricolage","Equipement personnel et accessoires de protection de bricolage","Assemblage caoutchouc synthétique ou latex >50% avec d'autres matériaux","Compris entre 2 kg et 3 kg exclus","€/unité",0.54,0.54,{"$f":"VLOOKUP(J1718,'Codes éco-part'!$C:$E,3,FALSE)","v":"500"},0.64800000000000002]
["REP ABJ",3,"21103400530",null,"Articles de bricolage","Equipement personnel et accessoires de protection de bricolage","Assemblage caoutchouc synthétique ou latex >50% avec d'autres matériaux","Compris entre 3 kg et 5 kg exclus","€/unité",0.86,0.86,{"$f":"VLOOKUP(J1719,'Codes éco-part'!$C:$E,3,FALSE)","v":"501"},1.032]
["REP ABJ",3,"21103400540",null,"Articles de bricolage","Equipement personnel et accessoires de protection de bricolage","Assemblage caoutchouc synthétique ou latex >50% avec d'autres matériaux","Compris entre 5 kg et 7 kg exclus","€/unité",1.51,1.51,{"$f":"VLOOKUP(J1720,'Codes éco-part'!$C:$E,3,FALSE)","v":"502"},1.8119999999999998]
["REP ABJ",3,"21103410000",null,"Articles de bricolage","Equipement personnel et accessoires de protection de bricolage","Plastiques (mono résine) >90%","Eléments de toutes dimensions et poids","€ / Tonne",165,165,{"$f":"VLOOKUP(J1721,'Codes éco-part'!$C:$E,3,FALSE)","v":"496"},198]
["REP ABJ",3,"21103410200",null,"Articles de bricolage","Equipement personnel et accessoires de protection de bricolage","Plastiques (mono résine) >90%","Inférieur strictement à 0,5 kg","€/unité",0.04,0.04,{"$f":"VLOOKUP(J1722,'Codes éco-part'!$C:$E,3,FALSE)","v":"002"},4.8000000000000001E-2]
["REP ABJ",3,"21103410210",null,"Articles de bricolage","Equipement personnel et accessoires de protection de bricolage","Plastiques (mono résine) >90%","Compris entre 0,5 kg et 1 kg exclus","€/unité",0.12,0.12,{"$f":"VLOOKUP(J1723,'Codes éco-part'!$C:$E,3,FALSE)","v":"097"},0.14399999999999999]
["REP ABJ",3,"21103410220",null,"Articles de bricolage","Equipement personnel et accessoires de protection de bricolage","Plastiques (mono résine) >90%","Compris entre 1 kg et 2 kg exclus","€/unité",0.25,0.25,{"$f":"VLOOKUP(J1724,'Codes éco-part'!$C:$E,3,FALSE)","v":"095"},0.3]
["REP ABJ",3,"21103410520",null,"Articles de bricolage","Equipement personnel et accessoires de protection de bricolage","Plastiques (mono résine) >90%","Compris entre 2 kg et 3 kg exclus","€/unité",0.41,0.41,{"$f":"VLOOKUP(J1725,'Codes éco-part'!$C:$E,3,FALSE)","v":"503"},0.49199999999999994]
["REP ABJ",3,"21103410530",null,"Articles de bricolage","Equipement personnel et accessoires de protection de bricolage","Plastiques (mono résine) >90%","Compris entre 3 kg et 5 kg exclus","€/unité",0.66,0.66,{"$f":"VLOOKUP(J1726,'Codes éco-part'!$C:$E,3,FALSE)","v":"453"},0.79200000000000004]
["REP ABJ",3,"21103410540",null,"Articles de bricolage","Equipement personnel et accessoires de protection de bricolage","Plastiques (mono résine) >90%","Compris entre 5 kg et 7 kg exclus","€/unité",1.1599999999999999,1.1599999999999999,{"$f":"VLOOKUP(J1727,'Codes éco-part'!$C:$E,3,FALSE)","v":"504"},1.3919999999999999]
["REP ABJ",3,"21103420000",null,"Articles de bricolage","Equipement personnel et accessoires de protection de bricolage","Polyterephtalate d'Ethylène (PET) >90%","Eléments de toutes dimensions et poids","€ / Tonne",165,165,{"$f":"VLOOKUP(J1728,'Codes éco-part'!$C:$E,3,FALSE)","v":"496"},198]
["REP ABJ",3,"21103420200",null,"Articles de bricolage","Equipement personnel et accessoires de protection de bricolage","Polyterephtalate d'Ethylène (PET) >90%","Inférieur strictement à 0,5 kg","€/unité",0.04,0.04,{"$f":"VLOOKUP(J1729,'Codes éco-part'!$C:$E,3,FALSE)","v":"002"},4.8000000000000001E-2]
["REP ABJ",3,"21103420210",null,"Articles de bricolage","Equipement personnel et accessoires de protection de bricolage","Polyterephtalate d'Ethylène (PET) >90%","Compris entre 0,5 kg et 1 kg exclus","€/unité",0.12,0.12,{"$f":"VLOOKUP(J1730,'Codes éco-part'!$C:$E,3,FALSE)","v":"097"},{"$f":"J1730*1.2","v":0.14399999999999999}]
["REP ABJ",3,"21103420220",null,"Articles de bricolage","Equipement personnel et accessoires de protection de bricolage","Polyterephtalate d'Ethylène (PET) >90%","Compris entre 1 kg et 2 kg exclus","€/unité",0.25,0.25,{"$f":"VLOOKUP(J1731,'Codes éco-part'!$C:$E,3,FALSE)","v":"095"},0.3]
["REP ABJ",3,"21103420520",null,"Articles de bricolage","Equipement personnel et accessoires de protection de bricolage","Polyterephtalate d'Ethylène (PET) >90%","Compris entre 2 kg et 3 kg exclus","€/unité",0.41,0.41,{"$f":"VLOOKUP(J1732,'Codes éco-part'!$C:$E,3,FALSE)","v":"503"},0.49199999999999994]
["REP ABJ",3,"21103420530",null,"Articles de bricolage","Equipement personnel et accessoires de protection de bricolage","Polyterephtalate d'Ethylène (PET) >90%","Compris entre 3 kg et 5 kg exclus","€/unité",0.66,0.66,{"$f":"VLOOKUP(J1733,'Codes éco-part'!$C:$E,3,FALSE)","v":"453"},0.79200000000000004]
["REP ABJ",3,"21103420540",null,"Articles de bricolage","Equipement personnel et accessoires de protection de bricolage","Polyterephtalate d'Ethylène (PET) >90%","Compris entre 5 kg et 7 kg exclus","€/unité",1.1599999999999999,1.1599999999999999,{"$f":"VLOOKUP(J1734,'Codes éco-part'!$C:$E,3,FALSE)","v":"504"},1.3919999999999999]
["REP ABJ",3,"21103450000",null,"Articles de bricolage","Equipement personnel et accessoires de protection de bricolage","PE ou PP ou mélange PP/PE >90%","Eléments de toutes dimensions et poids","€ / Tonne",165,165,{"$f":"VLOOKUP(J1735,'Codes éco-part'!$C:$E,3,FALSE)","v":"496"},198]
["REP ABJ",3,"21103450200",null,"Articles de bricolage","Equipement personnel et accessoires de protection de bricolage","PE ou PP ou mélange PP/PE >90%","Inférieur strictement à 0,5 kg","€/unité",0.04,0.04,{"$f":"VLOOKUP(J1736,'Codes éco-part'!$C:$E,3,FALSE)","v":"002"},4.8000000000000001E-2]
["REP ABJ",3,"21103450210",null,"Articles de bricolage","Equipement personnel et accessoires de protection de bricolage","PE ou PP ou mélange PP/PE >90%","Compris entre 0,5 kg et 1 kg exclus","€/unité",0.12,0.12,{"$f":"VLOOKUP(J1737,'Codes éco-part'!$C:$E,3,FALSE)","v":"097"},0.14399999999999999]
["REP ABJ",3,"21103450220",null,"Articles de bricolage","Equipement personnel et accessoires de protection de bricolage","PE ou PP ou mélange PP/PE >90%","Compris entre 1 kg et 2 kg exclus","€/unité",0.25,0.25,{"$f":"VLOOKUP(J1738,'Codes éco-part'!$C:$E,3,FALSE)","v":"095"},0.3]
["REP ABJ",3,"21103450520",null,"Articles de bricolage","Equipement personnel et accessoires de protection de bricolage","PE ou PP ou mélange PP/PE >90%","Compris entre 2 kg et 3 kg exclus","€/unité",0.41,0.41,{"$f":"VLOOKUP(J1739,'Codes éco-part'!$C:$E,3,FALSE)","v":"503"},0.49199999999999994]
["REP ABJ",3,"21103450530",null,"Articles de bricolage","Equipement personnel et accessoires de protection de bricolage","PE ou PP ou mélange PP/PE >90%","Compris entre 3 kg et 5 kg exclus","€/unité",0.66,0.66,{"$f":"VLOOKUP(J1740,'Codes éco-part'!$C:$E,3,FALSE)","v":"453"},0.79200000000000004]
["REP ABJ",3,"21103450540",null,"Articles de bricolage","Equipement personnel et accessoires de protection de bricolage","PE ou PP ou mélange PP/PE >90%","Compris entre 5 kg et 7 kg exclus","€/unité",1.1599999999999999,1.1599999999999999,{"$f":"VLOOKUP(J1741,'Codes éco-part'!$C:$E,3,FALSE)","v":"504"},1.3919999999999999]
["REP ABJ",3,"21103460000",null,"Articles de bricolage","Equipement personnel et accessoires de protection de bricolage","ABS >90%","Eléments de toutes dimensions et poids","€ / Tonne",165,165,{"$f":"VLOOKUP(J1742,'Codes éco-part'!$C:$E,3,FALSE)","v":"496"},198]
["REP ABJ",3,"21103460200",null,"Articles de bricolage","Equipement personnel et accessoires de protection de bricolage","ABS >90%","Inférieur strictement à 0,5 kg","€/unité",0.04,0.04,{"$f":"VLOOKUP(J1743,'Codes éco-part'!$C:$E,3,FALSE)","v":"002"},4.8000000000000001E-2]
["REP ABJ",3,"21103460210",null,"Articles de bricolage","Equipement personnel et accessoires de protection de bricolage","ABS >90%","Compris entre 0,5 kg et 1 kg exclus","€/unité",0.12,0.12,{"$f":"VLOOKUP(J1744,'Codes éco-part'!$C:$E,3,FALSE)","v":"097"},0.14399999999999999]
["REP ABJ",3,"21103460220",null,"Articles de bricolage","Equipement personnel et accessoires de protection de bricolage","ABS >90%","Compris entre 1 kg et 2 kg exclus","€/unité",0.25,0.25,{"$f":"VLOOKUP(J1745,'Codes éco-part'!$C:$E,3,FALSE)","v":"095"},0.3]
["REP ABJ",3,"21103460520",null,"Articles de bricolage","Equipement personnel et accessoires de protection de bricolage","ABS >90%","Compris entre 2 kg et 3 kg exclus","€/unité",0.41,0.41,{"$f":"VLOOKUP(J1746,'Codes éco-part'!$C:$E,3,FALSE)","v":"503"},0.49199999999999994]
["REP ABJ",3,"21103460530",null,"Articles de bricolage","Equipement personnel et accessoires de protection de bricolage","ABS >90%","Compris entre 3 kg et 5 kg exclus","€/unité",0.66,0.66,{"$f":"VLOOKUP(J1747,'Codes éco-part'!$C:$E,3,FALSE)","v":"453"},0.79200000000000004]
["REP ABJ",3,"21103460540",null,"Articles de bricolage","Equipement personnel et accessoires de protection de bricolage","ABS >90%","Compris entre 5 kg et 7 kg exclus","€/unité",1.1599999999999999,1.1599999999999999,{"$f":"VLOOKUP(J1748,'Codes éco-part'!$C:$E,3,FALSE)","v":"504"},1.3919999999999999]
["REP ABJ",3,"21103470000",null,"Articles de bricolage","Equipement personnel et accessoires de protection de bricolage","Polystyrène >90%","Eléments de toutes dimensions et poids","€ / Tonne",165,165,{"$f":"VLOOKUP(J1749,'Codes éco-part'!$C:$E,3,FALSE)","v":"496"},198]
["REP ABJ",3,"21103470200",null,"Articles de bricolage","Equipement personnel et accessoires de protection de bricolage","Polystyrène >90%","Inférieur strictement à 0,5 kg","€/unité",0.04,0.04,{"$f":"VLOOKUP(J1750,'Codes éco-part'!$C:$E,3,FALSE)","v":"002"},4.8000000000000001E-2]
["REP ABJ",3,"21103470210",null,"Articles de bricolage","Equipement personnel et accessoires de protection de bricolage","Polystyrène >90%","Compris entre 0,5 kg et 1 kg exclus","€/unité",0.12,0.12,{"$f":"VLOOKUP(J1751,'Codes éco-part'!$C:$E,3,FALSE)","v":"097"},0.14399999999999999]
["REP ABJ",3,"21103470220",null,"Articles de bricolage","Equipement personnel et accessoires de protection de bricolage","Polystyrène >90%","Compris entre 1 kg et 2 kg exclus","€/unité",0.25,0.25,{"$f":"VLOOKUP(J1752,'Codes éco-part'!$C:$E,3,FALSE)","v":"095"},0.3]
["REP ABJ",3,"21103470520",null,"Articles de bricolage","Equipement personnel et accessoires de protection de bricolage","Polystyrène >90%","Compris entre 2 kg et 3 kg exclus","€/unité",0.41,0.41,{"$f":"VLOOKUP(J1753,'Codes éco-part'!$C:$E,3,FALSE)","v":"503"},0.49199999999999994]
["REP ABJ",3,"21103470530",null,"Articles de bricolage","Equipement personnel et accessoires de protection de bricolage","Polystyrène >90%","Compris entre 3 kg et 5 kg exclus","€/unité",0.66,0.66,{"$f":"VLOOKUP(J1754,'Codes éco-part'!$C:$E,3,FALSE)","v":"453"},0.79200000000000004]
["REP ABJ",3,"21103470540",null,"Articles de bricolage","Equipement personnel et accessoires de protection de bricolage","Polystyrène >90%","Compris entre 5 kg et 7 kg exclus","€/unité",1.1599999999999999,1.1599999999999999,{"$f":"VLOOKUP(J1755,'Codes éco-part'!$C:$E,3,FALSE)","v":"504"},1.3919999999999999]
["REP ABJ",3,"21103480000",null,"Articles de bricolage","Equipement personnel et accessoires de protection de bricolage","PVC >90%","Eléments de toutes dimensions et poids","€ / Tonne",165,165,{"$f":"VLOOKUP(J1756,'Codes éco-part'!$C:$E,3,FALSE)","v":"496"},198]
["REP ABJ",3,"21103480200",null,"Articles de bricolage","Equipement personnel et accessoires de protection de bricolage","PVC >90%","Inférieur strictement à 0,5 kg","€/unité",0.04,0.04,{"$f":"VLOOKUP(J1757,'Codes éco-part'!$C:$E,3,FALSE)","v":"002"},4.8000000000000001E-2]
["REP ABJ",3,"21103480210",null,"Articles de bricolage","Equipement personnel et accessoires de protection de bricolage","PVC >90%","Compris entre 0,5 kg et 1 kg exclus","€/unité",0.12,0.12,{"$f":"VLOOKUP(J1758,'Codes éco-part'!$C:$E,3,FALSE)","v":"097"},0.14399999999999999]
["REP ABJ",3,"21103480220",null,"Articles de bricolage","Equipement personnel et accessoires de protection de bricolage","PVC >90%","Compris entre 1 kg et 2 kg exclus","€/unité",0.25,0.25,{"$f":"VLOOKUP(J1759,'Codes éco-part'!$C:$E,3,FALSE)","v":"095"},0.3]
["REP ABJ",3,"21103480520",null,"Articles de bricolage","Equipement personnel et accessoires de protection de bricolage","PVC >90%","Compris entre 2 kg et 3 kg exclus","€/unité",0.41,0.41,{"$f":"VLOOKUP(J1760,'Codes éco-part'!$C:$E,3,FALSE)","v":"503"},0.49199999999999994]
["REP ABJ",3,"21103480530",null,"Articles de bricolage","Equipement personnel et accessoires de protection de bricolage","PVC >90%","Compris entre 3 kg et 5 kg exclus","€/unité",0.66,0.66,{"$f":"VLOOKUP(J1761,'Codes éco-part'!$C:$E,3,FALSE)","v":"453"},0.79200000000000004]
["REP ABJ",3,"21103480540",null,"Articles de bricolage","Equipement personnel et accessoires de protection de bricolage","PVC >90%","Compris entre 5 kg et 7 kg exclus","€/unité",1.1599999999999999,1.1599999999999999,{"$f":"VLOOKUP(J1762,'Codes éco-part'!$C:$E,3,FALSE)","v":"504"},1.3919999999999999]
["REP ABJ",3,"21103490000",null,"Articles de bricolage","Equipement personnel et accessoires de protection de bricolage","Caoutchouc synthétique >90%","Eléments de toutes dimensions et poids","€ / Tonne",165,165,{"$f":"VLOOKUP(J1763,'Codes éco-part'!$C:$E,3,FALSE)","v":"496"},198]
["REP ABJ",3,"21103490200",null,"Articles de bricolage","Equipement personnel et accessoires de protection de bricolage","Caoutchouc synthétique >90%","Inférieur strictement à 0,5 kg","€/unité",0.04,0.04,{"$f":"VLOOKUP(J1764,'Codes éco-part'!$C:$E,3,FALSE)","v":"002"},4.8000000000000001E-2]
["REP ABJ",3,"21103490210",null,"Articles de bricolage","Equipement personnel et accessoires de protection de bricolage","Caoutchouc synthétique >90%","Compris entre 0,5 kg et 1 kg exclus","€/unité",0.12,0.12,{"$f":"VLOOKUP(J1765,'Codes éco-part'!$C:$E,3,FALSE)","v":"097"},0.14399999999999999]
["REP ABJ",3,"21103490220",null,"Articles de bricolage","Equipement personnel et accessoires de protection de bricolage","Caoutchouc synthétique >90%","Compris entre 1 kg et 2 kg exclus","€/unité",0.25,0.25,{"$f":"VLOOKUP(J1766,'Codes éco-part'!$C:$E,3,FALSE)","v":"095"},0.3]
["REP ABJ",3,"21103490520",null,"Articles de bricolage","Equipement personnel et accessoires de protection de bricolage","Caoutchouc synthétique >90%","Compris entre 2 kg et 3 kg exclus","€/unité",0.41,0.41,{"$f":"VLOOKUP(J1767,'Codes éco-part'!$C:$E,3,FALSE)","v":"503"},0.49199999999999994]
["REP ABJ",3,"21103490530",null,"Articles de bricolage","Equipement personnel et accessoires de protection de bricolage","Caoutchouc synthétique >90%","Compris entre 3 kg et 5 kg exclus","€/unité",0.66,0.66,{"$f":"VLOOKUP(J1768,'Codes éco-part'!$C:$E,3,FALSE)","v":"453"},0.79200000000000004]
["REP ABJ",3,"21103490540",null,"Articles de bricolage","Equipement personnel et accessoires de protection de bricolage","Caoutchouc synthétique >90%","Compris entre 5 kg et 7 kg exclus","€/unité",1.1599999999999999,1.1599999999999999,{"$f":"VLOOKUP(J1769,'Codes éco-part'!$C:$E,3,FALSE)","v":"504"},1.3919999999999999]
["REP ABJ",3,"21103520000",null,"Articles de bricolage","Equipement personnel et accessoires de protection de bricolage","Massif et assimilés certifiés >90%","Eléments de toutes dimensions et poids","€ / Tonne",45,45,{"$f":"VLOOKUP(J1770,'Codes éco-part'!$C:$E,3,FALSE)","v":"169"},54]
["REP ABJ",3,"21103520200",null,"Articles de bricolage","Equipement personnel et accessoires de protection de bricolage","Massif et assimilés certifiés >90%","Inférieur strictement à 0,5 kg","€/unité",0.01,0.01,{"$f":"VLOOKUP(J1771,'Codes éco-part'!$C:$E,3,FALSE)","v":"260"},1.2E-2]
["REP ABJ",3,"21103520210",null,"Articles de bricolage","Equipement personnel et accessoires de protection de bricolage","Massif et assimilés certifiés >90%","Compris entre 0,5 kg et 1 kg exclus","€/unité",0.03,0.03,{"$f":"VLOOKUP(J1772,'Codes éco-part'!$C:$E,3,FALSE)","v":"092"},3.5999999999999997E-2]
["REP ABJ",3,"21103520220",null,"Articles de bricolage","Equipement personnel et accessoires de protection de bricolage","Massif et assimilés certifiés >90%","Compris entre 1 kg et 2 kg exclus","€/unité",7.0000000000000007E-2,7.0000000000000007E-2,{"$f":"VLOOKUP(J1773,'Codes éco-part'!$C:$E,3,FALSE)","v":"247"},8.4000000000000005E-2]
["REP ABJ",3,"21103520520",null,"Articles de bricolage","Equipement personnel et accessoires de protection de bricolage","Massif et assimilés certifiés >90%","Compris entre 2 kg et 3 kg exclus","€/unité",0.11,0.11,{"$f":"VLOOKUP(J1774,'Codes éco-part'!$C:$E,3,FALSE)","v":"262"},0.13200000000000001]
["REP ABJ",3,"21103520530",null,"Articles de bricolage","Equipement personnel et accessoires de protection de bricolage","Massif et assimilés certifiés >90%","Compris entre 3 kg et 5 kg exclus","€/unité",0.18,0.18,{"$f":"VLOOKUP(J1775,'Codes éco-part'!$C:$E,3,FALSE)","v":"100"},0.216]
["REP ABJ",3,"21103520540",null,"Articles de bricolage","Equipement personnel et accessoires de protection de bricolage","Massif et assimilés certifiés >90%","Compris entre 5 kg et 7 kg exclus","€/unité",0.32,0.32,{"$f":"VLOOKUP(J1776,'Codes éco-part'!$C:$E,3,FALSE)","v":"447"},0.38400000000000001]
["REP ABJ",3,"21103530000",null,"Articles de bricolage","Equipement personnel et accessoires de protection de bricolage","Massif et assimilés >90%","Eléments de toutes dimensions et poids","€ / Tonne",45,45,{"$f":"VLOOKUP(J1777,'Codes éco-part'!$C:$E,3,FALSE)","v":"169"},54]
["REP ABJ",3,"21103530200",null,"Articles de bricolage","Equipement personnel et accessoires de protection de bricolage","Massif et assimilés >90%","Inférieur strictement à 0,5 kg","€/unité",0.01,0.01,{"$f":"VLOOKUP(J1778,'Codes éco-part'!$C:$E,3,FALSE)","v":"260"},1.2E-2]
["REP ABJ",3,"21103530210",null,"Articles de bricolage","Equipement personnel et accessoires de protection de bricolage","Massif et assimilés >90%","Compris entre 0,5 kg et 1 kg exclus","€/unité",0.03,0.03,{"$f":"VLOOKUP(J1779,'Codes éco-part'!$C:$E,3,FALSE)","v":"092"},3.5999999999999997E-2]
["REP ABJ",3,"21103530220",null,"Articles de bricolage","Equipement personnel et accessoires de protection de bricolage","Massif et assimilés >90%","Compris entre 1 kg et 2 kg exclus","€/unité",7.0000000000000007E-2,7.0000000000000007E-2,{"$f":"VLOOKUP(J1780,'Codes éco-part'!$C:$E,3,FALSE)","v":"247"},8.4000000000000005E-2]
["REP ABJ",3,"21103530520",null,"Articles de bricolage","Equipement personnel et accessoires de protection de bricolage","Massif et assimilés >90%","Compris entre 2 kg et 3 kg exclus","€/unité",0.11,0.11,{"$f":"VLOOKUP(J1781,'Codes éco-part'!$C:$E,3,FALSE)","v":"262"},0.13200000000000001]
["REP ABJ",3,"21103530530",null,"Articles de bricolage","Equipement personnel et accessoires de protection de bricolage","Massif et assimilés >90%","Compris entre 3 kg et 5 kg exclus","€/unité",0.18,0.18,{"$f":"VLOOKUP(J1782,'Codes éco-part'!$C:$E,3,FALSE)","v":"100"},0.216]
["REP ABJ",3,"21103530540",null,"Articles de bricolage","Equipement personnel et accessoires de protection de bricolage","Massif et assimilés >90%","Compris entre 5 kg et 7 kg exclus","€/unité",0.32,0.32,{"$f":"VLOOKUP(J1783,'Codes éco-part'!$C:$E,3,FALSE)","v":"447"},0.38400000000000001]
["REP ABJ",3,"21103550000",null,"Articles de bricolage","Equipement personnel et accessoires de protection de bricolage","Matériaux bio sourcés ou textiles non synthétiques >90%","Eléments de toutes dimensions et poids","€ / Tonne",50,50,{"$f":"VLOOKUP(J1784,'Codes éco-part'!$C:$E,3,FALSE)","v":"173"},60]
["REP ABJ",3,"21103550200",null,"Articles de bricolage","Equipement personnel et accessoires de protection de bricolage","Matériaux bio sourcés ou textiles non synthétiques >90%","Inférieur strictement à 0,5 kg","€/unité",0.01,0.01,{"$f":"VLOOKUP(J1785,'Codes éco-part'!$C:$E,3,FALSE)","v":"260"},1.2E-2]
["REP ABJ",3,"21103550210",null,"Articles de bricolage","Equipement personnel et accessoires de protection de bricolage","Matériaux bio sourcés ou textiles non synthétiques >90%","Compris entre 0,5 kg et 1 kg exclus","€/unité",0.04,0.04,{"$f":"VLOOKUP(J1786,'Codes éco-part'!$C:$E,3,FALSE)","v":"002"},4.8000000000000001E-2]
["REP ABJ",3,"21103550220",null,"Articles de bricolage","Equipement personnel et accessoires de protection de bricolage","Matériaux bio sourcés ou textiles non synthétiques >90%","Compris entre 1 kg et 2 kg exclus","€/unité",0.08,0.08,{"$f":"VLOOKUP(J1787,'Codes éco-part'!$C:$E,3,FALSE)","v":"003"},9.6000000000000002E-2]
["REP ABJ",3,"21103550520",null,"Articles de bricolage","Equipement personnel et accessoires de protection de bricolage","Matériaux bio sourcés ou textiles non synthétiques >90%","Compris entre 2 kg et 3 kg exclus","€/unité",0.13,0.13,{"$f":"VLOOKUP(J1788,'Codes éco-part'!$C:$E,3,FALSE)","v":"004"},0.156]
["REP ABJ",3,"21103550530",null,"Articles de bricolage","Equipement personnel et accessoires de protection de bricolage","Matériaux bio sourcés ou textiles non synthétiques >90%","Compris entre 3 kg et 5 kg exclus","€/unité",0.2,0.2,{"$f":"VLOOKUP(J1789,'Codes éco-part'!$C:$E,3,FALSE)","v":"101"},0.24]
["REP ABJ",3,"21103550540",null,"Articles de bricolage","Equipement personnel et accessoires de protection de bricolage","Matériaux bio sourcés ou textiles non synthétiques >90%","Compris entre 5 kg et 7 kg exclus","€/unité",0.35,0.35,{"$f":"VLOOKUP(J1790,'Codes éco-part'!$C:$E,3,FALSE)","v":"448"},0.42]
["REP ABJ",3,"21103590000",null,"Articles de bricolage","Equipement personnel et accessoires de protection de bricolage","Panneaux de particules ou OSB certifiés >90%","Eléments de toutes dimensions et poids","€ / Tonne",45,45,{"$f":"VLOOKUP(J1791,'Codes éco-part'!$C:$E,3,FALSE)","v":"169"},54]
["REP ABJ",3,"21103590200",null,"Articles de bricolage","Equipement personnel et accessoires de protection de bricolage","Panneaux de particules ou OSB certifiés >90%","Inférieur strictement à 0,5 kg","€/unité",0.01,0.01,{"$f":"VLOOKUP(J1792,'Codes éco-part'!$C:$E,3,FALSE)","v":"260"},1.2E-2]
["REP ABJ",3,"21103590210",null,"Articles de bricolage","Equipement personnel et accessoires de protection de bricolage","Panneaux de particules ou OSB certifiés >90%","Compris entre 0,5 kg et 1 kg exclus","€/unité",0.03,0.03,{"$f":"VLOOKUP(J1793,'Codes éco-part'!$C:$E,3,FALSE)","v":"092"},3.5999999999999997E-2]
["REP ABJ",3,"21103590220",null,"Articles de bricolage","Equipement personnel et accessoires de protection de bricolage","Panneaux de particules ou OSB certifiés >90%","Compris entre 1 kg et 2 kg exclus","€/unité",7.0000000000000007E-2,7.0000000000000007E-2,{"$f":"VLOOKUP(J1794,'Codes éco-part'!$C:$E,3,FALSE)","v":"247"},{"$f":"J1794*1.2","v":8.4000000000000005E-2}]
["REP ABJ",3,"21103590520",null,"Articles de bricolage","Equipement personnel et accessoires de protection de bricolage","Panneaux de particules ou OSB certifiés >90%","Compris entre 2 kg et 3 kg exclus","€/unité",0.11,0.11,{"$f":"VLOOKUP(J1795,'Codes éco-part'!$C:$E,3,FALSE)","v":"262"},0.13200000000000001]
["REP ABJ",3,"21103590530",null,"Articles de bricolage","Equipement personnel et accessoires de protection de bricolage","Panneaux de particules ou OSB certifiés >90%","Compris entre 3 kg et 5 kg exclus","€/unité",0.18,0.18,{"$f":"VLOOKUP(J1796,'Codes éco-part'!$C:$E,3,FALSE)","v":"100"},0.216]
["REP ABJ",3,"21103590540",null,"Articles de bricolage","Equipement personnel et accessoires de protection de bricolage","Panneaux de particules ou OSB certifiés >90%","Compris entre 5 kg et 7 kg exclus","€/unité",0.32,0.32,{"$f":"VLOOKUP(J1797,'Codes éco-part'!$C:$E,3,FALSE)","v":"447"},0.38400000000000001]
["REP ABJ",3,"21103600000",null,"Articles de bricolage","Equipement personnel et accessoires de protection de bricolage","Panneaux de particules ou OSB certifiés >75%","Eléments de toutes dimensions et poids","€ / Tonne",45,45,{"$f":"VLOOKUP(J1798,'Codes éco-part'!$C:$E,3,FALSE)","v":"169"},54]
["REP ABJ",3,"21103600200",null,"Articles de bricolage","Equipement personnel et accessoires de protection de bricolage","Panneaux de particules ou OSB certifiés >75%","Inférieur strictement à 0,5 kg","€/unité",0.01,0.01,{"$f":"VLOOKUP(J1799,'Codes éco-part'!$C:$E,3,FALSE)","v":"260"},1.2E-2]
["REP ABJ",3,"21103600210",null,"Articles de bricolage","Equipement personnel et accessoires de protection de bricolage","Panneaux de particules ou OSB certifiés >75%","Compris entre 0,5 kg et 1 kg exclus","€/unité",0.03,0.03,{"$f":"VLOOKUP(J1800,'Codes éco-part'!$C:$E,3,FALSE)","v":"092"},3.5999999999999997E-2]
["REP ABJ",3,"21103600220",null,"Articles de bricolage","Equipement personnel et accessoires de protection de bricolage","Panneaux de particules ou OSB certifiés >75%","Compris entre 1 kg et 2 kg exclus","€/unité",7.0000000000000007E-2,7.0000000000000007E-2,{"$f":"VLOOKUP(J1801,'Codes éco-part'!$C:$E,3,FALSE)","v":"247"},8.4000000000000005E-2]
["REP ABJ",3,"21103600520",null,"Articles de bricolage","Equipement personnel et accessoires de protection de bricolage","Panneaux de particules ou OSB certifiés >75%","Compris entre 2 kg et 3 kg exclus","€/unité",0.11,0.11,{"$f":"VLOOKUP(J1802,'Codes éco-part'!$C:$E,3,FALSE)","v":"262"},0.13200000000000001]
["REP ABJ",3,"21103600530",null,"Articles de bricolage","Equipement personnel et accessoires de protection de bricolage","Panneaux de particules ou OSB certifiés >75%","Compris entre 3 kg et 5 kg exclus","€/unité",0.18,0.18,{"$f":"VLOOKUP(J1803,'Codes éco-part'!$C:$E,3,FALSE)","v":"100"},0.216]
["REP ABJ",3,"21103600540",null,"Articles de bricolage","Equipement personnel et accessoires de protection de bricolage","Panneaux de particules ou OSB certifiés >75%","Compris entre 5 kg et 7 kg exclus","€/unité",0.32,0.32,{"$f":"VLOOKUP(J1804,'Codes éco-part'!$C:$E,3,FALSE)","v":"447"},0.38400000000000001]
["REP ABJ",3,"21103610000",null,"Articles de bricolage","Equipement personnel et accessoires de protection de bricolage","Panneaux de particules ou OSB >90%","Eléments de toutes dimensions et poids","€ / Tonne",45,45,{"$f":"VLOOKUP(J1805,'Codes éco-part'!$C:$E,3,FALSE)","v":"169"},54]
["REP ABJ",3,"21103610200",null,"Articles de bricolage","Equipement personnel et accessoires de protection de bricolage","Panneaux de particules ou OSB >90%","Inférieur strictement à 0,5 kg","€/unité",0.01,0.01,{"$f":"VLOOKUP(J1806,'Codes éco-part'!$C:$E,3,FALSE)","v":"260"},1.2E-2]
["REP ABJ",3,"21103610210",null,"Articles de bricolage","Equipement personnel et accessoires de protection de bricolage","Panneaux de particules ou OSB >90%","Compris entre 0,5 kg et 1 kg exclus","€/unité",0.03,0.03,{"$f":"VLOOKUP(J1807,'Codes éco-part'!$C:$E,3,FALSE)","v":"092"},3.5999999999999997E-2]
["REP ABJ",3,"21103610220",null,"Articles de bricolage","Equipement personnel et accessoires de protection de bricolage","Panneaux de particules ou OSB >90%","Compris entre 1 kg et 2 kg exclus","€/unité",7.0000000000000007E-2,7.0000000000000007E-2,{"$f":"VLOOKUP(J1808,'Codes éco-part'!$C:$E,3,FALSE)","v":"247"},8.4000000000000005E-2]
["REP ABJ",3,"21103610520",null,"Articles de bricolage","Equipement personnel et accessoires de protection de bricolage","Panneaux de particules ou OSB >90%","Compris entre 2 kg et 3 kg exclus","€/unité",0.11,0.11,{"$f":"VLOOKUP(J1809,'Codes éco-part'!$C:$E,3,FALSE)","v":"262"},0.13200000000000001]
["REP ABJ",3,"21103610530",null,"Articles de bricolage","Equipement personnel et accessoires de protection de bricolage","Panneaux de particules ou OSB >90%","Compris entre 3 kg et 5 kg exclus","€/unité",0.18,0.18,{"$f":"VLOOKUP(J1810,'Codes éco-part'!$C:$E,3,FALSE)","v":"100"},0.216]
["REP ABJ",3,"21103610540",null,"Articles de bricolage","Equipement personnel et accessoires de protection de bricolage","Panneaux de particules ou OSB >90%","Compris entre 5 kg et 7 kg exclus","€/unité",0.32,0.32,{"$f":"VLOOKUP(J1811,'Codes éco-part'!$C:$E,3,FALSE)","v":"447"},0.38400000000000001]
["REP ABJ",3,"21103620000",null,"Articles de bricolage","Equipement personnel et accessoires de protection de bricolage","Dérivés de bois >90%","Eléments de toutes dimensions et poids","€ / Tonne",45,45,{"$f":"VLOOKUP(J1812,'Codes éco-part'!$C:$E,3,FALSE)","v":"169"},54]
["REP ABJ",3,"21103620200",null,"Articles de bricolage","Equipement personnel et accessoires de protection de bricolage","Dérivés de bois >90%","Inférieur strictement à 0,5 kg","€/unité",0.01,0.01,{"$f":"VLOOKUP(J1813,'Codes éco-part'!$C:$E,3,FALSE)","v":"260"},1.2E-2]
["REP ABJ",3,"21103620210",null,"Articles de bricolage","Equipement personnel et accessoires de protection de bricolage","Dérivés de bois >90%","Compris entre 0,5 kg et 1 kg exclus","€/unité",0.03,0.03,{"$f":"VLOOKUP(J1814,'Codes éco-part'!$C:$E,3,FALSE)","v":"092"},3.5999999999999997E-2]
["REP ABJ",3,"21103620220",null,"Articles de bricolage","Equipement personnel et accessoires de protection de bricolage","Dérivés de bois >90%","Compris entre 1 kg et 2 kg exclus","€/unité",7.0000000000000007E-2,7.0000000000000007E-2,{"$f":"VLOOKUP(J1815,'Codes éco-part'!$C:$E,3,FALSE)","v":"247"},8.4000000000000005E-2]
["REP ABJ",3,"21103620520",null,"Articles de bricolage","Equipement personnel et accessoires de protection de bricolage","Dérivés de bois >90%","Compris entre 2 kg et 3 kg exclus","€/unité",0.11,0.11,{"$f":"VLOOKUP(J1816,'Codes éco-part'!$C:$E,3,FALSE)","v":"262"},0.13200000000000001]
["REP ABJ",3,"21103620530",null,"Articles de bricolage","Equipement personnel et accessoires de protection de bricolage","Dérivés de bois >90%","Compris entre 3 kg et 5 kg exclus","€/unité",0.18,0.18,{"$f":"VLOOKUP(J1817,'Codes éco-part'!$C:$E,3,FALSE)","v":"100"},0.216]
["REP ABJ",3,"21103620540",null,"Articles de bricolage","Equipement personnel et accessoires de protection de bricolage","Dérivés de bois >90%","Compris entre 5 kg et 7 kg exclus","€/unité",0.32,0.32,{"$f":"VLOOKUP(J1818,'Codes éco-part'!$C:$E,3,FALSE)","v":"447"},0.38400000000000001]
["REP ABJ",3,"21103630000",null,"Articles de bricolage","Equipement personnel et accessoires de protection de bricolage","Caoutchouc naturel >90%","Eléments de toutes dimensions et poids","€ / Tonne",50,50,{"$f":"VLOOKUP(J1819,'Codes éco-part'!$C:$E,3,FALSE)","v":"173"},60]
["REP ABJ",3,"21103630200",null,"Articles de bricolage","Equipement personnel et accessoires de protection de bricolage","Caoutchouc naturel >90%","Inférieur strictement à 0,5 kg","€/unité",0.01,0.01,{"$f":"VLOOKUP(J1820,'Codes éco-part'!$C:$E,3,FALSE)","v":"260"},1.2E-2]
["REP ABJ",3,"21103630210",null,"Articles de bricolage","Equipement personnel et accessoires de protection de bricolage","Caoutchouc naturel >90%","Compris entre 0,5 kg et 1 kg exclus","€/unité",0.04,0.04,{"$f":"VLOOKUP(J1821,'Codes éco-part'!$C:$E,3,FALSE)","v":"002"},4.8000000000000001E-2]
["REP ABJ",3,"21103630220",null,"Articles de bricolage","Equipement personnel et accessoires de protection de bricolage","Caoutchouc naturel >90%","Compris entre 1 kg et 2 kg exclus","€/unité",0.08,0.08,{"$f":"VLOOKUP(J1822,'Codes éco-part'!$C:$E,3,FALSE)","v":"003"},9.6000000000000002E-2]
["REP ABJ",3,"21103630520",null,"Articles de bricolage","Equipement personnel et accessoires de protection de bricolage","Caoutchouc naturel >90%","Compris entre 2 kg et 3 kg exclus","€/unité",0.13,0.13,{"$f":"VLOOKUP(J1823,'Codes éco-part'!$C:$E,3,FALSE)","v":"004"},0.156]
["REP ABJ",3,"21103630530",null,"Articles de bricolage","Equipement personnel et accessoires de protection de bricolage","Caoutchouc naturel >90%","Compris entre 3 kg et 5 kg exclus","€/unité",0.2,0.2,{"$f":"VLOOKUP(J1824,'Codes éco-part'!$C:$E,3,FALSE)","v":"101"},0.24]
["REP ABJ",3,"21103630540",null,"Articles de bricolage","Equipement personnel et accessoires de protection de bricolage","Caoutchouc naturel >90%","Compris entre 5 kg et 7 kg exclus","€/unité",0.35,0.35,{"$f":"VLOOKUP(J1825,'Codes éco-part'!$C:$E,3,FALSE)","v":"448"},0.42]
["REP ABJ",3,"21103640000",null,"Articles de bricolage","Equipement personnel et accessoires de protection de bricolage","Caoutchouc naturel >50%","Eléments de toutes dimensions et poids","€ / Tonne",215,215,{"$f":"VLOOKUP(J1826,'Codes éco-part'!$C:$E,3,FALSE)","v":"498"},258]
["REP ABJ",3,"21103640200",null,"Articles de bricolage","Equipement personnel et accessoires de protection de bricolage","Caoutchouc naturel >50%","Inférieur strictement à 0,5 kg","€/unité",0.05,0.05,{"$f":"VLOOKUP(J1827,'Codes éco-part'!$C:$E,3,FALSE)","v":"048"},0.06]
["REP ABJ",3,"21103640210",null,"Articles de bricolage","Equipement personnel et accessoires de protection de bricolage","Caoutchouc naturel >50%","Compris entre 0,5 kg et 1 kg exclus","€/unité",0.16,0.16,{"$f":"VLOOKUP(J1828,'Codes éco-part'!$C:$E,3,FALSE)","v":"099"},0.192]
["REP ABJ",3,"21103640220",null,"Articles de bricolage","Equipement personnel et accessoires de protection de bricolage","Caoutchouc naturel >50%","Compris entre 1 kg et 2 kg exclus","€/unité",0.32,0.32,{"$f":"VLOOKUP(J1829,'Codes éco-part'!$C:$E,3,FALSE)","v":"447"},0.38400000000000001]
["REP ABJ",3,"21103640520",null,"Articles de bricolage","Equipement personnel et accessoires de protection de bricolage","Caoutchouc naturel >50%","Compris entre 2 kg et 3 kg exclus","€/unité",0.54,0.54,{"$f":"VLOOKUP(J1830,'Codes éco-part'!$C:$E,3,FALSE)","v":"500"},0.64800000000000002]
["REP ABJ",3,"21103640530",null,"Articles de bricolage","Equipement personnel et accessoires de protection de bricolage","Caoutchouc naturel >50%","Compris entre 3 kg et 5 kg exclus","€/unité",0.86,0.86,{"$f":"VLOOKUP(J1831,'Codes éco-part'!$C:$E,3,FALSE)","v":"501"},1.032]
["REP ABJ",3,"21103640540",null,"Articles de bricolage","Equipement personnel et accessoires de protection de bricolage","Caoutchouc naturel >50%","Compris entre 5 kg et 7 kg exclus","€/unité",1.51,1.51,{"$f":"VLOOKUP(J1832,'Codes éco-part'!$C:$E,3,FALSE)","v":"502"},1.8119999999999998]
["REP ABJ",3,"21103650000",null,"Articles de bricolage","Equipement personnel et accessoires de protection de bricolage","Matériaux ou fibres synthétiques >90%","Eléments de toutes dimensions et poids","€ / Tonne",165,165,{"$f":"VLOOKUP(J1833,'Codes éco-part'!$C:$E,3,FALSE)","v":"496"},198]
["REP ABJ",3,"21103650200",null,"Articles de bricolage","Equipement personnel et accessoires de protection de bricolage","Matériaux ou fibres synthétiques >90%","Inférieur strictement à 0,5 kg","€/unité",0.04,0.04,{"$f":"VLOOKUP(J1834,'Codes éco-part'!$C:$E,3,FALSE)","v":"002"},4.8000000000000001E-2]
["REP ABJ",3,"21103650210",null,"Articles de bricolage","Equipement personnel et accessoires de protection de bricolage","Matériaux ou fibres synthétiques >90%","Compris entre 0,5 kg et 1 kg exclus","€/unité",0.12,0.12,{"$f":"VLOOKUP(J1835,'Codes éco-part'!$C:$E,3,FALSE)","v":"097"},0.14399999999999999]
["REP ABJ",3,"21103650220",null,"Articles de bricolage","Equipement personnel et accessoires de protection de bricolage","Matériaux ou fibres synthétiques >90%","Compris entre 1 kg et 2 kg exclus","€/unité",0.25,0.25,{"$f":"VLOOKUP(J1836,'Codes éco-part'!$C:$E,3,FALSE)","v":"095"},0.3]
["REP ABJ",3,"21103650520",null,"Articles de bricolage","Equipement personnel et accessoires de protection de bricolage","Matériaux ou fibres synthétiques >90%","Compris entre 2 kg et 3 kg exclus","€/unité",0.41,0.41,{"$f":"VLOOKUP(J1837,'Codes éco-part'!$C:$E,3,FALSE)","v":"503"},0.49199999999999994]
["REP ABJ",3,"21103650530",null,"Articles de bricolage","Equipement personnel et accessoires de protection de bricolage","Matériaux ou fibres synthétiques >90%","Compris entre 3 kg et 5 kg exclus","€/unité",0.66,0.66,{"$f":"VLOOKUP(J1838,'Codes éco-part'!$C:$E,3,FALSE)","v":"453"},0.79200000000000004]
["REP ABJ",3,"21103650540",null,"Articles de bricolage","Equipement personnel et accessoires de protection de bricolage","Matériaux ou fibres synthétiques >90%","Compris entre 5 kg et 7 kg exclus","€/unité",1.1599999999999999,1.1599999999999999,{"$f":"VLOOKUP(J1839,'Codes éco-part'!$C:$E,3,FALSE)","v":"504"},1.3919999999999999]
["REP ABJ",3,"21103670000",null,"Articles de bricolage","Equipement personnel et accessoires de protection de bricolage","Assemblage matériaux ou fibres synthétiques >50% avec d'autres matériaux","Eléments de toutes dimensions et poids","€ / Tonne",215,215,{"$f":"VLOOKUP(J1840,'Codes éco-part'!$C:$E,3,FALSE)","v":"498"},258]
["REP ABJ",3,"21103670200",null,"Articles de bricolage","Equipement personnel et accessoires de protection de bricolage","Assemblage matériaux ou fibres synthétiques >50% avec d'autres matériaux","Inférieur strictement à 0,5 kg","€/unité",0.05,0.05,{"$f":"VLOOKUP(J1841,'Codes éco-part'!$C:$E,3,FALSE)","v":"048"},0.06]
["REP ABJ",3,"21103670210",null,"Articles de bricolage","Equipement personnel et accessoires de protection de bricolage","Assemblage matériaux ou fibres synthétiques >50% avec d'autres matériaux","Compris entre 0,5 kg et 1 kg exclus","€/unité",0.16,0.16,{"$f":"VLOOKUP(J1842,'Codes éco-part'!$C:$E,3,FALSE)","v":"099"},0.192]
["REP ABJ",3,"21103670220",null,"Articles de bricolage","Equipement personnel et accessoires de protection de bricolage","Assemblage matériaux ou fibres synthétiques >50% avec d'autres matériaux","Compris entre 1 kg et 2 kg exclus","€/unité",0.32,0.32,{"$f":"VLOOKUP(J1843,'Codes éco-part'!$C:$E,3,FALSE)","v":"447"},0.38400000000000001]
["REP ABJ",3,"21103670520",null,"Articles de bricolage","Equipement personnel et accessoires de protection de bricolage","Assemblage matériaux ou fibres synthétiques >50% avec d'autres matériaux","Compris entre 2 kg et 3 kg exclus","€/unité",0.54,0.54,{"$f":"VLOOKUP(J1844,'Codes éco-part'!$C:$E,3,FALSE)","v":"500"},0.64800000000000002]
["REP ABJ",3,"21103670530",null,"Articles de bricolage","Equipement personnel et accessoires de protection de bricolage","Assemblage matériaux ou fibres synthétiques >50% avec d'autres matériaux","Compris entre 3 kg et 5 kg exclus","€/unité",0.86,0.86,{"$f":"VLOOKUP(J1845,'Codes éco-part'!$C:$E,3,FALSE)","v":"501"},1.032]
["REP ABJ",3,"21103670540",null,"Articles de bricolage","Equipement personnel et accessoires de protection de bricolage","Assemblage matériaux ou fibres synthétiques >50% avec d'autres matériaux","Compris entre 5 kg et 7 kg exclus","€/unité",1.51,1.51,{"$f":"VLOOKUP(J1846,'Codes éco-part'!$C:$E,3,FALSE)","v":"502"},1.8119999999999998]
["REP ABJ",3,"21103680000",null,"Articles de bricolage","Equipement personnel et accessoires de protection de bricolage","Verre >90%","Eléments de toutes dimensions et poids","€ / Tonne",5,5,{"$f":"VLOOKUP(J1847,'Codes éco-part'!$C:$E,3,FALSE)","v":"042"},6]
["REP ABJ",3,"21103680200",null,"Articles de bricolage","Equipement personnel et accessoires de protection de bricolage","Verre >90%","Inférieur strictement à 0,5 kg","€/unité",0.01,0.01,{"$f":"VLOOKUP(J1848,'Codes éco-part'!$C:$E,3,FALSE)","v":"260"},1.2E-2]
["REP ABJ",3,"21103680210",null,"Articles de bricolage","Equipement personnel et accessoires de protection de bricolage","Verre >90%","Compris entre 0,5 kg et 1 kg exclus","€/unité",0.01,0.01,{"$f":"VLOOKUP(J1849,'Codes éco-part'!$C:$E,3,FALSE)","v":"260"},1.2E-2]
["REP ABJ",3,"21103680220",null,"Articles de bricolage","Equipement personnel et accessoires de protection de bricolage","Verre >90%","Compris entre 1 kg et 2 kg exclus","€/unité",0.01,0.01,{"$f":"VLOOKUP(J1850,'Codes éco-part'!$C:$E,3,FALSE)","v":"260"},1.2E-2]
["REP ABJ",3,"21103680520",null,"Articles de bricolage","Equipement personnel et accessoires de protection de bricolage","Verre >90%","Compris entre 2 kg et 3 kg exclus","€/unité",0.01,0.01,{"$f":"VLOOKUP(J1851,'Codes éco-part'!$C:$E,3,FALSE)","v":"260"},1.2E-2]
["REP ABJ",3,"21103680530",null,"Articles de bricolage","Equipement personnel et accessoires de protection de bricolage","Verre >90%","Compris entre 3 kg et 5 kg exclus","€/unité",0.02,0.02,{"$f":"VLOOKUP(J1852,'Codes éco-part'!$C:$E,3,FALSE)","v":"047"},2.4E-2]
["REP ABJ",3,"21103680540",null,"Articles de bricolage","Equipement personnel et accessoires de protection de bricolage","Verre >90%","Compris entre 5 kg et 7 kg exclus","€/unité",0.04,0.04,{"$f":"VLOOKUP(J1853,'Codes éco-part'!$C:$E,3,FALSE)","v":"002"},4.8000000000000001E-2]
["REP ABJ",3,"21103700000",null,"Articles de bricolage","Equipement personnel et accessoires de protection de bricolage","Assemblage verre à plus de 50% avec métal","Eléments de toutes dimensions et poids","€ / Tonne",215,215,{"$f":"VLOOKUP(J1854,'Codes éco-part'!$C:$E,3,FALSE)","v":"498"},258]
["REP ABJ",3,"21103700200",null,"Articles de bricolage","Equipement personnel et accessoires de protection de bricolage","Assemblage verre à plus de 50% avec métal","Inférieur strictement à 0,5 kg","€/unité",0.05,0.05,{"$f":"VLOOKUP(J1855,'Codes éco-part'!$C:$E,3,FALSE)","v":"048"},0.06]
["REP ABJ",3,"21103700210",null,"Articles de bricolage","Equipement personnel et accessoires de protection de bricolage","Assemblage verre à plus de 50% avec métal","Compris entre 0,5 kg et 1 kg exclus","€/unité",0.16,0.16,{"$f":"VLOOKUP(J1856,'Codes éco-part'!$C:$E,3,FALSE)","v":"099"},0.192]
["REP ABJ",3,"21103700220",null,"Articles de bricolage","Equipement personnel et accessoires de protection de bricolage","Assemblage verre à plus de 50% avec métal","Compris entre 1 kg et 2 kg exclus","€/unité",0.32,0.32,{"$f":"VLOOKUP(J1857,'Codes éco-part'!$C:$E,3,FALSE)","v":"447"},0.38400000000000001]
["REP ABJ",3,"21103700520",null,"Articles de bricolage","Equipement personnel et accessoires de protection de bricolage","Assemblage verre à plus de 50% avec métal","Compris entre 2 kg et 3 kg exclus","€/unité",0.54,0.54,{"$f":"VLOOKUP(J1858,'Codes éco-part'!$C:$E,3,FALSE)","v":"500"},{"$f":"J1858*1.2","v":0.64800000000000002}]
["REP ABJ",3,"21103700530",null,"Articles de bricolage","Equipement personnel et accessoires de protection de bricolage","Assemblage verre à plus de 50% avec métal","Compris entre 3 kg et 5 kg exclus","€/unité",0.86,0.86,{"$f":"VLOOKUP(J1859,'Codes éco-part'!$C:$E,3,FALSE)","v":"501"},1.032]
["REP ABJ",3,"21103700540",null,"Articles de bricolage","Equipement personnel et accessoires de protection de bricolage","Assemblage verre à plus de 50% avec métal","Compris entre 5 kg et 7 kg exclus","€/unité",1.51,1.51,{"$f":"VLOOKUP(J1860,'Codes éco-part'!$C:$E,3,FALSE)","v":"502"},1.8119999999999998]
["REP ABJ",3,"21103710000",null,"Articles de bricolage","Equipement personnel et accessoires de protection de bricolage","Assemblage verre à plus de 50% avec Inerte","Eléments de toutes dimensions et poids","€ / Tonne",215,215,{"$f":"VLOOKUP(J1861,'Codes éco-part'!$C:$E,3,FALSE)","v":"498"},258]
["REP ABJ",3,"21103710200",null,"Articles de bricolage","Equipement personnel et accessoires de protection de bricolage","Assemblage verre à plus de 50% avec Inerte","Inférieur strictement à 0,5 kg","€/unité",0.05,0.05,{"$f":"VLOOKUP(J1862,'Codes éco-part'!$C:$E,3,FALSE)","v":"048"},0.06]
["REP ABJ",3,"21103710210",null,"Articles de bricolage","Equipement personnel et accessoires de protection de bricolage","Assemblage verre à plus de 50% avec Inerte","Compris entre 0,5 kg et 1 kg exclus","€/unité",0.16,0.16,{"$f":"VLOOKUP(J1863,'Codes éco-part'!$C:$E,3,FALSE)","v":"099"},0.192]
["REP ABJ",3,"21103710220",null,"Articles de bricolage","Equipement personnel et accessoires de protection de bricolage","Assemblage verre à plus de 50% avec Inerte","Compris entre 1 kg et 2 kg exclus","€/unité",0.32,0.32,{"$f":"VLOOKUP(J1864,'Codes éco-part'!$C:$E,3,FALSE)","v":"447"},0.38400000000000001]
["REP ABJ",3,"21103710520",null,"Articles de bricolage","Equipement personnel et accessoires de protection de bricolage","Assemblage verre à plus de 50% avec Inerte","Compris entre 2 kg et 3 kg exclus","€/unité",0.54,0.54,{"$f":"VLOOKUP(J1865,'Codes éco-part'!$C:$E,3,FALSE)","v":"500"},0.64800000000000002]
["REP ABJ",3,"21103710530",null,"Articles de bricolage","Equipement personnel et accessoires de protection de bricolage","Assemblage verre à plus de 50% avec Inerte","Compris entre 3 kg et 5 kg exclus","€/unité",0.86,0.86,{"$f":"VLOOKUP(J1866,'Codes éco-part'!$C:$E,3,FALSE)","v":"501"},1.032]
["REP ABJ",3,"21103710540",null,"Articles de bricolage","Equipement personnel et accessoires de protection de bricolage","Assemblage verre à plus de 50% avec Inerte","Compris entre 5 kg et 7 kg exclus","€/unité",1.51,1.51,{"$f":"VLOOKUP(J1867,'Codes éco-part'!$C:$E,3,FALSE)","v":"502"},1.8119999999999998]
["REP ABJ",3,"21103720000",null,"Articles de bricolage","Equipement personnel et accessoires de protection de bricolage","Assemblage verre à plus de 50% avec bois ou dérivés de bois","Eléments de toutes dimensions et poids","€ / Tonne",215,215,{"$f":"VLOOKUP(J1868,'Codes éco-part'!$C:$E,3,FALSE)","v":"498"},258]
["REP ABJ",3,"21103720200",null,"Articles de bricolage","Equipement personnel et accessoires de protection de bricolage","Assemblage verre à plus de 50% avec bois ou dérivés de bois","Inférieur strictement à 0,5 kg","€/unité",0.05,0.05,{"$f":"VLOOKUP(J1869,'Codes éco-part'!$C:$E,3,FALSE)","v":"048"},0.06]
["REP ABJ",3,"21103720210",null,"Articles de bricolage","Equipement personnel et accessoires de protection de bricolage","Assemblage verre à plus de 50% avec bois ou dérivés de bois","Compris entre 0,5 kg et 1 kg exclus","€/unité",0.16,0.16,{"$f":"VLOOKUP(J1870,'Codes éco-part'!$C:$E,3,FALSE)","v":"099"},0.192]
["REP ABJ",3,"21103720220",null,"Articles de bricolage","Equipement personnel et accessoires de protection de bricolage","Assemblage verre à plus de 50% avec bois ou dérivés de bois","Compris entre 1 kg et 2 kg exclus","€/unité",0.32,0.32,{"$f":"VLOOKUP(J1871,'Codes éco-part'!$C:$E,3,FALSE)","v":"447"},0.38400000000000001]
["REP ABJ",3,"21103720520",null,"Articles de bricolage","Equipement personnel et accessoires de protection de bricolage","Assemblage verre à plus de 50% avec bois ou dérivés de bois","Compris entre 2 kg et 3 kg exclus","€/unité",0.54,0.54,{"$f":"VLOOKUP(J1872,'Codes éco-part'!$C:$E,3,FALSE)","v":"500"},0.64800000000000002]
["REP ABJ",3,"21103720530",null,"Articles de bricolage","Equipement personnel et accessoires de protection de bricolage","Assemblage verre à plus de 50% avec bois ou dérivés de bois","Compris entre 3 kg et 5 kg exclus","€/unité",0.86,0.86,{"$f":"VLOOKUP(J1873,'Codes éco-part'!$C:$E,3,FALSE)","v":"501"},1.032]
["REP ABJ",3,"21103720540",null,"Articles de bricolage","Equipement personnel et accessoires de protection de bricolage","Assemblage verre à plus de 50% avec bois ou dérivés de bois","Compris entre 5 kg et 7 kg exclus","€/unité",1.51,1.51,{"$f":"VLOOKUP(J1874,'Codes éco-part'!$C:$E,3,FALSE)","v":"502"},1.8119999999999998]
["REP ABJ",3,"21103730000",null,"Articles de bricolage","Equipement personnel et accessoires de protection de bricolage","Assemblage verre à plus de 50% avec plastique","Eléments de toutes dimensions et poids","€ / Tonne",215,215,{"$f":"VLOOKUP(J1875,'Codes éco-part'!$C:$E,3,FALSE)","v":"498"},258]
["REP ABJ",3,"21103730200",null,"Articles de bricolage","Equipement personnel et accessoires de protection de bricolage","Assemblage verre à plus de 50% avec plastique","Inférieur strictement à 0,5 kg","€/unité",0.05,0.05,{"$f":"VLOOKUP(J1876,'Codes éco-part'!$C:$E,3,FALSE)","v":"048"},0.06]
["REP ABJ",3,"21103730210",null,"Articles de bricolage","Equipement personnel et accessoires de protection de bricolage","Assemblage verre à plus de 50% avec plastique","Compris entre 0,5 kg et 1 kg exclus","€/unité",0.16,0.16,{"$f":"VLOOKUP(J1877,'Codes éco-part'!$C:$E,3,FALSE)","v":"099"},0.192]
["REP ABJ",3,"21103730220",null,"Articles de bricolage","Equipement personnel et accessoires de protection de bricolage","Assemblage verre à plus de 50% avec plastique","Compris entre 1 kg et 2 kg exclus","€/unité",0.32,0.32,{"$f":"VLOOKUP(J1878,'Codes éco-part'!$C:$E,3,FALSE)","v":"447"},0.38400000000000001]
["REP ABJ",3,"21103730520",null,"Articles de bricolage","Equipement personnel et accessoires de protection de bricolage","Assemblage verre à plus de 50% avec plastique","Compris entre 2 kg et 3 kg exclus","€/unité",0.54,0.54,{"$f":"VLOOKUP(J1879,'Codes éco-part'!$C:$E,3,FALSE)","v":"500"},0.64800000000000002]
["REP ABJ",3,"21103730530",null,"Articles de bricolage","Equipement personnel et accessoires de protection de bricolage","Assemblage verre à plus de 50% avec plastique","Compris entre 3 kg et 5 kg exclus","€/unité",0.86,0.86,{"$f":"VLOOKUP(J1880,'Codes éco-part'!$C:$E,3,FALSE)","v":"501"},1.032]
["REP ABJ",3,"21103730540",null,"Articles de bricolage","Equipement personnel et accessoires de protection de bricolage","Assemblage verre à plus de 50% avec plastique","Compris entre 5 kg et 7 kg exclus","€/unité",1.51,1.51,{"$f":"VLOOKUP(J1881,'Codes éco-part'!$C:$E,3,FALSE)","v":"502"},1.8119999999999998]
["REP ABJ",3,"21103810000",null,"Articles de bricolage","Equipement personnel et accessoires de protection de bricolage","Assemblage dont la composition conjointe en bois, dérivés de bois et en métal dépasse 90%","Eléments de toutes dimensions et poids","€ / Tonne",45,45,{"$f":"VLOOKUP(J1882,'Codes éco-part'!$C:$E,3,FALSE)","v":"169"},54]
["REP ABJ",3,"21103810200",null,"Articles de bricolage","Equipement personnel et accessoires de protection de bricolage","Assemblage dont la composition conjointe en bois, dérivés de bois et en métal dépasse 90%","Inférieur strictement à 0,5 kg","€/unité",0.01,0.01,{"$f":"VLOOKUP(J1883,'Codes éco-part'!$C:$E,3,FALSE)","v":"260"},1.2E-2]
["REP ABJ",3,"21103810210",null,"Articles de bricolage","Equipement personnel et accessoires de protection de bricolage","Assemblage dont la composition conjointe en bois, dérivés de bois et en métal dépasse 90%","Compris entre 0,5 kg et 1 kg exclus","€/unité",0.03,0.03,{"$f":"VLOOKUP(J1884,'Codes éco-part'!$C:$E,3,FALSE)","v":"092"},3.5999999999999997E-2]
["REP ABJ",3,"21103810220",null,"Articles de bricolage","Equipement personnel et accessoires de protection de bricolage","Assemblage dont la composition conjointe en bois, dérivés de bois et en métal dépasse 90%","Compris entre 1 kg et 2 kg exclus","€/unité",7.0000000000000007E-2,7.0000000000000007E-2,{"$f":"VLOOKUP(J1885,'Codes éco-part'!$C:$E,3,FALSE)","v":"247"},8.4000000000000005E-2]
["REP ABJ",3,"21103810520",null,"Articles de bricolage","Equipement personnel et accessoires de protection de bricolage","Assemblage dont la composition conjointe en bois, dérivés de bois et en métal dépasse 90%","Compris entre 2 kg et 3 kg exclus","€/unité",0.11,0.11,{"$f":"VLOOKUP(J1886,'Codes éco-part'!$C:$E,3,FALSE)","v":"262"},0.13200000000000001]
["REP ABJ",3,"21103810530",null,"Articles de bricolage","Equipement personnel et accessoires de protection de bricolage","Assemblage dont la composition conjointe en bois, dérivés de bois et en métal dépasse 90%","Compris entre 3 kg et 5 kg exclus","€/unité",0.18,0.18,{"$f":"VLOOKUP(J1887,'Codes éco-part'!$C:$E,3,FALSE)","v":"100"},0.216]
["REP ABJ",3,"21103810540",null,"Articles de bricolage","Equipement personnel et accessoires de protection de bricolage","Assemblage dont la composition conjointe en bois, dérivés de bois et en métal dépasse 90%","Compris entre 5 kg et 7 kg exclus","€/unité",0.32,0.32,{"$f":"VLOOKUP(J1888,'Codes éco-part'!$C:$E,3,FALSE)","v":"447"},0.38400000000000001]
["REP ABJ",3,"21103820000",null,"Articles de bricolage","Equipement personnel et accessoires de protection de bricolage","Assemblage de 3 matériaux ou plus sans un matériau à plus de 50%","Eléments de toutes dimensions et poids","€ / Tonne",215,215,{"$f":"VLOOKUP(J1889,'Codes éco-part'!$C:$E,3,FALSE)","v":"498"},258]
["REP ABJ",3,"21103820200",null,"Articles de bricolage","Equipement personnel et accessoires de protection de bricolage","Assemblage de 3 matériaux ou plus sans un matériau à plus de 50%","Inférieur strictement à 0,5 kg","€/unité",0.05,0.05,{"$f":"VLOOKUP(J1890,'Codes éco-part'!$C:$E,3,FALSE)","v":"048"},0.06]
["REP ABJ",3,"21103820210",null,"Articles de bricolage","Equipement personnel et accessoires de protection de bricolage","Assemblage de 3 matériaux ou plus sans un matériau à plus de 50%","Compris entre 0,5 kg et 1 kg exclus","€/unité",0.16,0.16,{"$f":"VLOOKUP(J1891,'Codes éco-part'!$C:$E,3,FALSE)","v":"099"},0.192]
["REP ABJ",3,"21103820220",null,"Articles de bricolage","Equipement personnel et accessoires de protection de bricolage","Assemblage de 3 matériaux ou plus sans un matériau à plus de 50%","Compris entre 1 kg et 2 kg exclus","€/unité",0.32,0.32,{"$f":"VLOOKUP(J1892,'Codes éco-part'!$C:$E,3,FALSE)","v":"447"},0.38400000000000001]
["REP ABJ",3,"21103820520",null,"Articles de bricolage","Equipement personnel et accessoires de protection de bricolage","Assemblage de 3 matériaux ou plus sans un matériau à plus de 50%","Compris entre 2 kg et 3 kg exclus","€/unité",0.54,0.54,{"$f":"VLOOKUP(J1893,'Codes éco-part'!$C:$E,3,FALSE)","v":"500"},0.64800000000000002]
["REP ABJ",3,"21103820530",null,"Articles de bricolage","Equipement personnel et accessoires de protection de bricolage","Assemblage de 3 matériaux ou plus sans un matériau à plus de 50%","Compris entre 3 kg et 5 kg exclus","€/unité",0.86,0.86,{"$f":"VLOOKUP(J1894,'Codes éco-part'!$C:$E,3,FALSE)","v":"501"},1.032]
["REP ABJ",3,"21103820540",null,"Articles de bricolage","Equipement personnel et accessoires de protection de bricolage","Assemblage de 3 matériaux ou plus sans un matériau à plus de 50%","Compris entre 5 kg et 7 kg exclus","€/unité",1.51,1.51,{"$f":"VLOOKUP(J1895,'Codes éco-part'!$C:$E,3,FALSE)","v":"502"},1.8119999999999998]
["REP ABJ",3,"21104000000",null,"Articles de bricolage","Bâches, housses, filets et films de bricolage","Non connu ou non spécifié par l'entreprise","Eléments de toutes dimensions et poids","€ / Tonne",215,215,{"$f":"VLOOKUP(J1896,'Codes éco-part'!$C:$E,3,FALSE)","v":"498"},258]
["REP ABJ",3,"21104000200",null,"Articles de bricolage","Bâches, housses, filets et films de bricolage","Non connu ou non spécifié par l'entreprise","Inférieur strictement à 0,5 kg","€/unité",0.05,0.05,{"$f":"VLOOKUP(J1897,'Codes éco-part'!$C:$E,3,FALSE)","v":"048"},0.06]
["REP ABJ",3,"21104000210",null,"Articles de bricolage","Bâches, housses, filets et films de bricolage","Non connu ou non spécifié par l'entreprise","Compris entre 0,5 kg et 1 kg exclus","€/unité",0.16,0.16,{"$f":"VLOOKUP(J1898,'Codes éco-part'!$C:$E,3,FALSE)","v":"099"},0.192]
["REP ABJ",3,"21104000220",null,"Articles de bricolage","Bâches, housses, filets et films de bricolage","Non connu ou non spécifié par l'entreprise","Compris entre 1 kg et 2 kg exclus","€/unité",0.32,0.32,{"$f":"VLOOKUP(J1899,'Codes éco-part'!$C:$E,3,FALSE)","v":"447"},0.38400000000000001]
["REP ABJ",3,"21104000520",null,"Articles de bricolage","Bâches, housses, filets et films de bricolage","Non connu ou non spécifié par l'entreprise","Compris entre 2 kg et 3 kg exclus","€/unité",0.54,0.54,{"$f":"VLOOKUP(J1900,'Codes éco-part'!$C:$E,3,FALSE)","v":"500"},0.64800000000000002]
["REP ABJ",3,"21104000530",null,"Articles de bricolage","Bâches, housses, filets et films de bricolage","Non connu ou non spécifié par l'entreprise","Compris entre 3 kg et 5 kg exclus","€/unité",0.86,0.86,{"$f":"VLOOKUP(J1901,'Codes éco-part'!$C:$E,3,FALSE)","v":"501"},1.032]
["REP ABJ",3,"21104000540",null,"Articles de bricolage","Bâches, housses, filets et films de bricolage","Non connu ou non spécifié par l'entreprise","Compris entre 5 kg et 7 kg exclus","€/unité",1.51,1.51,{"$f":"VLOOKUP(J1902,'Codes éco-part'!$C:$E,3,FALSE)","v":"502"},1.8119999999999998]
["REP ABJ",3,"21104000900",null,"Articles de bricolage","Bâches, housses, filets et films de bricolage","Non connu ou non spécifié par l'entreprise","Lot de 10","€/Lot",15.05,15.05,{"$f":"VLOOKUP(J1903,'Codes éco-part'!$C:$E,3,FALSE)","v":"516"},18.059999999999999]
["REP ABJ",3,"21104040000",null,"Articles de bricolage","Bâches, housses, filets et films de bricolage","Matériaux bio sourcés ou textiles non synthétiques >50%","Eléments de toutes dimensions et poids","€ / Tonne",215,215,{"$f":"VLOOKUP(J1904,'Codes éco-part'!$C:$E,3,FALSE)","v":"498"},258]
["REP ABJ",3,"21104040200",null,"Articles de bricolage","Bâches, housses, filets et films de bricolage","Matériaux bio sourcés ou textiles non synthétiques >50%","Inférieur strictement à 0,5 kg","€/unité",0.05,0.05,{"$f":"VLOOKUP(J1905,'Codes éco-part'!$C:$E,3,FALSE)","v":"048"},0.06]
["REP ABJ",3,"21104040210",null,"Articles de bricolage","Bâches, housses, filets et films de bricolage","Matériaux bio sourcés ou textiles non synthétiques >50%","Compris entre 0,5 kg et 1 kg exclus","€/unité",0.16,0.16,{"$f":"VLOOKUP(J1906,'Codes éco-part'!$C:$E,3,FALSE)","v":"099"},0.192]
["REP ABJ",3,"21104040220",null,"Articles de bricolage","Bâches, housses, filets et films de bricolage","Matériaux bio sourcés ou textiles non synthétiques >50%","Compris entre 1 kg et 2 kg exclus","€/unité",0.32,0.32,{"$f":"VLOOKUP(J1907,'Codes éco-part'!$C:$E,3,FALSE)","v":"447"},0.38400000000000001]
["REP ABJ",3,"21104040520",null,"Articles de bricolage","Bâches, housses, filets et films de bricolage","Matériaux bio sourcés ou textiles non synthétiques >50%","Compris entre 2 kg et 3 kg exclus","€/unité",0.54,0.54,{"$f":"VLOOKUP(J1908,'Codes éco-part'!$C:$E,3,FALSE)","v":"500"},0.64800000000000002]
["REP ABJ",3,"21104040530",null,"Articles de bricolage","Bâches, housses, filets et films de bricolage","Matériaux bio sourcés ou textiles non synthétiques >50%","Compris entre 3 kg et 5 kg exclus","€/unité",0.86,0.86,{"$f":"VLOOKUP(J1909,'Codes éco-part'!$C:$E,3,FALSE)","v":"501"},1.032]
["REP ABJ",3,"21104040540",null,"Articles de bricolage","Bâches, housses, filets et films de bricolage","Matériaux bio sourcés ou textiles non synthétiques >50%","Compris entre 5 kg et 7 kg exclus","€/unité",1.51,1.51,{"$f":"VLOOKUP(J1910,'Codes éco-part'!$C:$E,3,FALSE)","v":"502"},1.8119999999999998]
["REP ABJ",3,"21104050000",null,"Articles de bricolage","Bâches, housses, filets et films de bricolage","Plastiques ou autres matériaux synthétiques >50%","Eléments de toutes dimensions et poids","€ / Tonne",215,215,{"$f":"VLOOKUP(J1911,'Codes éco-part'!$C:$E,3,FALSE)","v":"498"},258]
["REP ABJ",3,"21104050200",null,"Articles de bricolage","Bâches, housses, filets et films de bricolage","Plastiques ou autres matériaux synthétiques >50%","Inférieur strictement à 0,5 kg","€/unité",0.05,0.05,{"$f":"VLOOKUP(J1912,'Codes éco-part'!$C:$E,3,FALSE)","v":"048"},0.06]
["REP ABJ",3,"21104050210",null,"Articles de bricolage","Bâches, housses, filets et films de bricolage","Plastiques ou autres matériaux synthétiques >50%","Compris entre 0,5 kg et 1 kg exclus","€/unité",0.16,0.16,{"$f":"VLOOKUP(J1913,'Codes éco-part'!$C:$E,3,FALSE)","v":"099"},0.192]
["REP ABJ",3,"21104050220",null,"Articles de bricolage","Bâches, housses, filets et films de bricolage","Plastiques ou autres matériaux synthétiques >50%","Compris entre 1 kg et 2 kg exclus","€/unité",0.32,0.32,{"$f":"VLOOKUP(J1914,'Codes éco-part'!$C:$E,3,FALSE)","v":"447"},0.38400000000000001]
["REP ABJ",3,"21104050520",null,"Articles de bricolage","Bâches, housses, filets et films de bricolage","Plastiques ou autres matériaux synthétiques >50%","Compris entre 2 kg et 3 kg exclus","€/unité",0.54,0.54,{"$f":"VLOOKUP(J1915,'Codes éco-part'!$C:$E,3,FALSE)","v":"500"},0.64800000000000002]
["REP ABJ",3,"21104050530",null,"Articles de bricolage","Bâches, housses, filets et films de bricolage","Plastiques ou autres matériaux synthétiques >50%","Compris entre 3 kg et 5 kg exclus","€/unité",0.86,0.86,{"$f":"VLOOKUP(J1916,'Codes éco-part'!$C:$E,3,FALSE)","v":"501"},1.032]
["REP ABJ",3,"21104050540",null,"Articles de bricolage","Bâches, housses, filets et films de bricolage","Plastiques ou autres matériaux synthétiques >50%","Compris entre 5 kg et 7 kg exclus","€/unité",1.51,1.51,{"$f":"VLOOKUP(J1917,'Codes éco-part'!$C:$E,3,FALSE)","v":"502"},1.8119999999999998]
["REP ABJ",3,"21104060000",null,"Articles de bricolage","Bâches, housses, filets et films de bricolage","Matériaux d'origine animale >50%","Eléments de toutes dimensions et poids","€ / Tonne",215,215,{"$f":"VLOOKUP(J1918,'Codes éco-part'!$C:$E,3,FALSE)","v":"498"},258]
["REP ABJ",3,"21104060200",null,"Articles de bricolage","Bâches, housses, filets et films de bricolage","Matériaux d'origine animale >50%","Inférieur strictement à 0,5 kg","€/unité",0.05,0.05,{"$f":"VLOOKUP(J1919,'Codes éco-part'!$C:$E,3,FALSE)","v":"048"},0.06]
["REP ABJ",3,"21104060210",null,"Articles de bricolage","Bâches, housses, filets et films de bricolage","Matériaux d'origine animale >50%","Compris entre 0,5 kg et 1 kg exclus","€/unité",0.16,0.16,{"$f":"VLOOKUP(J1920,'Codes éco-part'!$C:$E,3,FALSE)","v":"099"},0.192]
["REP ABJ",3,"21104060220",null,"Articles de bricolage","Bâches, housses, filets et films de bricolage","Matériaux d'origine animale >50%","Compris entre 1 kg et 2 kg exclus","€/unité",0.32,0.32,{"$f":"VLOOKUP(J1921,'Codes éco-part'!$C:$E,3,FALSE)","v":"447"},0.38400000000000001]
["REP ABJ",3,"21104060520",null,"Articles de bricolage","Bâches, housses, filets et films de bricolage","Matériaux d'origine animale >50%","Compris entre 2 kg et 3 kg exclus","€/unité",0.54,0.54,{"$f":"VLOOKUP(J1922,'Codes éco-part'!$C:$E,3,FALSE)","v":"500"},{"$f":"J1922*1.2","v":0.64800000000000002}]
["REP ABJ",3,"21104060530",null,"Articles de bricolage","Bâches, housses, filets et films de bricolage","Matériaux d'origine animale >50%","Compris entre 3 kg et 5 kg exclus","€/unité",0.86,0.86,{"$f":"VLOOKUP(J1923,'Codes éco-part'!$C:$E,3,FALSE)","v":"501"},1.032]
["REP ABJ",3,"21104060540",null,"Articles de bricolage","Bâches, housses, filets et films de bricolage","Matériaux d'origine animale >50%","Compris entre 5 kg et 7 kg exclus","€/unité",1.51,1.51,{"$f":"VLOOKUP(J1924,'Codes éco-part'!$C:$E,3,FALSE)","v":"502"},1.8119999999999998]
["REP ABJ",3,"21104190000",null,"Articles de bricolage","Bâches, housses, filets et films de bricolage","Papier carton >50% avec d'autres matériaux (hors verre)","Eléments de toutes dimensions et poids","€ / Tonne",215,215,{"$f":"VLOOKUP(J1925,'Codes éco-part'!$C:$E,3,FALSE)","v":"498"},258]
["REP ABJ",3,"21104190200",null,"Articles de bricolage","Bâches, housses, filets et films de bricolage","Papier carton >50% avec d'autres matériaux (hors verre)","Inférieur strictement à 0,5 kg","€/unité",0.05,0.05,{"$f":"VLOOKUP(J1926,'Codes éco-part'!$C:$E,3,FALSE)","v":"048"},0.06]
["REP ABJ",3,"21104190210",null,"Articles de bricolage","Bâches, housses, filets et films de bricolage","Papier carton >50% avec d'autres matériaux (hors verre)","Compris entre 0,5 kg et 1 kg exclus","€/unité",0.16,0.16,{"$f":"VLOOKUP(J1927,'Codes éco-part'!$C:$E,3,FALSE)","v":"099"},0.192]
["REP ABJ",3,"21104190220",null,"Articles de bricolage","Bâches, housses, filets et films de bricolage","Papier carton >50% avec d'autres matériaux (hors verre)","Compris entre 1 kg et 2 kg exclus","€/unité",0.32,0.32,{"$f":"VLOOKUP(J1928,'Codes éco-part'!$C:$E,3,FALSE)","v":"447"},0.38400000000000001]
["REP ABJ",3,"21104190520",null,"Articles de bricolage","Bâches, housses, filets et films de bricolage","Papier carton >50% avec d'autres matériaux (hors verre)","Compris entre 2 kg et 3 kg exclus","€/unité",0.54,0.54,{"$f":"VLOOKUP(J1929,'Codes éco-part'!$C:$E,3,FALSE)","v":"500"},0.64800000000000002]
["REP ABJ",3,"21104190530",null,"Articles de bricolage","Bâches, housses, filets et films de bricolage","Papier carton >50% avec d'autres matériaux (hors verre)","Compris entre 3 kg et 5 kg exclus","€/unité",0.86,0.86,{"$f":"VLOOKUP(J1930,'Codes éco-part'!$C:$E,3,FALSE)","v":"501"},1.032]
["REP ABJ",3,"21104190540",null,"Articles de bricolage","Bâches, housses, filets et films de bricolage","Papier carton >50% avec d'autres matériaux (hors verre)","Compris entre 5 kg et 7 kg exclus","€/unité",1.51,1.51,{"$f":"VLOOKUP(J1931,'Codes éco-part'!$C:$E,3,FALSE)","v":"502"},1.8119999999999998]
["REP ABJ",3,"21104400000",null,"Articles de bricolage","Bâches, housses, filets et films de bricolage","Assemblage caoutchouc synthétique ou latex >50% avec d'autres matériaux","Eléments de toutes dimensions et poids","€ / Tonne",215,215,{"$f":"VLOOKUP(J1932,'Codes éco-part'!$C:$E,3,FALSE)","v":"498"},258]
["REP ABJ",3,"21104400200",null,"Articles de bricolage","Bâches, housses, filets et films de bricolage","Assemblage caoutchouc synthétique ou latex >50% avec d'autres matériaux","Inférieur strictement à 0,5 kg","€/unité",0.05,0.05,{"$f":"VLOOKUP(J1933,'Codes éco-part'!$C:$E,3,FALSE)","v":"048"},0.06]
["REP ABJ",3,"21104400210",null,"Articles de bricolage","Bâches, housses, filets et films de bricolage","Assemblage caoutchouc synthétique ou latex >50% avec d'autres matériaux","Compris entre 0,5 kg et 1 kg exclus","€/unité",0.16,0.16,{"$f":"VLOOKUP(J1934,'Codes éco-part'!$C:$E,3,FALSE)","v":"099"},0.192]
["REP ABJ",3,"21104400220",null,"Articles de bricolage","Bâches, housses, filets et films de bricolage","Assemblage caoutchouc synthétique ou latex >50% avec d'autres matériaux","Compris entre 1 kg et 2 kg exclus","€/unité",0.32,0.32,{"$f":"VLOOKUP(J1935,'Codes éco-part'!$C:$E,3,FALSE)","v":"447"},0.38400000000000001]
["REP ABJ",3,"21104400520",null,"Articles de bricolage","Bâches, housses, filets et films de bricolage","Assemblage caoutchouc synthétique ou latex >50% avec d'autres matériaux","Compris entre 2 kg et 3 kg exclus","€/unité",0.54,0.54,{"$f":"VLOOKUP(J1936,'Codes éco-part'!$C:$E,3,FALSE)","v":"500"},0.64800000000000002]
["REP ABJ",3,"21104400530",null,"Articles de bricolage","Bâches, housses, filets et films de bricolage","Assemblage caoutchouc synthétique ou latex >50% avec d'autres matériaux","Compris entre 3 kg et 5 kg exclus","€/unité",0.86,0.86,{"$f":"VLOOKUP(J1937,'Codes éco-part'!$C:$E,3,FALSE)","v":"501"},1.032]
["REP ABJ",3,"21104400540",null,"Articles de bricolage","Bâches, housses, filets et films de bricolage","Assemblage caoutchouc synthétique ou latex >50% avec d'autres matériaux","Compris entre 5 kg et 7 kg exclus","€/unité",1.51,1.51,{"$f":"VLOOKUP(J1938,'Codes éco-part'!$C:$E,3,FALSE)","v":"502"},1.8119999999999998]
["REP ABJ",3,"21104410000",null,"Articles de bricolage","Bâches, housses, filets et films de bricolage","Plastiques (mono résine) >90%","Eléments de toutes dimensions et poids","€ / Tonne",165,165,{"$f":"VLOOKUP(J1939,'Codes éco-part'!$C:$E,3,FALSE)","v":"496"},198]
["REP ABJ",3,"21104410200",null,"Articles de bricolage","Bâches, housses, filets et films de bricolage","Plastiques (mono résine) >90%","Inférieur strictement à 0,5 kg","€/unité",0.04,0.04,{"$f":"VLOOKUP(J1940,'Codes éco-part'!$C:$E,3,FALSE)","v":"002"},4.8000000000000001E-2]
["REP ABJ",3,"21104410210",null,"Articles de bricolage","Bâches, housses, filets et films de bricolage","Plastiques (mono résine) >90%","Compris entre 0,5 kg et 1 kg exclus","€/unité",0.12,0.12,{"$f":"VLOOKUP(J1941,'Codes éco-part'!$C:$E,3,FALSE)","v":"097"},0.14399999999999999]
["REP ABJ",3,"21104410220",null,"Articles de bricolage","Bâches, housses, filets et films de bricolage","Plastiques (mono résine) >90%","Compris entre 1 kg et 2 kg exclus","€/unité",0.25,0.25,{"$f":"VLOOKUP(J1942,'Codes éco-part'!$C:$E,3,FALSE)","v":"095"},0.3]
["REP ABJ",3,"21104410520",null,"Articles de bricolage","Bâches, housses, filets et films de bricolage","Plastiques (mono résine) >90%","Compris entre 2 kg et 3 kg exclus","€/unité",0.41,0.41,{"$f":"VLOOKUP(J1943,'Codes éco-part'!$C:$E,3,FALSE)","v":"503"},0.49199999999999994]
["REP ABJ",3,"21104410530",null,"Articles de bricolage","Bâches, housses, filets et films de bricolage","Plastiques (mono résine) >90%","Compris entre 3 kg et 5 kg exclus","€/unité",0.66,0.66,{"$f":"VLOOKUP(J1944,'Codes éco-part'!$C:$E,3,FALSE)","v":"453"},0.79200000000000004]
["REP ABJ",3,"21104410540",null,"Articles de bricolage","Bâches, housses, filets et films de bricolage","Plastiques (mono résine) >90%","Compris entre 5 kg et 7 kg exclus","€/unité",1.1599999999999999,1.1599999999999999,{"$f":"VLOOKUP(J1945,'Codes éco-part'!$C:$E,3,FALSE)","v":"504"},1.3919999999999999]
["REP ABJ",3,"21104420000",null,"Articles de bricolage","Bâches, housses, filets et films de bricolage","Polyterephtalate d'Ethylène (PET) >90%","Eléments de toutes dimensions et poids","€ / Tonne",165,165,{"$f":"VLOOKUP(J1946,'Codes éco-part'!$C:$E,3,FALSE)","v":"496"},198]
["REP ABJ",3,"21104420200",null,"Articles de bricolage","Bâches, housses, filets et films de bricolage","Polyterephtalate d'Ethylène (PET) >90%","Inférieur strictement à 0,5 kg","€/unité",0.04,0.04,{"$f":"VLOOKUP(J1947,'Codes éco-part'!$C:$E,3,FALSE)","v":"002"},4.8000000000000001E-2]
["REP ABJ",3,"21104420210",null,"Articles de bricolage","Bâches, housses, filets et films de bricolage","Polyterephtalate d'Ethylène (PET) >90%","Compris entre 0,5 kg et 1 kg exclus","€/unité",0.12,0.12,{"$f":"VLOOKUP(J1948,'Codes éco-part'!$C:$E,3,FALSE)","v":"097"},0.14399999999999999]
["REP ABJ",3,"21104420220",null,"Articles de bricolage","Bâches, housses, filets et films de bricolage","Polyterephtalate d'Ethylène (PET) >90%","Compris entre 1 kg et 2 kg exclus","€/unité",0.25,0.25,{"$f":"VLOOKUP(J1949,'Codes éco-part'!$C:$E,3,FALSE)","v":"095"},0.3]
["REP ABJ",3,"21104420520",null,"Articles de bricolage","Bâches, housses, filets et films de bricolage","Polyterephtalate d'Ethylène (PET) >90%","Compris entre 2 kg et 3 kg exclus","€/unité",0.41,0.41,{"$f":"VLOOKUP(J1950,'Codes éco-part'!$C:$E,3,FALSE)","v":"503"},0.49199999999999994]
["REP ABJ",3,"21104420530",null,"Articles de bricolage","Bâches, housses, filets et films de bricolage","Polyterephtalate d'Ethylène (PET) >90%","Compris entre 3 kg et 5 kg exclus","€/unité",0.66,0.66,{"$f":"VLOOKUP(J1951,'Codes éco-part'!$C:$E,3,FALSE)","v":"453"},0.79200000000000004]
["REP ABJ",3,"21104420540",null,"Articles de bricolage","Bâches, housses, filets et films de bricolage","Polyterephtalate d'Ethylène (PET) >90%","Compris entre 5 kg et 7 kg exclus","€/unité",1.1599999999999999,1.1599999999999999,{"$f":"VLOOKUP(J1952,'Codes éco-part'!$C:$E,3,FALSE)","v":"504"},1.3919999999999999]
["REP ABJ",3,"21104450000",null,"Articles de bricolage","Bâches, housses, filets et films de bricolage","PE ou PP ou mélange PP/PE >90%","Eléments de toutes dimensions et poids","€ / Tonne",165,165,{"$f":"VLOOKUP(J1953,'Codes éco-part'!$C:$E,3,FALSE)","v":"496"},198]
["REP ABJ",3,"21104450200",null,"Articles de bricolage","Bâches, housses, filets et films de bricolage","PE ou PP ou mélange PP/PE >90%","Inférieur strictement à 0,5 kg","€/unité",0.04,0.04,{"$f":"VLOOKUP(J1954,'Codes éco-part'!$C:$E,3,FALSE)","v":"002"},4.8000000000000001E-2]
["REP ABJ",3,"21104450210",null,"Articles de bricolage","Bâches, housses, filets et films de bricolage","PE ou PP ou mélange PP/PE >90%","Compris entre 0,5 kg et 1 kg exclus","€/unité",0.12,0.12,{"$f":"VLOOKUP(J1955,'Codes éco-part'!$C:$E,3,FALSE)","v":"097"},0.14399999999999999]
["REP ABJ",3,"21104450220",null,"Articles de bricolage","Bâches, housses, filets et films de bricolage","PE ou PP ou mélange PP/PE >90%","Compris entre 1 kg et 2 kg exclus","€/unité",0.25,0.25,{"$f":"VLOOKUP(J1956,'Codes éco-part'!$C:$E,3,FALSE)","v":"095"},0.3]
["REP ABJ",3,"21104450520",null,"Articles de bricolage","Bâches, housses, filets et films de bricolage","PE ou PP ou mélange PP/PE >90%","Compris entre 2 kg et 3 kg exclus","€/unité",0.41,0.41,{"$f":"VLOOKUP(J1957,'Codes éco-part'!$C:$E,3,FALSE)","v":"503"},0.49199999999999994]
["REP ABJ",3,"21104450530",null,"Articles de bricolage","Bâches, housses, filets et films de bricolage","PE ou PP ou mélange PP/PE >90%","Compris entre 3 kg et 5 kg exclus","€/unité",0.66,0.66,{"$f":"VLOOKUP(J1958,'Codes éco-part'!$C:$E,3,FALSE)","v":"453"},0.79200000000000004]
["REP ABJ",3,"21104450540",null,"Articles de bricolage","Bâches, housses, filets et films de bricolage","PE ou PP ou mélange PP/PE >90%","Compris entre 5 kg et 7 kg exclus","€/unité",1.1599999999999999,1.1599999999999999,{"$f":"VLOOKUP(J1959,'Codes éco-part'!$C:$E,3,FALSE)","v":"504"},1.3919999999999999]
["REP ABJ",3,"21104460000",null,"Articles de bricolage","Bâches, housses, filets et films de bricolage","ABS >90%","Eléments de toutes dimensions et poids","€ / Tonne",165,165,{"$f":"VLOOKUP(J1960,'Codes éco-part'!$C:$E,3,FALSE)","v":"496"},198]
["REP ABJ",3,"21104460200",null,"Articles de bricolage","Bâches, housses, filets et films de bricolage","ABS >90%","Inférieur strictement à 0,5 kg","€/unité",0.04,0.04,{"$f":"VLOOKUP(J1961,'Codes éco-part'!$C:$E,3,FALSE)","v":"002"},4.8000000000000001E-2]
["REP ABJ",3,"21104460210",null,"Articles de bricolage","Bâches, housses, filets et films de bricolage","ABS >90%","Compris entre 0,5 kg et 1 kg exclus","€/unité",0.12,0.12,{"$f":"VLOOKUP(J1962,'Codes éco-part'!$C:$E,3,FALSE)","v":"097"},0.14399999999999999]
["REP ABJ",3,"21104460220",null,"Articles de bricolage","Bâches, housses, filets et films de bricolage","ABS >90%","Compris entre 1 kg et 2 kg exclus","€/unité",0.25,0.25,{"$f":"VLOOKUP(J1963,'Codes éco-part'!$C:$E,3,FALSE)","v":"095"},0.3]
["REP ABJ",3,"21104460520",null,"Articles de bricolage","Bâches, housses, filets et films de bricolage","ABS >90%","Compris entre 2 kg et 3 kg exclus","€/unité",0.41,0.41,{"$f":"VLOOKUP(J1964,'Codes éco-part'!$C:$E,3,FALSE)","v":"503"},0.49199999999999994]
["REP ABJ",3,"21104460530",null,"Articles de bricolage","Bâches, housses, filets et films de bricolage","ABS >90%","Compris entre 3 kg et 5 kg exclus","€/unité",0.66,0.66,{"$f":"VLOOKUP(J1965,'Codes éco-part'!$C:$E,3,FALSE)","v":"453"},0.79200000000000004]
["REP ABJ",3,"21104460540",null,"Articles de bricolage","Bâches, housses, filets et films de bricolage","ABS >90%","Compris entre 5 kg et 7 kg exclus","€/unité",1.1599999999999999,1.1599999999999999,{"$f":"VLOOKUP(J1966,'Codes éco-part'!$C:$E,3,FALSE)","v":"504"},1.3919999999999999]
["REP ABJ",3,"21104470000",null,"Articles de bricolage","Bâches, housses, filets et films de bricolage","Polystyrène >90%","Eléments de toutes dimensions et poids","€ / Tonne",165,165,{"$f":"VLOOKUP(J1967,'Codes éco-part'!$C:$E,3,FALSE)","v":"496"},198]
["REP ABJ",3,"21104470200",null,"Articles de bricolage","Bâches, housses, filets et films de bricolage","Polystyrène >90%","Inférieur strictement à 0,5 kg","€/unité",0.04,0.04,{"$f":"VLOOKUP(J1968,'Codes éco-part'!$C:$E,3,FALSE)","v":"002"},4.8000000000000001E-2]
["REP ABJ",3,"21104470210",null,"Articles de bricolage","Bâches, housses, filets et films de bricolage","Polystyrène >90%","Compris entre 0,5 kg et 1 kg exclus","€/unité",0.12,0.12,{"$f":"VLOOKUP(J1969,'Codes éco-part'!$C:$E,3,FALSE)","v":"097"},0.14399999999999999]
["REP ABJ",3,"21104470220",null,"Articles de bricolage","Bâches, housses, filets et films de bricolage","Polystyrène >90%","Compris entre 1 kg et 2 kg exclus","€/unité",0.25,0.25,{"$f":"VLOOKUP(J1970,'Codes éco-part'!$C:$E,3,FALSE)","v":"095"},0.3]
["REP ABJ",3,"21104470520",null,"Articles de bricolage","Bâches, housses, filets et films de bricolage","Polystyrène >90%","Compris entre 2 kg et 3 kg exclus","€/unité",0.41,0.41,{"$f":"VLOOKUP(J1971,'Codes éco-part'!$C:$E,3,FALSE)","v":"503"},0.49199999999999994]
["REP ABJ",3,"21104470530",null,"Articles de bricolage","Bâches, housses, filets et films de bricolage","Polystyrène >90%","Compris entre 3 kg et 5 kg exclus","€/unité",0.66,0.66,{"$f":"VLOOKUP(J1972,'Codes éco-part'!$C:$E,3,FALSE)","v":"453"},0.79200000000000004]
["REP ABJ",3,"21104470540",null,"Articles de bricolage","Bâches, housses, filets et films de bricolage","Polystyrène >90%","Compris entre 5 kg et 7 kg exclus","€/unité",1.1599999999999999,1.1599999999999999,{"$f":"VLOOKUP(J1973,'Codes éco-part'!$C:$E,3,FALSE)","v":"504"},1.3919999999999999]
["REP ABJ",3,"21104480000",null,"Articles de bricolage","Bâches, housses, filets et films de bricolage","PVC >90%","Eléments de toutes dimensions et poids","€ / Tonne",165,165,{"$f":"VLOOKUP(J1974,'Codes éco-part'!$C:$E,3,FALSE)","v":"496"},198]
["REP ABJ",3,"21104480200",null,"Articles de bricolage","Bâches, housses, filets et films de bricolage","PVC >90%","Inférieur strictement à 0,5 kg","€/unité",0.04,0.04,{"$f":"VLOOKUP(J1975,'Codes éco-part'!$C:$E,3,FALSE)","v":"002"},4.8000000000000001E-2]
["REP ABJ",3,"21104480210",null,"Articles de bricolage","Bâches, housses, filets et films de bricolage","PVC >90%","Compris entre 0,5 kg et 1 kg exclus","€/unité",0.12,0.12,{"$f":"VLOOKUP(J1976,'Codes éco-part'!$C:$E,3,FALSE)","v":"097"},0.14399999999999999]
["REP ABJ",3,"21104480220",null,"Articles de bricolage","Bâches, housses, filets et films de bricolage","PVC >90%","Compris entre 1 kg et 2 kg exclus","€/unité",0.25,0.25,{"$f":"VLOOKUP(J1977,'Codes éco-part'!$C:$E,3,FALSE)","v":"095"},0.3]
["REP ABJ",3,"21104480520",null,"Articles de bricolage","Bâches, housses, filets et films de bricolage","PVC >90%","Compris entre 2 kg et 3 kg exclus","€/unité",0.41,0.41,{"$f":"VLOOKUP(J1978,'Codes éco-part'!$C:$E,3,FALSE)","v":"503"},0.49199999999999994]
["REP ABJ",3,"21104480530",null,"Articles de bricolage","Bâches, housses, filets et films de bricolage","PVC >90%","Compris entre 3 kg et 5 kg exclus","€/unité",0.66,0.66,{"$f":"VLOOKUP(J1979,'Codes éco-part'!$C:$E,3,FALSE)","v":"453"},0.79200000000000004]
["REP ABJ",3,"21104480540",null,"Articles de bricolage","Bâches, housses, filets et films de bricolage","PVC >90%","Compris entre 5 kg et 7 kg exclus","€/unité",1.1599999999999999,1.1599999999999999,{"$f":"VLOOKUP(J1980,'Codes éco-part'!$C:$E,3,FALSE)","v":"504"},1.3919999999999999]
["REP ABJ",3,"21104490000",null,"Articles de bricolage","Bâches, housses, filets et films de bricolage","Caoutchouc synthétique >90%","Eléments de toutes dimensions et poids","€ / Tonne",165,165,{"$f":"VLOOKUP(J1981,'Codes éco-part'!$C:$E,3,FALSE)","v":"496"},198]
["REP ABJ",3,"21104490200",null,"Articles de bricolage","Bâches, housses, filets et films de bricolage","Caoutchouc synthétique >90%","Inférieur strictement à 0,5 kg","€/unité",0.04,0.04,{"$f":"VLOOKUP(J1982,'Codes éco-part'!$C:$E,3,FALSE)","v":"002"},4.8000000000000001E-2]
["REP ABJ",3,"21104490210",null,"Articles de bricolage","Bâches, housses, filets et films de bricolage","Caoutchouc synthétique >90%","Compris entre 0,5 kg et 1 kg exclus","€/unité",0.12,0.12,{"$f":"VLOOKUP(J1983,'Codes éco-part'!$C:$E,3,FALSE)","v":"097"},0.14399999999999999]
["REP ABJ",3,"21104490220",null,"Articles de bricolage","Bâches, housses, filets et films de bricolage","Caoutchouc synthétique >90%","Compris entre 1 kg et 2 kg exclus","€/unité",0.25,0.25,{"$f":"VLOOKUP(J1984,'Codes éco-part'!$C:$E,3,FALSE)","v":"095"},0.3]
["REP ABJ",3,"21104490520",null,"Articles de bricolage","Bâches, housses, filets et films de bricolage","Caoutchouc synthétique >90%","Compris entre 2 kg et 3 kg exclus","€/unité",0.41,0.41,{"$f":"VLOOKUP(J1985,'Codes éco-part'!$C:$E,3,FALSE)","v":"503"},0.49199999999999994]
["REP ABJ",3,"21104490530",null,"Articles de bricolage","Bâches, housses, filets et films de bricolage","Caoutchouc synthétique >90%","Compris entre 3 kg et 5 kg exclus","€/unité",0.66,0.66,{"$f":"VLOOKUP(J1986,'Codes éco-part'!$C:$E,3,FALSE)","v":"453"},{"$f":"J1986*1.2","v":0.79200000000000004}]
["REP ABJ",3,"21104490540",null,"Articles de bricolage","Bâches, housses, filets et films de bricolage","Caoutchouc synthétique >90%","Compris entre 5 kg et 7 kg exclus","€/unité",1.1599999999999999,1.1599999999999999,{"$f":"VLOOKUP(J1987,'Codes éco-part'!$C:$E,3,FALSE)","v":"504"},1.3919999999999999]
["REP ABJ",3,"21104550000",null,"Articles de bricolage","Bâches, housses, filets et films de bricolage","Matériaux bio sourcés ou textiles non synthétiques >90%","Eléments de toutes dimensions et poids","€ / Tonne",50,50,{"$f":"VLOOKUP(J1988,'Codes éco-part'!$C:$E,3,FALSE)","v":"173"},60]
["REP ABJ",3,"21104550200",null,"Articles de bricolage","Bâches, housses, filets et films de bricolage","Matériaux bio sourcés ou textiles non synthétiques >90%","Inférieur strictement à 0,5 kg","€/unité",0.01,0.01,{"$f":"VLOOKUP(J1989,'Codes éco-part'!$C:$E,3,FALSE)","v":"260"},1.2E-2]
["REP ABJ",3,"21104550210",null,"Articles de bricolage","Bâches, housses, filets et films de bricolage","Matériaux bio sourcés ou textiles non synthétiques >90%","Compris entre 0,5 kg et 1 kg exclus","€/unité",0.04,0.04,{"$f":"VLOOKUP(J1990,'Codes éco-part'!$C:$E,3,FALSE)","v":"002"},4.8000000000000001E-2]
["REP ABJ",3,"21104550220",null,"Articles de bricolage","Bâches, housses, filets et films de bricolage","Matériaux bio sourcés ou textiles non synthétiques >90%","Compris entre 1 kg et 2 kg exclus","€/unité",0.08,0.08,{"$f":"VLOOKUP(J1991,'Codes éco-part'!$C:$E,3,FALSE)","v":"003"},9.6000000000000002E-2]
["REP ABJ",3,"21104550520",null,"Articles de bricolage","Bâches, housses, filets et films de bricolage","Matériaux bio sourcés ou textiles non synthétiques >90%","Compris entre 2 kg et 3 kg exclus","€/unité",0.13,0.13,{"$f":"VLOOKUP(J1992,'Codes éco-part'!$C:$E,3,FALSE)","v":"004"},0.156]
["REP ABJ",3,"21104550530",null,"Articles de bricolage","Bâches, housses, filets et films de bricolage","Matériaux bio sourcés ou textiles non synthétiques >90%","Compris entre 3 kg et 5 kg exclus","€/unité",0.2,0.2,{"$f":"VLOOKUP(J1993,'Codes éco-part'!$C:$E,3,FALSE)","v":"101"},0.24]
["REP ABJ",3,"21104550540",null,"Articles de bricolage","Bâches, housses, filets et films de bricolage","Matériaux bio sourcés ou textiles non synthétiques >90%","Compris entre 5 kg et 7 kg exclus","€/unité",0.35,0.35,{"$f":"VLOOKUP(J1994,'Codes éco-part'!$C:$E,3,FALSE)","v":"448"},0.42]
["REP ABJ",3,"21104630000",null,"Articles de bricolage","Bâches, housses, filets et films de bricolage","Caoutchouc naturel >90%","Eléments de toutes dimensions et poids","€ / Tonne",50,50,{"$f":"VLOOKUP(J1995,'Codes éco-part'!$C:$E,3,FALSE)","v":"173"},60]
["REP ABJ",3,"21104630200",null,"Articles de bricolage","Bâches, housses, filets et films de bricolage","Caoutchouc naturel >90%","Inférieur strictement à 0,5 kg","€/unité",0.01,0.01,{"$f":"VLOOKUP(J1996,'Codes éco-part'!$C:$E,3,FALSE)","v":"260"},1.2E-2]
["REP ABJ",3,"21104630210",null,"Articles de bricolage","Bâches, housses, filets et films de bricolage","Caoutchouc naturel >90%","Compris entre 0,5 kg et 1 kg exclus","€/unité",0.04,0.04,{"$f":"VLOOKUP(J1997,'Codes éco-part'!$C:$E,3,FALSE)","v":"002"},4.8000000000000001E-2]
["REP ABJ",3,"21104630220",null,"Articles de bricolage","Bâches, housses, filets et films de bricolage","Caoutchouc naturel >90%","Compris entre 1 kg et 2 kg exclus","€/unité",0.08,0.08,{"$f":"VLOOKUP(J1998,'Codes éco-part'!$C:$E,3,FALSE)","v":"003"},9.6000000000000002E-2]
["REP ABJ",3,"21104630520",null,"Articles de bricolage","Bâches, housses, filets et films de bricolage","Caoutchouc naturel >90%","Compris entre 2 kg et 3 kg exclus","€/unité",0.13,0.13,{"$f":"VLOOKUP(J1999,'Codes éco-part'!$C:$E,3,FALSE)","v":"004"},0.156]
["REP ABJ",3,"21104630530",null,"Articles de bricolage","Bâches, housses, filets et films de bricolage","Caoutchouc naturel >90%","Compris entre 3 kg et 5 kg exclus","€/unité",0.2,0.2,{"$f":"VLOOKUP(J2000,'Codes éco-part'!$C:$E,3,FALSE)","v":"101"},0.24]
["REP ABJ",3,"21104630540",null,"Articles de bricolage","Bâches, housses, filets et films de bricolage","Caoutchouc naturel >90%","Compris entre 5 kg et 7 kg exclus","€/unité",0.35,0.35,{"$f":"VLOOKUP(J2001,'Codes éco-part'!$C:$E,3,FALSE)","v":"448"},0.42]
["REP ABJ",3,"21104640000",null,"Articles de bricolage","Bâches, housses, filets et films de bricolage","Caoutchouc naturel >50%","Eléments de toutes dimensions et poids","€ / Tonne",215,215,{"$f":"VLOOKUP(J2002,'Codes éco-part'!$C:$E,3,FALSE)","v":"498"},258]
["REP ABJ",3,"21104640200",null,"Articles de bricolage","Bâches, housses, filets et films de bricolage","Caoutchouc naturel >50%","Inférieur strictement à 0,5 kg","€/unité",0.05,0.05,{"$f":"VLOOKUP(J2003,'Codes éco-part'!$C:$E,3,FALSE)","v":"048"},0.06]
["REP ABJ",3,"21104640210",null,"Articles de bricolage","Bâches, housses, filets et films de bricolage","Caoutchouc naturel >50%","Compris entre 0,5 kg et 1 kg exclus","€/unité",0.16,0.16,{"$f":"VLOOKUP(J2004,'Codes éco-part'!$C:$E,3,FALSE)","v":"099"},0.192]
["REP ABJ",3,"21104640220",null,"Articles de bricolage","Bâches, housses, filets et films de bricolage","Caoutchouc naturel >50%","Compris entre 1 kg et 2 kg exclus","€/unité",0.32,0.32,{"$f":"VLOOKUP(J2005,'Codes éco-part'!$C:$E,3,FALSE)","v":"447"},0.38400000000000001]
["REP ABJ",3,"21104640520",null,"Articles de bricolage","Bâches, housses, filets et films de bricolage","Caoutchouc naturel >50%","Compris entre 2 kg et 3 kg exclus","€/unité",0.54,0.54,{"$f":"VLOOKUP(J2006,'Codes éco-part'!$C:$E,3,FALSE)","v":"500"},0.64800000000000002]
["REP ABJ",3,"21104640530",null,"Articles de bricolage","Bâches, housses, filets et films de bricolage","Caoutchouc naturel >50%","Compris entre 3 kg et 5 kg exclus","€/unité",0.86,0.86,{"$f":"VLOOKUP(J2007,'Codes éco-part'!$C:$E,3,FALSE)","v":"501"},1.032]
["REP ABJ",3,"21104640540",null,"Articles de bricolage","Bâches, housses, filets et films de bricolage","Caoutchouc naturel >50%","Compris entre 5 kg et 7 kg exclus","€/unité",1.51,1.51,{"$f":"VLOOKUP(J2008,'Codes éco-part'!$C:$E,3,FALSE)","v":"502"},1.8119999999999998]
["REP ABJ",3,"21104650000",null,"Articles de bricolage","Bâches, housses, filets et films de bricolage","Matériaux ou fibres synthétiques >90%","Eléments de toutes dimensions et poids","€ / Tonne",165,165,{"$f":"VLOOKUP(J2009,'Codes éco-part'!$C:$E,3,FALSE)","v":"496"},198]
["REP ABJ",3,"21104650200",null,"Articles de bricolage","Bâches, housses, filets et films de bricolage","Matériaux ou fibres synthétiques >90%","Inférieur strictement à 0,5 kg","€/unité",0.04,0.04,{"$f":"VLOOKUP(J2010,'Codes éco-part'!$C:$E,3,FALSE)","v":"002"},4.8000000000000001E-2]
["REP ABJ",3,"21104650210",null,"Articles de bricolage","Bâches, housses, filets et films de bricolage","Matériaux ou fibres synthétiques >90%","Compris entre 0,5 kg et 1 kg exclus","€/unité",0.12,0.12,{"$f":"VLOOKUP(J2011,'Codes éco-part'!$C:$E,3,FALSE)","v":"097"},0.14399999999999999]
["REP ABJ",3,"21104650220",null,"Articles de bricolage","Bâches, housses, filets et films de bricolage","Matériaux ou fibres synthétiques >90%","Compris entre 1 kg et 2 kg exclus","€/unité",0.25,0.25,{"$f":"VLOOKUP(J2012,'Codes éco-part'!$C:$E,3,FALSE)","v":"095"},0.3]
["REP ABJ",3,"21104650520",null,"Articles de bricolage","Bâches, housses, filets et films de bricolage","Matériaux ou fibres synthétiques >90%","Compris entre 2 kg et 3 kg exclus","€/unité",0.41,0.41,{"$f":"VLOOKUP(J2013,'Codes éco-part'!$C:$E,3,FALSE)","v":"503"},0.49199999999999994]
["REP ABJ",3,"21104650530",null,"Articles de bricolage","Bâches, housses, filets et films de bricolage","Matériaux ou fibres synthétiques >90%","Compris entre 3 kg et 5 kg exclus","€/unité",0.66,0.66,{"$f":"VLOOKUP(J2014,'Codes éco-part'!$C:$E,3,FALSE)","v":"453"},0.79200000000000004]
["REP ABJ",3,"21104650540",null,"Articles de bricolage","Bâches, housses, filets et films de bricolage","Matériaux ou fibres synthétiques >90%","Compris entre 5 kg et 7 kg exclus","€/unité",1.1599999999999999,1.1599999999999999,{"$f":"VLOOKUP(J2015,'Codes éco-part'!$C:$E,3,FALSE)","v":"504"},1.3919999999999999]
["REP ABJ",3,"21104670000",null,"Articles de bricolage","Bâches, housses, filets et films de bricolage","Assemblage matériaux ou fibres synthétiques >50% avec d'autres matériaux","Eléments de toutes dimensions et poids","€ / Tonne",215,215,{"$f":"VLOOKUP(J2016,'Codes éco-part'!$C:$E,3,FALSE)","v":"498"},258]
["REP ABJ",3,"21104670200",null,"Articles de bricolage","Bâches, housses, filets et films de bricolage","Assemblage matériaux ou fibres synthétiques >50% avec d'autres matériaux","Inférieur strictement à 0,5 kg","€/unité",0.05,0.05,{"$f":"VLOOKUP(J2017,'Codes éco-part'!$C:$E,3,FALSE)","v":"048"},0.06]
["REP ABJ",3,"21104670210",null,"Articles de bricolage","Bâches, housses, filets et films de bricolage","Assemblage matériaux ou fibres synthétiques >50% avec d'autres matériaux","Compris entre 0,5 kg et 1 kg exclus","€/unité",0.16,0.16,{"$f":"VLOOKUP(J2018,'Codes éco-part'!$C:$E,3,FALSE)","v":"099"},0.192]
["REP ABJ",3,"21104670220",null,"Articles de bricolage","Bâches, housses, filets et films de bricolage","Assemblage matériaux ou fibres synthétiques >50% avec d'autres matériaux","Compris entre 1 kg et 2 kg exclus","€/unité",0.32,0.32,{"$f":"VLOOKUP(J2019,'Codes éco-part'!$C:$E,3,FALSE)","v":"447"},0.38400000000000001]
["REP ABJ",3,"21104670520",null,"Articles de bricolage","Bâches, housses, filets et films de bricolage","Assemblage matériaux ou fibres synthétiques >50% avec d'autres matériaux","Compris entre 2 kg et 3 kg exclus","€/unité",0.54,0.54,{"$f":"VLOOKUP(J2020,'Codes éco-part'!$C:$E,3,FALSE)","v":"500"},0.64800000000000002]
["REP ABJ",3,"21104670530",null,"Articles de bricolage","Bâches, housses, filets et films de bricolage","Assemblage matériaux ou fibres synthétiques >50% avec d'autres matériaux","Compris entre 3 kg et 5 kg exclus","€/unité",0.86,0.86,{"$f":"VLOOKUP(J2021,'Codes éco-part'!$C:$E,3,FALSE)","v":"501"},1.032]
["REP ABJ",3,"21104670540",null,"Articles de bricolage","Bâches, housses, filets et films de bricolage","Assemblage matériaux ou fibres synthétiques >50% avec d'autres matériaux","Compris entre 5 kg et 7 kg exclus","€/unité",1.51,1.51,{"$f":"VLOOKUP(J2022,'Codes éco-part'!$C:$E,3,FALSE)","v":"502"},1.8119999999999998]
["REP ABJ",3,"21104820000",null,"Articles de bricolage","Bâches, housses, filets et films de bricolage","Assemblage de 3 matériaux ou plus sans un matériau à plus de 50%","Eléments de toutes dimensions et poids","€ / Tonne",215,215,{"$f":"VLOOKUP(J2023,'Codes éco-part'!$C:$E,3,FALSE)","v":"498"},258]
["REP ABJ",3,"21104820200",null,"Articles de bricolage","Bâches, housses, filets et films de bricolage","Assemblage de 3 matériaux ou plus sans un matériau à plus de 50%","Inférieur strictement à 0,5 kg","€/unité",0.05,0.05,{"$f":"VLOOKUP(J2024,'Codes éco-part'!$C:$E,3,FALSE)","v":"048"},0.06]
["REP ABJ",3,"21104820210",null,"Articles de bricolage","Bâches, housses, filets et films de bricolage","Assemblage de 3 matériaux ou plus sans un matériau à plus de 50%","Compris entre 0,5 kg et 1 kg exclus","€/unité",0.16,0.16,{"$f":"VLOOKUP(J2025,'Codes éco-part'!$C:$E,3,FALSE)","v":"099"},0.192]
["REP ABJ",3,"21104820220",null,"Articles de bricolage","Bâches, housses, filets et films de bricolage","Assemblage de 3 matériaux ou plus sans un matériau à plus de 50%","Compris entre 1 kg et 2 kg exclus","€/unité",0.32,0.32,{"$f":"VLOOKUP(J2026,'Codes éco-part'!$C:$E,3,FALSE)","v":"447"},0.38400000000000001]
["REP ABJ",3,"21104820520",null,"Articles de bricolage","Bâches, housses, filets et films de bricolage","Assemblage de 3 matériaux ou plus sans un matériau à plus de 50%","Compris entre 2 kg et 3 kg exclus","€/unité",0.54,0.54,{"$f":"VLOOKUP(J2027,'Codes éco-part'!$C:$E,3,FALSE)","v":"500"},0.64800000000000002]
["REP ABJ",3,"21104820530",null,"Articles de bricolage","Bâches, housses, filets et films de bricolage","Assemblage de 3 matériaux ou plus sans un matériau à plus de 50%","Compris entre 3 kg et 5 kg exclus","€/unité",0.86,0.86,{"$f":"VLOOKUP(J2028,'Codes éco-part'!$C:$E,3,FALSE)","v":"501"},1.032]
["REP ABJ",3,"21104820540",null,"Articles de bricolage","Bâches, housses, filets et films de bricolage","Assemblage de 3 matériaux ou plus sans un matériau à plus de 50%","Compris entre 5 kg et 7 kg exclus","€/unité",1.51,1.51,{"$f":"VLOOKUP(J2029,'Codes éco-part'!$C:$E,3,FALSE)","v":"502"},1.8119999999999998]
["REP ABJ",3,"21105000000",null,"Articles de bricolage","Seaux, auges et contenants","Non connu ou non spécifié par l'entreprise","Eléments de toutes dimensions et poids","€ / Tonne",170,170,"497",204]
["REP ABJ",3,"21105000200",null,"Articles de bricolage","Seaux, auges et contenants","Non connu ou non spécifié par l'entreprise","Inférieur strictement à 0,5 kg","€/unité",0.04,0.04,"002",4.8000000000000001E-2]
["REP ABJ",3,"21105000210",null,"Articles de bricolage","Seaux, auges et contenants","Non connu ou non spécifié par l'entreprise","Compris entre 0,5 kg et 1 kg exclus","€/unité",0.13,0.13,"004",0.156]
["REP ABJ",3,"21105000220",null,"Articles de bricolage","Seaux, auges et contenants","Non connu ou non spécifié par l'entreprise","Compris entre 1 kg et 2 kg exclus","€/unité",0.26,0.26,"445",0.312]
["REP ABJ",3,"21105000520",null,"Articles de bricolage","Seaux, auges et contenants","Non connu ou non spécifié par l'entreprise","Compris entre 2 kg et 3 kg exclus","€/unité",0.43,0.43,"506",0.51600000000000001]
["REP ABJ",3,"21105000530",null,"Articles de bricolage","Seaux, auges et contenants","Non connu ou non spécifié par l'entreprise","Compris entre 3 kg et 5 kg exclus","€/unité",0.68,0.68,"044",0.81600000000000006]
["REP ABJ",3,"21105000540",null,"Articles de bricolage","Seaux, auges et contenants","Non connu ou non spécifié par l'entreprise","Compris entre 5 kg et 7 kg exclus","€/unité",1.19,1.19,"507",1.4279999999999999]
["REP ABJ",3,"21105000550",null,"Articles de bricolage","Seaux, auges et contenants","Non connu ou non spécifié par l'entreprise","Compris entre 7 kg et 10 kg exclus","€/unité",1.7,1.7,"256",2.04]
["REP ABJ",3,"21105000560",null,"Articles de bricolage","Seaux, auges et contenants","Non connu ou non spécifié par l'entreprise","Compris entre 10 kg et 15 kg exclus","€/unité",2.5499999999999998,2.5499999999999998,"272",3.0599999999999996]
["REP ABJ",3,"21105000570",null,"Articles de bricolage","Seaux, auges et contenants","Non connu ou non spécifié par l'entreprise","Compris entre 15 kg et 20 kg exclus","€/unité",3.4,3.4,"508",4.08]
["REP ABJ",3,"21105000900",null,"Articles de bricolage","Seaux, auges et contenants","Non connu ou non spécifié par l'entreprise","Lot de 10","€/Lot",10.199999999999999,10.199999999999999,"517",12.239999999999998]
["REP ABJ",3,"21105010000",null,"Articles de bricolage","Seaux, auges et contenants","Assemblage de bois, dérivés de bois à plus de 50% avec d'autres matériaux ou bois composite (hors verre)","Eléments de toutes dimensions et poids","€ / Tonne",20,20,"148",24]
["REP ABJ",3,"21105010200",null,"Articles de bricolage","Seaux, auges et contenants","Assemblage de bois, dérivés de bois à plus de 50% avec d'autres matériaux ou bois composite (hors verre)","Inférieur strictement à 0,5 kg","€/unité",0.01,0.01,"260",1.2E-2]
["REP ABJ",3,"21105010210",null,"Articles de bricolage","Seaux, auges et contenants","Assemblage de bois, dérivés de bois à plus de 50% avec d'autres matériaux ou bois composite (hors verre)","Compris entre 0,5 kg et 1 kg exclus","€/unité",0.02,0.02,"047",2.4E-2]
["REP ABJ",3,"21105010220",null,"Articles de bricolage","Seaux, auges et contenants","Assemblage de bois, dérivés de bois à plus de 50% avec d'autres matériaux ou bois composite (hors verre)","Compris entre 1 kg et 2 kg exclus","€/unité",0.03,0.03,"092",3.5999999999999997E-2]
["REP ABJ",3,"21105010520",null,"Articles de bricolage","Seaux, auges et contenants","Assemblage de bois, dérivés de bois à plus de 50% avec d'autres matériaux ou bois composite (hors verre)","Compris entre 2 kg et 3 kg exclus","€/unité",0.05,0.05,"048",0.06]
["REP ABJ",3,"21105010530",null,"Articles de bricolage","Seaux, auges et contenants","Assemblage de bois, dérivés de bois à plus de 50% avec d'autres matériaux ou bois composite (hors verre)","Compris entre 3 kg et 5 kg exclus","€/unité",0.08,0.08,"003",9.6000000000000002E-2]
["REP ABJ",3,"21105010540",null,"Articles de bricolage","Seaux, auges et contenants","Assemblage de bois, dérivés de bois à plus de 50% avec d'autres matériaux ou bois composite (hors verre)","Compris entre 5 kg et 7 kg exclus","€/unité",0.14000000000000001,0.14000000000000001,"098",0.16800000000000001]
["REP ABJ",3,"21105010550",null,"Articles de bricolage","Seaux, auges et contenants","Assemblage de bois, dérivés de bois à plus de 50% avec d'autres matériaux ou bois composite (hors verre)","Compris entre 7 kg et 10 kg exclus","€/unité",0.2,0.2,"101",0.24]
["REP ABJ",3,"21105010560",null,"Articles de bricolage","Seaux, auges et contenants","Assemblage de bois, dérivés de bois à plus de 50% avec d'autres matériaux ou bois composite (hors verre)","Compris entre 10 kg et 15 kg exclus","€/unité",0.3,0.3,"446",0.36]
["REP ABJ",3,"21105010570",null,"Articles de bricolage","Seaux, auges et contenants","Assemblage de bois, dérivés de bois à plus de 50% avec d'autres matériaux ou bois composite (hors verre)","Compris entre 15 kg et 20 kg exclus","€/unité",0.4,0.4,"105",0.48]
["REP ABJ",3,"21105020000",null,"Articles de bricolage","Seaux, auges et contenants","Assemblage avec métal >50% et autres matériaux","Eléments de toutes dimensions et poids","€ / Tonne",10,10,"138",12]
["REP ABJ",3,"21105020200",null,"Articles de bricolage","Seaux, auges et contenants","Assemblage avec métal >50% et autres matériaux","Inférieur strictement à 0,5 kg","€/unité",0.01,0.01,"260",1.2E-2]
["REP ABJ",3,"21105020210",null,"Articles de bricolage","Seaux, auges et contenants","Assemblage avec métal >50% et autres matériaux","Compris entre 0,5 kg et 1 kg exclus","€/unité",0.01,0.01,"260",1.2E-2]
["REP ABJ",3,"21105020220",null,"Articles de bricolage","Seaux, auges et contenants","Assemblage avec métal >50% et autres matériaux","Compris entre 1 kg et 2 kg exclus","€/unité",0.02,0.02,"047",2.4E-2]
["REP ABJ",3,"21105020520",null,"Articles de bricolage","Seaux, auges et contenants","Assemblage avec métal >50% et autres matériaux","Compris entre 2 kg et 3 kg exclus","€/unité",0.03,0.03,"092",3.5999999999999997E-2]
["REP ABJ",3,"21105020530",null,"Articles de bricolage","Seaux, auges et contenants","Assemblage avec métal >50% et autres matériaux","Compris entre 3 kg et 5 kg exclus","€/unité",0.04,0.04,"002",4.8000000000000001E-2]
["REP ABJ",3,"21105020540",null,"Articles de bricolage","Seaux, auges et contenants","Assemblage avec métal >50% et autres matériaux","Compris entre 5 kg et 7 kg exclus","€/unité",7.0000000000000007E-2,7.0000000000000007E-2,"247",8.4000000000000005E-2]
["REP ABJ",3,"21105020550",null,"Articles de bricolage","Seaux, auges et contenants","Assemblage avec métal >50% et autres matériaux","Compris entre 7 kg et 10 kg exclus","€/unité",0.1,0.1,"094",0.12]
["REP ABJ",3,"21105020560",null,"Articles de bricolage","Seaux, auges et contenants","Assemblage avec métal >50% et autres matériaux","Compris entre 10 kg et 15 kg exclus","€/unité",0.15,0.15,"050",0.18]
["REP ABJ",3,"21105020570",null,"Articles de bricolage","Seaux, auges et contenants","Assemblage avec métal >50% et autres matériaux","Compris entre 15 kg et 20 kg exclus","€/unité",0.2,0.2,"101",0.24]
["REP ABJ",3,"21105040000",null,"Articles de bricolage","Seaux, auges et contenants","Matériaux bio sourcés ou textiles non synthétiques >50%","Eléments de toutes dimensions et poids","€ / Tonne",170,170,"497",204]
["REP ABJ",3,"21105040200",null,"Articles de bricolage","Seaux, auges et contenants","Matériaux bio sourcés ou textiles non synthétiques >50%","Inférieur strictement à 0,5 kg","€/unité",0.04,0.04,"002",4.8000000000000001E-2]
["REP ABJ",3,"21105040210",null,"Articles de bricolage","Seaux, auges et contenants","Matériaux bio sourcés ou textiles non synthétiques >50%","Compris entre 0,5 kg et 1 kg exclus","€/unité",0.13,0.13,"004",0.156]
["REP ABJ",3,"21105040220",null,"Articles de bricolage","Seaux, auges et contenants","Matériaux bio sourcés ou textiles non synthétiques >50%","Compris entre 1 kg et 2 kg exclus","€/unité",0.26,0.26,"445",0.312]
["REP ABJ",3,"21105040520",null,"Articles de bricolage","Seaux, auges et contenants","Matériaux bio sourcés ou textiles non synthétiques >50%","Compris entre 2 kg et 3 kg exclus","€/unité",0.43,0.43,"506",0.51600000000000001]
["REP ABJ",3,"21105040530",null,"Articles de bricolage","Seaux, auges et contenants","Matériaux bio sourcés ou textiles non synthétiques >50%","Compris entre 3 kg et 5 kg exclus","€/unité",0.68,0.68,"044",0.81600000000000006]
["REP ABJ",3,"21105040540",null,"Articles de bricolage","Seaux, auges et contenants","Matériaux bio sourcés ou textiles non synthétiques >50%","Compris entre 5 kg et 7 kg exclus","€/unité",1.19,1.19,"507",1.4279999999999999]
["REP ABJ",3,"21105040550",null,"Articles de bricolage","Seaux, auges et contenants","Matériaux bio sourcés ou textiles non synthétiques >50%","Compris entre 7 kg et 10 kg exclus","€/unité",1.7,1.7,"256",2.04]
["REP ABJ",3,"21105040560",null,"Articles de bricolage","Seaux, auges et contenants","Matériaux bio sourcés ou textiles non synthétiques >50%","Compris entre 10 kg et 15 kg exclus","€/unité",2.5499999999999998,2.5499999999999998,"272",3.0599999999999996]
["REP ABJ",3,"21105040570",null,"Articles de bricolage","Seaux, auges et contenants","Matériaux bio sourcés ou textiles non synthétiques >50%","Compris entre 15 kg et 20 kg exclus","€/unité",3.4,3.4,"508",4.08]
["REP ABJ",3,"21105050000",null,"Articles de bricolage","Seaux, auges et contenants","Plastiques ou autres matériaux synthétiques >50%","Eléments de toutes dimensions et poids","€ / Tonne",170,170,"497",204]
["REP ABJ",3,"21105050200",null,"Articles de bricolage","Seaux, auges et contenants","Plastiques ou autres matériaux synthétiques >50%","Inférieur strictement à 0,5 kg","€/unité",0.04,0.04,"002",4.8000000000000001E-2]
["REP ABJ",3,"21105050210",null,"Articles de bricolage","Seaux, auges et contenants","Plastiques ou autres matériaux synthétiques >50%","Compris entre 0,5 kg et 1 kg exclus","€/unité",0.13,0.13,"004",0.156]
["REP ABJ",3,"21105050220",null,"Articles de bricolage","Seaux, auges et contenants","Plastiques ou autres matériaux synthétiques >50%","Compris entre 1 kg et 2 kg exclus","€/unité",0.26,0.26,"445",0.312]
["REP ABJ",3,"21105050520",null,"Articles de bricolage","Seaux, auges et contenants","Plastiques ou autres matériaux synthétiques >50%","Compris entre 2 kg et 3 kg exclus","€/unité",0.43,0.43,"506",0.51600000000000001]
["REP ABJ",3,"21105050530",null,"Articles de bricolage","Seaux, auges et contenants","Plastiques ou autres matériaux synthétiques >50%","Compris entre 3 kg et 5 kg exclus","€/unité",0.68,0.68,"044",0.81600000000000006]
["REP ABJ",3,"21105050540",null,"Articles de bricolage","Seaux, auges et contenants","Plastiques ou autres matériaux synthétiques >50%","Compris entre 5 kg et 7 kg exclus","€/unité",1.19,1.19,"507",1.4279999999999999]
["REP ABJ",3,"21105050550",null,"Articles de bricolage","Seaux, auges et contenants","Plastiques ou autres matériaux synthétiques >50%","Compris entre 7 kg et 10 kg exclus","€/unité",1.7,1.7,"256",2.04]
["REP ABJ",3,"21105050560",null,"Articles de bricolage","Seaux, auges et contenants","Plastiques ou autres matériaux synthétiques >50%","Compris entre 10 kg et 15 kg exclus","€/unité",2.5499999999999998,2.5499999999999998,"272",3.0599999999999996]
["REP ABJ",3,"21105050570",null,"Articles de bricolage","Seaux, auges et contenants","Plastiques ou autres matériaux synthétiques >50%","Compris entre 15 kg et 20 kg exclus","€/unité",3.4,3.4,"508",4.08]
["REP ABJ",3,"21105060000",null,"Articles de bricolage","Seaux, auges et contenants","Matériaux d'origine animale >50%","Eléments de toutes dimensions et poids","€ / Tonne",170,170,"497",204]
["REP ABJ",3,"21105060200",null,"Articles de bricolage","Seaux, auges et contenants","Matériaux d'origine animale >50%","Inférieur strictement à 0,5 kg","€/unité",0.04,0.04,"002",4.8000000000000001E-2]
["REP ABJ",3,"21105060210",null,"Articles de bricolage","Seaux, auges et contenants","Matériaux d'origine animale >50%","Compris entre 0,5 kg et 1 kg exclus","€/unité",0.13,0.13,"004",0.156]
["REP ABJ",3,"21105060220",null,"Articles de bricolage","Seaux, auges et contenants","Matériaux d'origine animale >50%","Compris entre 1 kg et 2 kg exclus","€/unité",0.26,0.26,"445",0.312]
["REP ABJ",3,"21105060520",null,"Articles de bricolage","Seaux, auges et contenants","Matériaux d'origine animale >50%","Compris entre 2 kg et 3 kg exclus","€/unité",0.43,0.43,"506",0.51600000000000001]
["REP ABJ",3,"21105060530",null,"Articles de bricolage","Seaux, auges et contenants","Matériaux d'origine animale >50%","Compris entre 3 kg et 5 kg exclus","€/unité",0.68,0.68,"044",0.81600000000000006]
["REP ABJ",3,"21105060540",null,"Articles de bricolage","Seaux, auges et contenants","Matériaux d'origine animale >50%","Compris entre 5 kg et 7 kg exclus","€/unité",1.19,1.19,"507",1.4279999999999999]
["REP ABJ",3,"21105060550",null,"Articles de bricolage","Seaux, auges et contenants","Matériaux d'origine animale >50%","Compris entre 7 kg et 10 kg exclus","€/unité",1.7,1.7,"256",2.04]
["REP ABJ",3,"21105060560",null,"Articles de bricolage","Seaux, auges et contenants","Matériaux d'origine animale >50%","Compris entre 10 kg et 15 kg exclus","€/unité",2.5499999999999998,2.5499999999999998,"272",3.0599999999999996]
["REP ABJ",3,"21105060570",null,"Articles de bricolage","Seaux, auges et contenants","Matériaux d'origine animale >50%","Compris entre 15 kg et 20 kg exclus","€/unité",3.4,3.4,"508",4.08]
["REP ABJ",3,"21105080000",null,"Articles de bricolage","Seaux, auges et contenants","Assemblage de matériaux avec de l'inerte >50%","Eléments de toutes dimensions et poids","€ / Tonne",170,170,"497",204]
["REP ABJ",3,"21105080200",null,"Articles de bricolage","Seaux, auges et contenants","Assemblage de matériaux avec de l'inerte >50%","Inférieur strictement à 0,5 kg","€/unité",0.04,0.04,"002",4.8000000000000001E-2]
["REP ABJ",3,"21105080210",null,"Articles de bricolage","Seaux, auges et contenants","Assemblage de matériaux avec de l'inerte >50%","Compris entre 0,5 kg et 1 kg exclus","€/unité",0.13,0.13,"004",0.156]
["REP ABJ",3,"21105080220",null,"Articles de bricolage","Seaux, auges et contenants","Assemblage de matériaux avec de l'inerte >50%","Compris entre 1 kg et 2 kg exclus","€/unité",0.26,0.26,"445",0.312]
["REP ABJ",3,"21105080520",null,"Articles de bricolage","Seaux, auges et contenants","Assemblage de matériaux avec de l'inerte >50%","Compris entre 2 kg et 3 kg exclus","€/unité",0.43,0.43,"506",0.51600000000000001]
["REP ABJ",3,"21105080530",null,"Articles de bricolage","Seaux, auges et contenants","Assemblage de matériaux avec de l'inerte >50%","Compris entre 3 kg et 5 kg exclus","€/unité",0.68,0.68,"044",0.81600000000000006]
["REP ABJ",3,"21105080540",null,"Articles de bricolage","Seaux, auges et contenants","Assemblage de matériaux avec de l'inerte >50%","Compris entre 5 kg et 7 kg exclus","€/unité",1.19,1.19,"507",1.4279999999999999]
["REP ABJ",3,"21105080550",null,"Articles de bricolage","Seaux, auges et contenants","Assemblage de matériaux avec de l'inerte >50%","Compris entre 7 kg et 10 kg exclus","€/unité",1.7,1.7,"256",2.04]
["REP ABJ",3,"21105080560",null,"Articles de bricolage","Seaux, auges et contenants","Assemblage de matériaux avec de l'inerte >50%","Compris entre 10 kg et 15 kg exclus","€/unité",2.5499999999999998,2.5499999999999998,"272",3.0599999999999996]
["REP ABJ",3,"21105080570",null,"Articles de bricolage","Seaux, auges et contenants","Assemblage de matériaux avec de l'inerte >50%","Compris entre 15 kg et 20 kg exclus","€/unité",3.4,3.4,"508",4.08]
["REP ABJ",3,"21105150000",null,"Articles de bricolage","Seaux, auges et contenants","Composites et autres matériaux minéraux reconstitués >50%","Eléments de toutes dimensions et poids","€ / Tonne",170,170,"497",204]
["REP ABJ",3,"21105150200",null,"Articles de bricolage","Seaux, auges et contenants","Composites et autres matériaux minéraux reconstitués >50%","Inférieur strictement à 0,5 kg","€/unité",0.04,0.04,"002",4.8000000000000001E-2]
["REP ABJ",3,"21105150210",null,"Articles de bricolage","Seaux, auges et contenants","Composites et autres matériaux minéraux reconstitués >50%","Compris entre 0,5 kg et 1 kg exclus","€/unité",0.13,0.13,"004",0.156]
["REP ABJ",3,"21105150220",null,"Articles de bricolage","Seaux, auges et contenants","Composites et autres matériaux minéraux reconstitués >50%","Compris entre 1 kg et 2 kg exclus","€/unité",0.26,0.26,"445",0.312]
["REP ABJ",3,"21105150520",null,"Articles de bricolage","Seaux, auges et contenants","Composites et autres matériaux minéraux reconstitués >50%","Compris entre 2 kg et 3 kg exclus","€/unité",0.43,0.43,"506",0.51600000000000001]
["REP ABJ",3,"21105150530",null,"Articles de bricolage","Seaux, auges et contenants","Composites et autres matériaux minéraux reconstitués >50%","Compris entre 3 kg et 5 kg exclus","€/unité",0.68,0.68,"044",0.81600000000000006]
["REP ABJ",3,"21105150540",null,"Articles de bricolage","Seaux, auges et contenants","Composites et autres matériaux minéraux reconstitués >50%","Compris entre 5 kg et 7 kg exclus","€/unité",1.19,1.19,"507",1.4279999999999999]
["REP ABJ",3,"21105150550",null,"Articles de bricolage","Seaux, auges et contenants","Composites et autres matériaux minéraux reconstitués >50%","Compris entre 7 kg et 10 kg exclus","€/unité",1.7,1.7,"256",2.04]
["REP ABJ",3,"21105150560",null,"Articles de bricolage","Seaux, auges et contenants","Composites et autres matériaux minéraux reconstitués >50%","Compris entre 10 kg et 15 kg exclus","€/unité",2.5499999999999998,2.5499999999999998,"272",3.0599999999999996]
["REP ABJ",3,"21105150570",null,"Articles de bricolage","Seaux, auges et contenants","Composites et autres matériaux minéraux reconstitués >50%","Compris entre 15 kg et 20 kg exclus","€/unité",3.4,3.4,"508",4.08]
["REP ABJ",3,"21105190000",null,"Articles de bricolage","Seaux, auges et contenants","Papier carton >50% avec d'autres matériaux (hors verre)","Eléments de toutes dimensions et poids","€ / Tonne",170,170,"497",204]
["REP ABJ",3,"21105190200",null,"Articles de bricolage","Seaux, auges et contenants","Papier carton >50% avec d'autres matériaux (hors verre)","Inférieur strictement à 0,5 kg","€/unité",0.04,0.04,"002",4.8000000000000001E-2]
["REP ABJ",3,"21105190210",null,"Articles de bricolage","Seaux, auges et contenants","Papier carton >50% avec d'autres matériaux (hors verre)","Compris entre 0,5 kg et 1 kg exclus","€/unité",0.13,0.13,"004",0.156]
["REP ABJ",3,"21105190220",null,"Articles de bricolage","Seaux, auges et contenants","Papier carton >50% avec d'autres matériaux (hors verre)","Compris entre 1 kg et 2 kg exclus","€/unité",0.26,0.26,"445",0.312]
["REP ABJ",3,"21105190520",null,"Articles de bricolage","Seaux, auges et contenants","Papier carton >50% avec d'autres matériaux (hors verre)","Compris entre 2 kg et 3 kg exclus","€/unité",0.43,0.43,"506",0.51600000000000001]
["REP ABJ",3,"21105190530",null,"Articles de bricolage","Seaux, auges et contenants","Papier carton >50% avec d'autres matériaux (hors verre)","Compris entre 3 kg et 5 kg exclus","€/unité",0.68,0.68,"044",0.81600000000000006]
["REP ABJ",3,"21105190540",null,"Articles de bricolage","Seaux, auges et contenants","Papier carton >50% avec d'autres matériaux (hors verre)","Compris entre 5 kg et 7 kg exclus","€/unité",1.19,1.19,"507",1.4279999999999999]
["REP ABJ",3,"21105190550",null,"Articles de bricolage","Seaux, auges et contenants","Papier carton >50% avec d'autres matériaux (hors verre)","Compris entre 7 kg et 10 kg exclus","€/unité",1.7,1.7,"256",2.04]
["REP ABJ",3,"21105190560",null,"Articles de bricolage","Seaux, auges et contenants","Papier carton >50% avec d'autres matériaux (hors verre)","Compris entre 10 kg et 15 kg exclus","€/unité",2.5499999999999998,2.5499999999999998,"272",3.0599999999999996]
["REP ABJ",3,"21105190570",null,"Articles de bricolage","Seaux, auges et contenants","Papier carton >50% avec d'autres matériaux (hors verre)","Compris entre 15 kg et 20 kg exclus","€/unité",3.4,3.4,"508",4.08]
["REP ABJ",3,"21105200000",null,"Articles de bricolage","Seaux, auges et contenants","Massif et assimilés certifiés >75%","Eléments de toutes dimensions et poids","€ / Tonne",20,20,"148",24]
["REP ABJ",3,"21105200200",null,"Articles de bricolage","Seaux, auges et contenants","Massif et assimilés certifiés >75%","Inférieur strictement à 0,5 kg","€/unité",0.01,0.01,"260",1.2E-2]
["REP ABJ",3,"21105200210",null,"Articles de bricolage","Seaux, auges et contenants","Massif et assimilés certifiés >75%","Compris entre 0,5 kg et 1 kg exclus","€/unité",0.02,0.02,"047",2.4E-2]
["REP ABJ",3,"21105200220",null,"Articles de bricolage","Seaux, auges et contenants","Massif et assimilés certifiés >75%","Compris entre 1 kg et 2 kg exclus","€/unité",0.03,0.03,"092",3.5999999999999997E-2]
["REP ABJ",3,"21105200520",null,"Articles de bricolage","Seaux, auges et contenants","Massif et assimilés certifiés >75%","Compris entre 2 kg et 3 kg exclus","€/unité",0.05,0.05,"048",0.06]
["REP ABJ",3,"21105200530",null,"Articles de bricolage","Seaux, auges et contenants","Massif et assimilés certifiés >75%","Compris entre 3 kg et 5 kg exclus","€/unité",0.08,0.08,"003",9.6000000000000002E-2]
["REP ABJ",3,"21105200540",null,"Articles de bricolage","Seaux, auges et contenants","Massif et assimilés certifiés >75%","Compris entre 5 kg et 7 kg exclus","€/unité",0.14000000000000001,0.14000000000000001,"098",0.16800000000000001]
["REP ABJ",3,"21105200550",null,"Articles de bricolage","Seaux, auges et contenants","Massif et assimilés certifiés >75%","Compris entre 7 kg et 10 kg exclus","€/unité",0.2,0.2,"101",0.24]
["REP ABJ",3,"21105200560",null,"Articles de bricolage","Seaux, auges et contenants","Massif et assimilés certifiés >75%","Compris entre 10 kg et 15 kg exclus","€/unité",0.3,0.3,"446",0.36]
["REP ABJ",3,"21105200570",null,"Articles de bricolage","Seaux, auges et contenants","Massif et assimilés certifiés >75%","Compris entre 15 kg et 20 kg exclus","€/unité",0.4,0.4,"105",0.48]
["REP ABJ",3,"21105210000",null,"Articles de bricolage","Seaux, auges et contenants","Massif et assimilés >75%","Eléments de toutes dimensions et poids","€ / Tonne",20,20,"148",24]
["REP ABJ",3,"21105210200",null,"Articles de bricolage","Seaux, auges et contenants","Massif et assimilés >75%","Inférieur strictement à 0,5 kg","€/unité",0.01,0.01,"260",1.2E-2]
["REP ABJ",3,"21105210210",null,"Articles de bricolage","Seaux, auges et contenants","Massif et assimilés >75%","Compris entre 0,5 kg et 1 kg exclus","€/unité",0.02,0.02,"047",2.4E-2]
["REP ABJ",3,"21105210220",null,"Articles de bricolage","Seaux, auges et contenants","Massif et assimilés >75%","Compris entre 1 kg et 2 kg exclus","€/unité",0.03,0.03,"092",3.5999999999999997E-2]
["REP ABJ",3,"21105210520",null,"Articles de bricolage","Seaux, auges et contenants","Massif et assimilés >75%","Compris entre 2 kg et 3 kg exclus","€/unité",0.05,0.05,"048",0.06]
["REP ABJ",3,"21105210530",null,"Articles de bricolage","Seaux, auges et contenants","Massif et assimilés >75%","Compris entre 3 kg et 5 kg exclus","€/unité",0.08,0.08,"003",9.6000000000000002E-2]
["REP ABJ",3,"21105210540",null,"Articles de bricolage","Seaux, auges et contenants","Massif et assimilés >75%","Compris entre 5 kg et 7 kg exclus","€/unité",0.14000000000000001,0.14000000000000001,"098",0.16800000000000001]
["REP ABJ",3,"21105210550",null,"Articles de bricolage","Seaux, auges et contenants","Massif et assimilés >75%","Compris entre 7 kg et 10 kg exclus","€/unité",0.2,0.2,"101",0.24]
["REP ABJ",3,"21105210560",null,"Articles de bricolage","Seaux, auges et contenants","Massif et assimilés >75%","Compris entre 10 kg et 15 kg exclus","€/unité",0.3,0.3,"446",0.36]
["REP ABJ",3,"21105210570",null,"Articles de bricolage","Seaux, auges et contenants","Massif et assimilés >75%","Compris entre 15 kg et 20 kg exclus","€/unité",0.4,0.4,"105",0.48]
["REP ABJ",3,"21105250000",null,"Articles de bricolage","Seaux, auges et contenants","Panneaux de particules ou OSB >75%","Eléments de toutes dimensions et poids","€ / Tonne",20,20,"148",24]
["REP ABJ",3,"21105250200",null,"Articles de bricolage","Seaux, auges et contenants","Panneaux de particules ou OSB >75%","Inférieur strictement à 0,5 kg","€/unité",0.01,0.01,"260",1.2E-2]
["REP ABJ",3,"21105250210",null,"Articles de bricolage","Seaux, auges et contenants","Panneaux de particules ou OSB >75%","Compris entre 0,5 kg et 1 kg exclus","€/unité",0.02,0.02,"047",2.4E-2]
["REP ABJ",3,"21105250220",null,"Articles de bricolage","Seaux, auges et contenants","Panneaux de particules ou OSB >75%","Compris entre 1 kg et 2 kg exclus","€/unité",0.03,0.03,"092",3.5999999999999997E-2]
["REP ABJ",3,"21105250520",null,"Articles de bricolage","Seaux, auges et contenants","Panneaux de particules ou OSB >75%","Compris entre 2 kg et 3 kg exclus","€/unité",0.05,0.05,"048",0.06]
["REP ABJ",3,"21105250530",null,"Articles de bricolage","Seaux, auges et contenants","Panneaux de particules ou OSB >75%","Compris entre 3 kg et 5 kg exclus","€/unité",0.08,0.08,"003",9.6000000000000002E-2]
["REP ABJ",3,"21105250540",null,"Articles de bricolage","Seaux, auges et contenants","Panneaux de particules ou OSB >75%","Compris entre 5 kg et 7 kg exclus","€/unité",0.14000000000000001,0.14000000000000001,"098",0.16800000000000001]
["REP ABJ",3,"21105250550",null,"Articles de bricolage","Seaux, auges et contenants","Panneaux de particules ou OSB >75%","Compris entre 7 kg et 10 kg exclus","€/unité",0.2,0.2,"101",0.24]
["REP ABJ",3,"21105250560",null,"Articles de bricolage","Seaux, auges et contenants","Panneaux de particules ou OSB >75%","Compris entre 10 kg et 15 kg exclus","€/unité",0.3,0.3,"446",0.36]
["REP ABJ",3,"21105250570",null,"Articles de bricolage","Seaux, auges et contenants","Panneaux de particules ou OSB >75%","Compris entre 15 kg et 20 kg exclus","€/unité",0.4,0.4,"105",0.48]
["REP ABJ",3,"21105280000",null,"Articles de bricolage","Seaux, auges et contenants","Métal >90%","Eléments de toutes dimensions et poids","€ / Tonne",10,10,"138",12]
["REP ABJ",3,"21105280200",null,"Articles de bricolage","Seaux, auges et contenants","Métal >90%","Inférieur strictement à 0,5 kg","€/unité",0.01,0.01,"260",1.2E-2]
["REP ABJ",3,"21105280210",null,"Articles de bricolage","Seaux, auges et contenants","Métal >90%","Compris entre 0,5 kg et 1 kg exclus","€/unité",0.01,0.01,"260",1.2E-2]
["REP ABJ",3,"21105280220",null,"Articles de bricolage","Seaux, auges et contenants","Métal >90%","Compris entre 1 kg et 2 kg exclus","€/unité",0.02,0.02,"047",2.4E-2]
["REP ABJ",3,"21105280520",null,"Articles de bricolage","Seaux, auges et contenants","Métal >90%","Compris entre 2 kg et 3 kg exclus","€/unité",0.03,0.03,"092",3.5999999999999997E-2]
["REP ABJ",3,"21105280530",null,"Articles de bricolage","Seaux, auges et contenants","Métal >90%","Compris entre 3 kg et 5 kg exclus","€/unité",0.04,0.04,"002",4.8000000000000001E-2]
["REP ABJ",3,"21105280540",null,"Articles de bricolage","Seaux, auges et contenants","Métal >90%","Compris entre 5 kg et 7 kg exclus","€/unité",7.0000000000000007E-2,7.0000000000000007E-2,"247",8.4000000000000005E-2]
["REP ABJ",3,"21105280550",null,"Articles de bricolage","Seaux, auges et contenants","Métal >90%","Compris entre 7 kg et 10 kg exclus","€/unité",0.1,0.1,"094",0.12]
["REP ABJ",3,"21105280560",null,"Articles de bricolage","Seaux, auges et contenants","Métal >90%","Compris entre 10 kg et 15 kg exclus","€/unité",0.15,0.15,"050",0.18]
["REP ABJ",3,"21105280570",null,"Articles de bricolage","Seaux, auges et contenants","Métal >90%","Compris entre 15 kg et 20 kg exclus","€/unité",0.2,0.2,"101",0.24]
["REP ABJ",3,"21105400000",null,"Articles de bricolage","Seaux, auges et contenants","Assemblage caoutchouc synthétique ou latex >50% avec d'autres matériaux","Eléments de toutes dimensions et poids","€ / Tonne",170,170,"497",204]
["REP ABJ",3,"21105400200",null,"Articles de bricolage","Seaux, auges et contenants","Assemblage caoutchouc synthétique ou latex >50% avec d'autres matériaux","Inférieur strictement à 0,5 kg","€/unité",0.04,0.04,"002",4.8000000000000001E-2]
["REP ABJ",3,"21105400210",null,"Articles de bricolage","Seaux, auges et contenants","Assemblage caoutchouc synthétique ou latex >50% avec d'autres matériaux","Compris entre 0,5 kg et 1 kg exclus","€/unité",0.13,0.13,"004",0.156]
["REP ABJ",3,"21105400220",null,"Articles de bricolage","Seaux, auges et contenants","Assemblage caoutchouc synthétique ou latex >50% avec d'autres matériaux","Compris entre 1 kg et 2 kg exclus","€/unité",0.26,0.26,"445",0.312]
["REP ABJ",3,"21105400520",null,"Articles de bricolage","Seaux, auges et contenants","Assemblage caoutchouc synthétique ou latex >50% avec d'autres matériaux","Compris entre 2 kg et 3 kg exclus","€/unité",0.43,0.43,"506",0.51600000000000001]
["REP ABJ",3,"21105400530",null,"Articles de bricolage","Seaux, auges et contenants","Assemblage caoutchouc synthétique ou latex >50% avec d'autres matériaux","Compris entre 3 kg et 5 kg exclus","€/unité",0.68,0.68,"044",0.81600000000000006]
["REP ABJ",3,"21105400540",null,"Articles de bricolage","Seaux, auges et contenants","Assemblage caoutchouc synthétique ou latex >50% avec d'autres matériaux","Compris entre 5 kg et 7 kg exclus","€/unité",1.19,1.19,"507",1.4279999999999999]
["REP ABJ",3,"21105400550",null,"Articles de bricolage","Seaux, auges et contenants","Assemblage caoutchouc synthétique ou latex >50% avec d'autres matériaux","Compris entre 7 kg et 10 kg exclus","€/unité",1.7,1.7,"256",2.04]
["REP ABJ",3,"21105400560",null,"Articles de bricolage","Seaux, auges et contenants","Assemblage caoutchouc synthétique ou latex >50% avec d'autres matériaux","Compris entre 10 kg et 15 kg exclus","€/unité",2.5499999999999998,2.5499999999999998,"272",3.0599999999999996]
["REP ABJ",3,"21105400570",null,"Articles de bricolage","Seaux, auges et contenants","Assemblage caoutchouc synthétique ou latex >50% avec d'autres matériaux","Compris entre 15 kg et 20 kg exclus","€/unité",3.4,3.4,"508",4.08]
["REP ABJ",3,"21105410000",null,"Articles de bricolage","Seaux, auges et contenants","Plastiques (mono résine) >90%","Eléments de toutes dimensions et poids","€ / Tonne",130,130,"495",156]
["REP ABJ",3,"21105410200",null,"Articles de bricolage","Seaux, auges et contenants","Plastiques (mono résine) >90%","Inférieur strictement à 0,5 kg","€/unité",0.03,0.03,"092",3.5999999999999997E-2]
["REP ABJ",3,"21105410210",null,"Articles de bricolage","Seaux, auges et contenants","Plastiques (mono résine) >90%","Compris entre 0,5 kg et 1 kg exclus","€/unité",0.1,0.1,"094",0.12]
["REP ABJ",3,"21105410220",null,"Articles de bricolage","Seaux, auges et contenants","Plastiques (mono résine) >90%","Compris entre 1 kg et 2 kg exclus","€/unité",0.2,0.2,"101",0.24]
["REP ABJ",3,"21105410520",null,"Articles de bricolage","Seaux, auges et contenants","Plastiques (mono résine) >90%","Compris entre 2 kg et 3 kg exclus","€/unité",0.33,0.33,"006",0.39600000000000002]
["REP ABJ",3,"21105410530",null,"Articles de bricolage","Seaux, auges et contenants","Plastiques (mono résine) >90%","Compris entre 3 kg et 5 kg exclus","€/unité",0.52,0.52,"509",0.624]
["REP ABJ",3,"21105410540",null,"Articles de bricolage","Seaux, auges et contenants","Plastiques (mono résine) >90%","Compris entre 5 kg et 7 kg exclus","€/unité",0.91,0.91,"510",1.0920000000000001]
["REP ABJ",3,"21105410550",null,"Articles de bricolage","Seaux, auges et contenants","Plastiques (mono résine) >90%","Compris entre 7 kg et 10 kg exclus","€/unité",1.3,1.3,"511",1.56]
["REP ABJ",3,"21105410560",null,"Articles de bricolage","Seaux, auges et contenants","Plastiques (mono résine) >90%","Compris entre 10 kg et 15 kg exclus","€/unité",1.95,1.95,"512",2.34]
["REP ABJ",3,"21105410570",null,"Articles de bricolage","Seaux, auges et contenants","Plastiques (mono résine) >90%","Compris entre 15 kg et 20 kg exclus","€/unité",2.6,2.6,"513",3.12]
["REP ABJ",3,"21105420000",null,"Articles de bricolage","Seaux, auges et contenants","Polyterephtalate d'Ethylène (PET) >90%","Eléments de toutes dimensions et poids","€ / Tonne",130,130,"495",156]
["REP ABJ",3,"21105420200",null,"Articles de bricolage","Seaux, auges et contenants","Polyterephtalate d'Ethylène (PET) >90%","Inférieur strictement à 0,5 kg","€/unité",0.03,0.03,"092",3.5999999999999997E-2]
["REP ABJ",3,"21105420210",null,"Articles de bricolage","Seaux, auges et contenants","Polyterephtalate d'Ethylène (PET) >90%","Compris entre 0,5 kg et 1 kg exclus","€/unité",0.1,0.1,"094",0.12]
["REP ABJ",3,"21105420220",null,"Articles de bricolage","Seaux, auges et contenants","Polyterephtalate d'Ethylène (PET) >90%","Compris entre 1 kg et 2 kg exclus","€/unité",0.2,0.2,"101",0.24]
["REP ABJ",3,"21105420520",null,"Articles de bricolage","Seaux, auges et contenants","Polyterephtalate d'Ethylène (PET) >90%","Compris entre 2 kg et 3 kg exclus","€/unité",0.33,0.33,"006",0.39600000000000002]
["REP ABJ",3,"21105420530",null,"Articles de bricolage","Seaux, auges et contenants","Polyterephtalate d'Ethylène (PET) >90%","Compris entre 3 kg et 5 kg exclus","€/unité",0.52,0.52,"509",0.624]
["REP ABJ",3,"21105420540",null,"Articles de bricolage","Seaux, auges et contenants","Polyterephtalate d'Ethylène (PET) >90%","Compris entre 5 kg et 7 kg exclus","€/unité",0.91,0.91,"510",1.0920000000000001]
["REP ABJ",3,"21105420550",null,"Articles de bricolage","Seaux, auges et contenants","Polyterephtalate d'Ethylène (PET) >90%","Compris entre 7 kg et 10 kg exclus","€/unité",1.3,1.3,"511",1.56]
["REP ABJ",3,"21105420560",null,"Articles de bricolage","Seaux, auges et contenants","Polyterephtalate d'Ethylène (PET) >90%","Compris entre 10 kg et 15 kg exclus","€/unité",1.95,1.95,"512",2.34]
["REP ABJ",3,"21105420570",null,"Articles de bricolage","Seaux, auges et contenants","Polyterephtalate d'Ethylène (PET) >90%","Compris entre 15 kg et 20 kg exclus","€/unité",2.6,2.6,"513",3.12]
["REP ABJ",3,"21105450000",null,"Articles de bricolage","Seaux, auges et contenants","PE ou PP ou mélange PP/PE >90%","Eléments de toutes dimensions et poids","€ / Tonne",130,130,"495",156]
["REP ABJ",3,"21105450200",null,"Articles de bricolage","Seaux, auges et contenants","PE ou PP ou mélange PP/PE >90%","Inférieur strictement à 0,5 kg","€/unité",0.03,0.03,"092",3.5999999999999997E-2]
["REP ABJ",3,"21105450210",null,"Articles de bricolage","Seaux, auges et contenants","PE ou PP ou mélange PP/PE >90%","Compris entre 0,5 kg et 1 kg exclus","€/unité",0.1,0.1,"094",0.12]
["REP ABJ",3,"21105450220",null,"Articles de bricolage","Seaux, auges et contenants","PE ou PP ou mélange PP/PE >90%","Compris entre 1 kg et 2 kg exclus","€/unité",0.2,0.2,"101",0.24]
["REP ABJ",3,"21105450520",null,"Articles de bricolage","Seaux, auges et contenants","PE ou PP ou mélange PP/PE >90%","Compris entre 2 kg et 3 kg exclus","€/unité",0.33,0.33,"006",0.39600000000000002]
["REP ABJ",3,"21105450530",null,"Articles de bricolage","Seaux, auges et contenants","PE ou PP ou mélange PP/PE >90%","Compris entre 3 kg et 5 kg exclus","€/unité",0.52,0.52,"509",0.624]
["REP ABJ",3,"21105450540",null,"Articles de bricolage","Seaux, auges et contenants","PE ou PP ou mélange PP/PE >90%","Compris entre 5 kg et 7 kg exclus","€/unité",0.91,0.91,"510",1.0920000000000001]
["REP ABJ",3,"21105450550",null,"Articles de bricolage","Seaux, auges et contenants","PE ou PP ou mélange PP/PE >90%","Compris entre 7 kg et 10 kg exclus","€/unité",1.3,1.3,"511",1.56]
["REP ABJ",3,"21105450560",null,"Articles de bricolage","Seaux, auges et contenants","PE ou PP ou mélange PP/PE >90%","Compris entre 10 kg et 15 kg exclus","€/unité",1.95,1.95,"512",2.34]
["REP ABJ",3,"21105450570",null,"Articles de bricolage","Seaux, auges et contenants","PE ou PP ou mélange PP/PE >90%","Compris entre 15 kg et 20 kg exclus","€/unité",2.6,2.6,"513",3.12]
["REP ABJ",3,"21105460000",null,"Articles de bricolage","Seaux, auges et contenants","ABS >90%","Eléments de toutes dimensions et poids","€ / Tonne",130,130,"495",156]
["REP ABJ",3,"21105460200",null,"Articles de bricolage","Seaux, auges et contenants","ABS >90%","Inférieur strictement à 0,5 kg","€/unité",0.03,0.03,"092",3.5999999999999997E-2]
["REP ABJ",3,"21105460210",null,"Articles de bricolage","Seaux, auges et contenants","ABS >90%","Compris entre 0,5 kg et 1 kg exclus","€/unité",0.1,0.1,"094",0.12]
["REP ABJ",3,"21105460220",null,"Articles de bricolage","Seaux, auges et contenants","ABS >90%","Compris entre 1 kg et 2 kg exclus","€/unité",0.2,0.2,"101",0.24]
["REP ABJ",3,"21105460520",null,"Articles de bricolage","Seaux, auges et contenants","ABS >90%","Compris entre 2 kg et 3 kg exclus","€/unité",0.33,0.33,"006",0.39600000000000002]
["REP ABJ",3,"21105460530",null,"Articles de bricolage","Seaux, auges et contenants","ABS >90%","Compris entre 3 kg et 5 kg exclus","€/unité",0.52,0.52,"509",0.624]
["REP ABJ",3,"21105460540",null,"Articles de bricolage","Seaux, auges et contenants","ABS >90%","Compris entre 5 kg et 7 kg exclus","€/unité",0.91,0.91,"510",1.0920000000000001]
["REP ABJ",3,"21105460550",null,"Articles de bricolage","Seaux, auges et contenants","ABS >90%","Compris entre 7 kg et 10 kg exclus","€/unité",1.3,1.3,"511",1.56]
["REP ABJ",3,"21105460560",null,"Articles de bricolage","Seaux, auges et contenants","ABS >90%","Compris entre 10 kg et 15 kg exclus","€/unité",1.95,1.95,"512",2.34]
["REP ABJ",3,"21105460570",null,"Articles de bricolage","Seaux, auges et contenants","ABS >90%","Compris entre 15 kg et 20 kg exclus","€/unité",2.6,2.6,"513",3.12]
["REP ABJ",3,"21105470000",null,"Articles de bricolage","Seaux, auges et contenants","Polystyrène >90%","Eléments de toutes dimensions et poids","€ / Tonne",130,130,"495",156]
["REP ABJ",3,"21105470200",null,"Articles de bricolage","Seaux, auges et contenants","Polystyrène >90%","Inférieur strictement à 0,5 kg","€/unité",0.03,0.03,"092",3.5999999999999997E-2]
["REP ABJ",3,"21105470210",null,"Articles de bricolage","Seaux, auges et contenants","Polystyrène >90%","Compris entre 0,5 kg et 1 kg exclus","€/unité",0.1,0.1,"094",0.12]
["REP ABJ",3,"21105470220",null,"Articles de bricolage","Seaux, auges et contenants","Polystyrène >90%","Compris entre 1 kg et 2 kg exclus","€/unité",0.2,0.2,"101",0.24]
["REP ABJ",3,"21105470520",null,"Articles de bricolage","Seaux, auges et contenants","Polystyrène >90%","Compris entre 2 kg et 3 kg exclus","€/unité",0.33,0.33,"006",0.39600000000000002]
["REP ABJ",3,"21105470530",null,"Articles de bricolage","Seaux, auges et contenants","Polystyrène >90%","Compris entre 3 kg et 5 kg exclus","€/unité",0.52,0.52,"509",0.624]
["REP ABJ",3,"21105470540",null,"Articles de bricolage","Seaux, auges et contenants","Polystyrène >90%","Compris entre 5 kg et 7 kg exclus","€/unité",0.91,0.91,"510",1.0920000000000001]
["REP ABJ",3,"21105470550",null,"Articles de bricolage","Seaux, auges et contenants","Polystyrène >90%","Compris entre 7 kg et 10 kg exclus","€/unité",1.3,1.3,"511",1.56]
["REP ABJ",3,"21105470560",null,"Articles de bricolage","Seaux, auges et contenants","Polystyrène >90%","Compris entre 10 kg et 15 kg exclus","€/unité",1.95,1.95,"512",2.34]
["REP ABJ",3,"21105470570",null,"Articles de bricolage","Seaux, auges et contenants","Polystyrène >90%","Compris entre 15 kg et 20 kg exclus","€/unité",2.6,2.6,"513",3.12]
["REP ABJ",3,"21105480000",null,"Articles de bricolage","Seaux, auges et contenants","PVC >90%","Eléments de toutes dimensions et poids","€ / Tonne",130,130,"495",156]
["REP ABJ",3,"21105480200",null,"Articles de bricolage","Seaux, auges et contenants","PVC >90%","Inférieur strictement à 0,5 kg","€/unité",0.03,0.03,"092",3.5999999999999997E-2]
["REP ABJ",3,"21105480210",null,"Articles de bricolage","Seaux, auges et contenants","PVC >90%","Compris entre 0,5 kg et 1 kg exclus","€/unité",0.1,0.1,"094",0.12]
["REP ABJ",3,"21105480220",null,"Articles de bricolage","Seaux, auges et contenants","PVC >90%","Compris entre 1 kg et 2 kg exclus","€/unité",0.2,0.2,"101",0.24]
["REP ABJ",3,"21105480520",null,"Articles de bricolage","Seaux, auges et contenants","PVC >90%","Compris entre 2 kg et 3 kg exclus","€/unité",0.33,0.33,"006",0.39600000000000002]
["REP ABJ",3,"21105480530",null,"Articles de bricolage","Seaux, auges et contenants","PVC >90%","Compris entre 3 kg et 5 kg exclus","€/unité",0.52,0.52,"509",0.624]
["REP ABJ",3,"21105480540",null,"Articles de bricolage","Seaux, auges et contenants","PVC >90%","Compris entre 5 kg et 7 kg exclus","€/unité",0.91,0.91,"510",1.0920000000000001]
["REP ABJ",3,"21105480550",null,"Articles de bricolage","Seaux, auges et contenants","PVC >90%","Compris entre 7 kg et 10 kg exclus","€/unité",1.3,1.3,"511",1.56]
["REP ABJ",3,"21105480560",null,"Articles de bricolage","Seaux, auges et contenants","PVC >90%","Compris entre 10 kg et 15 kg exclus","€/unité",1.95,1.95,"512",2.34]
["REP ABJ",3,"21105480570",null,"Articles de bricolage","Seaux, auges et contenants","PVC >90%","Compris entre 15 kg et 20 kg exclus","€/unité",2.6,2.6,"513",3.12]
["REP ABJ",3,"21105490000",null,"Articles de bricolage","Seaux, auges et contenants","Caoutchouc synthétique >90%","Eléments de toutes dimensions et poids","€ / Tonne",130,130,"495",156]
["REP ABJ",3,"21105490200",null,"Articles de bricolage","Seaux, auges et contenants","Caoutchouc synthétique >90%","Inférieur strictement à 0,5 kg","€/unité",0.03,0.03,"092",3.5999999999999997E-2]
["REP ABJ",3,"21105490210",null,"Articles de bricolage","Seaux, auges et contenants","Caoutchouc synthétique >90%","Compris entre 0,5 kg et 1 kg exclus","€/unité",0.1,0.1,"094",0.12]
["REP ABJ",3,"21105490220",null,"Articles de bricolage","Seaux, auges et contenants","Caoutchouc synthétique >90%","Compris entre 1 kg et 2 kg exclus","€/unité",0.2,0.2,"101",0.24]
["REP ABJ",3,"21105490520",null,"Articles de bricolage","Seaux, auges et contenants","Caoutchouc synthétique >90%","Compris entre 2 kg et 3 kg exclus","€/unité",0.33,0.33,"006",0.39600000000000002]
["REP ABJ",3,"21105490530",null,"Articles de bricolage","Seaux, auges et contenants","Caoutchouc synthétique >90%","Compris entre 3 kg et 5 kg exclus","€/unité",0.52,0.52,"509",0.624]
["REP ABJ",3,"21105490540",null,"Articles de bricolage","Seaux, auges et contenants","Caoutchouc synthétique >90%","Compris entre 5 kg et 7 kg exclus","€/unité",0.91,0.91,"510",1.0920000000000001]
["REP ABJ",3,"21105490550",null,"Articles de bricolage","Seaux, auges et contenants","Caoutchouc synthétique >90%","Compris entre 7 kg et 10 kg exclus","€/unité",1.3,1.3,"511",1.56]
["REP ABJ",3,"21105490560",null,"Articles de bricolage","Seaux, auges et contenants","Caoutchouc synthétique >90%","Compris entre 10 kg et 15 kg exclus","€/unité",1.95,1.95,"512",2.34]
["REP ABJ",3,"21105490570",null,"Articles de bricolage","Seaux, auges et contenants","Caoutchouc synthétique >90%","Compris entre 15 kg et 20 kg exclus","€/unité",2.6,2.6,"513",3.12]
["REP ABJ",3,"21105520000",null,"Articles de bricolage","Seaux, auges et contenants","Massif et assimilés certifiés >90%","Eléments de toutes dimensions et poids","€ / Tonne",20,20,"148",24]
["REP ABJ",3,"21105520200",null,"Articles de bricolage","Seaux, auges et contenants","Massif et assimilés certifiés >90%","Inférieur strictement à 0,5 kg","€/unité",0.01,0.01,"260",1.2E-2]
["REP ABJ",3,"21105520210",null,"Articles de bricolage","Seaux, auges et contenants","Massif et assimilés certifiés >90%","Compris entre 0,5 kg et 1 kg exclus","€/unité",0.02,0.02,"047",2.4E-2]
["REP ABJ",3,"21105520220",null,"Articles de bricolage","Seaux, auges et contenants","Massif et assimilés certifiés >90%","Compris entre 1 kg et 2 kg exclus","€/unité",0.03,0.03,"092",3.5999999999999997E-2]
["REP ABJ",3,"21105520520",null,"Articles de bricolage","Seaux, auges et contenants","Massif et assimilés certifiés >90%","Compris entre 2 kg et 3 kg exclus","€/unité",0.05,0.05,"048",0.06]
["REP ABJ",3,"21105520530",null,"Articles de bricolage","Seaux, auges et contenants","Massif et assimilés certifiés >90%","Compris entre 3 kg et 5 kg exclus","€/unité",0.08,0.08,"003",9.6000000000000002E-2]
["REP ABJ",3,"21105520540",null,"Articles de bricolage","Seaux, auges et contenants","Massif et assimilés certifiés >90%","Compris entre 5 kg et 7 kg exclus","€/unité",0.14000000000000001,0.14000000000000001,"098",0.16800000000000001]
["REP ABJ",3,"21105520550",null,"Articles de bricolage","Seaux, auges et contenants","Massif et assimilés certifiés >90%","Compris entre 7 kg et 10 kg exclus","€/unité",0.2,0.2,"101",0.24]
["REP ABJ",3,"21105520560",null,"Articles de bricolage","Seaux, auges et contenants","Massif et assimilés certifiés >90%","Compris entre 10 kg et 15 kg exclus","€/unité",0.3,0.3,"446",0.36]
["REP ABJ",3,"21105520570",null,"Articles de bricolage","Seaux, auges et contenants","Massif et assimilés certifiés >90%","Compris entre 15 kg et 20 kg exclus","€/unité",0.4,0.4,"105",0.48]
["REP ABJ",3,"21105530000",null,"Articles de bricolage","Seaux, auges et contenants","Massif et assimilés >90%","Eléments de toutes dimensions et poids","€ / Tonne",20,20,"148",24]
["REP ABJ",3,"21105530200",null,"Articles de bricolage","Seaux, auges et contenants","Massif et assimilés >90%","Inférieur strictement à 0,5 kg","€/unité",0.01,0.01,"260",1.2E-2]
["REP ABJ",3,"21105530210",null,"Articles de bricolage","Seaux, auges et contenants","Massif et assimilés >90%","Compris entre 0,5 kg et 1 kg exclus","€/unité",0.02,0.02,"047",2.4E-2]
["REP ABJ",3,"21105530220",null,"Articles de bricolage","Seaux, auges et contenants","Massif et assimilés >90%","Compris entre 1 kg et 2 kg exclus","€/unité",0.03,0.03,"092",3.5999999999999997E-2]
["REP ABJ",3,"21105530520",null,"Articles de bricolage","Seaux, auges et contenants","Massif et assimilés >90%","Compris entre 2 kg et 3 kg exclus","€/unité",0.05,0.05,"048",0.06]
["REP ABJ",3,"21105530530",null,"Articles de bricolage","Seaux, auges et contenants","Massif et assimilés >90%","Compris entre 3 kg et 5 kg exclus","€/unité",0.08,0.08,"003",9.6000000000000002E-2]
["REP ABJ",3,"21105530540",null,"Articles de bricolage","Seaux, auges et contenants","Massif et assimilés >90%","Compris entre 5 kg et 7 kg exclus","€/unité",0.14000000000000001,0.14000000000000001,"098",0.16800000000000001]
["REP ABJ",3,"21105530550",null,"Articles de bricolage","Seaux, auges et contenants","Massif et assimilés >90%","Compris entre 7 kg et 10 kg exclus","€/unité",0.2,0.2,"101",0.24]
["REP ABJ",3,"21105530560",null,"Articles de bricolage","Seaux, auges et contenants","Massif et assimilés >90%","Compris entre 10 kg et 15 kg exclus","€/unité",0.3,0.3,"446",0.36]
["REP ABJ",3,"21105530570",null,"Articles de bricolage","Seaux, auges et contenants","Massif et assimilés >90%","Compris entre 15 kg et 20 kg exclus","€/unité",0.4,0.4,"105",0.48]
["REP ABJ",3,"21105550000",null,"Articles de bricolage","Seaux, auges et contenants","Matériaux bio sourcés ou textiles non synthétiques >90%","Eléments de toutes dimensions et poids","€ / Tonne",50,50,"173",60]
["REP ABJ",3,"21105550200",null,"Articles de bricolage","Seaux, auges et contenants","Matériaux bio sourcés ou textiles non synthétiques >90%","Inférieur strictement à 0,5 kg","€/unité",0.01,0.01,"260",1.2E-2]
["REP ABJ",3,"21105550210",null,"Articles de bricolage","Seaux, auges et contenants","Matériaux bio sourcés ou textiles non synthétiques >90%","Compris entre 0,5 kg et 1 kg exclus","€/unité",0.04,0.04,"002",4.8000000000000001E-2]
["REP ABJ",3,"21105550220",null,"Articles de bricolage","Seaux, auges et contenants","Matériaux bio sourcés ou textiles non synthétiques >90%","Compris entre 1 kg et 2 kg exclus","€/unité",0.08,0.08,"003",9.6000000000000002E-2]
["REP ABJ",3,"21105550520",null,"Articles de bricolage","Seaux, auges et contenants","Matériaux bio sourcés ou textiles non synthétiques >90%","Compris entre 2 kg et 3 kg exclus","€/unité",0.13,0.13,"004",0.156]
["REP ABJ",3,"21105550530",null,"Articles de bricolage","Seaux, auges et contenants","Matériaux bio sourcés ou textiles non synthétiques >90%","Compris entre 3 kg et 5 kg exclus","€/unité",0.2,0.2,"101",0.24]
["REP ABJ",3,"21105550540",null,"Articles de bricolage","Seaux, auges et contenants","Matériaux bio sourcés ou textiles non synthétiques >90%","Compris entre 5 kg et 7 kg exclus","€/unité",0.35,0.35,"448",0.42]
["REP ABJ",3,"21105550550",null,"Articles de bricolage","Seaux, auges et contenants","Matériaux bio sourcés ou textiles non synthétiques >90%","Compris entre 7 kg et 10 kg exclus","€/unité",0.5,0.5,"053",0.6]
["REP ABJ",3,"21105550560",null,"Articles de bricolage","Seaux, auges et contenants","Matériaux bio sourcés ou textiles non synthétiques >90%","Compris entre 10 kg et 15 kg exclus","€/unité",0.75,0.75,"328",0.89999999999999991]
["REP ABJ",3,"21105550570",null,"Articles de bricolage","Seaux, auges et contenants","Matériaux bio sourcés ou textiles non synthétiques >90%","Compris entre 15 kg et 20 kg exclus","€/unité",1,1,"056",1.2]
["REP ABJ",3,"21105590000",null,"Articles de bricolage","Seaux, auges et contenants","Panneaux de particules ou OSB certifiés >90%","Eléments de toutes dimensions et poids","€ / Tonne",20,20,"148",24]
["REP ABJ",3,"21105590200",null,"Articles de bricolage","Seaux, auges et contenants","Panneaux de particules ou OSB certifiés >90%","Inférieur strictement à 0,5 kg","€/unité",0.01,0.01,"260",1.2E-2]
["REP ABJ",3,"21105590210",null,"Articles de bricolage","Seaux, auges et contenants","Panneaux de particules ou OSB certifiés >90%","Compris entre 0,5 kg et 1 kg exclus","€/unité",0.02,0.02,"047",2.4E-2]
["REP ABJ",3,"21105590220",null,"Articles de bricolage","Seaux, auges et contenants","Panneaux de particules ou OSB certifiés >90%","Compris entre 1 kg et 2 kg exclus","€/unité",0.03,0.03,"092",3.5999999999999997E-2]
["REP ABJ",3,"21105590520",null,"Articles de bricolage","Seaux, auges et contenants","Panneaux de particules ou OSB certifiés >90%","Compris entre 2 kg et 3 kg exclus","€/unité",0.05,0.05,"048",0.06]
["REP ABJ",3,"21105590530",null,"Articles de bricolage","Seaux, auges et contenants","Panneaux de particules ou OSB certifiés >90%","Compris entre 3 kg et 5 kg exclus","€/unité",0.08,0.08,"003",9.6000000000000002E-2]
["REP ABJ",3,"21105590540",null,"Articles de bricolage","Seaux, auges et contenants","Panneaux de particules ou OSB certifiés >90%","Compris entre 5 kg et 7 kg exclus","€/unité",0.14000000000000001,0.14000000000000001,"098",0.16800000000000001]
["REP ABJ",3,"21105590550",null,"Articles de bricolage","Seaux, auges et contenants","Panneaux de particules ou OSB certifiés >90%","Compris entre 7 kg et 10 kg exclus","€/unité",0.2,0.2,"101",0.24]
["REP ABJ",3,"21105590560",null,"Articles de bricolage","Seaux, auges et contenants","Panneaux de particules ou OSB certifiés >90%","Compris entre 10 kg et 15 kg exclus","€/unité",0.3,0.3,"446",0.36]
["REP ABJ",3,"21105590570",null,"Articles de bricolage","Seaux, auges et contenants","Panneaux de particules ou OSB certifiés >90%","Compris entre 15 kg et 20 kg exclus","€/unité",0.4,0.4,"105",0.48]
["REP ABJ",3,"21105600000",null,"Articles de bricolage","Seaux, auges et contenants","Panneaux de particules ou OSB certifiés >75%","Eléments de toutes dimensions et poids","€ / Tonne",20,20,"148",24]
["REP ABJ",3,"21105600200",null,"Articles de bricolage","Seaux, auges et contenants","Panneaux de particules ou OSB certifiés >75%","Inférieur strictement à 0,5 kg","€/unité",0.01,0.01,"260",1.2E-2]
["REP ABJ",3,"21105600210",null,"Articles de bricolage","Seaux, auges et contenants","Panneaux de particules ou OSB certifiés >75%","Compris entre 0,5 kg et 1 kg exclus","€/unité",0.02,0.02,"047",2.4E-2]
["REP ABJ",3,"21105600220",null,"Articles de bricolage","Seaux, auges et contenants","Panneaux de particules ou OSB certifiés >75%","Compris entre 1 kg et 2 kg exclus","€/unité",0.03,0.03,"092",3.5999999999999997E-2]
["REP ABJ",3,"21105600520",null,"Articles de bricolage","Seaux, auges et contenants","Panneaux de particules ou OSB certifiés >75%","Compris entre 2 kg et 3 kg exclus","€/unité",0.05,0.05,"048",0.06]
["REP ABJ",3,"21105600530",null,"Articles de bricolage","Seaux, auges et contenants","Panneaux de particules ou OSB certifiés >75%","Compris entre 3 kg et 5 kg exclus","€/unité",0.08,0.08,"003",9.6000000000000002E-2]
["REP ABJ",3,"21105600540",null,"Articles de bricolage","Seaux, auges et contenants","Panneaux de particules ou OSB certifiés >75%","Compris entre 5 kg et 7 kg exclus","€/unité",0.14000000000000001,0.14000000000000001,"098",0.16800000000000001]
["REP ABJ",3,"21105600550",null,"Articles de bricolage","Seaux, auges et contenants","Panneaux de particules ou OSB certifiés >75%","Compris entre 7 kg et 10 kg exclus","€/unité",0.2,0.2,"101",0.24]
["REP ABJ",3,"21105600560",null,"Articles de bricolage","Seaux, auges et contenants","Panneaux de particules ou OSB certifiés >75%","Compris entre 10 kg et 15 kg exclus","€/unité",0.3,0.3,"446",0.36]
["REP ABJ",3,"21105600570",null,"Articles de bricolage","Seaux, auges et contenants","Panneaux de particules ou OSB certifiés >75%","Compris entre 15 kg et 20 kg exclus","€/unité",0.4,0.4,"105",0.48]
["REP ABJ",3,"21105610000",null,"Articles de bricolage","Seaux, auges et contenants","Panneaux de particules ou OSB >90%","Eléments de toutes dimensions et poids","€ / Tonne",20,20,"148",24]
["REP ABJ",3,"21105610200",null,"Articles de bricolage","Seaux, auges et contenants","Panneaux de particules ou OSB >90%","Inférieur strictement à 0,5 kg","€/unité",0.01,0.01,"260",1.2E-2]
["REP ABJ",3,"21105610210",null,"Articles de bricolage","Seaux, auges et contenants","Panneaux de particules ou OSB >90%","Compris entre 0,5 kg et 1 kg exclus","€/unité",0.02,0.02,"047",2.4E-2]
["REP ABJ",3,"21105610220",null,"Articles de bricolage","Seaux, auges et contenants","Panneaux de particules ou OSB >90%","Compris entre 1 kg et 2 kg exclus","€/unité",0.03,0.03,"092",3.5999999999999997E-2]
["REP ABJ",3,"21105610520",null,"Articles de bricolage","Seaux, auges et contenants","Panneaux de particules ou OSB >90%","Compris entre 2 kg et 3 kg exclus","€/unité",0.05,0.05,"048",0.06]
["REP ABJ",3,"21105610530",null,"Articles de bricolage","Seaux, auges et contenants","Panneaux de particules ou OSB >90%","Compris entre 3 kg et 5 kg exclus","€/unité",0.08,0.08,"003",9.6000000000000002E-2]
["REP ABJ",3,"21105610540",null,"Articles de bricolage","Seaux, auges et contenants","Panneaux de particules ou OSB >90%","Compris entre 5 kg et 7 kg exclus","€/unité",0.14000000000000001,0.14000000000000001,"098",0.16800000000000001]
["REP ABJ",3,"21105610550",null,"Articles de bricolage","Seaux, auges et contenants","Panneaux de particules ou OSB >90%","Compris entre 7 kg et 10 kg exclus","€/unité",0.2,0.2,"101",0.24]
["REP ABJ",3,"21105610560",null,"Articles de bricolage","Seaux, auges et contenants","Panneaux de particules ou OSB >90%","Compris entre 10 kg et 15 kg exclus","€/unité",0.3,0.3,"446",0.36]
["REP ABJ",3,"21105610570",null,"Articles de bricolage","Seaux, auges et contenants","Panneaux de particules ou OSB >90%","Compris entre 15 kg et 20 kg exclus","€/unité",0.4,0.4,"105",0.48]
["REP ABJ",3,"21105620000",null,"Articles de bricolage","Seaux, auges et contenants","Dérivés de bois >90%","Eléments de toutes dimensions et poids","€ / Tonne",20,20,"148",24]
["REP ABJ",3,"21105620200",null,"Articles de bricolage","Seaux, auges et contenants","Dérivés de bois >90%","Inférieur strictement à 0,5 kg","€/unité",0.01,0.01,"260",1.2E-2]
["REP ABJ",3,"21105620210",null,"Articles de bricolage","Seaux, auges et contenants","Dérivés de bois >90%","Compris entre 0,5 kg et 1 kg exclus","€/unité",0.02,0.02,"047",2.4E-2]
["REP ABJ",3,"21105620220",null,"Articles de bricolage","Seaux, auges et contenants","Dérivés de bois >90%","Compris entre 1 kg et 2 kg exclus","€/unité",0.03,0.03,"092",3.5999999999999997E-2]
["REP ABJ",3,"21105620520",null,"Articles de bricolage","Seaux, auges et contenants","Dérivés de bois >90%","Compris entre 2 kg et 3 kg exclus","€/unité",0.05,0.05,"048",0.06]
["REP ABJ",3,"21105620530",null,"Articles de bricolage","Seaux, auges et contenants","Dérivés de bois >90%","Compris entre 3 kg et 5 kg exclus","€/unité",0.08,0.08,"003",9.6000000000000002E-2]
["REP ABJ",3,"21105620540",null,"Articles de bricolage","Seaux, auges et contenants","Dérivés de bois >90%","Compris entre 5 kg et 7 kg exclus","€/unité",0.14000000000000001,0.14000000000000001,"098",0.16800000000000001]
["REP ABJ",3,"21105620550",null,"Articles de bricolage","Seaux, auges et contenants","Dérivés de bois >90%","Compris entre 7 kg et 10 kg exclus","€/unité",0.2,0.2,"101",0.24]
["REP ABJ",3,"21105620560",null,"Articles de bricolage","Seaux, auges et contenants","Dérivés de bois >90%","Compris entre 10 kg et 15 kg exclus","€/unité",0.3,0.3,"446",0.36]
["REP ABJ",3,"21105620570",null,"Articles de bricolage","Seaux, auges et contenants","Dérivés de bois >90%","Compris entre 15 kg et 20 kg exclus","€/unité",0.4,0.4,"105",0.48]
["REP ABJ",3,"21105630000",null,"Articles de bricolage","Seaux, auges et contenants","Caoutchouc naturel >90%","Eléments de toutes dimensions et poids","€ / Tonne",50,50,"173",60]
["REP ABJ",3,"21105630200",null,"Articles de bricolage","Seaux, auges et contenants","Caoutchouc naturel >90%","Inférieur strictement à 0,5 kg","€/unité",0.01,0.01,"260",1.2E-2]
["REP ABJ",3,"21105630210",null,"Articles de bricolage","Seaux, auges et contenants","Caoutchouc naturel >90%","Compris entre 0,5 kg et 1 kg exclus","€/unité",0.04,0.04,"002",4.8000000000000001E-2]
["REP ABJ",3,"21105630220",null,"Articles de bricolage","Seaux, auges et contenants","Caoutchouc naturel >90%","Compris entre 1 kg et 2 kg exclus","€/unité",0.08,0.08,"003",9.6000000000000002E-2]
["REP ABJ",3,"21105630520",null,"Articles de bricolage","Seaux, auges et contenants","Caoutchouc naturel >90%","Compris entre 2 kg et 3 kg exclus","€/unité",0.13,0.13,"004",0.156]
["REP ABJ",3,"21105630530",null,"Articles de bricolage","Seaux, auges et contenants","Caoutchouc naturel >90%","Compris entre 3 kg et 5 kg exclus","€/unité",0.2,0.2,"101",0.24]
["REP ABJ",3,"21105630540",null,"Articles de bricolage","Seaux, auges et contenants","Caoutchouc naturel >90%","Compris entre 5 kg et 7 kg exclus","€/unité",0.35,0.35,"448",0.42]
["REP ABJ",3,"21105630550",null,"Articles de bricolage","Seaux, auges et contenants","Caoutchouc naturel >90%","Compris entre 7 kg et 10 kg exclus","€/unité",0.5,0.5,"053",0.6]
["REP ABJ",3,"21105630560",null,"Articles de bricolage","Seaux, auges et contenants","Caoutchouc naturel >90%","Compris entre 10 kg et 15 kg exclus","€/unité",0.75,0.75,"328",0.89999999999999991]
["REP ABJ",3,"21105630570",null,"Articles de bricolage","Seaux, auges et contenants","Caoutchouc naturel >90%","Compris entre 15 kg et 20 kg exclus","€/unité",1,1,"056",1.2]
["REP ABJ",3,"21105640000",null,"Articles de bricolage","Seaux, auges et contenants","Caoutchouc naturel >50%","Eléments de toutes dimensions et poids","€ / Tonne",170,170,"497",204]
["REP ABJ",3,"21105640200",null,"Articles de bricolage","Seaux, auges et contenants","Caoutchouc naturel >50%","Inférieur strictement à 0,5 kg","€/unité",0.04,0.04,"002",4.8000000000000001E-2]
["REP ABJ",3,"21105640210",null,"Articles de bricolage","Seaux, auges et contenants","Caoutchouc naturel >50%","Compris entre 0,5 kg et 1 kg exclus","€/unité",0.13,0.13,"004",0.156]
["REP ABJ",3,"21105640220",null,"Articles de bricolage","Seaux, auges et contenants","Caoutchouc naturel >50%","Compris entre 1 kg et 2 kg exclus","€/unité",0.26,0.26,"445",0.312]
["REP ABJ",3,"21105640520",null,"Articles de bricolage","Seaux, auges et contenants","Caoutchouc naturel >50%","Compris entre 2 kg et 3 kg exclus","€/unité",0.43,0.43,"506",0.51600000000000001]
["REP ABJ",3,"21105640530",null,"Articles de bricolage","Seaux, auges et contenants","Caoutchouc naturel >50%","Compris entre 3 kg et 5 kg exclus","€/unité",0.68,0.68,"044",0.81600000000000006]
["REP ABJ",3,"21105640540",null,"Articles de bricolage","Seaux, auges et contenants","Caoutchouc naturel >50%","Compris entre 5 kg et 7 kg exclus","€/unité",1.19,1.19,"507",1.4279999999999999]
["REP ABJ",3,"21105640550",null,"Articles de bricolage","Seaux, auges et contenants","Caoutchouc naturel >50%","Compris entre 7 kg et 10 kg exclus","€/unité",1.7,1.7,"256",2.04]
["REP ABJ",3,"21105640560",null,"Articles de bricolage","Seaux, auges et contenants","Caoutchouc naturel >50%","Compris entre 10 kg et 15 kg exclus","€/unité",2.5499999999999998,2.5499999999999998,"272",3.0599999999999996]
["REP ABJ",3,"21105640570",null,"Articles de bricolage","Seaux, auges et contenants","Caoutchouc naturel >50%","Compris entre 15 kg et 20 kg exclus","€/unité",3.4,3.4,"508",4.08]
["REP ABJ",3,"21105650000",null,"Articles de bricolage","Seaux, auges et contenants","Matériaux ou fibres synthétiques >90%","Eléments de toutes dimensions et poids","€ / Tonne",130,130,"495",156]
["REP ABJ",3,"21105650200",null,"Articles de bricolage","Seaux, auges et contenants","Matériaux ou fibres synthétiques >90%","Inférieur strictement à 0,5 kg","€/unité",0.03,0.03,"092",3.5999999999999997E-2]
["REP ABJ",3,"21105650210",null,"Articles de bricolage","Seaux, auges et contenants","Matériaux ou fibres synthétiques >90%","Compris entre 0,5 kg et 1 kg exclus","€/unité",0.1,0.1,"094",0.12]
["REP ABJ",3,"21105650220",null,"Articles de bricolage","Seaux, auges et contenants","Matériaux ou fibres synthétiques >90%","Compris entre 1 kg et 2 kg exclus","€/unité",0.2,0.2,"101",0.24]
["REP ABJ",3,"21105650520",null,"Articles de bricolage","Seaux, auges et contenants","Matériaux ou fibres synthétiques >90%","Compris entre 2 kg et 3 kg exclus","€/unité",0.33,0.33,"006",0.39600000000000002]
["REP ABJ",3,"21105650530",null,"Articles de bricolage","Seaux, auges et contenants","Matériaux ou fibres synthétiques >90%","Compris entre 3 kg et 5 kg exclus","€/unité",0.52,0.52,"509",0.624]
["REP ABJ",3,"21105650540",null,"Articles de bricolage","Seaux, auges et contenants","Matériaux ou fibres synthétiques >90%","Compris entre 5 kg et 7 kg exclus","€/unité",0.91,0.91,"510",1.0920000000000001]
["REP ABJ",3,"21105650550",null,"Articles de bricolage","Seaux, auges et contenants","Matériaux ou fibres synthétiques >90%","Compris entre 7 kg et 10 kg exclus","€/unité",1.3,1.3,"511",1.56]
["REP ABJ",3,"21105650560",null,"Articles de bricolage","Seaux, auges et contenants","Matériaux ou fibres synthétiques >90%","Compris entre 10 kg et 15 kg exclus","€/unité",1.95,1.95,"512",2.34]
["REP ABJ",3,"21105650570",null,"Articles de bricolage","Seaux, auges et contenants","Matériaux ou fibres synthétiques >90%","Compris entre 15 kg et 20 kg exclus","€/unité",2.6,2.6,"513",3.12]
["REP ABJ",3,"21105670000",null,"Articles de bricolage","Seaux, auges et contenants","Assemblage matériaux ou fibres synthétiques >50% avec d'autres matériaux","Eléments de toutes dimensions et poids","€ / Tonne",170,170,"497",204]
["REP ABJ",3,"21105670200",null,"Articles de bricolage","Seaux, auges et contenants","Assemblage matériaux ou fibres synthétiques >50% avec d'autres matériaux","Inférieur strictement à 0,5 kg","€/unité",0.04,0.04,"002",4.8000000000000001E-2]
["REP ABJ",3,"21105670210",null,"Articles de bricolage","Seaux, auges et contenants","Assemblage matériaux ou fibres synthétiques >50% avec d'autres matériaux","Compris entre 0,5 kg et 1 kg exclus","€/unité",0.13,0.13,"004",0.156]
["REP ABJ",3,"21105670220",null,"Articles de bricolage","Seaux, auges et contenants","Assemblage matériaux ou fibres synthétiques >50% avec d'autres matériaux","Compris entre 1 kg et 2 kg exclus","€/unité",0.26,0.26,"445",0.312]
["REP ABJ",3,"21105670520",null,"Articles de bricolage","Seaux, auges et contenants","Assemblage matériaux ou fibres synthétiques >50% avec d'autres matériaux","Compris entre 2 kg et 3 kg exclus","€/unité",0.43,0.43,"506",0.51600000000000001]
["REP ABJ",3,"21105670530",null,"Articles de bricolage","Seaux, auges et contenants","Assemblage matériaux ou fibres synthétiques >50% avec d'autres matériaux","Compris entre 3 kg et 5 kg exclus","€/unité",0.68,0.68,"044",0.81600000000000006]
["REP ABJ",3,"21105670540",null,"Articles de bricolage","Seaux, auges et contenants","Assemblage matériaux ou fibres synthétiques >50% avec d'autres matériaux","Compris entre 5 kg et 7 kg exclus","€/unité",1.19,1.19,"507",1.4279999999999999]
["REP ABJ",3,"21105670550",null,"Articles de bricolage","Seaux, auges et contenants","Assemblage matériaux ou fibres synthétiques >50% avec d'autres matériaux","Compris entre 7 kg et 10 kg exclus","€/unité",1.7,1.7,"256",2.04]
["REP ABJ",3,"21105670560",null,"Articles de bricolage","Seaux, auges et contenants","Assemblage matériaux ou fibres synthétiques >50% avec d'autres matériaux","Compris entre 10 kg et 15 kg exclus","€/unité",2.5499999999999998,2.5499999999999998,"272",3.0599999999999996]
["REP ABJ",3,"21105670570",null,"Articles de bricolage","Seaux, auges et contenants","Assemblage matériaux ou fibres synthétiques >50% avec d'autres matériaux","Compris entre 15 kg et 20 kg exclus","€/unité",3.4,3.4,"508",4.08]
["REP ABJ",3,"21105680000",null,"Articles de bricolage","Seaux, auges et contenants","Verre >90%","Eléments de toutes dimensions et poids","€ / Tonne",5,5,"042",6]
["REP ABJ",3,"21105680200",null,"Articles de bricolage","Seaux, auges et contenants","Verre >90%","Inférieur strictement à 0,5 kg","€/unité",0.01,0.01,"260",1.2E-2]
["REP ABJ",3,"21105680210",null,"Articles de bricolage","Seaux, auges et contenants","Verre >90%","Compris entre 0,5 kg et 1 kg exclus","€/unité",0.01,0.01,"260",1.2E-2]
["REP ABJ",3,"21105680220",null,"Articles de bricolage","Seaux, auges et contenants","Verre >90%","Compris entre 1 kg et 2 kg exclus","€/unité",0.01,0.01,"260",1.2E-2]
["REP ABJ",3,"21105680520",null,"Articles de bricolage","Seaux, auges et contenants","Verre >90%","Compris entre 2 kg et 3 kg exclus","€/unité",0.01,0.01,"260",1.2E-2]
["REP ABJ",3,"21105680530",null,"Articles de bricolage","Seaux, auges et contenants","Verre >90%","Compris entre 3 kg et 5 kg exclus","€/unité",0.02,0.02,"047",2.4E-2]
["REP ABJ",3,"21105680540",null,"Articles de bricolage","Seaux, auges et contenants","Verre >90%","Compris entre 5 kg et 7 kg exclus","€/unité",0.04,0.04,"002",4.8000000000000001E-2]
["REP ABJ",3,"21105680550",null,"Articles de bricolage","Seaux, auges et contenants","Verre >90%","Compris entre 7 kg et 10 kg exclus","€/unité",0.05,0.05,"048",0.06]
["REP ABJ",3,"21105680560",null,"Articles de bricolage","Seaux, auges et contenants","Verre >90%","Compris entre 10 kg et 15 kg exclus","€/unité",0.08,0.08,"003",9.6000000000000002E-2]
["REP ABJ",3,"21105680570",null,"Articles de bricolage","Seaux, auges et contenants","Verre >90%","Compris entre 15 kg et 20 kg exclus","€/unité",0.1,0.1,"094",0.12]
["REP ABJ",3,"21105700000",null,"Articles de bricolage","Seaux, auges et contenants","Assemblage verre à plus de 50% avec métal","Eléments de toutes dimensions et poids","€ / Tonne",170,170,"497",204]
["REP ABJ",3,"21105700200",null,"Articles de bricolage","Seaux, auges et contenants","Assemblage verre à plus de 50% avec métal","Inférieur strictement à 0,5 kg","€/unité",0.04,0.04,"002",4.8000000000000001E-2]
["REP ABJ",3,"21105700210",null,"Articles de bricolage","Seaux, auges et contenants","Assemblage verre à plus de 50% avec métal","Compris entre 0,5 kg et 1 kg exclus","€/unité",0.13,0.13,"004",0.156]
["REP ABJ",3,"21105700220",null,"Articles de bricolage","Seaux, auges et contenants","Assemblage verre à plus de 50% avec métal","Compris entre 1 kg et 2 kg exclus","€/unité",0.26,0.26,"445",0.312]
["REP ABJ",3,"21105700520",null,"Articles de bricolage","Seaux, auges et contenants","Assemblage verre à plus de 50% avec métal","Compris entre 2 kg et 3 kg exclus","€/unité",0.43,0.43,"506",0.51600000000000001]
["REP ABJ",3,"21105700530",null,"Articles de bricolage","Seaux, auges et contenants","Assemblage verre à plus de 50% avec métal","Compris entre 3 kg et 5 kg exclus","€/unité",0.68,0.68,"044",0.81600000000000006]
["REP ABJ",3,"21105700540",null,"Articles de bricolage","Seaux, auges et contenants","Assemblage verre à plus de 50% avec métal","Compris entre 5 kg et 7 kg exclus","€/unité",1.19,1.19,"507",1.4279999999999999]
["REP ABJ",3,"21105700550",null,"Articles de bricolage","Seaux, auges et contenants","Assemblage verre à plus de 50% avec métal","Compris entre 7 kg et 10 kg exclus","€/unité",1.7,1.7,"256",2.04]
["REP ABJ",3,"21105700560",null,"Articles de bricolage","Seaux, auges et contenants","Assemblage verre à plus de 50% avec métal","Compris entre 10 kg et 15 kg exclus","€/unité",2.5499999999999998,2.5499999999999998,"272",3.0599999999999996]
["REP ABJ",3,"21105700570",null,"Articles de bricolage","Seaux, auges et contenants","Assemblage verre à plus de 50% avec métal","Compris entre 15 kg et 20 kg exclus","€/unité",3.4,3.4,"508",4.08]
["REP ABJ",3,"21105710000",null,"Articles de bricolage","Seaux, auges et contenants","Assemblage verre à plus de 50% avec Inerte","Eléments de toutes dimensions et poids","€ / Tonne",170,170,"497",204]
["REP ABJ",3,"21105710200",null,"Articles de bricolage","Seaux, auges et contenants","Assemblage verre à plus de 50% avec Inerte","Inférieur strictement à 0,5 kg","€/unité",0.04,0.04,"002",4.8000000000000001E-2]
["REP ABJ",3,"21105710210",null,"Articles de bricolage","Seaux, auges et contenants","Assemblage verre à plus de 50% avec Inerte","Compris entre 0,5 kg et 1 kg exclus","€/unité",0.13,0.13,"004",0.156]
["REP ABJ",3,"21105710220",null,"Articles de bricolage","Seaux, auges et contenants","Assemblage verre à plus de 50% avec Inerte","Compris entre 1 kg et 2 kg exclus","€/unité",0.26,0.26,"445",0.312]
["REP ABJ",3,"21105710520",null,"Articles de bricolage","Seaux, auges et contenants","Assemblage verre à plus de 50% avec Inerte","Compris entre 2 kg et 3 kg exclus","€/unité",0.43,0.43,"506",0.51600000000000001]
["REP ABJ",3,"21105710530",null,"Articles de bricolage","Seaux, auges et contenants","Assemblage verre à plus de 50% avec Inerte","Compris entre 3 kg et 5 kg exclus","€/unité",0.68,0.68,"044",0.81600000000000006]
["REP ABJ",3,"21105710540",null,"Articles de bricolage","Seaux, auges et contenants","Assemblage verre à plus de 50% avec Inerte","Compris entre 5 kg et 7 kg exclus","€/unité",1.19,1.19,"507",1.4279999999999999]
["REP ABJ",3,"21105710550",null,"Articles de bricolage","Seaux, auges et contenants","Assemblage verre à plus de 50% avec Inerte","Compris entre 7 kg et 10 kg exclus","€/unité",1.7,1.7,"256",2.04]
["REP ABJ",3,"21105710560",null,"Articles de bricolage","Seaux, auges et contenants","Assemblage verre à plus de 50% avec Inerte","Compris entre 10 kg et 15 kg exclus","€/unité",2.5499999999999998,2.5499999999999998,"272",3.0599999999999996]
["REP ABJ",3,"21105710570",null,"Articles de bricolage","Seaux, auges et contenants","Assemblage verre à plus de 50% avec Inerte","Compris entre 15 kg et 20 kg exclus","€/unité",3.4,3.4,"508",4.08]
["REP ABJ",3,"21105720000",null,"Articles de bricolage","Seaux, auges et contenants","Assemblage verre à plus de 50% avec bois ou dérivés de bois","Eléments de toutes dimensions et poids","€ / Tonne",170,170,"497",204]
["REP ABJ",3,"21105720200",null,"Articles de bricolage","Seaux, auges et contenants","Assemblage verre à plus de 50% avec bois ou dérivés de bois","Inférieur strictement à 0,5 kg","€/unité",0.04,0.04,"002",4.8000000000000001E-2]
["REP ABJ",3,"21105720210",null,"Articles de bricolage","Seaux, auges et contenants","Assemblage verre à plus de 50% avec bois ou dérivés de bois","Compris entre 0,5 kg et 1 kg exclus","€/unité",0.13,0.13,"004",0.156]
["REP ABJ",3,"21105720220",null,"Articles de bricolage","Seaux, auges et contenants","Assemblage verre à plus de 50% avec bois ou dérivés de bois","Compris entre 1 kg et 2 kg exclus","€/unité",0.26,0.26,"445",0.312]
["REP ABJ",3,"21105720520",null,"Articles de bricolage","Seaux, auges et contenants","Assemblage verre à plus de 50% avec bois ou dérivés de bois","Compris entre 2 kg et 3 kg exclus","€/unité",0.43,0.43,"506",0.51600000000000001]
["REP ABJ",3,"21105720530",null,"Articles de bricolage","Seaux, auges et contenants","Assemblage verre à plus de 50% avec bois ou dérivés de bois","Compris entre 3 kg et 5 kg exclus","€/unité",0.68,0.68,"044",0.81600000000000006]
["REP ABJ",3,"21105720540",null,"Articles de bricolage","Seaux, auges et contenants","Assemblage verre à plus de 50% avec bois ou dérivés de bois","Compris entre 5 kg et 7 kg exclus","€/unité",1.19,1.19,"507",1.4279999999999999]
["REP ABJ",3,"21105720550",null,"Articles de bricolage","Seaux, auges et contenants","Assemblage verre à plus de 50% avec bois ou dérivés de bois","Compris entre 7 kg et 10 kg exclus","€/unité",1.7,1.7,"256",2.04]
["REP ABJ",3,"21105720560",null,"Articles de bricolage","Seaux, auges et contenants","Assemblage verre à plus de 50% avec bois ou dérivés de bois","Compris entre 10 kg et 15 kg exclus","€/unité",2.5499999999999998,2.5499999999999998,"272",3.0599999999999996]
["REP ABJ",3,"21105720570",null,"Articles de bricolage","Seaux, auges et contenants","Assemblage verre à plus de 50% avec bois ou dérivés de bois","Compris entre 15 kg et 20 kg exclus","€/unité",3.4,3.4,"508",4.08]
["REP ABJ",3,"21105730000",null,"Articles de bricolage","Seaux, auges et contenants","Assemblage verre à plus de 50% avec plastique","Eléments de toutes dimensions et poids","€ / Tonne",170,170,"497",204]
["REP ABJ",3,"21105730200",null,"Articles de bricolage","Seaux, auges et contenants","Assemblage verre à plus de 50% avec plastique","Inférieur strictement à 0,5 kg","€/unité",0.04,0.04,"002",4.8000000000000001E-2]
["REP ABJ",3,"21105730210",null,"Articles de bricolage","Seaux, auges et contenants","Assemblage verre à plus de 50% avec plastique","Compris entre 0,5 kg et 1 kg exclus","€/unité",0.13,0.13,"004",0.156]
["REP ABJ",3,"21105730220",null,"Articles de bricolage","Seaux, auges et contenants","Assemblage verre à plus de 50% avec plastique","Compris entre 1 kg et 2 kg exclus","€/unité",0.26,0.26,"445",0.312]
["REP ABJ",3,"21105730520",null,"Articles de bricolage","Seaux, auges et contenants","Assemblage verre à plus de 50% avec plastique","Compris entre 2 kg et 3 kg exclus","€/unité",0.43,0.43,"506",0.51600000000000001]
["REP ABJ",3,"21105730530",null,"Articles de bricolage","Seaux, auges et contenants","Assemblage verre à plus de 50% avec plastique","Compris entre 3 kg et 5 kg exclus","€/unité",0.68,0.68,"044",0.81600000000000006]
["REP ABJ",3,"21105730540",null,"Articles de bricolage","Seaux, auges et contenants","Assemblage verre à plus de 50% avec plastique","Compris entre 5 kg et 7 kg exclus","€/unité",1.19,1.19,"507",1.4279999999999999]
["REP ABJ",3,"21105730550",null,"Articles de bricolage","Seaux, auges et contenants","Assemblage verre à plus de 50% avec plastique","Compris entre 7 kg et 10 kg exclus","€/unité",1.7,1.7,"256",2.04]
["REP ABJ",3,"21105730560",null,"Articles de bricolage","Seaux, auges et contenants","Assemblage verre à plus de 50% avec plastique","Compris entre 10 kg et 15 kg exclus","€/unité",2.5499999999999998,2.5499999999999998,"272",3.0599999999999996]
["REP ABJ",3,"21105730570",null,"Articles de bricolage","Seaux, auges et contenants","Assemblage verre à plus de 50% avec plastique","Compris entre 15 kg et 20 kg exclus","€/unité",3.4,3.4,"508",4.08]
["REP ABJ",3,"21105740000",null,"Articles de bricolage","Seaux, auges et contenants","Béton >90%","Eléments de toutes dimensions et poids","€ / Tonne",5,5,"042",6]
["REP ABJ",3,"21105740200",null,"Articles de bricolage","Seaux, auges et contenants","Béton >90%","Inférieur strictement à 0,5 kg","€/unité",0.01,0.01,"260",1.2E-2]
["REP ABJ",3,"21105740210",null,"Articles de bricolage","Seaux, auges et contenants","Béton >90%","Compris entre 0,5 kg et 1 kg exclus","€/unité",0.01,0.01,"260",1.2E-2]
["REP ABJ",3,"21105740220",null,"Articles de bricolage","Seaux, auges et contenants","Béton >90%","Compris entre 1 kg et 2 kg exclus","€/unité",0.01,0.01,"260",1.2E-2]
["REP ABJ",3,"21105740520",null,"Articles de bricolage","Seaux, auges et contenants","Béton >90%","Compris entre 2 kg et 3 kg exclus","€/unité",0.01,0.01,"260",1.2E-2]
["REP ABJ",3,"21105740530",null,"Articles de bricolage","Seaux, auges et contenants","Béton >90%","Compris entre 3 kg et 5 kg exclus","€/unité",0.02,0.02,"047",2.4E-2]
["REP ABJ",3,"21105740540",null,"Articles de bricolage","Seaux, auges et contenants","Béton >90%","Compris entre 5 kg et 7 kg exclus","€/unité",0.04,0.04,"002",4.8000000000000001E-2]
["REP ABJ",3,"21105740550",null,"Articles de bricolage","Seaux, auges et contenants","Béton >90%","Compris entre 7 kg et 10 kg exclus","€/unité",0.05,0.05,"048",0.06]
["REP ABJ",3,"21105740560",null,"Articles de bricolage","Seaux, auges et contenants","Béton >90%","Compris entre 10 kg et 15 kg exclus","€/unité",0.08,0.08,"003",9.6000000000000002E-2]
["REP ABJ",3,"21105740570",null,"Articles de bricolage","Seaux, auges et contenants","Béton >90%","Compris entre 15 kg et 20 kg exclus","€/unité",0.1,0.1,"094",0.12]
["REP ABJ",3,"21105810000",null,"Articles de bricolage","Seaux, auges et contenants","Assemblage dont la composition conjointe en bois, dérivés de bois et en métal dépasse 90%","Eléments de toutes dimensions et poids","€ / Tonne",20,20,"148",24]
["REP ABJ",3,"21105810200",null,"Articles de bricolage","Seaux, auges et contenants","Assemblage dont la composition conjointe en bois, dérivés de bois et en métal dépasse 90%","Inférieur strictement à 0,5 kg","€/unité",0.01,0.01,"260",1.2E-2]
["REP ABJ",3,"21105810210",null,"Articles de bricolage","Seaux, auges et contenants","Assemblage dont la composition conjointe en bois, dérivés de bois et en métal dépasse 90%","Compris entre 0,5 kg et 1 kg exclus","€/unité",0.02,0.02,"047",2.4E-2]
["REP ABJ",3,"21105810220",null,"Articles de bricolage","Seaux, auges et contenants","Assemblage dont la composition conjointe en bois, dérivés de bois et en métal dépasse 90%","Compris entre 1 kg et 2 kg exclus","€/unité",0.03,0.03,"092",3.5999999999999997E-2]
["REP ABJ",3,"21105810520",null,"Articles de bricolage","Seaux, auges et contenants","Assemblage dont la composition conjointe en bois, dérivés de bois et en métal dépasse 90%","Compris entre 2 kg et 3 kg exclus","€/unité",0.05,0.05,"048",0.06]
["REP ABJ",3,"21105810530",null,"Articles de bricolage","Seaux, auges et contenants","Assemblage dont la composition conjointe en bois, dérivés de bois et en métal dépasse 90%","Compris entre 3 kg et 5 kg exclus","€/unité",0.08,0.08,"003",9.6000000000000002E-2]
["REP ABJ",3,"21105810540",null,"Articles de bricolage","Seaux, auges et contenants","Assemblage dont la composition conjointe en bois, dérivés de bois et en métal dépasse 90%","Compris entre 5 kg et 7 kg exclus","€/unité",0.14000000000000001,0.14000000000000001,"098",0.16800000000000001]
["REP ABJ",3,"21105810550",null,"Articles de bricolage","Seaux, auges et contenants","Assemblage dont la composition conjointe en bois, dérivés de bois et en métal dépasse 90%","Compris entre 7 kg et 10 kg exclus","€/unité",0.2,0.2,"101",0.24]
["REP ABJ",3,"21105810560",null,"Articles de bricolage","Seaux, auges et contenants","Assemblage dont la composition conjointe en bois, dérivés de bois et en métal dépasse 90%","Compris entre 10 kg et 15 kg exclus","€/unité",0.3,0.3,"446",0.36]
["REP ABJ",3,"21105810570",null,"Articles de bricolage","Seaux, auges et contenants","Assemblage dont la composition conjointe en bois, dérivés de bois et en métal dépasse 90%","Compris entre 15 kg et 20 kg exclus","€/unité",0.4,0.4,"105",0.48]
["REP ABJ",3,"21105820000",null,"Articles de bricolage","Seaux, auges et contenants","Assemblage de 3 matériaux ou plus sans un matériau à plus de 50%","Eléments de toutes dimensions et poids","€ / Tonne",170,170,"497",204]
["REP ABJ",3,"21105820200",null,"Articles de bricolage","Seaux, auges et contenants","Assemblage de 3 matériaux ou plus sans un matériau à plus de 50%","Inférieur strictement à 0,5 kg","€/unité",0.04,0.04,"002",4.8000000000000001E-2]
["REP ABJ",3,"21105820210",null,"Articles de bricolage","Seaux, auges et contenants","Assemblage de 3 matériaux ou plus sans un matériau à plus de 50%","Compris entre 0,5 kg et 1 kg exclus","€/unité",0.13,0.13,"004",0.156]
["REP ABJ",3,"21105820220",null,"Articles de bricolage","Seaux, auges et contenants","Assemblage de 3 matériaux ou plus sans un matériau à plus de 50%","Compris entre 1 kg et 2 kg exclus","€/unité",0.26,0.26,"445",0.312]
["REP ABJ",3,"21105820520",null,"Articles de bricolage","Seaux, auges et contenants","Assemblage de 3 matériaux ou plus sans un matériau à plus de 50%","Compris entre 2 kg et 3 kg exclus","€/unité",0.43,0.43,"506",0.51600000000000001]
["REP ABJ",3,"21105820530",null,"Articles de bricolage","Seaux, auges et contenants","Assemblage de 3 matériaux ou plus sans un matériau à plus de 50%","Compris entre 3 kg et 5 kg exclus","€/unité",0.68,0.68,"044",0.81600000000000006]
["REP ABJ",3,"21105820540",null,"Articles de bricolage","Seaux, auges et contenants","Assemblage de 3 matériaux ou plus sans un matériau à plus de 50%","Compris entre 5 kg et 7 kg exclus","€/unité",1.19,1.19,"507",1.4279999999999999]
["REP ABJ",3,"21105820550",null,"Articles de bricolage","Seaux, auges et contenants","Assemblage de 3 matériaux ou plus sans un matériau à plus de 50%","Compris entre 7 kg et 10 kg exclus","€/unité",1.7,1.7,"256",2.04]
["REP ABJ",3,"21105820560",null,"Articles de bricolage","Seaux, auges et contenants","Assemblage de 3 matériaux ou plus sans un matériau à plus de 50%","Compris entre 10 kg et 15 kg exclus","€/unité",2.5499999999999998,2.5499999999999998,"272",3.0599999999999996]
["REP ABJ",3,"21105820570",null,"Articles de bricolage","Seaux, auges et contenants","Assemblage de 3 matériaux ou plus sans un matériau à plus de 50%","Compris entre 15 kg et 20 kg exclus","€/unité",3.4,3.4,"508",4.08]
["REP ABJ",3,"21105840000",null,"Articles de bricolage","Seaux, auges et contenants","Ardoise >90%","Eléments de toutes dimensions et poids","€ / Tonne",5,5,"042",6]
["REP ABJ",3,"21105840200",null,"Articles de bricolage","Seaux, auges et contenants","Ardoise >90%","Inférieur strictement à 0,5 kg","€/unité",0.01,0.01,"260",1.2E-2]
["REP ABJ",3,"21105840210",null,"Articles de bricolage","Seaux, auges et contenants","Ardoise >90%","Compris entre 0,5 kg et 1 kg exclus","€/unité",0.01,0.01,"260",1.2E-2]
["REP ABJ",3,"21105840220",null,"Articles de bricolage","Seaux, auges et contenants","Ardoise >90%","Compris entre 1 kg et 2 kg exclus","€/unité",0.01,0.01,"260",1.2E-2]
["REP ABJ",3,"21105840520",null,"Articles de bricolage","Seaux, auges et contenants","Ardoise >90%","Compris entre 2 kg et 3 kg exclus","€/unité",0.01,0.01,"260",1.2E-2]
["REP ABJ",3,"21105840530",null,"Articles de bricolage","Seaux, auges et contenants","Ardoise >90%","Compris entre 3 kg et 5 kg exclus","€/unité",0.02,0.02,"047",2.4E-2]
["REP ABJ",3,"21105840540",null,"Articles de bricolage","Seaux, auges et contenants","Ardoise >90%","Compris entre 5 kg et 7 kg exclus","€/unité",0.04,0.04,"002",4.8000000000000001E-2]
["REP ABJ",3,"21105840550",null,"Articles de bricolage","Seaux, auges et contenants","Ardoise >90%","Compris entre 7 kg et 10 kg exclus","€/unité",0.05,0.05,"048",0.06]
["REP ABJ",3,"21105840560",null,"Articles de bricolage","Seaux, auges et contenants","Ardoise >90%","Compris entre 10 kg et 15 kg exclus","€/unité",0.08,0.08,"003",9.6000000000000002E-2]
["REP ABJ",3,"21105840570",null,"Articles de bricolage","Seaux, auges et contenants","Ardoise >90%","Compris entre 15 kg et 20 kg exclus","€/unité",0.1,0.1,"094",0.12]
["REP ABJ",3,"21105860000",null,"Articles de bricolage","Seaux, auges et contenants","Pierre calcaire >90%","Eléments de toutes dimensions et poids","€ / Tonne",5,5,"042",6]
["REP ABJ",3,"21105860200",null,"Articles de bricolage","Seaux, auges et contenants","Pierre calcaire >90%","Inférieur strictement à 0,5 kg","€/unité",0.01,0.01,"260",1.2E-2]
["REP ABJ",3,"21105860210",null,"Articles de bricolage","Seaux, auges et contenants","Pierre calcaire >90%","Compris entre 0,5 kg et 1 kg exclus","€/unité",0.01,0.01,"260",1.2E-2]
["REP ABJ",3,"21105860220",null,"Articles de bricolage","Seaux, auges et contenants","Pierre calcaire >90%","Compris entre 1 kg et 2 kg exclus","€/unité",0.01,0.01,"260",1.2E-2]
["REP ABJ",3,"21105860520",null,"Articles de bricolage","Seaux, auges et contenants","Pierre calcaire >90%","Compris entre 2 kg et 3 kg exclus","€/unité",0.01,0.01,"260",1.2E-2]
["REP ABJ",3,"21105860530",null,"Articles de bricolage","Seaux, auges et contenants","Pierre calcaire >90%","Compris entre 3 kg et 5 kg exclus","€/unité",0.02,0.02,"047",2.4E-2]
["REP ABJ",3,"21105860540",null,"Articles de bricolage","Seaux, auges et contenants","Pierre calcaire >90%","Compris entre 5 kg et 7 kg exclus","€/unité",0.04,0.04,"002",4.8000000000000001E-2]
["REP ABJ",3,"21105860550",null,"Articles de bricolage","Seaux, auges et contenants","Pierre calcaire >90%","Compris entre 7 kg et 10 kg exclus","€/unité",0.05,0.05,"048",0.06]
["REP ABJ",3,"21105860560",null,"Articles de bricolage","Seaux, auges et contenants","Pierre calcaire >90%","Compris entre 10 kg et 15 kg exclus","€/unité",0.08,0.08,"003",9.6000000000000002E-2]
["REP ABJ",3,"21105860570",null,"Articles de bricolage","Seaux, auges et contenants","Pierre calcaire >90%","Compris entre 15 kg et 20 kg exclus","€/unité",0.1,0.1,"094",0.12]
["REP ABJ",3,"21105870000",null,"Articles de bricolage","Seaux, auges et contenants","Lave >90%","Eléments de toutes dimensions et poids","€ / Tonne",5,5,"042",6]
["REP ABJ",3,"21105870200",null,"Articles de bricolage","Seaux, auges et contenants","Lave >90%","Inférieur strictement à 0,5 kg","€/unité",0.01,0.01,"260",1.2E-2]
["REP ABJ",3,"21105870210",null,"Articles de bricolage","Seaux, auges et contenants","Lave >90%","Compris entre 0,5 kg et 1 kg exclus","€/unité",0.01,0.01,"260",1.2E-2]
["REP ABJ",3,"21105870220",null,"Articles de bricolage","Seaux, auges et contenants","Lave >90%","Compris entre 1 kg et 2 kg exclus","€/unité",0.01,0.01,"260",1.2E-2]
["REP ABJ",3,"21105870520",null,"Articles de bricolage","Seaux, auges et contenants","Lave >90%","Compris entre 2 kg et 3 kg exclus","€/unité",0.01,0.01,"260",1.2E-2]
["REP ABJ",3,"21105870530",null,"Articles de bricolage","Seaux, auges et contenants","Lave >90%","Compris entre 3 kg et 5 kg exclus","€/unité",0.02,0.02,"047",2.4E-2]
["REP ABJ",3,"21105870540",null,"Articles de bricolage","Seaux, auges et contenants","Lave >90%","Compris entre 5 kg et 7 kg exclus","€/unité",0.04,0.04,"002",4.8000000000000001E-2]
["REP ABJ",3,"21105870550",null,"Articles de bricolage","Seaux, auges et contenants","Lave >90%","Compris entre 7 kg et 10 kg exclus","€/unité",0.05,0.05,"048",0.06]
["REP ABJ",3,"21105870560",null,"Articles de bricolage","Seaux, auges et contenants","Lave >90%","Compris entre 10 kg et 15 kg exclus","€/unité",0.08,0.08,"003",9.6000000000000002E-2]
["REP ABJ",3,"21105870570",null,"Articles de bricolage","Seaux, auges et contenants","Lave >90%","Compris entre 15 kg et 20 kg exclus","€/unité",0.1,0.1,"094",0.12]
["REP ABJ",3,"21105890000",null,"Articles de bricolage","Seaux, auges et contenants","Terre cuite ou crue >90%","Eléments de toutes dimensions et poids","€ / Tonne",5,5,"042",6]
["REP ABJ",3,"21105890200",null,"Articles de bricolage","Seaux, auges et contenants","Terre cuite ou crue >90%","Inférieur strictement à 0,5 kg","€/unité",0.01,0.01,"260",1.2E-2]
["REP ABJ",3,"21105890210",null,"Articles de bricolage","Seaux, auges et contenants","Terre cuite ou crue >90%","Compris entre 0,5 kg et 1 kg exclus","€/unité",0.01,0.01,"260",1.2E-2]
["REP ABJ",3,"21105890220",null,"Articles de bricolage","Seaux, auges et contenants","Terre cuite ou crue >90%","Compris entre 1 kg et 2 kg exclus","€/unité",0.01,0.01,"260",1.2E-2]
["REP ABJ",3,"21105890520",null,"Articles de bricolage","Seaux, auges et contenants","Terre cuite ou crue >90%","Compris entre 2 kg et 3 kg exclus","€/unité",0.01,0.01,"260",1.2E-2]
["REP ABJ",3,"21105890530",null,"Articles de bricolage","Seaux, auges et contenants","Terre cuite ou crue >90%","Compris entre 3 kg et 5 kg exclus","€/unité",0.02,0.02,"047",2.4E-2]
["REP ABJ",3,"21105890540",null,"Articles de bricolage","Seaux, auges et contenants","Terre cuite ou crue >90%","Compris entre 5 kg et 7 kg exclus","€/unité",0.04,0.04,"002",4.8000000000000001E-2]
["REP ABJ",3,"21105890550",null,"Articles de bricolage","Seaux, auges et contenants","Terre cuite ou crue >90%","Compris entre 7 kg et 10 kg exclus","€/unité",0.05,0.05,"048",0.06]
["REP ABJ",3,"21105890560",null,"Articles de bricolage","Seaux, auges et contenants","Terre cuite ou crue >90%","Compris entre 10 kg et 15 kg exclus","€/unité",0.08,0.08,"003",9.6000000000000002E-2]
["REP ABJ",3,"21105890570",null,"Articles de bricolage","Seaux, auges et contenants","Terre cuite ou crue >90%","Compris entre 15 kg et 20 kg exclus","€/unité",0.1,0.1,"094",0.12]
["REP ABJ",3,"21105900000",null,"Articles de bricolage","Seaux, auges et contenants","Ciment >90%","Eléments de toutes dimensions et poids","€ / Tonne",5,5,"042",6]
["REP ABJ",3,"21105900200",null,"Articles de bricolage","Seaux, auges et contenants","Ciment >90%","Inférieur strictement à 0,5 kg","€/unité",0.01,0.01,"260",1.2E-2]
["REP ABJ",3,"21105900210",null,"Articles de bricolage","Seaux, auges et contenants","Ciment >90%","Compris entre 0,5 kg et 1 kg exclus","€/unité",0.01,0.01,"260",1.2E-2]
["REP ABJ",3,"21105900220",null,"Articles de bricolage","Seaux, auges et contenants","Ciment >90%","Compris entre 1 kg et 2 kg exclus","€/unité",0.01,0.01,"260",1.2E-2]
["REP ABJ",3,"21105900520",null,"Articles de bricolage","Seaux, auges et contenants","Ciment >90%","Compris entre 2 kg et 3 kg exclus","€/unité",0.01,0.01,"260",1.2E-2]
["REP ABJ",3,"21105900530",null,"Articles de bricolage","Seaux, auges et contenants","Ciment >90%","Compris entre 3 kg et 5 kg exclus","€/unité",0.02,0.02,"047",2.4E-2]
["REP ABJ",3,"21105900540",null,"Articles de bricolage","Seaux, auges et contenants","Ciment >90%","Compris entre 5 kg et 7 kg exclus","€/unité",0.04,0.04,"002",4.8000000000000001E-2]
["REP ABJ",3,"21105900550",null,"Articles de bricolage","Seaux, auges et contenants","Ciment >90%","Compris entre 7 kg et 10 kg exclus","€/unité",0.05,0.05,"048",0.06]
["REP ABJ",3,"21105900560",null,"Articles de bricolage","Seaux, auges et contenants","Ciment >90%","Compris entre 10 kg et 15 kg exclus","€/unité",0.08,0.08,"003",9.6000000000000002E-2]
["REP ABJ",3,"21105900570",null,"Articles de bricolage","Seaux, auges et contenants","Ciment >90%","Compris entre 15 kg et 20 kg exclus","€/unité",0.1,0.1,"094",0.12]
["REP ABJ",3,"21105910000",null,"Articles de bricolage","Seaux, auges et contenants","Granit >90%","Eléments de toutes dimensions et poids","€ / Tonne",5,5,"042",6]
["REP ABJ",3,"21105910200",null,"Articles de bricolage","Seaux, auges et contenants","Granit >90%","Inférieur strictement à 0,5 kg","€/unité",0.01,0.01,"260",1.2E-2]
["REP ABJ",3,"21105910210",null,"Articles de bricolage","Seaux, auges et contenants","Granit >90%","Compris entre 0,5 kg et 1 kg exclus","€/unité",0.01,0.01,"260",1.2E-2]
["REP ABJ",3,"21105910220",null,"Articles de bricolage","Seaux, auges et contenants","Granit >90%","Compris entre 1 kg et 2 kg exclus","€/unité",0.01,0.01,"260",1.2E-2]
["REP ABJ",3,"21105910520",null,"Articles de bricolage","Seaux, auges et contenants","Granit >90%","Compris entre 2 kg et 3 kg exclus","€/unité",0.01,0.01,"260",1.2E-2]
["REP ABJ",3,"21105910530",null,"Articles de bricolage","Seaux, auges et contenants","Granit >90%","Compris entre 3 kg et 5 kg exclus","€/unité",0.02,0.02,"047",2.4E-2]
["REP ABJ",3,"21105910540",null,"Articles de bricolage","Seaux, auges et contenants","Granit >90%","Compris entre 5 kg et 7 kg exclus","€/unité",0.04,0.04,"002",4.8000000000000001E-2]
["REP ABJ",3,"21105910550",null,"Articles de bricolage","Seaux, auges et contenants","Granit >90%","Compris entre 7 kg et 10 kg exclus","€/unité",0.05,0.05,"048",0.06]
["REP ABJ",3,"21105910560",null,"Articles de bricolage","Seaux, auges et contenants","Granit >90%","Compris entre 10 kg et 15 kg exclus","€/unité",0.08,0.08,"003",9.6000000000000002E-2]
["REP ABJ",3,"21105910570",null,"Articles de bricolage","Seaux, auges et contenants","Granit >90%","Compris entre 15 kg et 20 kg exclus","€/unité",0.1,0.1,"094",0.12]
["REP ABJ",3,"21105940000",null,"Articles de bricolage","Seaux, auges et contenants","Grès >90%","Eléments de toutes dimensions et poids","€ / Tonne",5,5,"042",6]
["REP ABJ",3,"21105940200",null,"Articles de bricolage","Seaux, auges et contenants","Grès >90%","Inférieur strictement à 0,5 kg","€/unité",0.01,0.01,"260",1.2E-2]
["REP ABJ",3,"21105940210",null,"Articles de bricolage","Seaux, auges et contenants","Grès >90%","Compris entre 0,5 kg et 1 kg exclus","€/unité",0.01,0.01,"260",1.2E-2]
["REP ABJ",3,"21105940220",null,"Articles de bricolage","Seaux, auges et contenants","Grès >90%","Compris entre 1 kg et 2 kg exclus","€/unité",0.01,0.01,"260",1.2E-2]
["REP ABJ",3,"21105940520",null,"Articles de bricolage","Seaux, auges et contenants","Grès >90%","Compris entre 2 kg et 3 kg exclus","€/unité",0.01,0.01,"260",1.2E-2]
["REP ABJ",3,"21105940530",null,"Articles de bricolage","Seaux, auges et contenants","Grès >90%","Compris entre 3 kg et 5 kg exclus","€/unité",0.02,0.02,"047",2.4E-2]
["REP ABJ",3,"21105940540",null,"Articles de bricolage","Seaux, auges et contenants","Grès >90%","Compris entre 5 kg et 7 kg exclus","€/unité",0.04,0.04,"002",4.8000000000000001E-2]
["REP ABJ",3,"21105940550",null,"Articles de bricolage","Seaux, auges et contenants","Grès >90%","Compris entre 7 kg et 10 kg exclus","€/unité",0.05,0.05,"048",0.06]
["REP ABJ",3,"21105940560",null,"Articles de bricolage","Seaux, auges et contenants","Grès >90%","Compris entre 10 kg et 15 kg exclus","€/unité",0.08,0.08,"003",9.6000000000000002E-2]
["REP ABJ",3,"21105940570",null,"Articles de bricolage","Seaux, auges et contenants","Grès >90%","Compris entre 15 kg et 20 kg exclus","€/unité",0.1,0.1,"094",0.12]
["REP ABJ",3,"21105970000",null,"Articles de bricolage","Seaux, auges et contenants","Céramique >90%","Eléments de toutes dimensions et poids","€ / Tonne",10,10,"138",12]
["REP ABJ",3,"21105970200",null,"Articles de bricolage","Seaux, auges et contenants","Céramique >90%","Inférieur strictement à 0,5 kg","€/unité",0.01,0.01,"260",1.2E-2]
["REP ABJ",3,"21105970210",null,"Articles de bricolage","Seaux, auges et contenants","Céramique >90%","Compris entre 0,5 kg et 1 kg exclus","€/unité",0.01,0.01,"260",1.2E-2]
["REP ABJ",3,"21105970220",null,"Articles de bricolage","Seaux, auges et contenants","Céramique >90%","Compris entre 1 kg et 2 kg exclus","€/unité",0.02,0.02,"047",2.4E-2]
["REP ABJ",3,"21105970520",null,"Articles de bricolage","Seaux, auges et contenants","Céramique >90%","Compris entre 2 kg et 3 kg exclus","€/unité",0.03,0.03,"092",3.5999999999999997E-2]
["REP ABJ",3,"21105970530",null,"Articles de bricolage","Seaux, auges et contenants","Céramique >90%","Compris entre 3 kg et 5 kg exclus","€/unité",0.04,0.04,"002",4.8000000000000001E-2]
["REP ABJ",3,"21105970540",null,"Articles de bricolage","Seaux, auges et contenants","Céramique >90%","Compris entre 5 kg et 7 kg exclus","€/unité",7.0000000000000007E-2,7.0000000000000007E-2,"247",8.4000000000000005E-2]
["REP ABJ",3,"21105970550",null,"Articles de bricolage","Seaux, auges et contenants","Céramique >90%","Compris entre 7 kg et 10 kg exclus","€/unité",0.1,0.1,"094",0.12]
["REP ABJ",3,"21105970560",null,"Articles de bricolage","Seaux, auges et contenants","Céramique >90%","Compris entre 10 kg et 15 kg exclus","€/unité",0.15,0.15,"050",0.18]
["REP ABJ",3,"21105970570",null,"Articles de bricolage","Seaux, auges et contenants","Céramique >90%","Compris entre 15 kg et 20 kg exclus","€/unité",0.2,0.2,"101",0.24]
["REP ABJ",3,"21105980000",null,"Articles de bricolage","Seaux, auges et contenants","Pierre artificielle >90%","Eléments de toutes dimensions et poids","€ / Tonne",5,5,"042",6]
["REP ABJ",3,"21105980200",null,"Articles de bricolage","Seaux, auges et contenants","Pierre artificielle >90%","Inférieur strictement à 0,5 kg","€/unité",0.01,0.01,"260",1.2E-2]
["REP ABJ",3,"21105980210",null,"Articles de bricolage","Seaux, auges et contenants","Pierre artificielle >90%","Compris entre 0,5 kg et 1 kg exclus","€/unité",0.01,0.01,"260",1.2E-2]
["REP ABJ",3,"21105980220",null,"Articles de bricolage","Seaux, auges et contenants","Pierre artificielle >90%","Compris entre 1 kg et 2 kg exclus","€/unité",0.01,0.01,"260",1.2E-2]
["REP ABJ",3,"21105980520",null,"Articles de bricolage","Seaux, auges et contenants","Pierre artificielle >90%","Compris entre 2 kg et 3 kg exclus","€/unité",0.01,0.01,"260",1.2E-2]
["REP ABJ",3,"21105980530",null,"Articles de bricolage","Seaux, auges et contenants","Pierre artificielle >90%","Compris entre 3 kg et 5 kg exclus","€/unité",0.02,0.02,"047",2.4E-2]
["REP ABJ",3,"21105980540",null,"Articles de bricolage","Seaux, auges et contenants","Pierre artificielle >90%","Compris entre 5 kg et 7 kg exclus","€/unité",0.04,0.04,"002",4.8000000000000001E-2]
["REP ABJ",3,"21105980550",null,"Articles de bricolage","Seaux, auges et contenants","Pierre artificielle >90%","Compris entre 7 kg et 10 kg exclus","€/unité",0.05,0.05,"048",0.06]
["REP ABJ",3,"21105980560",null,"Articles de bricolage","Seaux, auges et contenants","Pierre artificielle >90%","Compris entre 10 kg et 15 kg exclus","€/unité",0.08,0.08,"003",9.6000000000000002E-2]
["REP ABJ",3,"21105980570",null,"Articles de bricolage","Seaux, auges et contenants","Pierre artificielle >90%","Compris entre 15 kg et 20 kg exclus","€/unité",0.1,0.1,"094",0.12]
["REP ABJ",4,"22150000000",null,"Entretien et aménagement du jardin","Outils à main d’entretien du jardin et petits accessoires","Non connu ou non spécifié par l'entreprise","Eléments de toutes dimensions et poids","€ / Tonne",215,215,{"$f":"VLOOKUP(J2521,'Codes éco-part'!$C:$E,3,FALSE)","v":"498"},{"$f":"J2521*1.2","v":258}]
["REP ABJ",4,"22150000200",null,"Entretien et aménagement du jardin","Outils à main d’entretien du jardin et petits accessoires","Non connu ou non spécifié par l'entreprise","Inférieur strictement à 0,5 kg","€/unité",0.05,0.05,{"$f":"VLOOKUP(J2522,'Codes éco-part'!$C:$E,3,FALSE)","v":"048"},0.06]
["REP ABJ",4,"22150000210",null,"Entretien et aménagement du jardin","Outils à main d’entretien du jardin et petits accessoires","Non connu ou non spécifié par l'entreprise","Compris entre 0,5 kg et 1 kg exclus","€/unité",0.16,0.16,{"$f":"VLOOKUP(J2523,'Codes éco-part'!$C:$E,3,FALSE)","v":"099"},0.192]
["REP ABJ",4,"22150000220",null,"Entretien et aménagement du jardin","Outils à main d’entretien du jardin et petits accessoires","Non connu ou non spécifié par l'entreprise","Compris entre 1 kg et 2 kg exclus","€/unité",0.32,0.32,{"$f":"VLOOKUP(J2524,'Codes éco-part'!$C:$E,3,FALSE)","v":"447"},0.38400000000000001]
["REP ABJ",4,"22150000520",null,"Entretien et aménagement du jardin","Outils à main d’entretien du jardin et petits accessoires","Non connu ou non spécifié par l'entreprise","Compris entre 2 kg et 3 kg exclus","€/unité",0.54,0.54,{"$f":"VLOOKUP(J2525,'Codes éco-part'!$C:$E,3,FALSE)","v":"500"},0.64800000000000002]
["REP ABJ",4,"22150000530",null,"Entretien et aménagement du jardin","Outils à main d’entretien du jardin et petits accessoires","Non connu ou non spécifié par l'entreprise","Compris entre 3 kg et 5 kg exclus","€/unité",0.86,0.86,{"$f":"VLOOKUP(J2526,'Codes éco-part'!$C:$E,3,FALSE)","v":"501"},1.032]
["REP ABJ",4,"22150000540",null,"Entretien et aménagement du jardin","Outils à main d’entretien du jardin et petits accessoires","Non connu ou non spécifié par l'entreprise","Compris entre 5 kg et 7 kg exclus","€/unité",1.51,1.51,{"$f":"VLOOKUP(J2527,'Codes éco-part'!$C:$E,3,FALSE)","v":"502"},1.8119999999999998]
["REP ABJ",4,"22150000900",null,"Entretien et aménagement du jardin","Outils à main d’entretien du jardin et petits accessoires","Non connu ou non spécifié par l'entreprise","Lot de 10","€/Lot",4.3,4.3,{"$f":"VLOOKUP(J2528,'Codes éco-part'!$C:$E,3,FALSE)","v":"515"},5.1599999999999993]
["REP ABJ",4,"22150010000",null,"Entretien et aménagement du jardin","Outils à main d’entretien du jardin et petits accessoires","Assemblage de bois, dérivés de bois à plus de 50% avec d'autres matériaux ou bois composite (hors verre)","Eléments de toutes dimensions et poids","€ / Tonne",45,45,{"$f":"VLOOKUP(J2529,'Codes éco-part'!$C:$E,3,FALSE)","v":"169"},54]
["REP ABJ",4,"22150010200",null,"Entretien et aménagement du jardin","Outils à main d’entretien du jardin et petits accessoires","Assemblage de bois, dérivés de bois à plus de 50% avec d'autres matériaux ou bois composite (hors verre)","Inférieur strictement à 0,5 kg","€/unité",0.01,0.01,{"$f":"VLOOKUP(J2530,'Codes éco-part'!$C:$E,3,FALSE)","v":"260"},1.2E-2]
["REP ABJ",4,"22150010210",null,"Entretien et aménagement du jardin","Outils à main d’entretien du jardin et petits accessoires","Assemblage de bois, dérivés de bois à plus de 50% avec d'autres matériaux ou bois composite (hors verre)","Compris entre 0,5 kg et 1 kg exclus","€/unité",0.03,0.03,{"$f":"VLOOKUP(J2531,'Codes éco-part'!$C:$E,3,FALSE)","v":"092"},3.5999999999999997E-2]
["REP ABJ",4,"22150010220",null,"Entretien et aménagement du jardin","Outils à main d’entretien du jardin et petits accessoires","Assemblage de bois, dérivés de bois à plus de 50% avec d'autres matériaux ou bois composite (hors verre)","Compris entre 1 kg et 2 kg exclus","€/unité",7.0000000000000007E-2,7.0000000000000007E-2,{"$f":"VLOOKUP(J2532,'Codes éco-part'!$C:$E,3,FALSE)","v":"247"},8.4000000000000005E-2]
["REP ABJ",4,"22150010520",null,"Entretien et aménagement du jardin","Outils à main d’entretien du jardin et petits accessoires","Assemblage de bois, dérivés de bois à plus de 50% avec d'autres matériaux ou bois composite (hors verre)","Compris entre 2 kg et 3 kg exclus","€/unité",0.11,0.11,{"$f":"VLOOKUP(J2533,'Codes éco-part'!$C:$E,3,FALSE)","v":"262"},0.13200000000000001]
["REP ABJ",4,"22150010530",null,"Entretien et aménagement du jardin","Outils à main d’entretien du jardin et petits accessoires","Assemblage de bois, dérivés de bois à plus de 50% avec d'autres matériaux ou bois composite (hors verre)","Compris entre 3 kg et 5 kg exclus","€/unité",0.18,0.18,{"$f":"VLOOKUP(J2534,'Codes éco-part'!$C:$E,3,FALSE)","v":"100"},0.216]
["REP ABJ",4,"22150010540",null,"Entretien et aménagement du jardin","Outils à main d’entretien du jardin et petits accessoires","Assemblage de bois, dérivés de bois à plus de 50% avec d'autres matériaux ou bois composite (hors verre)","Compris entre 5 kg et 7 kg exclus","€/unité",0.32,0.32,{"$f":"VLOOKUP(J2535,'Codes éco-part'!$C:$E,3,FALSE)","v":"447"},0.38400000000000001]
["REP ABJ",4,"22150020000",null,"Entretien et aménagement du jardin","Outils à main d’entretien du jardin et petits accessoires","Assemblage avec métal >50% et autres matériaux","Eléments de toutes dimensions et poids","€ / Tonne",10,10,{"$f":"VLOOKUP(J2536,'Codes éco-part'!$C:$E,3,FALSE)","v":"138"},12]
["REP ABJ",4,"22150020200",null,"Entretien et aménagement du jardin","Outils à main d’entretien du jardin et petits accessoires","Assemblage avec métal >50% et autres matériaux","Inférieur strictement à 0,5 kg","€/unité",0.01,0.01,{"$f":"VLOOKUP(J2537,'Codes éco-part'!$C:$E,3,FALSE)","v":"260"},1.2E-2]
["REP ABJ",4,"22150020210",null,"Entretien et aménagement du jardin","Outils à main d’entretien du jardin et petits accessoires","Assemblage avec métal >50% et autres matériaux","Compris entre 0,5 kg et 1 kg exclus","€/unité",0.01,0.01,{"$f":"VLOOKUP(J2538,'Codes éco-part'!$C:$E,3,FALSE)","v":"260"},1.2E-2]
["REP ABJ",4,"22150020220",null,"Entretien et aménagement du jardin","Outils à main d’entretien du jardin et petits accessoires","Assemblage avec métal >50% et autres matériaux","Compris entre 1 kg et 2 kg exclus","€/unité",0.02,0.02,{"$f":"VLOOKUP(J2539,'Codes éco-part'!$C:$E,3,FALSE)","v":"047"},2.4E-2]
["REP ABJ",4,"22150020520",null,"Entretien et aménagement du jardin","Outils à main d’entretien du jardin et petits accessoires","Assemblage avec métal >50% et autres matériaux","Compris entre 2 kg et 3 kg exclus","€/unité",0.03,0.03,{"$f":"VLOOKUP(J2540,'Codes éco-part'!$C:$E,3,FALSE)","v":"092"},3.5999999999999997E-2]
["REP ABJ",4,"22150020530",null,"Entretien et aménagement du jardin","Outils à main d’entretien du jardin et petits accessoires","Assemblage avec métal >50% et autres matériaux","Compris entre 3 kg et 5 kg exclus","€/unité",0.04,0.04,{"$f":"VLOOKUP(J2541,'Codes éco-part'!$C:$E,3,FALSE)","v":"002"},4.8000000000000001E-2]
["REP ABJ",4,"22150020540",null,"Entretien et aménagement du jardin","Outils à main d’entretien du jardin et petits accessoires","Assemblage avec métal >50% et autres matériaux","Compris entre 5 kg et 7 kg exclus","€/unité",7.0000000000000007E-2,7.0000000000000007E-2,{"$f":"VLOOKUP(J2542,'Codes éco-part'!$C:$E,3,FALSE)","v":"247"},8.4000000000000005E-2]
["REP ABJ",4,"22150040000",null,"Entretien et aménagement du jardin","Outils à main d’entretien du jardin et petits accessoires","Matériaux bio sourcés ou textiles non synthétiques >50%","Eléments de toutes dimensions et poids","€ / Tonne",215,215,{"$f":"VLOOKUP(J2543,'Codes éco-part'!$C:$E,3,FALSE)","v":"498"},258]
["REP ABJ",4,"22150040200",null,"Entretien et aménagement du jardin","Outils à main d’entretien du jardin et petits accessoires","Matériaux bio sourcés ou textiles non synthétiques >50%","Inférieur strictement à 0,5 kg","€/unité",0.05,0.05,{"$f":"VLOOKUP(J2544,'Codes éco-part'!$C:$E,3,FALSE)","v":"048"},0.06]
["REP ABJ",4,"22150040210",null,"Entretien et aménagement du jardin","Outils à main d’entretien du jardin et petits accessoires","Matériaux bio sourcés ou textiles non synthétiques >50%","Compris entre 0,5 kg et 1 kg exclus","€/unité",0.16,0.16,{"$f":"VLOOKUP(J2545,'Codes éco-part'!$C:$E,3,FALSE)","v":"099"},0.192]
["REP ABJ",4,"22150040220",null,"Entretien et aménagement du jardin","Outils à main d’entretien du jardin et petits accessoires","Matériaux bio sourcés ou textiles non synthétiques >50%","Compris entre 1 kg et 2 kg exclus","€/unité",0.32,0.32,{"$f":"VLOOKUP(J2546,'Codes éco-part'!$C:$E,3,FALSE)","v":"447"},0.38400000000000001]
["REP ABJ",4,"22150040520",null,"Entretien et aménagement du jardin","Outils à main d’entretien du jardin et petits accessoires","Matériaux bio sourcés ou textiles non synthétiques >50%","Compris entre 2 kg et 3 kg exclus","€/unité",0.54,0.54,{"$f":"VLOOKUP(J2547,'Codes éco-part'!$C:$E,3,FALSE)","v":"500"},0.64800000000000002]
["REP ABJ",4,"22150040530",null,"Entretien et aménagement du jardin","Outils à main d’entretien du jardin et petits accessoires","Matériaux bio sourcés ou textiles non synthétiques >50%","Compris entre 3 kg et 5 kg exclus","€/unité",0.86,0.86,{"$f":"VLOOKUP(J2548,'Codes éco-part'!$C:$E,3,FALSE)","v":"501"},1.032]
["REP ABJ",4,"22150040540",null,"Entretien et aménagement du jardin","Outils à main d’entretien du jardin et petits accessoires","Matériaux bio sourcés ou textiles non synthétiques >50%","Compris entre 5 kg et 7 kg exclus","€/unité",1.51,1.51,{"$f":"VLOOKUP(J2549,'Codes éco-part'!$C:$E,3,FALSE)","v":"502"},1.8119999999999998]
["REP ABJ",4,"22150050000",null,"Entretien et aménagement du jardin","Outils à main d’entretien du jardin et petits accessoires","Plastiques ou autres matériaux synthétiques >50%","Eléments de toutes dimensions et poids","€ / Tonne",215,215,{"$f":"VLOOKUP(J2550,'Codes éco-part'!$C:$E,3,FALSE)","v":"498"},258]
["REP ABJ",4,"22150050200",null,"Entretien et aménagement du jardin","Outils à main d’entretien du jardin et petits accessoires","Plastiques ou autres matériaux synthétiques >50%","Inférieur strictement à 0,5 kg","€/unité",0.05,0.05,{"$f":"VLOOKUP(J2551,'Codes éco-part'!$C:$E,3,FALSE)","v":"048"},0.06]
["REP ABJ",4,"22150050210",null,"Entretien et aménagement du jardin","Outils à main d’entretien du jardin et petits accessoires","Plastiques ou autres matériaux synthétiques >50%","Compris entre 0,5 kg et 1 kg exclus","€/unité",0.16,0.16,{"$f":"VLOOKUP(J2552,'Codes éco-part'!$C:$E,3,FALSE)","v":"099"},0.192]
["REP ABJ",4,"22150050220",null,"Entretien et aménagement du jardin","Outils à main d’entretien du jardin et petits accessoires","Plastiques ou autres matériaux synthétiques >50%","Compris entre 1 kg et 2 kg exclus","€/unité",0.32,0.32,{"$f":"VLOOKUP(J2553,'Codes éco-part'!$C:$E,3,FALSE)","v":"447"},0.38400000000000001]
["REP ABJ",4,"22150050520",null,"Entretien et aménagement du jardin","Outils à main d’entretien du jardin et petits accessoires","Plastiques ou autres matériaux synthétiques >50%","Compris entre 2 kg et 3 kg exclus","€/unité",0.54,0.54,{"$f":"VLOOKUP(J2554,'Codes éco-part'!$C:$E,3,FALSE)","v":"500"},0.64800000000000002]
["REP ABJ",4,"22150050530",null,"Entretien et aménagement du jardin","Outils à main d’entretien du jardin et petits accessoires","Plastiques ou autres matériaux synthétiques >50%","Compris entre 3 kg et 5 kg exclus","€/unité",0.86,0.86,{"$f":"VLOOKUP(J2555,'Codes éco-part'!$C:$E,3,FALSE)","v":"501"},1.032]
["REP ABJ",4,"22150050540",null,"Entretien et aménagement du jardin","Outils à main d’entretien du jardin et petits accessoires","Plastiques ou autres matériaux synthétiques >50%","Compris entre 5 kg et 7 kg exclus","€/unité",1.51,1.51,{"$f":"VLOOKUP(J2556,'Codes éco-part'!$C:$E,3,FALSE)","v":"502"},1.8119999999999998]
["REP ABJ",4,"22150060000",null,"Entretien et aménagement du jardin","Outils à main d’entretien du jardin et petits accessoires","Matériaux d'origine animale >50%","Eléments de toutes dimensions et poids","€ / Tonne",215,215,{"$f":"VLOOKUP(J2557,'Codes éco-part'!$C:$E,3,FALSE)","v":"498"},258]
["REP ABJ",4,"22150060200",null,"Entretien et aménagement du jardin","Outils à main d’entretien du jardin et petits accessoires","Matériaux d'origine animale >50%","Inférieur strictement à 0,5 kg","€/unité",0.05,0.05,{"$f":"VLOOKUP(J2558,'Codes éco-part'!$C:$E,3,FALSE)","v":"048"},0.06]
["REP ABJ",4,"22150060210",null,"Entretien et aménagement du jardin","Outils à main d’entretien du jardin et petits accessoires","Matériaux d'origine animale >50%","Compris entre 0,5 kg et 1 kg exclus","€/unité",0.16,0.16,{"$f":"VLOOKUP(J2559,'Codes éco-part'!$C:$E,3,FALSE)","v":"099"},0.192]
["REP ABJ",4,"22150060220",null,"Entretien et aménagement du jardin","Outils à main d’entretien du jardin et petits accessoires","Matériaux d'origine animale >50%","Compris entre 1 kg et 2 kg exclus","€/unité",0.32,0.32,{"$f":"VLOOKUP(J2560,'Codes éco-part'!$C:$E,3,FALSE)","v":"447"},0.38400000000000001]
["REP ABJ",4,"22150060520",null,"Entretien et aménagement du jardin","Outils à main d’entretien du jardin et petits accessoires","Matériaux d'origine animale >50%","Compris entre 2 kg et 3 kg exclus","€/unité",0.54,0.54,{"$f":"VLOOKUP(J2561,'Codes éco-part'!$C:$E,3,FALSE)","v":"500"},0.64800000000000002]
["REP ABJ",4,"22150060530",null,"Entretien et aménagement du jardin","Outils à main d’entretien du jardin et petits accessoires","Matériaux d'origine animale >50%","Compris entre 3 kg et 5 kg exclus","€/unité",0.86,0.86,{"$f":"VLOOKUP(J2562,'Codes éco-part'!$C:$E,3,FALSE)","v":"501"},1.032]
["REP ABJ",4,"22150060540",null,"Entretien et aménagement du jardin","Outils à main d’entretien du jardin et petits accessoires","Matériaux d'origine animale >50%","Compris entre 5 kg et 7 kg exclus","€/unité",1.51,1.51,{"$f":"VLOOKUP(J2563,'Codes éco-part'!$C:$E,3,FALSE)","v":"502"},1.8119999999999998]
["REP ABJ",4,"22150190000",null,"Entretien et aménagement du jardin","Outils à main d’entretien du jardin et petits accessoires","Papier carton >50% avec d'autres matériaux (hors verre)","Eléments de toutes dimensions et poids","€ / Tonne",215,215,{"$f":"VLOOKUP(J2564,'Codes éco-part'!$C:$E,3,FALSE)","v":"498"},258]
["REP ABJ",4,"22150190200",null,"Entretien et aménagement du jardin","Outils à main d’entretien du jardin et petits accessoires","Papier carton >50% avec d'autres matériaux (hors verre)","Inférieur strictement à 0,5 kg","€/unité",0.05,0.05,{"$f":"VLOOKUP(J2565,'Codes éco-part'!$C:$E,3,FALSE)","v":"048"},0.06]
["REP ABJ",4,"22150190210",null,"Entretien et aménagement du jardin","Outils à main d’entretien du jardin et petits accessoires","Papier carton >50% avec d'autres matériaux (hors verre)","Compris entre 0,5 kg et 1 kg exclus","€/unité",0.16,0.16,{"$f":"VLOOKUP(J2566,'Codes éco-part'!$C:$E,3,FALSE)","v":"099"},0.192]
["REP ABJ",4,"22150190220",null,"Entretien et aménagement du jardin","Outils à main d’entretien du jardin et petits accessoires","Papier carton >50% avec d'autres matériaux (hors verre)","Compris entre 1 kg et 2 kg exclus","€/unité",0.32,0.32,{"$f":"VLOOKUP(J2567,'Codes éco-part'!$C:$E,3,FALSE)","v":"447"},0.38400000000000001]
["REP ABJ",4,"22150190520",null,"Entretien et aménagement du jardin","Outils à main d’entretien du jardin et petits accessoires","Papier carton >50% avec d'autres matériaux (hors verre)","Compris entre 2 kg et 3 kg exclus","€/unité",0.54,0.54,{"$f":"VLOOKUP(J2568,'Codes éco-part'!$C:$E,3,FALSE)","v":"500"},0.64800000000000002]
["REP ABJ",4,"22150190530",null,"Entretien et aménagement du jardin","Outils à main d’entretien du jardin et petits accessoires","Papier carton >50% avec d'autres matériaux (hors verre)","Compris entre 3 kg et 5 kg exclus","€/unité",0.86,0.86,{"$f":"VLOOKUP(J2569,'Codes éco-part'!$C:$E,3,FALSE)","v":"501"},1.032]
["REP ABJ",4,"22150190540",null,"Entretien et aménagement du jardin","Outils à main d’entretien du jardin et petits accessoires","Papier carton >50% avec d'autres matériaux (hors verre)","Compris entre 5 kg et 7 kg exclus","€/unité",1.51,1.51,{"$f":"VLOOKUP(J2570,'Codes éco-part'!$C:$E,3,FALSE)","v":"502"},1.8119999999999998]
["REP ABJ",4,"22150200000",null,"Entretien et aménagement du jardin","Outils à main d’entretien du jardin et petits accessoires","Massif et assimilés certifiés >75%","Eléments de toutes dimensions et poids","€ / Tonne",45,45,{"$f":"VLOOKUP(J2571,'Codes éco-part'!$C:$E,3,FALSE)","v":"169"},54]
["REP ABJ",4,"22150200200",null,"Entretien et aménagement du jardin","Outils à main d’entretien du jardin et petits accessoires","Massif et assimilés certifiés >75%","Inférieur strictement à 0,5 kg","€/unité",0.01,0.01,{"$f":"VLOOKUP(J2572,'Codes éco-part'!$C:$E,3,FALSE)","v":"260"},1.2E-2]
["REP ABJ",4,"22150200210",null,"Entretien et aménagement du jardin","Outils à main d’entretien du jardin et petits accessoires","Massif et assimilés certifiés >75%","Compris entre 0,5 kg et 1 kg exclus","€/unité",0.03,0.03,{"$f":"VLOOKUP(J2573,'Codes éco-part'!$C:$E,3,FALSE)","v":"092"},3.5999999999999997E-2]
["REP ABJ",4,"22150200220",null,"Entretien et aménagement du jardin","Outils à main d’entretien du jardin et petits accessoires","Massif et assimilés certifiés >75%","Compris entre 1 kg et 2 kg exclus","€/unité",7.0000000000000007E-2,7.0000000000000007E-2,{"$f":"VLOOKUP(J2574,'Codes éco-part'!$C:$E,3,FALSE)","v":"247"},8.4000000000000005E-2]
["REP ABJ",4,"22150200520",null,"Entretien et aménagement du jardin","Outils à main d’entretien du jardin et petits accessoires","Massif et assimilés certifiés >75%","Compris entre 2 kg et 3 kg exclus","€/unité",0.11,0.11,{"$f":"VLOOKUP(J2575,'Codes éco-part'!$C:$E,3,FALSE)","v":"262"},0.13200000000000001]
["REP ABJ",4,"22150200530",null,"Entretien et aménagement du jardin","Outils à main d’entretien du jardin et petits accessoires","Massif et assimilés certifiés >75%","Compris entre 3 kg et 5 kg exclus","€/unité",0.18,0.18,{"$f":"VLOOKUP(J2576,'Codes éco-part'!$C:$E,3,FALSE)","v":"100"},0.216]
["REP ABJ",4,"22150200540",null,"Entretien et aménagement du jardin","Outils à main d’entretien du jardin et petits accessoires","Massif et assimilés certifiés >75%","Compris entre 5 kg et 7 kg exclus","€/unité",0.32,0.32,{"$f":"VLOOKUP(J2577,'Codes éco-part'!$C:$E,3,FALSE)","v":"447"},0.38400000000000001]
["REP ABJ",4,"22150210000",null,"Entretien et aménagement du jardin","Outils à main d’entretien du jardin et petits accessoires","Massif et assimilés >75%","Eléments de toutes dimensions et poids","€ / Tonne",45,45,{"$f":"VLOOKUP(J2578,'Codes éco-part'!$C:$E,3,FALSE)","v":"169"},54]
["REP ABJ",4,"22150210200",null,"Entretien et aménagement du jardin","Outils à main d’entretien du jardin et petits accessoires","Massif et assimilés >75%","Inférieur strictement à 0,5 kg","€/unité",0.01,0.01,{"$f":"VLOOKUP(J2579,'Codes éco-part'!$C:$E,3,FALSE)","v":"260"},1.2E-2]
["REP ABJ",4,"22150210210",null,"Entretien et aménagement du jardin","Outils à main d’entretien du jardin et petits accessoires","Massif et assimilés >75%","Compris entre 0,5 kg et 1 kg exclus","€/unité",0.03,0.03,{"$f":"VLOOKUP(J2580,'Codes éco-part'!$C:$E,3,FALSE)","v":"092"},3.5999999999999997E-2]
["REP ABJ",4,"22150210220",null,"Entretien et aménagement du jardin","Outils à main d’entretien du jardin et petits accessoires","Massif et assimilés >75%","Compris entre 1 kg et 2 kg exclus","€/unité",7.0000000000000007E-2,7.0000000000000007E-2,{"$f":"VLOOKUP(J2581,'Codes éco-part'!$C:$E,3,FALSE)","v":"247"},8.4000000000000005E-2]
["REP ABJ",4,"22150210520",null,"Entretien et aménagement du jardin","Outils à main d’entretien du jardin et petits accessoires","Massif et assimilés >75%","Compris entre 2 kg et 3 kg exclus","€/unité",0.11,0.11,{"$f":"VLOOKUP(J2582,'Codes éco-part'!$C:$E,3,FALSE)","v":"262"},0.13200000000000001]
["REP ABJ",4,"22150210530",null,"Entretien et aménagement du jardin","Outils à main d’entretien du jardin et petits accessoires","Massif et assimilés >75%","Compris entre 3 kg et 5 kg exclus","€/unité",0.18,0.18,{"$f":"VLOOKUP(J2583,'Codes éco-part'!$C:$E,3,FALSE)","v":"100"},0.216]
["REP ABJ",4,"22150210540",null,"Entretien et aménagement du jardin","Outils à main d’entretien du jardin et petits accessoires","Massif et assimilés >75%","Compris entre 5 kg et 7 kg exclus","€/unité",0.32,0.32,{"$f":"VLOOKUP(J2584,'Codes éco-part'!$C:$E,3,FALSE)","v":"447"},0.38400000000000001]
["REP ABJ",4,"22150250000",null,"Entretien et aménagement du jardin","Outils à main d’entretien du jardin et petits accessoires","Panneaux de particules ou OSB >75%","Eléments de toutes dimensions et poids","€ / Tonne",45,45,{"$f":"VLOOKUP(J2585,'Codes éco-part'!$C:$E,3,FALSE)","v":"169"},{"$f":"J2585*1.2","v":54}]
["REP ABJ",4,"22150250200",null,"Entretien et aménagement du jardin","Outils à main d’entretien du jardin et petits accessoires","Panneaux de particules ou OSB >75%","Inférieur strictement à 0,5 kg","€/unité",0.01,0.01,{"$f":"VLOOKUP(J2586,'Codes éco-part'!$C:$E,3,FALSE)","v":"260"},1.2E-2]
["REP ABJ",4,"22150250210",null,"Entretien et aménagement du jardin","Outils à main d’entretien du jardin et petits accessoires","Panneaux de particules ou OSB >75%","Compris entre 0,5 kg et 1 kg exclus","€/unité",0.03,0.03,{"$f":"VLOOKUP(J2587,'Codes éco-part'!$C:$E,3,FALSE)","v":"092"},3.5999999999999997E-2]
["REP ABJ",4,"22150250220",null,"Entretien et aménagement du jardin","Outils à main d’entretien du jardin et petits accessoires","Panneaux de particules ou OSB >75%","Compris entre 1 kg et 2 kg exclus","€/unité",7.0000000000000007E-2,7.0000000000000007E-2,{"$f":"VLOOKUP(J2588,'Codes éco-part'!$C:$E,3,FALSE)","v":"247"},8.4000000000000005E-2]
["REP ABJ",4,"22150250520",null,"Entretien et aménagement du jardin","Outils à main d’entretien du jardin et petits accessoires","Panneaux de particules ou OSB >75%","Compris entre 2 kg et 3 kg exclus","€/unité",0.11,0.11,{"$f":"VLOOKUP(J2589,'Codes éco-part'!$C:$E,3,FALSE)","v":"262"},0.13200000000000001]
["REP ABJ",4,"22150250530",null,"Entretien et aménagement du jardin","Outils à main d’entretien du jardin et petits accessoires","Panneaux de particules ou OSB >75%","Compris entre 3 kg et 5 kg exclus","€/unité",0.18,0.18,{"$f":"VLOOKUP(J2590,'Codes éco-part'!$C:$E,3,FALSE)","v":"100"},0.216]
["REP ABJ",4,"22150250540",null,"Entretien et aménagement du jardin","Outils à main d’entretien du jardin et petits accessoires","Panneaux de particules ou OSB >75%","Compris entre 5 kg et 7 kg exclus","€/unité",0.32,0.32,{"$f":"VLOOKUP(J2591,'Codes éco-part'!$C:$E,3,FALSE)","v":"447"},0.38400000000000001]
["REP ABJ",4,"22150280000",null,"Entretien et aménagement du jardin","Outils à main d’entretien du jardin et petits accessoires","Métal >90%","Eléments de toutes dimensions et poids","€ / Tonne",10,10,{"$f":"VLOOKUP(J2592,'Codes éco-part'!$C:$E,3,FALSE)","v":"138"},12]
["REP ABJ",4,"22150280200",null,"Entretien et aménagement du jardin","Outils à main d’entretien du jardin et petits accessoires","Métal >90%","Inférieur strictement à 0,5 kg","€/unité",0.01,0.01,{"$f":"VLOOKUP(J2593,'Codes éco-part'!$C:$E,3,FALSE)","v":"260"},1.2E-2]
["REP ABJ",4,"22150280210",null,"Entretien et aménagement du jardin","Outils à main d’entretien du jardin et petits accessoires","Métal >90%","Compris entre 0,5 kg et 1 kg exclus","€/unité",0.01,0.01,{"$f":"VLOOKUP(J2594,'Codes éco-part'!$C:$E,3,FALSE)","v":"260"},1.2E-2]
["REP ABJ",4,"22150280220",null,"Entretien et aménagement du jardin","Outils à main d’entretien du jardin et petits accessoires","Métal >90%","Compris entre 1 kg et 2 kg exclus","€/unité",0.02,0.02,{"$f":"VLOOKUP(J2595,'Codes éco-part'!$C:$E,3,FALSE)","v":"047"},2.4E-2]
["REP ABJ",4,"22150280520",null,"Entretien et aménagement du jardin","Outils à main d’entretien du jardin et petits accessoires","Métal >90%","Compris entre 2 kg et 3 kg exclus","€/unité",0.03,0.03,{"$f":"VLOOKUP(J2596,'Codes éco-part'!$C:$E,3,FALSE)","v":"092"},3.5999999999999997E-2]
["REP ABJ",4,"22150280530",null,"Entretien et aménagement du jardin","Outils à main d’entretien du jardin et petits accessoires","Métal >90%","Compris entre 3 kg et 5 kg exclus","€/unité",0.04,0.04,{"$f":"VLOOKUP(J2597,'Codes éco-part'!$C:$E,3,FALSE)","v":"002"},4.8000000000000001E-2]
["REP ABJ",4,"22150280540",null,"Entretien et aménagement du jardin","Outils à main d’entretien du jardin et petits accessoires","Métal >90%","Compris entre 5 kg et 7 kg exclus","€/unité",7.0000000000000007E-2,7.0000000000000007E-2,{"$f":"VLOOKUP(J2598,'Codes éco-part'!$C:$E,3,FALSE)","v":"247"},8.4000000000000005E-2]
["REP ABJ",4,"22150400000",null,"Entretien et aménagement du jardin","Outils à main d’entretien du jardin et petits accessoires","Assemblage caoutchouc synthétique ou latex >50% avec d'autres matériaux","Eléments de toutes dimensions et poids","€ / Tonne",215,215,{"$f":"VLOOKUP(J2599,'Codes éco-part'!$C:$E,3,FALSE)","v":"498"},258]
["REP ABJ",4,"22150400200",null,"Entretien et aménagement du jardin","Outils à main d’entretien du jardin et petits accessoires","Assemblage caoutchouc synthétique ou latex >50% avec d'autres matériaux","Inférieur strictement à 0,5 kg","€/unité",0.05,0.05,{"$f":"VLOOKUP(J2600,'Codes éco-part'!$C:$E,3,FALSE)","v":"048"},0.06]
["REP ABJ",4,"22150400210",null,"Entretien et aménagement du jardin","Outils à main d’entretien du jardin et petits accessoires","Assemblage caoutchouc synthétique ou latex >50% avec d'autres matériaux","Compris entre 0,5 kg et 1 kg exclus","€/unité",0.16,0.16,{"$f":"VLOOKUP(J2601,'Codes éco-part'!$C:$E,3,FALSE)","v":"099"},0.192]
["REP ABJ",4,"22150400220",null,"Entretien et aménagement du jardin","Outils à main d’entretien du jardin et petits accessoires","Assemblage caoutchouc synthétique ou latex >50% avec d'autres matériaux","Compris entre 1 kg et 2 kg exclus","€/unité",0.32,0.32,{"$f":"VLOOKUP(J2602,'Codes éco-part'!$C:$E,3,FALSE)","v":"447"},0.38400000000000001]
["REP ABJ",4,"22150400520",null,"Entretien et aménagement du jardin","Outils à main d’entretien du jardin et petits accessoires","Assemblage caoutchouc synthétique ou latex >50% avec d'autres matériaux","Compris entre 2 kg et 3 kg exclus","€/unité",0.54,0.54,{"$f":"VLOOKUP(J2603,'Codes éco-part'!$C:$E,3,FALSE)","v":"500"},0.64800000000000002]
["REP ABJ",4,"22150400530",null,"Entretien et aménagement du jardin","Outils à main d’entretien du jardin et petits accessoires","Assemblage caoutchouc synthétique ou latex >50% avec d'autres matériaux","Compris entre 3 kg et 5 kg exclus","€/unité",0.86,0.86,{"$f":"VLOOKUP(J2604,'Codes éco-part'!$C:$E,3,FALSE)","v":"501"},1.032]
["REP ABJ",4,"22150400540",null,"Entretien et aménagement du jardin","Outils à main d’entretien du jardin et petits accessoires","Assemblage caoutchouc synthétique ou latex >50% avec d'autres matériaux","Compris entre 5 kg et 7 kg exclus","€/unité",1.51,1.51,{"$f":"VLOOKUP(J2605,'Codes éco-part'!$C:$E,3,FALSE)","v":"502"},1.8119999999999998]
["REP ABJ",4,"22150410000",null,"Entretien et aménagement du jardin","Outils à main d’entretien du jardin et petits accessoires","Plastiques (mono résine) >90%","Eléments de toutes dimensions et poids","€ / Tonne",165,165,{"$f":"VLOOKUP(J2606,'Codes éco-part'!$C:$E,3,FALSE)","v":"496"},198]
["REP ABJ",4,"22150410200",null,"Entretien et aménagement du jardin","Outils à main d’entretien du jardin et petits accessoires","Plastiques (mono résine) >90%","Inférieur strictement à 0,5 kg","€/unité",0.04,0.04,{"$f":"VLOOKUP(J2607,'Codes éco-part'!$C:$E,3,FALSE)","v":"002"},4.8000000000000001E-2]
["REP ABJ",4,"22150410210",null,"Entretien et aménagement du jardin","Outils à main d’entretien du jardin et petits accessoires","Plastiques (mono résine) >90%","Compris entre 0,5 kg et 1 kg exclus","€/unité",0.12,0.12,{"$f":"VLOOKUP(J2608,'Codes éco-part'!$C:$E,3,FALSE)","v":"097"},0.14399999999999999]
["REP ABJ",4,"22150410220",null,"Entretien et aménagement du jardin","Outils à main d’entretien du jardin et petits accessoires","Plastiques (mono résine) >90%","Compris entre 1 kg et 2 kg exclus","€/unité",0.25,0.25,{"$f":"VLOOKUP(J2609,'Codes éco-part'!$C:$E,3,FALSE)","v":"095"},0.3]
["REP ABJ",4,"22150410520",null,"Entretien et aménagement du jardin","Outils à main d’entretien du jardin et petits accessoires","Plastiques (mono résine) >90%","Compris entre 2 kg et 3 kg exclus","€/unité",0.41,0.41,{"$f":"VLOOKUP(J2610,'Codes éco-part'!$C:$E,3,FALSE)","v":"503"},0.49199999999999994]
["REP ABJ",4,"22150410530",null,"Entretien et aménagement du jardin","Outils à main d’entretien du jardin et petits accessoires","Plastiques (mono résine) >90%","Compris entre 3 kg et 5 kg exclus","€/unité",0.66,0.66,{"$f":"VLOOKUP(J2611,'Codes éco-part'!$C:$E,3,FALSE)","v":"453"},0.79200000000000004]
["REP ABJ",4,"22150410540",null,"Entretien et aménagement du jardin","Outils à main d’entretien du jardin et petits accessoires","Plastiques (mono résine) >90%","Compris entre 5 kg et 7 kg exclus","€/unité",1.1599999999999999,1.1599999999999999,{"$f":"VLOOKUP(J2612,'Codes éco-part'!$C:$E,3,FALSE)","v":"504"},1.3919999999999999]
["REP ABJ",4,"22150420000",null,"Entretien et aménagement du jardin","Outils à main d’entretien du jardin et petits accessoires","Polyterephtalate d'Ethylène (PET) >90%","Eléments de toutes dimensions et poids","€ / Tonne",165,165,{"$f":"VLOOKUP(J2613,'Codes éco-part'!$C:$E,3,FALSE)","v":"496"},198]
["REP ABJ",4,"22150420200",null,"Entretien et aménagement du jardin","Outils à main d’entretien du jardin et petits accessoires","Polyterephtalate d'Ethylène (PET) >90%","Inférieur strictement à 0,5 kg","€/unité",0.04,0.04,{"$f":"VLOOKUP(J2614,'Codes éco-part'!$C:$E,3,FALSE)","v":"002"},4.8000000000000001E-2]
["REP ABJ",4,"22150420210",null,"Entretien et aménagement du jardin","Outils à main d’entretien du jardin et petits accessoires","Polyterephtalate d'Ethylène (PET) >90%","Compris entre 0,5 kg et 1 kg exclus","€/unité",0.12,0.12,{"$f":"VLOOKUP(J2615,'Codes éco-part'!$C:$E,3,FALSE)","v":"097"},0.14399999999999999]
["REP ABJ",4,"22150420220",null,"Entretien et aménagement du jardin","Outils à main d’entretien du jardin et petits accessoires","Polyterephtalate d'Ethylène (PET) >90%","Compris entre 1 kg et 2 kg exclus","€/unité",0.25,0.25,{"$f":"VLOOKUP(J2616,'Codes éco-part'!$C:$E,3,FALSE)","v":"095"},0.3]
["REP ABJ",4,"22150420520",null,"Entretien et aménagement du jardin","Outils à main d’entretien du jardin et petits accessoires","Polyterephtalate d'Ethylène (PET) >90%","Compris entre 2 kg et 3 kg exclus","€/unité",0.41,0.41,{"$f":"VLOOKUP(J2617,'Codes éco-part'!$C:$E,3,FALSE)","v":"503"},0.49199999999999994]
["REP ABJ",4,"22150420530",null,"Entretien et aménagement du jardin","Outils à main d’entretien du jardin et petits accessoires","Polyterephtalate d'Ethylène (PET) >90%","Compris entre 3 kg et 5 kg exclus","€/unité",0.66,0.66,{"$f":"VLOOKUP(J2618,'Codes éco-part'!$C:$E,3,FALSE)","v":"453"},0.79200000000000004]
["REP ABJ",4,"22150420540",null,"Entretien et aménagement du jardin","Outils à main d’entretien du jardin et petits accessoires","Polyterephtalate d'Ethylène (PET) >90%","Compris entre 5 kg et 7 kg exclus","€/unité",1.1599999999999999,1.1599999999999999,{"$f":"VLOOKUP(J2619,'Codes éco-part'!$C:$E,3,FALSE)","v":"504"},1.3919999999999999]
["REP ABJ",4,"22150450000",null,"Entretien et aménagement du jardin","Outils à main d’entretien du jardin et petits accessoires","PE ou PP ou mélange PP/PE >90%","Eléments de toutes dimensions et poids","€ / Tonne",165,165,{"$f":"VLOOKUP(J2620,'Codes éco-part'!$C:$E,3,FALSE)","v":"496"},198]
["REP ABJ",4,"22150450200",null,"Entretien et aménagement du jardin","Outils à main d’entretien du jardin et petits accessoires","PE ou PP ou mélange PP/PE >90%","Inférieur strictement à 0,5 kg","€/unité",0.04,0.04,{"$f":"VLOOKUP(J2621,'Codes éco-part'!$C:$E,3,FALSE)","v":"002"},4.8000000000000001E-2]
["REP ABJ",4,"22150450210",null,"Entretien et aménagement du jardin","Outils à main d’entretien du jardin et petits accessoires","PE ou PP ou mélange PP/PE >90%","Compris entre 0,5 kg et 1 kg exclus","€/unité",0.12,0.12,{"$f":"VLOOKUP(J2622,'Codes éco-part'!$C:$E,3,FALSE)","v":"097"},0.14399999999999999]
["REP ABJ",4,"22150450220",null,"Entretien et aménagement du jardin","Outils à main d’entretien du jardin et petits accessoires","PE ou PP ou mélange PP/PE >90%","Compris entre 1 kg et 2 kg exclus","€/unité",0.25,0.25,{"$f":"VLOOKUP(J2623,'Codes éco-part'!$C:$E,3,FALSE)","v":"095"},0.3]
["REP ABJ",4,"22150450520",null,"Entretien et aménagement du jardin","Outils à main d’entretien du jardin et petits accessoires","PE ou PP ou mélange PP/PE >90%","Compris entre 2 kg et 3 kg exclus","€/unité",0.41,0.41,{"$f":"VLOOKUP(J2624,'Codes éco-part'!$C:$E,3,FALSE)","v":"503"},0.49199999999999994]
["REP ABJ",4,"22150450530",null,"Entretien et aménagement du jardin","Outils à main d’entretien du jardin et petits accessoires","PE ou PP ou mélange PP/PE >90%","Compris entre 3 kg et 5 kg exclus","€/unité",0.66,0.66,{"$f":"VLOOKUP(J2625,'Codes éco-part'!$C:$E,3,FALSE)","v":"453"},0.79200000000000004]
["REP ABJ",4,"22150450540",null,"Entretien et aménagement du jardin","Outils à main d’entretien du jardin et petits accessoires","PE ou PP ou mélange PP/PE >90%","Compris entre 5 kg et 7 kg exclus","€/unité",1.1599999999999999,1.1599999999999999,{"$f":"VLOOKUP(J2626,'Codes éco-part'!$C:$E,3,FALSE)","v":"504"},1.3919999999999999]
["REP ABJ",4,"22150460000",null,"Entretien et aménagement du jardin","Outils à main d’entretien du jardin et petits accessoires","ABS >90%","Eléments de toutes dimensions et poids","€ / Tonne",165,165,{"$f":"VLOOKUP(J2627,'Codes éco-part'!$C:$E,3,FALSE)","v":"496"},198]
["REP ABJ",4,"22150460200",null,"Entretien et aménagement du jardin","Outils à main d’entretien du jardin et petits accessoires","ABS >90%","Inférieur strictement à 0,5 kg","€/unité",0.04,0.04,{"$f":"VLOOKUP(J2628,'Codes éco-part'!$C:$E,3,FALSE)","v":"002"},4.8000000000000001E-2]
["REP ABJ",4,"22150460210",null,"Entretien et aménagement du jardin","Outils à main d’entretien du jardin et petits accessoires","ABS >90%","Compris entre 0,5 kg et 1 kg exclus","€/unité",0.12,0.12,{"$f":"VLOOKUP(J2629,'Codes éco-part'!$C:$E,3,FALSE)","v":"097"},0.14399999999999999]
["REP ABJ",4,"22150460220",null,"Entretien et aménagement du jardin","Outils à main d’entretien du jardin et petits accessoires","ABS >90%","Compris entre 1 kg et 2 kg exclus","€/unité",0.25,0.25,{"$f":"VLOOKUP(J2630,'Codes éco-part'!$C:$E,3,FALSE)","v":"095"},0.3]
["REP ABJ",4,"22150460520",null,"Entretien et aménagement du jardin","Outils à main d’entretien du jardin et petits accessoires","ABS >90%","Compris entre 2 kg et 3 kg exclus","€/unité",0.41,0.41,{"$f":"VLOOKUP(J2631,'Codes éco-part'!$C:$E,3,FALSE)","v":"503"},0.49199999999999994]
["REP ABJ",4,"22150460530",null,"Entretien et aménagement du jardin","Outils à main d’entretien du jardin et petits accessoires","ABS >90%","Compris entre 3 kg et 5 kg exclus","€/unité",0.66,0.66,{"$f":"VLOOKUP(J2632,'Codes éco-part'!$C:$E,3,FALSE)","v":"453"},0.79200000000000004]
["REP ABJ",4,"22150460540",null,"Entretien et aménagement du jardin","Outils à main d’entretien du jardin et petits accessoires","ABS >90%","Compris entre 5 kg et 7 kg exclus","€/unité",1.1599999999999999,1.1599999999999999,{"$f":"VLOOKUP(J2633,'Codes éco-part'!$C:$E,3,FALSE)","v":"504"},1.3919999999999999]
["REP ABJ",4,"22150470000",null,"Entretien et aménagement du jardin","Outils à main d’entretien du jardin et petits accessoires","Polystyrène >90%","Eléments de toutes dimensions et poids","€ / Tonne",165,165,{"$f":"VLOOKUP(J2634,'Codes éco-part'!$C:$E,3,FALSE)","v":"496"},198]
["REP ABJ",4,"22150470200",null,"Entretien et aménagement du jardin","Outils à main d’entretien du jardin et petits accessoires","Polystyrène >90%","Inférieur strictement à 0,5 kg","€/unité",0.04,0.04,{"$f":"VLOOKUP(J2635,'Codes éco-part'!$C:$E,3,FALSE)","v":"002"},4.8000000000000001E-2]
["REP ABJ",4,"22150470210",null,"Entretien et aménagement du jardin","Outils à main d’entretien du jardin et petits accessoires","Polystyrène >90%","Compris entre 0,5 kg et 1 kg exclus","€/unité",0.12,0.12,{"$f":"VLOOKUP(J2636,'Codes éco-part'!$C:$E,3,FALSE)","v":"097"},0.14399999999999999]
["REP ABJ",4,"22150470220",null,"Entretien et aménagement du jardin","Outils à main d’entretien du jardin et petits accessoires","Polystyrène >90%","Compris entre 1 kg et 2 kg exclus","€/unité",0.25,0.25,{"$f":"VLOOKUP(J2637,'Codes éco-part'!$C:$E,3,FALSE)","v":"095"},0.3]
["REP ABJ",4,"22150470520",null,"Entretien et aménagement du jardin","Outils à main d’entretien du jardin et petits accessoires","Polystyrène >90%","Compris entre 2 kg et 3 kg exclus","€/unité",0.41,0.41,{"$f":"VLOOKUP(J2638,'Codes éco-part'!$C:$E,3,FALSE)","v":"503"},0.49199999999999994]
["REP ABJ",4,"22150470530",null,"Entretien et aménagement du jardin","Outils à main d’entretien du jardin et petits accessoires","Polystyrène >90%","Compris entre 3 kg et 5 kg exclus","€/unité",0.66,0.66,{"$f":"VLOOKUP(J2639,'Codes éco-part'!$C:$E,3,FALSE)","v":"453"},0.79200000000000004]
["REP ABJ",4,"22150470540",null,"Entretien et aménagement du jardin","Outils à main d’entretien du jardin et petits accessoires","Polystyrène >90%","Compris entre 5 kg et 7 kg exclus","€/unité",1.1599999999999999,1.1599999999999999,{"$f":"VLOOKUP(J2640,'Codes éco-part'!$C:$E,3,FALSE)","v":"504"},1.3919999999999999]
["REP ABJ",4,"22150480000",null,"Entretien et aménagement du jardin","Outils à main d’entretien du jardin et petits accessoires","PVC >90%","Eléments de toutes dimensions et poids","€ / Tonne",165,165,{"$f":"VLOOKUP(J2641,'Codes éco-part'!$C:$E,3,FALSE)","v":"496"},198]
["REP ABJ",4,"22150480200",null,"Entretien et aménagement du jardin","Outils à main d’entretien du jardin et petits accessoires","PVC >90%","Inférieur strictement à 0,5 kg","€/unité",0.04,0.04,{"$f":"VLOOKUP(J2642,'Codes éco-part'!$C:$E,3,FALSE)","v":"002"},4.8000000000000001E-2]
["REP ABJ",4,"22150480210",null,"Entretien et aménagement du jardin","Outils à main d’entretien du jardin et petits accessoires","PVC >90%","Compris entre 0,5 kg et 1 kg exclus","€/unité",0.12,0.12,{"$f":"VLOOKUP(J2643,'Codes éco-part'!$C:$E,3,FALSE)","v":"097"},0.14399999999999999]
["REP ABJ",4,"22150480220",null,"Entretien et aménagement du jardin","Outils à main d’entretien du jardin et petits accessoires","PVC >90%","Compris entre 1 kg et 2 kg exclus","€/unité",0.25,0.25,{"$f":"VLOOKUP(J2644,'Codes éco-part'!$C:$E,3,FALSE)","v":"095"},0.3]
["REP ABJ",4,"22150480520",null,"Entretien et aménagement du jardin","Outils à main d’entretien du jardin et petits accessoires","PVC >90%","Compris entre 2 kg et 3 kg exclus","€/unité",0.41,0.41,{"$f":"VLOOKUP(J2645,'Codes éco-part'!$C:$E,3,FALSE)","v":"503"},0.49199999999999994]
["REP ABJ",4,"22150480530",null,"Entretien et aménagement du jardin","Outils à main d’entretien du jardin et petits accessoires","PVC >90%","Compris entre 3 kg et 5 kg exclus","€/unité",0.66,0.66,{"$f":"VLOOKUP(J2646,'Codes éco-part'!$C:$E,3,FALSE)","v":"453"},0.79200000000000004]
["REP ABJ",4,"22150480540",null,"Entretien et aménagement du jardin","Outils à main d’entretien du jardin et petits accessoires","PVC >90%","Compris entre 5 kg et 7 kg exclus","€/unité",1.1599999999999999,1.1599999999999999,{"$f":"VLOOKUP(J2647,'Codes éco-part'!$C:$E,3,FALSE)","v":"504"},1.3919999999999999]
["REP ABJ",4,"22150490000",null,"Entretien et aménagement du jardin","Outils à main d’entretien du jardin et petits accessoires","Caoutchouc synthétique >90%","Eléments de toutes dimensions et poids","€ / Tonne",165,165,{"$f":"VLOOKUP(J2648,'Codes éco-part'!$C:$E,3,FALSE)","v":"496"},198]
["REP ABJ",4,"22150490200",null,"Entretien et aménagement du jardin","Outils à main d’entretien du jardin et petits accessoires","Caoutchouc synthétique >90%","Inférieur strictement à 0,5 kg","€/unité",0.04,0.04,{"$f":"VLOOKUP(J2649,'Codes éco-part'!$C:$E,3,FALSE)","v":"002"},{"$f":"J2649*1.2","v":4.8000000000000001E-2}]
["REP ABJ",4,"22150490210",null,"Entretien et aménagement du jardin","Outils à main d’entretien du jardin et petits accessoires","Caoutchouc synthétique >90%","Compris entre 0,5 kg et 1 kg exclus","€/unité",0.12,0.12,{"$f":"VLOOKUP(J2650,'Codes éco-part'!$C:$E,3,FALSE)","v":"097"},0.14399999999999999]
["REP ABJ",4,"22150490220",null,"Entretien et aménagement du jardin","Outils à main d’entretien du jardin et petits accessoires","Caoutchouc synthétique >90%","Compris entre 1 kg et 2 kg exclus","€/unité",0.25,0.25,{"$f":"VLOOKUP(J2651,'Codes éco-part'!$C:$E,3,FALSE)","v":"095"},0.3]
["REP ABJ",4,"22150490520",null,"Entretien et aménagement du jardin","Outils à main d’entretien du jardin et petits accessoires","Caoutchouc synthétique >90%","Compris entre 2 kg et 3 kg exclus","€/unité",0.41,0.41,{"$f":"VLOOKUP(J2652,'Codes éco-part'!$C:$E,3,FALSE)","v":"503"},0.49199999999999994]
["REP ABJ",4,"22150490530",null,"Entretien et aménagement du jardin","Outils à main d’entretien du jardin et petits accessoires","Caoutchouc synthétique >90%","Compris entre 3 kg et 5 kg exclus","€/unité",0.66,0.66,{"$f":"VLOOKUP(J2653,'Codes éco-part'!$C:$E,3,FALSE)","v":"453"},0.79200000000000004]
["REP ABJ",4,"22150490540",null,"Entretien et aménagement du jardin","Outils à main d’entretien du jardin et petits accessoires","Caoutchouc synthétique >90%","Compris entre 5 kg et 7 kg exclus","€/unité",1.1599999999999999,1.1599999999999999,{"$f":"VLOOKUP(J2654,'Codes éco-part'!$C:$E,3,FALSE)","v":"504"},1.3919999999999999]
["REP ABJ",4,"22150520000",null,"Entretien et aménagement du jardin","Outils à main d’entretien du jardin et petits accessoires","Massif et assimilés certifiés >90%","Eléments de toutes dimensions et poids","€ / Tonne",45,45,{"$f":"VLOOKUP(J2655,'Codes éco-part'!$C:$E,3,FALSE)","v":"169"},54]
["REP ABJ",4,"22150520200",null,"Entretien et aménagement du jardin","Outils à main d’entretien du jardin et petits accessoires","Massif et assimilés certifiés >90%","Inférieur strictement à 0,5 kg","€/unité",0.01,0.01,{"$f":"VLOOKUP(J2656,'Codes éco-part'!$C:$E,3,FALSE)","v":"260"},1.2E-2]
["REP ABJ",4,"22150520210",null,"Entretien et aménagement du jardin","Outils à main d’entretien du jardin et petits accessoires","Massif et assimilés certifiés >90%","Compris entre 0,5 kg et 1 kg exclus","€/unité",0.03,0.03,{"$f":"VLOOKUP(J2657,'Codes éco-part'!$C:$E,3,FALSE)","v":"092"},3.5999999999999997E-2]
["REP ABJ",4,"22150520220",null,"Entretien et aménagement du jardin","Outils à main d’entretien du jardin et petits accessoires","Massif et assimilés certifiés >90%","Compris entre 1 kg et 2 kg exclus","€/unité",7.0000000000000007E-2,7.0000000000000007E-2,{"$f":"VLOOKUP(J2658,'Codes éco-part'!$C:$E,3,FALSE)","v":"247"},8.4000000000000005E-2]
["REP ABJ",4,"22150520520",null,"Entretien et aménagement du jardin","Outils à main d’entretien du jardin et petits accessoires","Massif et assimilés certifiés >90%","Compris entre 2 kg et 3 kg exclus","€/unité",0.11,0.11,{"$f":"VLOOKUP(J2659,'Codes éco-part'!$C:$E,3,FALSE)","v":"262"},0.13200000000000001]
["REP ABJ",4,"22150520530",null,"Entretien et aménagement du jardin","Outils à main d’entretien du jardin et petits accessoires","Massif et assimilés certifiés >90%","Compris entre 3 kg et 5 kg exclus","€/unité",0.18,0.18,{"$f":"VLOOKUP(J2660,'Codes éco-part'!$C:$E,3,FALSE)","v":"100"},0.216]
["REP ABJ",4,"22150520540",null,"Entretien et aménagement du jardin","Outils à main d’entretien du jardin et petits accessoires","Massif et assimilés certifiés >90%","Compris entre 5 kg et 7 kg exclus","€/unité",0.32,0.32,{"$f":"VLOOKUP(J2661,'Codes éco-part'!$C:$E,3,FALSE)","v":"447"},0.38400000000000001]
["REP ABJ",4,"22150530000",null,"Entretien et aménagement du jardin","Outils à main d’entretien du jardin et petits accessoires","Massif et assimilés >90%","Eléments de toutes dimensions et poids","€ / Tonne",45,45,{"$f":"VLOOKUP(J2662,'Codes éco-part'!$C:$E,3,FALSE)","v":"169"},54]
["REP ABJ",4,"22150530200",null,"Entretien et aménagement du jardin","Outils à main d’entretien du jardin et petits accessoires","Massif et assimilés >90%","Inférieur strictement à 0,5 kg","€/unité",0.01,0.01,{"$f":"VLOOKUP(J2663,'Codes éco-part'!$C:$E,3,FALSE)","v":"260"},1.2E-2]
["REP ABJ",4,"22150530210",null,"Entretien et aménagement du jardin","Outils à main d’entretien du jardin et petits accessoires","Massif et assimilés >90%","Compris entre 0,5 kg et 1 kg exclus","€/unité",0.03,0.03,{"$f":"VLOOKUP(J2664,'Codes éco-part'!$C:$E,3,FALSE)","v":"092"},3.5999999999999997E-2]
["REP ABJ",4,"22150530220",null,"Entretien et aménagement du jardin","Outils à main d’entretien du jardin et petits accessoires","Massif et assimilés >90%","Compris entre 1 kg et 2 kg exclus","€/unité",7.0000000000000007E-2,7.0000000000000007E-2,{"$f":"VLOOKUP(J2665,'Codes éco-part'!$C:$E,3,FALSE)","v":"247"},8.4000000000000005E-2]
["REP ABJ",4,"22150530520",null,"Entretien et aménagement du jardin","Outils à main d’entretien du jardin et petits accessoires","Massif et assimilés >90%","Compris entre 2 kg et 3 kg exclus","€/unité",0.11,0.11,{"$f":"VLOOKUP(J2666,'Codes éco-part'!$C:$E,3,FALSE)","v":"262"},0.13200000000000001]
["REP ABJ",4,"22150530530",null,"Entretien et aménagement du jardin","Outils à main d’entretien du jardin et petits accessoires","Massif et assimilés >90%","Compris entre 3 kg et 5 kg exclus","€/unité",0.18,0.18,{"$f":"VLOOKUP(J2667,'Codes éco-part'!$C:$E,3,FALSE)","v":"100"},0.216]
["REP ABJ",4,"22150530540",null,"Entretien et aménagement du jardin","Outils à main d’entretien du jardin et petits accessoires","Massif et assimilés >90%","Compris entre 5 kg et 7 kg exclus","€/unité",0.32,0.32,{"$f":"VLOOKUP(J2668,'Codes éco-part'!$C:$E,3,FALSE)","v":"447"},0.38400000000000001]
["REP ABJ",4,"22150550000",null,"Entretien et aménagement du jardin","Outils à main d’entretien du jardin et petits accessoires","Matériaux bio sourcés ou textiles non synthétiques >90%","Eléments de toutes dimensions et poids","€ / Tonne",50,50,{"$f":"VLOOKUP(J2669,'Codes éco-part'!$C:$E,3,FALSE)","v":"173"},60]
["REP ABJ",4,"22150550200",null,"Entretien et aménagement du jardin","Outils à main d’entretien du jardin et petits accessoires","Matériaux bio sourcés ou textiles non synthétiques >90%","Inférieur strictement à 0,5 kg","€/unité",0.01,0.01,{"$f":"VLOOKUP(J2670,'Codes éco-part'!$C:$E,3,FALSE)","v":"260"},1.2E-2]
["REP ABJ",4,"22150550210",null,"Entretien et aménagement du jardin","Outils à main d’entretien du jardin et petits accessoires","Matériaux bio sourcés ou textiles non synthétiques >90%","Compris entre 0,5 kg et 1 kg exclus","€/unité",0.04,0.04,{"$f":"VLOOKUP(J2671,'Codes éco-part'!$C:$E,3,FALSE)","v":"002"},4.8000000000000001E-2]
["REP ABJ",4,"22150550220",null,"Entretien et aménagement du jardin","Outils à main d’entretien du jardin et petits accessoires","Matériaux bio sourcés ou textiles non synthétiques >90%","Compris entre 1 kg et 2 kg exclus","€/unité",0.08,0.08,{"$f":"VLOOKUP(J2672,'Codes éco-part'!$C:$E,3,FALSE)","v":"003"},9.6000000000000002E-2]
["REP ABJ",4,"22150550520",null,"Entretien et aménagement du jardin","Outils à main d’entretien du jardin et petits accessoires","Matériaux bio sourcés ou textiles non synthétiques >90%","Compris entre 2 kg et 3 kg exclus","€/unité",0.13,0.13,{"$f":"VLOOKUP(J2673,'Codes éco-part'!$C:$E,3,FALSE)","v":"004"},0.156]
["REP ABJ",4,"22150550530",null,"Entretien et aménagement du jardin","Outils à main d’entretien du jardin et petits accessoires","Matériaux bio sourcés ou textiles non synthétiques >90%","Compris entre 3 kg et 5 kg exclus","€/unité",0.2,0.2,{"$f":"VLOOKUP(J2674,'Codes éco-part'!$C:$E,3,FALSE)","v":"101"},0.24]
["REP ABJ",4,"22150550540",null,"Entretien et aménagement du jardin","Outils à main d’entretien du jardin et petits accessoires","Matériaux bio sourcés ou textiles non synthétiques >90%","Compris entre 5 kg et 7 kg exclus","€/unité",0.35,0.35,{"$f":"VLOOKUP(J2675,'Codes éco-part'!$C:$E,3,FALSE)","v":"448"},0.42]
["REP ABJ",4,"22150590000",null,"Entretien et aménagement du jardin","Outils à main d’entretien du jardin et petits accessoires","Panneaux de particules ou OSB certifiés >90%","Eléments de toutes dimensions et poids","€ / Tonne",45,45,{"$f":"VLOOKUP(J2676,'Codes éco-part'!$C:$E,3,FALSE)","v":"169"},54]
["REP ABJ",4,"22150590200",null,"Entretien et aménagement du jardin","Outils à main d’entretien du jardin et petits accessoires","Panneaux de particules ou OSB certifiés >90%","Inférieur strictement à 0,5 kg","€/unité",0.01,0.01,{"$f":"VLOOKUP(J2677,'Codes éco-part'!$C:$E,3,FALSE)","v":"260"},1.2E-2]
["REP ABJ",4,"22150590210",null,"Entretien et aménagement du jardin","Outils à main d’entretien du jardin et petits accessoires","Panneaux de particules ou OSB certifiés >90%","Compris entre 0,5 kg et 1 kg exclus","€/unité",0.03,0.03,{"$f":"VLOOKUP(J2678,'Codes éco-part'!$C:$E,3,FALSE)","v":"092"},3.5999999999999997E-2]
["REP ABJ",4,"22150590220",null,"Entretien et aménagement du jardin","Outils à main d’entretien du jardin et petits accessoires","Panneaux de particules ou OSB certifiés >90%","Compris entre 1 kg et 2 kg exclus","€/unité",7.0000000000000007E-2,7.0000000000000007E-2,{"$f":"VLOOKUP(J2679,'Codes éco-part'!$C:$E,3,FALSE)","v":"247"},8.4000000000000005E-2]
["REP ABJ",4,"22150590520",null,"Entretien et aménagement du jardin","Outils à main d’entretien du jardin et petits accessoires","Panneaux de particules ou OSB certifiés >90%","Compris entre 2 kg et 3 kg exclus","€/unité",0.11,0.11,{"$f":"VLOOKUP(J2680,'Codes éco-part'!$C:$E,3,FALSE)","v":"262"},0.13200000000000001]
["REP ABJ",4,"22150590530",null,"Entretien et aménagement du jardin","Outils à main d’entretien du jardin et petits accessoires","Panneaux de particules ou OSB certifiés >90%","Compris entre 3 kg et 5 kg exclus","€/unité",0.18,0.18,{"$f":"VLOOKUP(J2681,'Codes éco-part'!$C:$E,3,FALSE)","v":"100"},0.216]
["REP ABJ",4,"22150590540",null,"Entretien et aménagement du jardin","Outils à main d’entretien du jardin et petits accessoires","Panneaux de particules ou OSB certifiés >90%","Compris entre 5 kg et 7 kg exclus","€/unité",0.32,0.32,{"$f":"VLOOKUP(J2682,'Codes éco-part'!$C:$E,3,FALSE)","v":"447"},0.38400000000000001]
["REP ABJ",4,"22150600000",null,"Entretien et aménagement du jardin","Outils à main d’entretien du jardin et petits accessoires","Panneaux de particules ou OSB certifiés >75%","Eléments de toutes dimensions et poids","€ / Tonne",45,45,{"$f":"VLOOKUP(J2683,'Codes éco-part'!$C:$E,3,FALSE)","v":"169"},54]
["REP ABJ",4,"22150600200",null,"Entretien et aménagement du jardin","Outils à main d’entretien du jardin et petits accessoires","Panneaux de particules ou OSB certifiés >75%","Inférieur strictement à 0,5 kg","€/unité",0.01,0.01,{"$f":"VLOOKUP(J2684,'Codes éco-part'!$C:$E,3,FALSE)","v":"260"},1.2E-2]
["REP ABJ",4,"22150600210",null,"Entretien et aménagement du jardin","Outils à main d’entretien du jardin et petits accessoires","Panneaux de particules ou OSB certifiés >75%","Compris entre 0,5 kg et 1 kg exclus","€/unité",0.03,0.03,{"$f":"VLOOKUP(J2685,'Codes éco-part'!$C:$E,3,FALSE)","v":"092"},3.5999999999999997E-2]
["REP ABJ",4,"22150600220",null,"Entretien et aménagement du jardin","Outils à main d’entretien du jardin et petits accessoires","Panneaux de particules ou OSB certifiés >75%","Compris entre 1 kg et 2 kg exclus","€/unité",7.0000000000000007E-2,7.0000000000000007E-2,{"$f":"VLOOKUP(J2686,'Codes éco-part'!$C:$E,3,FALSE)","v":"247"},8.4000000000000005E-2]
["REP ABJ",4,"22150600520",null,"Entretien et aménagement du jardin","Outils à main d’entretien du jardin et petits accessoires","Panneaux de particules ou OSB certifiés >75%","Compris entre 2 kg et 3 kg exclus","€/unité",0.11,0.11,{"$f":"VLOOKUP(J2687,'Codes éco-part'!$C:$E,3,FALSE)","v":"262"},0.13200000000000001]
["REP ABJ",4,"22150600530",null,"Entretien et aménagement du jardin","Outils à main d’entretien du jardin et petits accessoires","Panneaux de particules ou OSB certifiés >75%","Compris entre 3 kg et 5 kg exclus","€/unité",0.18,0.18,{"$f":"VLOOKUP(J2688,'Codes éco-part'!$C:$E,3,FALSE)","v":"100"},0.216]
["REP ABJ",4,"22150600540",null,"Entretien et aménagement du jardin","Outils à main d’entretien du jardin et petits accessoires","Panneaux de particules ou OSB certifiés >75%","Compris entre 5 kg et 7 kg exclus","€/unité",0.32,0.32,{"$f":"VLOOKUP(J2689,'Codes éco-part'!$C:$E,3,FALSE)","v":"447"},0.38400000000000001]
["REP ABJ",4,"22150610000",null,"Entretien et aménagement du jardin","Outils à main d’entretien du jardin et petits accessoires","Panneaux de particules ou OSB >90%","Eléments de toutes dimensions et poids","€ / Tonne",45,45,{"$f":"VLOOKUP(J2690,'Codes éco-part'!$C:$E,3,FALSE)","v":"169"},54]
["REP ABJ",4,"22150610200",null,"Entretien et aménagement du jardin","Outils à main d’entretien du jardin et petits accessoires","Panneaux de particules ou OSB >90%","Inférieur strictement à 0,5 kg","€/unité",0.01,0.01,{"$f":"VLOOKUP(J2691,'Codes éco-part'!$C:$E,3,FALSE)","v":"260"},1.2E-2]
["REP ABJ",4,"22150610210",null,"Entretien et aménagement du jardin","Outils à main d’entretien du jardin et petits accessoires","Panneaux de particules ou OSB >90%","Compris entre 0,5 kg et 1 kg exclus","€/unité",0.03,0.03,{"$f":"VLOOKUP(J2692,'Codes éco-part'!$C:$E,3,FALSE)","v":"092"},3.5999999999999997E-2]
["REP ABJ",4,"22150610220",null,"Entretien et aménagement du jardin","Outils à main d’entretien du jardin et petits accessoires","Panneaux de particules ou OSB >90%","Compris entre 1 kg et 2 kg exclus","€/unité",7.0000000000000007E-2,7.0000000000000007E-2,{"$f":"VLOOKUP(J2693,'Codes éco-part'!$C:$E,3,FALSE)","v":"247"},8.4000000000000005E-2]
["REP ABJ",4,"22150610520",null,"Entretien et aménagement du jardin","Outils à main d’entretien du jardin et petits accessoires","Panneaux de particules ou OSB >90%","Compris entre 2 kg et 3 kg exclus","€/unité",0.11,0.11,{"$f":"VLOOKUP(J2694,'Codes éco-part'!$C:$E,3,FALSE)","v":"262"},0.13200000000000001]
["REP ABJ",4,"22150610530",null,"Entretien et aménagement du jardin","Outils à main d’entretien du jardin et petits accessoires","Panneaux de particules ou OSB >90%","Compris entre 3 kg et 5 kg exclus","€/unité",0.18,0.18,{"$f":"VLOOKUP(J2695,'Codes éco-part'!$C:$E,3,FALSE)","v":"100"},0.216]
["REP ABJ",4,"22150610540",null,"Entretien et aménagement du jardin","Outils à main d’entretien du jardin et petits accessoires","Panneaux de particules ou OSB >90%","Compris entre 5 kg et 7 kg exclus","€/unité",0.32,0.32,{"$f":"VLOOKUP(J2696,'Codes éco-part'!$C:$E,3,FALSE)","v":"447"},0.38400000000000001]
["REP ABJ",4,"22150620000",null,"Entretien et aménagement du jardin","Outils à main d’entretien du jardin et petits accessoires","Dérivés de bois >90%","Eléments de toutes dimensions et poids","€ / Tonne",45,45,{"$f":"VLOOKUP(J2697,'Codes éco-part'!$C:$E,3,FALSE)","v":"169"},54]
["REP ABJ",4,"22150620200",null,"Entretien et aménagement du jardin","Outils à main d’entretien du jardin et petits accessoires","Dérivés de bois >90%","Inférieur strictement à 0,5 kg","€/unité",0.01,0.01,{"$f":"VLOOKUP(J2698,'Codes éco-part'!$C:$E,3,FALSE)","v":"260"},1.2E-2]
["REP ABJ",4,"22150620210",null,"Entretien et aménagement du jardin","Outils à main d’entretien du jardin et petits accessoires","Dérivés de bois >90%","Compris entre 0,5 kg et 1 kg exclus","€/unité",0.03,0.03,{"$f":"VLOOKUP(J2699,'Codes éco-part'!$C:$E,3,FALSE)","v":"092"},3.5999999999999997E-2]
["REP ABJ",4,"22150620220",null,"Entretien et aménagement du jardin","Outils à main d’entretien du jardin et petits accessoires","Dérivés de bois >90%","Compris entre 1 kg et 2 kg exclus","€/unité",7.0000000000000007E-2,7.0000000000000007E-2,{"$f":"VLOOKUP(J2700,'Codes éco-part'!$C:$E,3,FALSE)","v":"247"},8.4000000000000005E-2]
["REP ABJ",4,"22150620520",null,"Entretien et aménagement du jardin","Outils à main d’entretien du jardin et petits accessoires","Dérivés de bois >90%","Compris entre 2 kg et 3 kg exclus","€/unité",0.11,0.11,{"$f":"VLOOKUP(J2701,'Codes éco-part'!$C:$E,3,FALSE)","v":"262"},0.13200000000000001]
["REP ABJ",4,"22150620530",null,"Entretien et aménagement du jardin","Outils à main d’entretien du jardin et petits accessoires","Dérivés de bois >90%","Compris entre 3 kg et 5 kg exclus","€/unité",0.18,0.18,{"$f":"VLOOKUP(J2702,'Codes éco-part'!$C:$E,3,FALSE)","v":"100"},0.216]
["REP ABJ",4,"22150620540",null,"Entretien et aménagement du jardin","Outils à main d’entretien du jardin et petits accessoires","Dérivés de bois >90%","Compris entre 5 kg et 7 kg exclus","€/unité",0.32,0.32,{"$f":"VLOOKUP(J2703,'Codes éco-part'!$C:$E,3,FALSE)","v":"447"},0.38400000000000001]
["REP ABJ",4,"22150630000",null,"Entretien et aménagement du jardin","Outils à main d’entretien du jardin et petits accessoires","Caoutchouc naturel >90%","Eléments de toutes dimensions et poids","€ / Tonne",50,50,{"$f":"VLOOKUP(J2704,'Codes éco-part'!$C:$E,3,FALSE)","v":"173"},60]
["REP ABJ",4,"22150630200",null,"Entretien et aménagement du jardin","Outils à main d’entretien du jardin et petits accessoires","Caoutchouc naturel >90%","Inférieur strictement à 0,5 kg","€/unité",0.01,0.01,{"$f":"VLOOKUP(J2705,'Codes éco-part'!$C:$E,3,FALSE)","v":"260"},1.2E-2]
["REP ABJ",4,"22150630210",null,"Entretien et aménagement du jardin","Outils à main d’entretien du jardin et petits accessoires","Caoutchouc naturel >90%","Compris entre 0,5 kg et 1 kg exclus","€/unité",0.04,0.04,{"$f":"VLOOKUP(J2706,'Codes éco-part'!$C:$E,3,FALSE)","v":"002"},4.8000000000000001E-2]
["REP ABJ",4,"22150630220",null,"Entretien et aménagement du jardin","Outils à main d’entretien du jardin et petits accessoires","Caoutchouc naturel >90%","Compris entre 1 kg et 2 kg exclus","€/unité",0.08,0.08,{"$f":"VLOOKUP(J2707,'Codes éco-part'!$C:$E,3,FALSE)","v":"003"},9.6000000000000002E-2]
["REP ABJ",4,"22150630520",null,"Entretien et aménagement du jardin","Outils à main d’entretien du jardin et petits accessoires","Caoutchouc naturel >90%","Compris entre 2 kg et 3 kg exclus","€/unité",0.13,0.13,{"$f":"VLOOKUP(J2708,'Codes éco-part'!$C:$E,3,FALSE)","v":"004"},0.156]
["REP ABJ",4,"22150630530",null,"Entretien et aménagement du jardin","Outils à main d’entretien du jardin et petits accessoires","Caoutchouc naturel >90%","Compris entre 3 kg et 5 kg exclus","€/unité",0.2,0.2,{"$f":"VLOOKUP(J2709,'Codes éco-part'!$C:$E,3,FALSE)","v":"101"},0.24]
["REP ABJ",4,"22150630540",null,"Entretien et aménagement du jardin","Outils à main d’entretien du jardin et petits accessoires","Caoutchouc naturel >90%","Compris entre 5 kg et 7 kg exclus","€/unité",0.35,0.35,{"$f":"VLOOKUP(J2710,'Codes éco-part'!$C:$E,3,FALSE)","v":"448"},0.42]
["REP ABJ",4,"22150640000",null,"Entretien et aménagement du jardin","Outils à main d’entretien du jardin et petits accessoires","Caoutchouc naturel >50%","Eléments de toutes dimensions et poids","€ / Tonne",215,215,{"$f":"VLOOKUP(J2711,'Codes éco-part'!$C:$E,3,FALSE)","v":"498"},258]
["REP ABJ",4,"22150640200",null,"Entretien et aménagement du jardin","Outils à main d’entretien du jardin et petits accessoires","Caoutchouc naturel >50%","Inférieur strictement à 0,5 kg","€/unité",0.05,0.05,{"$f":"VLOOKUP(J2712,'Codes éco-part'!$C:$E,3,FALSE)","v":"048"},0.06]
["REP ABJ",4,"22150640210",null,"Entretien et aménagement du jardin","Outils à main d’entretien du jardin et petits accessoires","Caoutchouc naturel >50%","Compris entre 0,5 kg et 1 kg exclus","€/unité",0.16,0.16,{"$f":"VLOOKUP(J2713,'Codes éco-part'!$C:$E,3,FALSE)","v":"099"},{"$f":"J2713*1.2","v":0.192}]
["REP ABJ",4,"22150640220",null,"Entretien et aménagement du jardin","Outils à main d’entretien du jardin et petits accessoires","Caoutchouc naturel >50%","Compris entre 1 kg et 2 kg exclus","€/unité",0.32,0.32,{"$f":"VLOOKUP(J2714,'Codes éco-part'!$C:$E,3,FALSE)","v":"447"},0.38400000000000001]
["REP ABJ",4,"22150640520",null,"Entretien et aménagement du jardin","Outils à main d’entretien du jardin et petits accessoires","Caoutchouc naturel >50%","Compris entre 2 kg et 3 kg exclus","€/unité",0.54,0.54,{"$f":"VLOOKUP(J2715,'Codes éco-part'!$C:$E,3,FALSE)","v":"500"},0.64800000000000002]
["REP ABJ",4,"22150640530",null,"Entretien et aménagement du jardin","Outils à main d’entretien du jardin et petits accessoires","Caoutchouc naturel >50%","Compris entre 3 kg et 5 kg exclus","€/unité",0.86,0.86,{"$f":"VLOOKUP(J2716,'Codes éco-part'!$C:$E,3,FALSE)","v":"501"},1.032]
["REP ABJ",4,"22150640540",null,"Entretien et aménagement du jardin","Outils à main d’entretien du jardin et petits accessoires","Caoutchouc naturel >50%","Compris entre 5 kg et 7 kg exclus","€/unité",1.51,1.51,{"$f":"VLOOKUP(J2717,'Codes éco-part'!$C:$E,3,FALSE)","v":"502"},1.8119999999999998]
["REP ABJ",4,"22150650000",null,"Entretien et aménagement du jardin","Outils à main d’entretien du jardin et petits accessoires","Matériaux ou fibres synthétiques >90%","Eléments de toutes dimensions et poids","€ / Tonne",165,165,{"$f":"VLOOKUP(J2718,'Codes éco-part'!$C:$E,3,FALSE)","v":"496"},198]
["REP ABJ",4,"22150650200",null,"Entretien et aménagement du jardin","Outils à main d’entretien du jardin et petits accessoires","Matériaux ou fibres synthétiques >90%","Inférieur strictement à 0,5 kg","€/unité",0.04,0.04,{"$f":"VLOOKUP(J2719,'Codes éco-part'!$C:$E,3,FALSE)","v":"002"},4.8000000000000001E-2]
["REP ABJ",4,"22150650210",null,"Entretien et aménagement du jardin","Outils à main d’entretien du jardin et petits accessoires","Matériaux ou fibres synthétiques >90%","Compris entre 0,5 kg et 1 kg exclus","€/unité",0.12,0.12,{"$f":"VLOOKUP(J2720,'Codes éco-part'!$C:$E,3,FALSE)","v":"097"},0.14399999999999999]
["REP ABJ",4,"22150650220",null,"Entretien et aménagement du jardin","Outils à main d’entretien du jardin et petits accessoires","Matériaux ou fibres synthétiques >90%","Compris entre 1 kg et 2 kg exclus","€/unité",0.25,0.25,{"$f":"VLOOKUP(J2721,'Codes éco-part'!$C:$E,3,FALSE)","v":"095"},0.3]
["REP ABJ",4,"22150650520",null,"Entretien et aménagement du jardin","Outils à main d’entretien du jardin et petits accessoires","Matériaux ou fibres synthétiques >90%","Compris entre 2 kg et 3 kg exclus","€/unité",0.41,0.41,{"$f":"VLOOKUP(J2722,'Codes éco-part'!$C:$E,3,FALSE)","v":"503"},0.49199999999999994]
["REP ABJ",4,"22150650530",null,"Entretien et aménagement du jardin","Outils à main d’entretien du jardin et petits accessoires","Matériaux ou fibres synthétiques >90%","Compris entre 3 kg et 5 kg exclus","€/unité",0.66,0.66,{"$f":"VLOOKUP(J2723,'Codes éco-part'!$C:$E,3,FALSE)","v":"453"},0.79200000000000004]
["REP ABJ",4,"22150650540",null,"Entretien et aménagement du jardin","Outils à main d’entretien du jardin et petits accessoires","Matériaux ou fibres synthétiques >90%","Compris entre 5 kg et 7 kg exclus","€/unité",1.1599999999999999,1.1599999999999999,{"$f":"VLOOKUP(J2724,'Codes éco-part'!$C:$E,3,FALSE)","v":"504"},1.3919999999999999]
["REP ABJ",4,"22150670000",null,"Entretien et aménagement du jardin","Outils à main d’entretien du jardin et petits accessoires","Assemblage matériaux ou fibres synthétiques >50% avec d'autres matériaux","Eléments de toutes dimensions et poids","€ / Tonne",215,215,{"$f":"VLOOKUP(J2725,'Codes éco-part'!$C:$E,3,FALSE)","v":"498"},258]
["REP ABJ",4,"22150670200",null,"Entretien et aménagement du jardin","Outils à main d’entretien du jardin et petits accessoires","Assemblage matériaux ou fibres synthétiques >50% avec d'autres matériaux","Inférieur strictement à 0,5 kg","€/unité",0.05,0.05,{"$f":"VLOOKUP(J2726,'Codes éco-part'!$C:$E,3,FALSE)","v":"048"},0.06]
["REP ABJ",4,"22150670210",null,"Entretien et aménagement du jardin","Outils à main d’entretien du jardin et petits accessoires","Assemblage matériaux ou fibres synthétiques >50% avec d'autres matériaux","Compris entre 0,5 kg et 1 kg exclus","€/unité",0.16,0.16,{"$f":"VLOOKUP(J2727,'Codes éco-part'!$C:$E,3,FALSE)","v":"099"},0.192]
["REP ABJ",4,"22150670220",null,"Entretien et aménagement du jardin","Outils à main d’entretien du jardin et petits accessoires","Assemblage matériaux ou fibres synthétiques >50% avec d'autres matériaux","Compris entre 1 kg et 2 kg exclus","€/unité",0.32,0.32,{"$f":"VLOOKUP(J2728,'Codes éco-part'!$C:$E,3,FALSE)","v":"447"},0.38400000000000001]
["REP ABJ",4,"22150670520",null,"Entretien et aménagement du jardin","Outils à main d’entretien du jardin et petits accessoires","Assemblage matériaux ou fibres synthétiques >50% avec d'autres matériaux","Compris entre 2 kg et 3 kg exclus","€/unité",0.54,0.54,{"$f":"VLOOKUP(J2729,'Codes éco-part'!$C:$E,3,FALSE)","v":"500"},0.64800000000000002]
["REP ABJ",4,"22150670530",null,"Entretien et aménagement du jardin","Outils à main d’entretien du jardin et petits accessoires","Assemblage matériaux ou fibres synthétiques >50% avec d'autres matériaux","Compris entre 3 kg et 5 kg exclus","€/unité",0.86,0.86,{"$f":"VLOOKUP(J2730,'Codes éco-part'!$C:$E,3,FALSE)","v":"501"},1.032]
["REP ABJ",4,"22150670540",null,"Entretien et aménagement du jardin","Outils à main d’entretien du jardin et petits accessoires","Assemblage matériaux ou fibres synthétiques >50% avec d'autres matériaux","Compris entre 5 kg et 7 kg exclus","€/unité",1.51,1.51,{"$f":"VLOOKUP(J2731,'Codes éco-part'!$C:$E,3,FALSE)","v":"502"},1.8119999999999998]
["REP ABJ",4,"22150680000",null,"Entretien et aménagement du jardin","Outils à main d’entretien du jardin et petits accessoires","Verre >90%","Eléments de toutes dimensions et poids","€ / Tonne",5,5,{"$f":"VLOOKUP(J2732,'Codes éco-part'!$C:$E,3,FALSE)","v":"042"},6]
["REP ABJ",4,"22150680200",null,"Entretien et aménagement du jardin","Outils à main d’entretien du jardin et petits accessoires","Verre >90%","Inférieur strictement à 0,5 kg","€/unité",0.01,0.01,{"$f":"VLOOKUP(J2733,'Codes éco-part'!$C:$E,3,FALSE)","v":"260"},1.2E-2]
["REP ABJ",4,"22150680210",null,"Entretien et aménagement du jardin","Outils à main d’entretien du jardin et petits accessoires","Verre >90%","Compris entre 0,5 kg et 1 kg exclus","€/unité",0.01,0.01,{"$f":"VLOOKUP(J2734,'Codes éco-part'!$C:$E,3,FALSE)","v":"260"},1.2E-2]
["REP ABJ",4,"22150680220",null,"Entretien et aménagement du jardin","Outils à main d’entretien du jardin et petits accessoires","Verre >90%","Compris entre 1 kg et 2 kg exclus","€/unité",0.01,0.01,{"$f":"VLOOKUP(J2735,'Codes éco-part'!$C:$E,3,FALSE)","v":"260"},1.2E-2]
["REP ABJ",4,"22150680520",null,"Entretien et aménagement du jardin","Outils à main d’entretien du jardin et petits accessoires","Verre >90%","Compris entre 2 kg et 3 kg exclus","€/unité",0.01,0.01,{"$f":"VLOOKUP(J2736,'Codes éco-part'!$C:$E,3,FALSE)","v":"260"},1.2E-2]
["REP ABJ",4,"22150680530",null,"Entretien et aménagement du jardin","Outils à main d’entretien du jardin et petits accessoires","Verre >90%","Compris entre 3 kg et 5 kg exclus","€/unité",0.02,0.02,{"$f":"VLOOKUP(J2737,'Codes éco-part'!$C:$E,3,FALSE)","v":"047"},2.4E-2]
["REP ABJ",4,"22150680540",null,"Entretien et aménagement du jardin","Outils à main d’entretien du jardin et petits accessoires","Verre >90%","Compris entre 5 kg et 7 kg exclus","€/unité",0.04,0.04,{"$f":"VLOOKUP(J2738,'Codes éco-part'!$C:$E,3,FALSE)","v":"002"},4.8000000000000001E-2]
["REP ABJ",4,"22150700000",null,"Entretien et aménagement du jardin","Outils à main d’entretien du jardin et petits accessoires","Assemblage verre à plus de 50% avec métal","Eléments de toutes dimensions et poids","€ / Tonne",215,215,{"$f":"VLOOKUP(J2739,'Codes éco-part'!$C:$E,3,FALSE)","v":"498"},258]
["REP ABJ",4,"22150700200",null,"Entretien et aménagement du jardin","Outils à main d’entretien du jardin et petits accessoires","Assemblage verre à plus de 50% avec métal","Inférieur strictement à 0,5 kg","€/unité",0.05,0.05,{"$f":"VLOOKUP(J2740,'Codes éco-part'!$C:$E,3,FALSE)","v":"048"},0.06]
["REP ABJ",4,"22150700210",null,"Entretien et aménagement du jardin","Outils à main d’entretien du jardin et petits accessoires","Assemblage verre à plus de 50% avec métal","Compris entre 0,5 kg et 1 kg exclus","€/unité",0.16,0.16,{"$f":"VLOOKUP(J2741,'Codes éco-part'!$C:$E,3,FALSE)","v":"099"},0.192]
["REP ABJ",4,"22150700220",null,"Entretien et aménagement du jardin","Outils à main d’entretien du jardin et petits accessoires","Assemblage verre à plus de 50% avec métal","Compris entre 1 kg et 2 kg exclus","€/unité",0.32,0.32,{"$f":"VLOOKUP(J2742,'Codes éco-part'!$C:$E,3,FALSE)","v":"447"},0.38400000000000001]
["REP ABJ",4,"22150700520",null,"Entretien et aménagement du jardin","Outils à main d’entretien du jardin et petits accessoires","Assemblage verre à plus de 50% avec métal","Compris entre 2 kg et 3 kg exclus","€/unité",0.54,0.54,{"$f":"VLOOKUP(J2743,'Codes éco-part'!$C:$E,3,FALSE)","v":"500"},0.64800000000000002]
["REP ABJ",4,"22150700530",null,"Entretien et aménagement du jardin","Outils à main d’entretien du jardin et petits accessoires","Assemblage verre à plus de 50% avec métal","Compris entre 3 kg et 5 kg exclus","€/unité",0.86,0.86,{"$f":"VLOOKUP(J2744,'Codes éco-part'!$C:$E,3,FALSE)","v":"501"},1.032]
["REP ABJ",4,"22150700540",null,"Entretien et aménagement du jardin","Outils à main d’entretien du jardin et petits accessoires","Assemblage verre à plus de 50% avec métal","Compris entre 5 kg et 7 kg exclus","€/unité",1.51,1.51,{"$f":"VLOOKUP(J2745,'Codes éco-part'!$C:$E,3,FALSE)","v":"502"},1.8119999999999998]
["REP ABJ",4,"22150710000",null,"Entretien et aménagement du jardin","Outils à main d’entretien du jardin et petits accessoires","Assemblage verre à plus de 50% avec Inerte","Eléments de toutes dimensions et poids","€ / Tonne",215,215,{"$f":"VLOOKUP(J2746,'Codes éco-part'!$C:$E,3,FALSE)","v":"498"},258]
["REP ABJ",4,"22150710200",null,"Entretien et aménagement du jardin","Outils à main d’entretien du jardin et petits accessoires","Assemblage verre à plus de 50% avec Inerte","Inférieur strictement à 0,5 kg","€/unité",0.05,0.05,{"$f":"VLOOKUP(J2747,'Codes éco-part'!$C:$E,3,FALSE)","v":"048"},0.06]
["REP ABJ",4,"22150710210",null,"Entretien et aménagement du jardin","Outils à main d’entretien du jardin et petits accessoires","Assemblage verre à plus de 50% avec Inerte","Compris entre 0,5 kg et 1 kg exclus","€/unité",0.16,0.16,{"$f":"VLOOKUP(J2748,'Codes éco-part'!$C:$E,3,FALSE)","v":"099"},0.192]
["REP ABJ",4,"22150710220",null,"Entretien et aménagement du jardin","Outils à main d’entretien du jardin et petits accessoires","Assemblage verre à plus de 50% avec Inerte","Compris entre 1 kg et 2 kg exclus","€/unité",0.32,0.32,{"$f":"VLOOKUP(J2749,'Codes éco-part'!$C:$E,3,FALSE)","v":"447"},0.38400000000000001]
["REP ABJ",4,"22150710520",null,"Entretien et aménagement du jardin","Outils à main d’entretien du jardin et petits accessoires","Assemblage verre à plus de 50% avec Inerte","Compris entre 2 kg et 3 kg exclus","€/unité",0.54,0.54,{"$f":"VLOOKUP(J2750,'Codes éco-part'!$C:$E,3,FALSE)","v":"500"},0.64800000000000002]
["REP ABJ",4,"22150710530",null,"Entretien et aménagement du jardin","Outils à main d’entretien du jardin et petits accessoires","Assemblage verre à plus de 50% avec Inerte","Compris entre 3 kg et 5 kg exclus","€/unité",0.86,0.86,{"$f":"VLOOKUP(J2751,'Codes éco-part'!$C:$E,3,FALSE)","v":"501"},1.032]
["REP ABJ",4,"22150710540",null,"Entretien et aménagement du jardin","Outils à main d’entretien du jardin et petits accessoires","Assemblage verre à plus de 50% avec Inerte","Compris entre 5 kg et 7 kg exclus","€/unité",1.51,1.51,{"$f":"VLOOKUP(J2752,'Codes éco-part'!$C:$E,3,FALSE)","v":"502"},1.8119999999999998]
["REP ABJ",4,"22150720000",null,"Entretien et aménagement du jardin","Outils à main d’entretien du jardin et petits accessoires","Assemblage verre à plus de 50% avec bois ou dérivés de bois","Eléments de toutes dimensions et poids","€ / Tonne",215,215,{"$f":"VLOOKUP(J2753,'Codes éco-part'!$C:$E,3,FALSE)","v":"498"},258]
["REP ABJ",4,"22150720200",null,"Entretien et aménagement du jardin","Outils à main d’entretien du jardin et petits accessoires","Assemblage verre à plus de 50% avec bois ou dérivés de bois","Inférieur strictement à 0,5 kg","€/unité",0.05,0.05,{"$f":"VLOOKUP(J2754,'Codes éco-part'!$C:$E,3,FALSE)","v":"048"},0.06]
["REP ABJ",4,"22150720210",null,"Entretien et aménagement du jardin","Outils à main d’entretien du jardin et petits accessoires","Assemblage verre à plus de 50% avec bois ou dérivés de bois","Compris entre 0,5 kg et 1 kg exclus","€/unité",0.16,0.16,{"$f":"VLOOKUP(J2755,'Codes éco-part'!$C:$E,3,FALSE)","v":"099"},0.192]
["REP ABJ",4,"22150720220",null,"Entretien et aménagement du jardin","Outils à main d’entretien du jardin et petits accessoires","Assemblage verre à plus de 50% avec bois ou dérivés de bois","Compris entre 1 kg et 2 kg exclus","€/unité",0.32,0.32,{"$f":"VLOOKUP(J2756,'Codes éco-part'!$C:$E,3,FALSE)","v":"447"},0.38400000000000001]
["REP ABJ",4,"22150720520",null,"Entretien et aménagement du jardin","Outils à main d’entretien du jardin et petits accessoires","Assemblage verre à plus de 50% avec bois ou dérivés de bois","Compris entre 2 kg et 3 kg exclus","€/unité",0.54,0.54,{"$f":"VLOOKUP(J2757,'Codes éco-part'!$C:$E,3,FALSE)","v":"500"},0.64800000000000002]
["REP ABJ",4,"22150720530",null,"Entretien et aménagement du jardin","Outils à main d’entretien du jardin et petits accessoires","Assemblage verre à plus de 50% avec bois ou dérivés de bois","Compris entre 3 kg et 5 kg exclus","€/unité",0.86,0.86,{"$f":"VLOOKUP(J2758,'Codes éco-part'!$C:$E,3,FALSE)","v":"501"},1.032]
["REP ABJ",4,"22150720540",null,"Entretien et aménagement du jardin","Outils à main d’entretien du jardin et petits accessoires","Assemblage verre à plus de 50% avec bois ou dérivés de bois","Compris entre 5 kg et 7 kg exclus","€/unité",1.51,1.51,{"$f":"VLOOKUP(J2759,'Codes éco-part'!$C:$E,3,FALSE)","v":"502"},1.8119999999999998]
["REP ABJ",4,"22150730000",null,"Entretien et aménagement du jardin","Outils à main d’entretien du jardin et petits accessoires","Assemblage verre à plus de 50% avec plastique","Eléments de toutes dimensions et poids","€ / Tonne",215,215,{"$f":"VLOOKUP(J2760,'Codes éco-part'!$C:$E,3,FALSE)","v":"498"},258]
["REP ABJ",4,"22150730200",null,"Entretien et aménagement du jardin","Outils à main d’entretien du jardin et petits accessoires","Assemblage verre à plus de 50% avec plastique","Inférieur strictement à 0,5 kg","€/unité",0.05,0.05,{"$f":"VLOOKUP(J2761,'Codes éco-part'!$C:$E,3,FALSE)","v":"048"},0.06]
["REP ABJ",4,"22150730210",null,"Entretien et aménagement du jardin","Outils à main d’entretien du jardin et petits accessoires","Assemblage verre à plus de 50% avec plastique","Compris entre 0,5 kg et 1 kg exclus","€/unité",0.16,0.16,{"$f":"VLOOKUP(J2762,'Codes éco-part'!$C:$E,3,FALSE)","v":"099"},0.192]
["REP ABJ",4,"22150730220",null,"Entretien et aménagement du jardin","Outils à main d’entretien du jardin et petits accessoires","Assemblage verre à plus de 50% avec plastique","Compris entre 1 kg et 2 kg exclus","€/unité",0.32,0.32,{"$f":"VLOOKUP(J2763,'Codes éco-part'!$C:$E,3,FALSE)","v":"447"},0.38400000000000001]
["REP ABJ",4,"22150730520",null,"Entretien et aménagement du jardin","Outils à main d’entretien du jardin et petits accessoires","Assemblage verre à plus de 50% avec plastique","Compris entre 2 kg et 3 kg exclus","€/unité",0.54,0.54,{"$f":"VLOOKUP(J2764,'Codes éco-part'!$C:$E,3,FALSE)","v":"500"},0.64800000000000002]
["REP ABJ",4,"22150730530",null,"Entretien et aménagement du jardin","Outils à main d’entretien du jardin et petits accessoires","Assemblage verre à plus de 50% avec plastique","Compris entre 3 kg et 5 kg exclus","€/unité",0.86,0.86,{"$f":"VLOOKUP(J2765,'Codes éco-part'!$C:$E,3,FALSE)","v":"501"},1.032]
["REP ABJ",4,"22150730540",null,"Entretien et aménagement du jardin","Outils à main d’entretien du jardin et petits accessoires","Assemblage verre à plus de 50% avec plastique","Compris entre 5 kg et 7 kg exclus","€/unité",1.51,1.51,{"$f":"VLOOKUP(J2766,'Codes éco-part'!$C:$E,3,FALSE)","v":"502"},1.8119999999999998]
["REP ABJ",4,"22150810000",null,"Entretien et aménagement du jardin","Outils à main d’entretien du jardin et petits accessoires","Assemblage dont la composition conjointe en bois, dérivés de bois et en métal dépasse 90%","Eléments de toutes dimensions et poids","€ / Tonne",45,45,{"$f":"VLOOKUP(J2767,'Codes éco-part'!$C:$E,3,FALSE)","v":"169"},54]
["REP ABJ",4,"22150810200",null,"Entretien et aménagement du jardin","Outils à main d’entretien du jardin et petits accessoires","Assemblage dont la composition conjointe en bois, dérivés de bois et en métal dépasse 90%","Inférieur strictement à 0,5 kg","€/unité",0.01,0.01,{"$f":"VLOOKUP(J2768,'Codes éco-part'!$C:$E,3,FALSE)","v":"260"},1.2E-2]
["REP ABJ",4,"22150810210",null,"Entretien et aménagement du jardin","Outils à main d’entretien du jardin et petits accessoires","Assemblage dont la composition conjointe en bois, dérivés de bois et en métal dépasse 90%","Compris entre 0,5 kg et 1 kg exclus","€/unité",0.03,0.03,{"$f":"VLOOKUP(J2769,'Codes éco-part'!$C:$E,3,FALSE)","v":"092"},3.5999999999999997E-2]
["REP ABJ",4,"22150810220",null,"Entretien et aménagement du jardin","Outils à main d’entretien du jardin et petits accessoires","Assemblage dont la composition conjointe en bois, dérivés de bois et en métal dépasse 90%","Compris entre 1 kg et 2 kg exclus","€/unité",7.0000000000000007E-2,7.0000000000000007E-2,{"$f":"VLOOKUP(J2770,'Codes éco-part'!$C:$E,3,FALSE)","v":"247"},8.4000000000000005E-2]
["REP ABJ",4,"22150810520",null,"Entretien et aménagement du jardin","Outils à main d’entretien du jardin et petits accessoires","Assemblage dont la composition conjointe en bois, dérivés de bois et en métal dépasse 90%","Compris entre 2 kg et 3 kg exclus","€/unité",0.11,0.11,{"$f":"VLOOKUP(J2771,'Codes éco-part'!$C:$E,3,FALSE)","v":"262"},0.13200000000000001]
["REP ABJ",4,"22150810530",null,"Entretien et aménagement du jardin","Outils à main d’entretien du jardin et petits accessoires","Assemblage dont la composition conjointe en bois, dérivés de bois et en métal dépasse 90%","Compris entre 3 kg et 5 kg exclus","€/unité",0.18,0.18,{"$f":"VLOOKUP(J2772,'Codes éco-part'!$C:$E,3,FALSE)","v":"100"},0.216]
["REP ABJ",4,"22150810540",null,"Entretien et aménagement du jardin","Outils à main d’entretien du jardin et petits accessoires","Assemblage dont la composition conjointe en bois, dérivés de bois et en métal dépasse 90%","Compris entre 5 kg et 7 kg exclus","€/unité",0.32,0.32,{"$f":"VLOOKUP(J2773,'Codes éco-part'!$C:$E,3,FALSE)","v":"447"},0.38400000000000001]
["REP ABJ",4,"22150820000",null,"Entretien et aménagement du jardin","Outils à main d’entretien du jardin et petits accessoires","Assemblage de 3 matériaux ou plus sans un matériau à plus de 50%","Eléments de toutes dimensions et poids","€ / Tonne",215,215,{"$f":"VLOOKUP(J2774,'Codes éco-part'!$C:$E,3,FALSE)","v":"498"},258]
["REP ABJ",4,"22150820200",null,"Entretien et aménagement du jardin","Outils à main d’entretien du jardin et petits accessoires","Assemblage de 3 matériaux ou plus sans un matériau à plus de 50%","Inférieur strictement à 0,5 kg","€/unité",0.05,0.05,{"$f":"VLOOKUP(J2775,'Codes éco-part'!$C:$E,3,FALSE)","v":"048"},0.06]
["REP ABJ",4,"22150820210",null,"Entretien et aménagement du jardin","Outils à main d’entretien du jardin et petits accessoires","Assemblage de 3 matériaux ou plus sans un matériau à plus de 50%","Compris entre 0,5 kg et 1 kg exclus","€/unité",0.16,0.16,{"$f":"VLOOKUP(J2776,'Codes éco-part'!$C:$E,3,FALSE)","v":"099"},0.192]
["REP ABJ",4,"22150820220",null,"Entretien et aménagement du jardin","Outils à main d’entretien du jardin et petits accessoires","Assemblage de 3 matériaux ou plus sans un matériau à plus de 50%","Compris entre 1 kg et 2 kg exclus","€/unité",0.32,0.32,{"$f":"VLOOKUP(J2777,'Codes éco-part'!$C:$E,3,FALSE)","v":"447"},{"$f":"J2777*1.2","v":0.38400000000000001}]
["REP ABJ",4,"22150820520",null,"Entretien et aménagement du jardin","Outils à main d’entretien du jardin et petits accessoires","Assemblage de 3 matériaux ou plus sans un matériau à plus de 50%","Compris entre 2 kg et 3 kg exclus","€/unité",0.54,0.54,{"$f":"VLOOKUP(J2778,'Codes éco-part'!$C:$E,3,FALSE)","v":"500"},0.64800000000000002]
["REP ABJ",4,"22150820530",null,"Entretien et aménagement du jardin","Outils à main d’entretien du jardin et petits accessoires","Assemblage de 3 matériaux ou plus sans un matériau à plus de 50%","Compris entre 3 kg et 5 kg exclus","€/unité",0.86,0.86,{"$f":"VLOOKUP(J2779,'Codes éco-part'!$C:$E,3,FALSE)","v":"501"},1.032]
["REP ABJ",4,"22150820540",null,"Entretien et aménagement du jardin","Outils à main d’entretien du jardin et petits accessoires","Assemblage de 3 matériaux ou plus sans un matériau à plus de 50%","Compris entre 5 kg et 7 kg exclus","€/unité",1.51,1.51,{"$f":"VLOOKUP(J2780,'Codes éco-part'!$C:$E,3,FALSE)","v":"502"},1.8119999999999998]
["REP ABJ",4,"22151000000",null,"Entretien et aménagement du jardin","Equipement personnel et accessoires de protection de jardinage","Non connu ou non spécifié par l'entreprise","Eléments de toutes dimensions et poids","€ / Tonne",215,215,{"$f":"VLOOKUP(J2781,'Codes éco-part'!$C:$E,3,FALSE)","v":"498"},258]
["REP ABJ",4,"22151000200",null,"Entretien et aménagement du jardin","Equipement personnel et accessoires de protection de jardinage","Non connu ou non spécifié par l'entreprise","Inférieur strictement à 0,5 kg","€/unité",0.05,0.05,{"$f":"VLOOKUP(J2782,'Codes éco-part'!$C:$E,3,FALSE)","v":"048"},0.06]
["REP ABJ",4,"22151000210",null,"Entretien et aménagement du jardin","Equipement personnel et accessoires de protection de jardinage","Non connu ou non spécifié par l'entreprise","Compris entre 0,5 kg et 1 kg exclus","€/unité",0.16,0.16,{"$f":"VLOOKUP(J2783,'Codes éco-part'!$C:$E,3,FALSE)","v":"099"},0.192]
["REP ABJ",4,"22151000220",null,"Entretien et aménagement du jardin","Equipement personnel et accessoires de protection de jardinage","Non connu ou non spécifié par l'entreprise","Compris entre 1 kg et 2 kg exclus","€/unité",0.32,0.32,{"$f":"VLOOKUP(J2784,'Codes éco-part'!$C:$E,3,FALSE)","v":"447"},0.38400000000000001]
["REP ABJ",4,"22151000520",null,"Entretien et aménagement du jardin","Equipement personnel et accessoires de protection de jardinage","Non connu ou non spécifié par l'entreprise","Compris entre 2 kg et 3 kg exclus","€/unité",0.54,0.54,{"$f":"VLOOKUP(J2785,'Codes éco-part'!$C:$E,3,FALSE)","v":"500"},0.64800000000000002]
["REP ABJ",4,"22151000530",null,"Entretien et aménagement du jardin","Equipement personnel et accessoires de protection de jardinage","Non connu ou non spécifié par l'entreprise","Compris entre 3 kg et 5 kg exclus","€/unité",0.86,0.86,{"$f":"VLOOKUP(J2786,'Codes éco-part'!$C:$E,3,FALSE)","v":"501"},1.032]
["REP ABJ",4,"22151000540",null,"Entretien et aménagement du jardin","Equipement personnel et accessoires de protection de jardinage","Non connu ou non spécifié par l'entreprise","Compris entre 5 kg et 7 kg exclus","€/unité",1.51,1.51,{"$f":"VLOOKUP(J2787,'Codes éco-part'!$C:$E,3,FALSE)","v":"502"},1.8119999999999998]
["REP ABJ",4,"22151000900",null,"Entretien et aménagement du jardin","Equipement personnel et accessoires de protection de jardinage","Non connu ou non spécifié par l'entreprise","Lot de 10","€/Lot",4.3,4.3,{"$f":"VLOOKUP(J2788,'Codes éco-part'!$C:$E,3,FALSE)","v":"515"},5.1599999999999993]
["REP ABJ",4,"22151010000",null,"Entretien et aménagement du jardin","Equipement personnel et accessoires de protection de jardinage","Assemblage de bois, dérivés de bois à plus de 50% avec d'autres matériaux ou bois composite (hors verre)","Eléments de toutes dimensions et poids","€ / Tonne",45,45,{"$f":"VLOOKUP(J2789,'Codes éco-part'!$C:$E,3,FALSE)","v":"169"},54]
["REP ABJ",4,"22151010200",null,"Entretien et aménagement du jardin","Equipement personnel et accessoires de protection de jardinage","Assemblage de bois, dérivés de bois à plus de 50% avec d'autres matériaux ou bois composite (hors verre)","Inférieur strictement à 0,5 kg","€/unité",0.01,0.01,{"$f":"VLOOKUP(J2790,'Codes éco-part'!$C:$E,3,FALSE)","v":"260"},1.2E-2]
["REP ABJ",4,"22151010210",null,"Entretien et aménagement du jardin","Equipement personnel et accessoires de protection de jardinage","Assemblage de bois, dérivés de bois à plus de 50% avec d'autres matériaux ou bois composite (hors verre)","Compris entre 0,5 kg et 1 kg exclus","€/unité",0.03,0.03,{"$f":"VLOOKUP(J2791,'Codes éco-part'!$C:$E,3,FALSE)","v":"092"},3.5999999999999997E-2]
["REP ABJ",4,"22151010220",null,"Entretien et aménagement du jardin","Equipement personnel et accessoires de protection de jardinage","Assemblage de bois, dérivés de bois à plus de 50% avec d'autres matériaux ou bois composite (hors verre)","Compris entre 1 kg et 2 kg exclus","€/unité",7.0000000000000007E-2,7.0000000000000007E-2,{"$f":"VLOOKUP(J2792,'Codes éco-part'!$C:$E,3,FALSE)","v":"247"},8.4000000000000005E-2]
["REP ABJ",4,"22151010520",null,"Entretien et aménagement du jardin","Equipement personnel et accessoires de protection de jardinage","Assemblage de bois, dérivés de bois à plus de 50% avec d'autres matériaux ou bois composite (hors verre)","Compris entre 2 kg et 3 kg exclus","€/unité",0.11,0.11,{"$f":"VLOOKUP(J2793,'Codes éco-part'!$C:$E,3,FALSE)","v":"262"},0.13200000000000001]
["REP ABJ",4,"22151010530",null,"Entretien et aménagement du jardin","Equipement personnel et accessoires de protection de jardinage","Assemblage de bois, dérivés de bois à plus de 50% avec d'autres matériaux ou bois composite (hors verre)","Compris entre 3 kg et 5 kg exclus","€/unité",0.18,0.18,{"$f":"VLOOKUP(J2794,'Codes éco-part'!$C:$E,3,FALSE)","v":"100"},0.216]
["REP ABJ",4,"22151010540",null,"Entretien et aménagement du jardin","Equipement personnel et accessoires de protection de jardinage","Assemblage de bois, dérivés de bois à plus de 50% avec d'autres matériaux ou bois composite (hors verre)","Compris entre 5 kg et 7 kg exclus","€/unité",0.32,0.32,{"$f":"VLOOKUP(J2795,'Codes éco-part'!$C:$E,3,FALSE)","v":"447"},0.38400000000000001]
["REP ABJ",4,"22151020000",null,"Entretien et aménagement du jardin","Equipement personnel et accessoires de protection de jardinage","Assemblage avec métal >50% et autres matériaux","Eléments de toutes dimensions et poids","€ / Tonne",10,10,{"$f":"VLOOKUP(J2796,'Codes éco-part'!$C:$E,3,FALSE)","v":"138"},12]
["REP ABJ",4,"22151020200",null,"Entretien et aménagement du jardin","Equipement personnel et accessoires de protection de jardinage","Assemblage avec métal >50% et autres matériaux","Inférieur strictement à 0,5 kg","€/unité",0.01,0.01,{"$f":"VLOOKUP(J2797,'Codes éco-part'!$C:$E,3,FALSE)","v":"260"},1.2E-2]
["REP ABJ",4,"22151020210",null,"Entretien et aménagement du jardin","Equipement personnel et accessoires de protection de jardinage","Assemblage avec métal >50% et autres matériaux","Compris entre 0,5 kg et 1 kg exclus","€/unité",0.01,0.01,{"$f":"VLOOKUP(J2798,'Codes éco-part'!$C:$E,3,FALSE)","v":"260"},1.2E-2]
["REP ABJ",4,"22151020220",null,"Entretien et aménagement du jardin","Equipement personnel et accessoires de protection de jardinage","Assemblage avec métal >50% et autres matériaux","Compris entre 1 kg et 2 kg exclus","€/unité",0.02,0.02,{"$f":"VLOOKUP(J2799,'Codes éco-part'!$C:$E,3,FALSE)","v":"047"},2.4E-2]
["REP ABJ",4,"22151020520",null,"Entretien et aménagement du jardin","Equipement personnel et accessoires de protection de jardinage","Assemblage avec métal >50% et autres matériaux","Compris entre 2 kg et 3 kg exclus","€/unité",0.03,0.03,{"$f":"VLOOKUP(J2800,'Codes éco-part'!$C:$E,3,FALSE)","v":"092"},3.5999999999999997E-2]
["REP ABJ",4,"22151020530",null,"Entretien et aménagement du jardin","Equipement personnel et accessoires de protection de jardinage","Assemblage avec métal >50% et autres matériaux","Compris entre 3 kg et 5 kg exclus","€/unité",0.04,0.04,{"$f":"VLOOKUP(J2801,'Codes éco-part'!$C:$E,3,FALSE)","v":"002"},4.8000000000000001E-2]
["REP ABJ",4,"22151020540",null,"Entretien et aménagement du jardin","Equipement personnel et accessoires de protection de jardinage","Assemblage avec métal >50% et autres matériaux","Compris entre 5 kg et 7 kg exclus","€/unité",7.0000000000000007E-2,7.0000000000000007E-2,{"$f":"VLOOKUP(J2802,'Codes éco-part'!$C:$E,3,FALSE)","v":"247"},8.4000000000000005E-2]
["REP ABJ",4,"22151040000",null,"Entretien et aménagement du jardin","Equipement personnel et accessoires de protection de jardinage","Matériaux bio sourcés ou textiles non synthétiques >50%","Eléments de toutes dimensions et poids","€ / Tonne",215,215,{"$f":"VLOOKUP(J2803,'Codes éco-part'!$C:$E,3,FALSE)","v":"498"},258]
["REP ABJ",4,"22151040200",null,"Entretien et aménagement du jardin","Equipement personnel et accessoires de protection de jardinage","Matériaux bio sourcés ou textiles non synthétiques >50%","Inférieur strictement à 0,5 kg","€/unité",0.05,0.05,{"$f":"VLOOKUP(J2804,'Codes éco-part'!$C:$E,3,FALSE)","v":"048"},0.06]
["REP ABJ",4,"22151040210",null,"Entretien et aménagement du jardin","Equipement personnel et accessoires de protection de jardinage","Matériaux bio sourcés ou textiles non synthétiques >50%","Compris entre 0,5 kg et 1 kg exclus","€/unité",0.16,0.16,{"$f":"VLOOKUP(J2805,'Codes éco-part'!$C:$E,3,FALSE)","v":"099"},0.192]
["REP ABJ",4,"22151040220",null,"Entretien et aménagement du jardin","Equipement personnel et accessoires de protection de jardinage","Matériaux bio sourcés ou textiles non synthétiques >50%","Compris entre 1 kg et 2 kg exclus","€/unité",0.32,0.32,{"$f":"VLOOKUP(J2806,'Codes éco-part'!$C:$E,3,FALSE)","v":"447"},0.38400000000000001]
["REP ABJ",4,"22151040520",null,"Entretien et aménagement du jardin","Equipement personnel et accessoires de protection de jardinage","Matériaux bio sourcés ou textiles non synthétiques >50%","Compris entre 2 kg et 3 kg exclus","€/unité",0.54,0.54,{"$f":"VLOOKUP(J2807,'Codes éco-part'!$C:$E,3,FALSE)","v":"500"},0.64800000000000002]
["REP ABJ",4,"22151040530",null,"Entretien et aménagement du jardin","Equipement personnel et accessoires de protection de jardinage","Matériaux bio sourcés ou textiles non synthétiques >50%","Compris entre 3 kg et 5 kg exclus","€/unité",0.86,0.86,{"$f":"VLOOKUP(J2808,'Codes éco-part'!$C:$E,3,FALSE)","v":"501"},1.032]
["REP ABJ",4,"22151040540",null,"Entretien et aménagement du jardin","Equipement personnel et accessoires de protection de jardinage","Matériaux bio sourcés ou textiles non synthétiques >50%","Compris entre 5 kg et 7 kg exclus","€/unité",1.51,1.51,{"$f":"VLOOKUP(J2809,'Codes éco-part'!$C:$E,3,FALSE)","v":"502"},1.8119999999999998]
["REP ABJ",4,"22151050000",null,"Entretien et aménagement du jardin","Equipement personnel et accessoires de protection de jardinage","Plastiques ou autres matériaux synthétiques >50%","Eléments de toutes dimensions et poids","€ / Tonne",215,215,{"$f":"VLOOKUP(J2810,'Codes éco-part'!$C:$E,3,FALSE)","v":"498"},258]
["REP ABJ",4,"22151050200",null,"Entretien et aménagement du jardin","Equipement personnel et accessoires de protection de jardinage","Plastiques ou autres matériaux synthétiques >50%","Inférieur strictement à 0,5 kg","€/unité",0.05,0.05,{"$f":"VLOOKUP(J2811,'Codes éco-part'!$C:$E,3,FALSE)","v":"048"},0.06]
["REP ABJ",4,"22151050210",null,"Entretien et aménagement du jardin","Equipement personnel et accessoires de protection de jardinage","Plastiques ou autres matériaux synthétiques >50%","Compris entre 0,5 kg et 1 kg exclus","€/unité",0.16,0.16,{"$f":"VLOOKUP(J2812,'Codes éco-part'!$C:$E,3,FALSE)","v":"099"},0.192]
["REP ABJ",4,"22151050220",null,"Entretien et aménagement du jardin","Equipement personnel et accessoires de protection de jardinage","Plastiques ou autres matériaux synthétiques >50%","Compris entre 1 kg et 2 kg exclus","€/unité",0.32,0.32,{"$f":"VLOOKUP(J2813,'Codes éco-part'!$C:$E,3,FALSE)","v":"447"},0.38400000000000001]
["REP ABJ",4,"22151050520",null,"Entretien et aménagement du jardin","Equipement personnel et accessoires de protection de jardinage","Plastiques ou autres matériaux synthétiques >50%","Compris entre 2 kg et 3 kg exclus","€/unité",0.54,0.54,{"$f":"VLOOKUP(J2814,'Codes éco-part'!$C:$E,3,FALSE)","v":"500"},0.64800000000000002]
["REP ABJ",4,"22151050530",null,"Entretien et aménagement du jardin","Equipement personnel et accessoires de protection de jardinage","Plastiques ou autres matériaux synthétiques >50%","Compris entre 3 kg et 5 kg exclus","€/unité",0.86,0.86,{"$f":"VLOOKUP(J2815,'Codes éco-part'!$C:$E,3,FALSE)","v":"501"},1.032]
["REP ABJ",4,"22151050540",null,"Entretien et aménagement du jardin","Equipement personnel et accessoires de protection de jardinage","Plastiques ou autres matériaux synthétiques >50%","Compris entre 5 kg et 7 kg exclus","€/unité",1.51,1.51,{"$f":"VLOOKUP(J2816,'Codes éco-part'!$C:$E,3,FALSE)","v":"502"},1.8119999999999998]
["REP ABJ",4,"22151060000",null,"Entretien et aménagement du jardin","Equipement personnel et accessoires de protection de jardinage","Matériaux d'origine animale >50%","Eléments de toutes dimensions et poids","€ / Tonne",215,215,{"$f":"VLOOKUP(J2817,'Codes éco-part'!$C:$E,3,FALSE)","v":"498"},258]
["REP ABJ",4,"22151060200",null,"Entretien et aménagement du jardin","Equipement personnel et accessoires de protection de jardinage","Matériaux d'origine animale >50%","Inférieur strictement à 0,5 kg","€/unité",0.05,0.05,{"$f":"VLOOKUP(J2818,'Codes éco-part'!$C:$E,3,FALSE)","v":"048"},0.06]
["REP ABJ",4,"22151060210",null,"Entretien et aménagement du jardin","Equipement personnel et accessoires de protection de jardinage","Matériaux d'origine animale >50%","Compris entre 0,5 kg et 1 kg exclus","€/unité",0.16,0.16,{"$f":"VLOOKUP(J2819,'Codes éco-part'!$C:$E,3,FALSE)","v":"099"},0.192]
["REP ABJ",4,"22151060220",null,"Entretien et aménagement du jardin","Equipement personnel et accessoires de protection de jardinage","Matériaux d'origine animale >50%","Compris entre 1 kg et 2 kg exclus","€/unité",0.32,0.32,{"$f":"VLOOKUP(J2820,'Codes éco-part'!$C:$E,3,FALSE)","v":"447"},0.38400000000000001]
["REP ABJ",4,"22151060520",null,"Entretien et aménagement du jardin","Equipement personnel et accessoires de protection de jardinage","Matériaux d'origine animale >50%","Compris entre 2 kg et 3 kg exclus","€/unité",0.54,0.54,{"$f":"VLOOKUP(J2821,'Codes éco-part'!$C:$E,3,FALSE)","v":"500"},0.64800000000000002]
["REP ABJ",4,"22151060530",null,"Entretien et aménagement du jardin","Equipement personnel et accessoires de protection de jardinage","Matériaux d'origine animale >50%","Compris entre 3 kg et 5 kg exclus","€/unité",0.86,0.86,{"$f":"VLOOKUP(J2822,'Codes éco-part'!$C:$E,3,FALSE)","v":"501"},1.032]
["REP ABJ",4,"22151060540",null,"Entretien et aménagement du jardin","Equipement personnel et accessoires de protection de jardinage","Matériaux d'origine animale >50%","Compris entre 5 kg et 7 kg exclus","€/unité",1.51,1.51,{"$f":"VLOOKUP(J2823,'Codes éco-part'!$C:$E,3,FALSE)","v":"502"},1.8119999999999998]
["REP ABJ",4,"22151190000",null,"Entretien et aménagement du jardin","Equipement personnel et accessoires de protection de jardinage","Papier carton >50% avec d'autres matériaux (hors verre)","Eléments de toutes dimensions et poids","€ / Tonne",215,215,{"$f":"VLOOKUP(J2824,'Codes éco-part'!$C:$E,3,FALSE)","v":"498"},258]
["REP ABJ",4,"22151190200",null,"Entretien et aménagement du jardin","Equipement personnel et accessoires de protection de jardinage","Papier carton >50% avec d'autres matériaux (hors verre)","Inférieur strictement à 0,5 kg","€/unité",0.05,0.05,{"$f":"VLOOKUP(J2825,'Codes éco-part'!$C:$E,3,FALSE)","v":"048"},0.06]
["REP ABJ",4,"22151190210",null,"Entretien et aménagement du jardin","Equipement personnel et accessoires de protection de jardinage","Papier carton >50% avec d'autres matériaux (hors verre)","Compris entre 0,5 kg et 1 kg exclus","€/unité",0.16,0.16,{"$f":"VLOOKUP(J2826,'Codes éco-part'!$C:$E,3,FALSE)","v":"099"},0.192]
["REP ABJ",4,"22151190220",null,"Entretien et aménagement du jardin","Equipement personnel et accessoires de protection de jardinage","Papier carton >50% avec d'autres matériaux (hors verre)","Compris entre 1 kg et 2 kg exclus","€/unité",0.32,0.32,{"$f":"VLOOKUP(J2827,'Codes éco-part'!$C:$E,3,FALSE)","v":"447"},0.38400000000000001]
["REP ABJ",4,"22151190520",null,"Entretien et aménagement du jardin","Equipement personnel et accessoires de protection de jardinage","Papier carton >50% avec d'autres matériaux (hors verre)","Compris entre 2 kg et 3 kg exclus","€/unité",0.54,0.54,{"$f":"VLOOKUP(J2828,'Codes éco-part'!$C:$E,3,FALSE)","v":"500"},0.64800000000000002]
["REP ABJ",4,"22151190530",null,"Entretien et aménagement du jardin","Equipement personnel et accessoires de protection de jardinage","Papier carton >50% avec d'autres matériaux (hors verre)","Compris entre 3 kg et 5 kg exclus","€/unité",0.86,0.86,{"$f":"VLOOKUP(J2829,'Codes éco-part'!$C:$E,3,FALSE)","v":"501"},1.032]
["REP ABJ",4,"22151190540",null,"Entretien et aménagement du jardin","Equipement personnel et accessoires de protection de jardinage","Papier carton >50% avec d'autres matériaux (hors verre)","Compris entre 5 kg et 7 kg exclus","€/unité",1.51,1.51,{"$f":"VLOOKUP(J2830,'Codes éco-part'!$C:$E,3,FALSE)","v":"502"},1.8119999999999998]
["REP ABJ",4,"22151200000",null,"Entretien et aménagement du jardin","Equipement personnel et accessoires de protection de jardinage","Massif et assimilés certifiés >75%","Eléments de toutes dimensions et poids","€ / Tonne",45,45,{"$f":"VLOOKUP(J2831,'Codes éco-part'!$C:$E,3,FALSE)","v":"169"},54]
["REP ABJ",4,"22151200200",null,"Entretien et aménagement du jardin","Equipement personnel et accessoires de protection de jardinage","Massif et assimilés certifiés >75%","Inférieur strictement à 0,5 kg","€/unité",0.01,0.01,{"$f":"VLOOKUP(J2832,'Codes éco-part'!$C:$E,3,FALSE)","v":"260"},1.2E-2]
["REP ABJ",4,"22151200210",null,"Entretien et aménagement du jardin","Equipement personnel et accessoires de protection de jardinage","Massif et assimilés certifiés >75%","Compris entre 0,5 kg et 1 kg exclus","€/unité",0.03,0.03,{"$f":"VLOOKUP(J2833,'Codes éco-part'!$C:$E,3,FALSE)","v":"092"},3.5999999999999997E-2]
["REP ABJ",4,"22151200220",null,"Entretien et aménagement du jardin","Equipement personnel et accessoires de protection de jardinage","Massif et assimilés certifiés >75%","Compris entre 1 kg et 2 kg exclus","€/unité",7.0000000000000007E-2,7.0000000000000007E-2,{"$f":"VLOOKUP(J2834,'Codes éco-part'!$C:$E,3,FALSE)","v":"247"},8.4000000000000005E-2]
["REP ABJ",4,"22151200520",null,"Entretien et aménagement du jardin","Equipement personnel et accessoires de protection de jardinage","Massif et assimilés certifiés >75%","Compris entre 2 kg et 3 kg exclus","€/unité",0.11,0.11,{"$f":"VLOOKUP(J2835,'Codes éco-part'!$C:$E,3,FALSE)","v":"262"},0.13200000000000001]
["REP ABJ",4,"22151200530",null,"Entretien et aménagement du jardin","Equipement personnel et accessoires de protection de jardinage","Massif et assimilés certifiés >75%","Compris entre 3 kg et 5 kg exclus","€/unité",0.18,0.18,{"$f":"VLOOKUP(J2836,'Codes éco-part'!$C:$E,3,FALSE)","v":"100"},0.216]
["REP ABJ",4,"22151200540",null,"Entretien et aménagement du jardin","Equipement personnel et accessoires de protection de jardinage","Massif et assimilés certifiés >75%","Compris entre 5 kg et 7 kg exclus","€/unité",0.32,0.32,{"$f":"VLOOKUP(J2837,'Codes éco-part'!$C:$E,3,FALSE)","v":"447"},0.38400000000000001]
["REP ABJ",4,"22151210000",null,"Entretien et aménagement du jardin","Equipement personnel et accessoires de protection de jardinage","Massif et assimilés >75%","Eléments de toutes dimensions et poids","€ / Tonne",45,45,{"$f":"VLOOKUP(J2838,'Codes éco-part'!$C:$E,3,FALSE)","v":"169"},54]
["REP ABJ",4,"22151210200",null,"Entretien et aménagement du jardin","Equipement personnel et accessoires de protection de jardinage","Massif et assimilés >75%","Inférieur strictement à 0,5 kg","€/unité",0.01,0.01,{"$f":"VLOOKUP(J2839,'Codes éco-part'!$C:$E,3,FALSE)","v":"260"},1.2E-2]
["REP ABJ",4,"22151210210",null,"Entretien et aménagement du jardin","Equipement personnel et accessoires de protection de jardinage","Massif et assimilés >75%","Compris entre 0,5 kg et 1 kg exclus","€/unité",0.03,0.03,{"$f":"VLOOKUP(J2840,'Codes éco-part'!$C:$E,3,FALSE)","v":"092"},3.5999999999999997E-2]
["REP ABJ",4,"22151210220",null,"Entretien et aménagement du jardin","Equipement personnel et accessoires de protection de jardinage","Massif et assimilés >75%","Compris entre 1 kg et 2 kg exclus","€/unité",7.0000000000000007E-2,7.0000000000000007E-2,{"$f":"VLOOKUP(J2841,'Codes éco-part'!$C:$E,3,FALSE)","v":"247"},{"$f":"J2841*1.2","v":8.4000000000000005E-2}]
["REP ABJ",4,"22151210520",null,"Entretien et aménagement du jardin","Equipement personnel et accessoires de protection de jardinage","Massif et assimilés >75%","Compris entre 2 kg et 3 kg exclus","€/unité",0.11,0.11,{"$f":"VLOOKUP(J2842,'Codes éco-part'!$C:$E,3,FALSE)","v":"262"},0.13200000000000001]
["REP ABJ",4,"22151210530",null,"Entretien et aménagement du jardin","Equipement personnel et accessoires de protection de jardinage","Massif et assimilés >75%","Compris entre 3 kg et 5 kg exclus","€/unité",0.18,0.18,{"$f":"VLOOKUP(J2843,'Codes éco-part'!$C:$E,3,FALSE)","v":"100"},0.216]
["REP ABJ",4,"22151210540",null,"Entretien et aménagement du jardin","Equipement personnel et accessoires de protection de jardinage","Massif et assimilés >75%","Compris entre 5 kg et 7 kg exclus","€/unité",0.32,0.32,{"$f":"VLOOKUP(J2844,'Codes éco-part'!$C:$E,3,FALSE)","v":"447"},0.38400000000000001]
["REP ABJ",4,"22151250000",null,"Entretien et aménagement du jardin","Equipement personnel et accessoires de protection de jardinage","Panneaux de particules ou OSB >75%","Eléments de toutes dimensions et poids","€ / Tonne",45,45,{"$f":"VLOOKUP(J2845,'Codes éco-part'!$C:$E,3,FALSE)","v":"169"},54]
["REP ABJ",4,"22151250200",null,"Entretien et aménagement du jardin","Equipement personnel et accessoires de protection de jardinage","Panneaux de particules ou OSB >75%","Inférieur strictement à 0,5 kg","€/unité",0.01,0.01,{"$f":"VLOOKUP(J2846,'Codes éco-part'!$C:$E,3,FALSE)","v":"260"},1.2E-2]
["REP ABJ",4,"22151250210",null,"Entretien et aménagement du jardin","Equipement personnel et accessoires de protection de jardinage","Panneaux de particules ou OSB >75%","Compris entre 0,5 kg et 1 kg exclus","€/unité",0.03,0.03,{"$f":"VLOOKUP(J2847,'Codes éco-part'!$C:$E,3,FALSE)","v":"092"},3.5999999999999997E-2]
["REP ABJ",4,"22151250220",null,"Entretien et aménagement du jardin","Equipement personnel et accessoires de protection de jardinage","Panneaux de particules ou OSB >75%","Compris entre 1 kg et 2 kg exclus","€/unité",7.0000000000000007E-2,7.0000000000000007E-2,{"$f":"VLOOKUP(J2848,'Codes éco-part'!$C:$E,3,FALSE)","v":"247"},8.4000000000000005E-2]
["REP ABJ",4,"22151250520",null,"Entretien et aménagement du jardin","Equipement personnel et accessoires de protection de jardinage","Panneaux de particules ou OSB >75%","Compris entre 2 kg et 3 kg exclus","€/unité",0.11,0.11,{"$f":"VLOOKUP(J2849,'Codes éco-part'!$C:$E,3,FALSE)","v":"262"},0.13200000000000001]
["REP ABJ",4,"22151250530",null,"Entretien et aménagement du jardin","Equipement personnel et accessoires de protection de jardinage","Panneaux de particules ou OSB >75%","Compris entre 3 kg et 5 kg exclus","€/unité",0.18,0.18,{"$f":"VLOOKUP(J2850,'Codes éco-part'!$C:$E,3,FALSE)","v":"100"},0.216]
["REP ABJ",4,"22151250540",null,"Entretien et aménagement du jardin","Equipement personnel et accessoires de protection de jardinage","Panneaux de particules ou OSB >75%","Compris entre 5 kg et 7 kg exclus","€/unité",0.32,0.32,{"$f":"VLOOKUP(J2851,'Codes éco-part'!$C:$E,3,FALSE)","v":"447"},0.38400000000000001]
["REP ABJ",4,"22151280000",null,"Entretien et aménagement du jardin","Equipement personnel et accessoires de protection de jardinage","Métal >90%","Eléments de toutes dimensions et poids","€ / Tonne",10,10,{"$f":"VLOOKUP(J2852,'Codes éco-part'!$C:$E,3,FALSE)","v":"138"},12]
["REP ABJ",4,"22151280200",null,"Entretien et aménagement du jardin","Equipement personnel et accessoires de protection de jardinage","Métal >90%","Inférieur strictement à 0,5 kg","€/unité",0.01,0.01,{"$f":"VLOOKUP(J2853,'Codes éco-part'!$C:$E,3,FALSE)","v":"260"},1.2E-2]
["REP ABJ",4,"22151280210",null,"Entretien et aménagement du jardin","Equipement personnel et accessoires de protection de jardinage","Métal >90%","Compris entre 0,5 kg et 1 kg exclus","€/unité",0.01,0.01,{"$f":"VLOOKUP(J2854,'Codes éco-part'!$C:$E,3,FALSE)","v":"260"},1.2E-2]
["REP ABJ",4,"22151280220",null,"Entretien et aménagement du jardin","Equipement personnel et accessoires de protection de jardinage","Métal >90%","Compris entre 1 kg et 2 kg exclus","€/unité",0.02,0.02,{"$f":"VLOOKUP(J2855,'Codes éco-part'!$C:$E,3,FALSE)","v":"047"},2.4E-2]
["REP ABJ",4,"22151280520",null,"Entretien et aménagement du jardin","Equipement personnel et accessoires de protection de jardinage","Métal >90%","Compris entre 2 kg et 3 kg exclus","€/unité",0.03,0.03,{"$f":"VLOOKUP(J2856,'Codes éco-part'!$C:$E,3,FALSE)","v":"092"},3.5999999999999997E-2]
["REP ABJ",4,"22151280530",null,"Entretien et aménagement du jardin","Equipement personnel et accessoires de protection de jardinage","Métal >90%","Compris entre 3 kg et 5 kg exclus","€/unité",0.04,0.04,{"$f":"VLOOKUP(J2857,'Codes éco-part'!$C:$E,3,FALSE)","v":"002"},4.8000000000000001E-2]
["REP ABJ",4,"22151280540",null,"Entretien et aménagement du jardin","Equipement personnel et accessoires de protection de jardinage","Métal >90%","Compris entre 5 kg et 7 kg exclus","€/unité",7.0000000000000007E-2,7.0000000000000007E-2,{"$f":"VLOOKUP(J2858,'Codes éco-part'!$C:$E,3,FALSE)","v":"247"},8.4000000000000005E-2]
["REP ABJ",4,"22151400000",null,"Entretien et aménagement du jardin","Equipement personnel et accessoires de protection de jardinage","Assemblage caoutchouc synthétique ou latex >50% avec d'autres matériaux","Eléments de toutes dimensions et poids","€ / Tonne",215,215,{"$f":"VLOOKUP(J2859,'Codes éco-part'!$C:$E,3,FALSE)","v":"498"},258]
["REP ABJ",4,"22151400200",null,"Entretien et aménagement du jardin","Equipement personnel et accessoires de protection de jardinage","Assemblage caoutchouc synthétique ou latex >50% avec d'autres matériaux","Inférieur strictement à 0,5 kg","€/unité",0.05,0.05,{"$f":"VLOOKUP(J2860,'Codes éco-part'!$C:$E,3,FALSE)","v":"048"},0.06]
["REP ABJ",4,"22151400210",null,"Entretien et aménagement du jardin","Equipement personnel et accessoires de protection de jardinage","Assemblage caoutchouc synthétique ou latex >50% avec d'autres matériaux","Compris entre 0,5 kg et 1 kg exclus","€/unité",0.16,0.16,{"$f":"VLOOKUP(J2861,'Codes éco-part'!$C:$E,3,FALSE)","v":"099"},0.192]
["REP ABJ",4,"22151400220",null,"Entretien et aménagement du jardin","Equipement personnel et accessoires de protection de jardinage","Assemblage caoutchouc synthétique ou latex >50% avec d'autres matériaux","Compris entre 1 kg et 2 kg exclus","€/unité",0.32,0.32,{"$f":"VLOOKUP(J2862,'Codes éco-part'!$C:$E,3,FALSE)","v":"447"},0.38400000000000001]
["REP ABJ",4,"22151400520",null,"Entretien et aménagement du jardin","Equipement personnel et accessoires de protection de jardinage","Assemblage caoutchouc synthétique ou latex >50% avec d'autres matériaux","Compris entre 2 kg et 3 kg exclus","€/unité",0.54,0.54,{"$f":"VLOOKUP(J2863,'Codes éco-part'!$C:$E,3,FALSE)","v":"500"},0.64800000000000002]
["REP ABJ",4,"22151400530",null,"Entretien et aménagement du jardin","Equipement personnel et accessoires de protection de jardinage","Assemblage caoutchouc synthétique ou latex >50% avec d'autres matériaux","Compris entre 3 kg et 5 kg exclus","€/unité",0.86,0.86,{"$f":"VLOOKUP(J2864,'Codes éco-part'!$C:$E,3,FALSE)","v":"501"},1.032]
["REP ABJ",4,"22151400540",null,"Entretien et aménagement du jardin","Equipement personnel et accessoires de protection de jardinage","Assemblage caoutchouc synthétique ou latex >50% avec d'autres matériaux","Compris entre 5 kg et 7 kg exclus","€/unité",1.51,1.51,{"$f":"VLOOKUP(J2865,'Codes éco-part'!$C:$E,3,FALSE)","v":"502"},1.8119999999999998]
["REP ABJ",4,"22151410000",null,"Entretien et aménagement du jardin","Equipement personnel et accessoires de protection de jardinage","Plastiques (mono résine) >90%","Eléments de toutes dimensions et poids","€ / Tonne",165,165,{"$f":"VLOOKUP(J2866,'Codes éco-part'!$C:$E,3,FALSE)","v":"496"},198]
["REP ABJ",4,"22151410200",null,"Entretien et aménagement du jardin","Equipement personnel et accessoires de protection de jardinage","Plastiques (mono résine) >90%","Inférieur strictement à 0,5 kg","€/unité",0.04,0.04,{"$f":"VLOOKUP(J2867,'Codes éco-part'!$C:$E,3,FALSE)","v":"002"},4.8000000000000001E-2]
["REP ABJ",4,"22151410210",null,"Entretien et aménagement du jardin","Equipement personnel et accessoires de protection de jardinage","Plastiques (mono résine) >90%","Compris entre 0,5 kg et 1 kg exclus","€/unité",0.12,0.12,{"$f":"VLOOKUP(J2868,'Codes éco-part'!$C:$E,3,FALSE)","v":"097"},0.14399999999999999]
["REP ABJ",4,"22151410220",null,"Entretien et aménagement du jardin","Equipement personnel et accessoires de protection de jardinage","Plastiques (mono résine) >90%","Compris entre 1 kg et 2 kg exclus","€/unité",0.25,0.25,{"$f":"VLOOKUP(J2869,'Codes éco-part'!$C:$E,3,FALSE)","v":"095"},0.3]
["REP ABJ",4,"22151410520",null,"Entretien et aménagement du jardin","Equipement personnel et accessoires de protection de jardinage","Plastiques (mono résine) >90%","Compris entre 2 kg et 3 kg exclus","€/unité",0.41,0.41,{"$f":"VLOOKUP(J2870,'Codes éco-part'!$C:$E,3,FALSE)","v":"503"},0.49199999999999994]
["REP ABJ",4,"22151410530",null,"Entretien et aménagement du jardin","Equipement personnel et accessoires de protection de jardinage","Plastiques (mono résine) >90%","Compris entre 3 kg et 5 kg exclus","€/unité",0.66,0.66,{"$f":"VLOOKUP(J2871,'Codes éco-part'!$C:$E,3,FALSE)","v":"453"},0.79200000000000004]
["REP ABJ",4,"22151410540",null,"Entretien et aménagement du jardin","Equipement personnel et accessoires de protection de jardinage","Plastiques (mono résine) >90%","Compris entre 5 kg et 7 kg exclus","€/unité",1.1599999999999999,1.1599999999999999,{"$f":"VLOOKUP(J2872,'Codes éco-part'!$C:$E,3,FALSE)","v":"504"},1.3919999999999999]
["REP ABJ",4,"22151420000",null,"Entretien et aménagement du jardin","Equipement personnel et accessoires de protection de jardinage","Polyterephtalate d'Ethylène (PET) >90%","Eléments de toutes dimensions et poids","€ / Tonne",165,165,{"$f":"VLOOKUP(J2873,'Codes éco-part'!$C:$E,3,FALSE)","v":"496"},198]
["REP ABJ",4,"22151420200",null,"Entretien et aménagement du jardin","Equipement personnel et accessoires de protection de jardinage","Polyterephtalate d'Ethylène (PET) >90%","Inférieur strictement à 0,5 kg","€/unité",0.04,0.04,{"$f":"VLOOKUP(J2874,'Codes éco-part'!$C:$E,3,FALSE)","v":"002"},4.8000000000000001E-2]
["REP ABJ",4,"22151420210",null,"Entretien et aménagement du jardin","Equipement personnel et accessoires de protection de jardinage","Polyterephtalate d'Ethylène (PET) >90%","Compris entre 0,5 kg et 1 kg exclus","€/unité",0.12,0.12,{"$f":"VLOOKUP(J2875,'Codes éco-part'!$C:$E,3,FALSE)","v":"097"},0.14399999999999999]
["REP ABJ",4,"22151420220",null,"Entretien et aménagement du jardin","Equipement personnel et accessoires de protection de jardinage","Polyterephtalate d'Ethylène (PET) >90%","Compris entre 1 kg et 2 kg exclus","€/unité",0.25,0.25,{"$f":"VLOOKUP(J2876,'Codes éco-part'!$C:$E,3,FALSE)","v":"095"},0.3]
["REP ABJ",4,"22151420520",null,"Entretien et aménagement du jardin","Equipement personnel et accessoires de protection de jardinage","Polyterephtalate d'Ethylène (PET) >90%","Compris entre 2 kg et 3 kg exclus","€/unité",0.41,0.41,{"$f":"VLOOKUP(J2877,'Codes éco-part'!$C:$E,3,FALSE)","v":"503"},0.49199999999999994]
["REP ABJ",4,"22151420530",null,"Entretien et aménagement du jardin","Equipement personnel et accessoires de protection de jardinage","Polyterephtalate d'Ethylène (PET) >90%","Compris entre 3 kg et 5 kg exclus","€/unité",0.66,0.66,{"$f":"VLOOKUP(J2878,'Codes éco-part'!$C:$E,3,FALSE)","v":"453"},0.79200000000000004]
["REP ABJ",4,"22151420540",null,"Entretien et aménagement du jardin","Equipement personnel et accessoires de protection de jardinage","Polyterephtalate d'Ethylène (PET) >90%","Compris entre 5 kg et 7 kg exclus","€/unité",1.1599999999999999,1.1599999999999999,{"$f":"VLOOKUP(J2879,'Codes éco-part'!$C:$E,3,FALSE)","v":"504"},1.3919999999999999]
["REP ABJ",4,"22151450000",null,"Entretien et aménagement du jardin","Equipement personnel et accessoires de protection de jardinage","PE ou PP ou mélange PP/PE >90%","Eléments de toutes dimensions et poids","€ / Tonne",165,165,{"$f":"VLOOKUP(J2880,'Codes éco-part'!$C:$E,3,FALSE)","v":"496"},198]
["REP ABJ",4,"22151450200",null,"Entretien et aménagement du jardin","Equipement personnel et accessoires de protection de jardinage","PE ou PP ou mélange PP/PE >90%","Inférieur strictement à 0,5 kg","€/unité",0.04,0.04,{"$f":"VLOOKUP(J2881,'Codes éco-part'!$C:$E,3,FALSE)","v":"002"},4.8000000000000001E-2]
["REP ABJ",4,"22151450210",null,"Entretien et aménagement du jardin","Equipement personnel et accessoires de protection de jardinage","PE ou PP ou mélange PP/PE >90%","Compris entre 0,5 kg et 1 kg exclus","€/unité",0.12,0.12,{"$f":"VLOOKUP(J2882,'Codes éco-part'!$C:$E,3,FALSE)","v":"097"},0.14399999999999999]
["REP ABJ",4,"22151450220",null,"Entretien et aménagement du jardin","Equipement personnel et accessoires de protection de jardinage","PE ou PP ou mélange PP/PE >90%","Compris entre 1 kg et 2 kg exclus","€/unité",0.25,0.25,{"$f":"VLOOKUP(J2883,'Codes éco-part'!$C:$E,3,FALSE)","v":"095"},0.3]
["REP ABJ",4,"22151450520",null,"Entretien et aménagement du jardin","Equipement personnel et accessoires de protection de jardinage","PE ou PP ou mélange PP/PE >90%","Compris entre 2 kg et 3 kg exclus","€/unité",0.41,0.41,{"$f":"VLOOKUP(J2884,'Codes éco-part'!$C:$E,3,FALSE)","v":"503"},0.49199999999999994]
["REP ABJ",4,"22151450530",null,"Entretien et aménagement du jardin","Equipement personnel et accessoires de protection de jardinage","PE ou PP ou mélange PP/PE >90%","Compris entre 3 kg et 5 kg exclus","€/unité",0.66,0.66,{"$f":"VLOOKUP(J2885,'Codes éco-part'!$C:$E,3,FALSE)","v":"453"},0.79200000000000004]
["REP ABJ",4,"22151450540",null,"Entretien et aménagement du jardin","Equipement personnel et accessoires de protection de jardinage","PE ou PP ou mélange PP/PE >90%","Compris entre 5 kg et 7 kg exclus","€/unité",1.1599999999999999,1.1599999999999999,{"$f":"VLOOKUP(J2886,'Codes éco-part'!$C:$E,3,FALSE)","v":"504"},1.3919999999999999]
["REP ABJ",4,"22151460000",null,"Entretien et aménagement du jardin","Equipement personnel et accessoires de protection de jardinage","ABS >90%","Eléments de toutes dimensions et poids","€ / Tonne",165,165,{"$f":"VLOOKUP(J2887,'Codes éco-part'!$C:$E,3,FALSE)","v":"496"},198]
["REP ABJ",4,"22151460200",null,"Entretien et aménagement du jardin","Equipement personnel et accessoires de protection de jardinage","ABS >90%","Inférieur strictement à 0,5 kg","€/unité",0.04,0.04,{"$f":"VLOOKUP(J2888,'Codes éco-part'!$C:$E,3,FALSE)","v":"002"},4.8000000000000001E-2]
["REP ABJ",4,"22151460210",null,"Entretien et aménagement du jardin","Equipement personnel et accessoires de protection de jardinage","ABS >90%","Compris entre 0,5 kg et 1 kg exclus","€/unité",0.12,0.12,{"$f":"VLOOKUP(J2889,'Codes éco-part'!$C:$E,3,FALSE)","v":"097"},0.14399999999999999]
["REP ABJ",4,"22151460220",null,"Entretien et aménagement du jardin","Equipement personnel et accessoires de protection de jardinage","ABS >90%","Compris entre 1 kg et 2 kg exclus","€/unité",0.25,0.25,{"$f":"VLOOKUP(J2890,'Codes éco-part'!$C:$E,3,FALSE)","v":"095"},0.3]
["REP ABJ",4,"22151460520",null,"Entretien et aménagement du jardin","Equipement personnel et accessoires de protection de jardinage","ABS >90%","Compris entre 2 kg et 3 kg exclus","€/unité",0.41,0.41,{"$f":"VLOOKUP(J2891,'Codes éco-part'!$C:$E,3,FALSE)","v":"503"},0.49199999999999994]
["REP ABJ",4,"22151460530",null,"Entretien et aménagement du jardin","Equipement personnel et accessoires de protection de jardinage","ABS >90%","Compris entre 3 kg et 5 kg exclus","€/unité",0.66,0.66,{"$f":"VLOOKUP(J2892,'Codes éco-part'!$C:$E,3,FALSE)","v":"453"},0.79200000000000004]
["REP ABJ",4,"22151460540",null,"Entretien et aménagement du jardin","Equipement personnel et accessoires de protection de jardinage","ABS >90%","Compris entre 5 kg et 7 kg exclus","€/unité",1.1599999999999999,1.1599999999999999,{"$f":"VLOOKUP(J2893,'Codes éco-part'!$C:$E,3,FALSE)","v":"504"},1.3919999999999999]
["REP ABJ",4,"22151470000",null,"Entretien et aménagement du jardin","Equipement personnel et accessoires de protection de jardinage","Polystyrène >90%","Eléments de toutes dimensions et poids","€ / Tonne",165,165,{"$f":"VLOOKUP(J2894,'Codes éco-part'!$C:$E,3,FALSE)","v":"496"},198]
["REP ABJ",4,"22151470200",null,"Entretien et aménagement du jardin","Equipement personnel et accessoires de protection de jardinage","Polystyrène >90%","Inférieur strictement à 0,5 kg","€/unité",0.04,0.04,{"$f":"VLOOKUP(J2895,'Codes éco-part'!$C:$E,3,FALSE)","v":"002"},4.8000000000000001E-2]
["REP ABJ",4,"22151470210",null,"Entretien et aménagement du jardin","Equipement personnel et accessoires de protection de jardinage","Polystyrène >90%","Compris entre 0,5 kg et 1 kg exclus","€/unité",0.12,0.12,{"$f":"VLOOKUP(J2896,'Codes éco-part'!$C:$E,3,FALSE)","v":"097"},0.14399999999999999]
["REP ABJ",4,"22151470220",null,"Entretien et aménagement du jardin","Equipement personnel et accessoires de protection de jardinage","Polystyrène >90%","Compris entre 1 kg et 2 kg exclus","€/unité",0.25,0.25,{"$f":"VLOOKUP(J2897,'Codes éco-part'!$C:$E,3,FALSE)","v":"095"},0.3]
["REP ABJ",4,"22151470520",null,"Entretien et aménagement du jardin","Equipement personnel et accessoires de protection de jardinage","Polystyrène >90%","Compris entre 2 kg et 3 kg exclus","€/unité",0.41,0.41,{"$f":"VLOOKUP(J2898,'Codes éco-part'!$C:$E,3,FALSE)","v":"503"},0.49199999999999994]
["REP ABJ",4,"22151470530",null,"Entretien et aménagement du jardin","Equipement personnel et accessoires de protection de jardinage","Polystyrène >90%","Compris entre 3 kg et 5 kg exclus","€/unité",0.66,0.66,{"$f":"VLOOKUP(J2899,'Codes éco-part'!$C:$E,3,FALSE)","v":"453"},0.79200000000000004]
["REP ABJ",4,"22151470540",null,"Entretien et aménagement du jardin","Equipement personnel et accessoires de protection de jardinage","Polystyrène >90%","Compris entre 5 kg et 7 kg exclus","€/unité",1.1599999999999999,1.1599999999999999,{"$f":"VLOOKUP(J2900,'Codes éco-part'!$C:$E,3,FALSE)","v":"504"},1.3919999999999999]
["REP ABJ",4,"22151480000",null,"Entretien et aménagement du jardin","Equipement personnel et accessoires de protection de jardinage","PVC >90%","Eléments de toutes dimensions et poids","€ / Tonne",165,165,{"$f":"VLOOKUP(J2901,'Codes éco-part'!$C:$E,3,FALSE)","v":"496"},198]
["REP ABJ",4,"22151480200",null,"Entretien et aménagement du jardin","Equipement personnel et accessoires de protection de jardinage","PVC >90%","Inférieur strictement à 0,5 kg","€/unité",0.04,0.04,{"$f":"VLOOKUP(J2902,'Codes éco-part'!$C:$E,3,FALSE)","v":"002"},4.8000000000000001E-2]
["REP ABJ",4,"22151480210",null,"Entretien et aménagement du jardin","Equipement personnel et accessoires de protection de jardinage","PVC >90%","Compris entre 0,5 kg et 1 kg exclus","€/unité",0.12,0.12,{"$f":"VLOOKUP(J2903,'Codes éco-part'!$C:$E,3,FALSE)","v":"097"},0.14399999999999999]
["REP ABJ",4,"22151480220",null,"Entretien et aménagement du jardin","Equipement personnel et accessoires de protection de jardinage","PVC >90%","Compris entre 1 kg et 2 kg exclus","€/unité",0.25,0.25,{"$f":"VLOOKUP(J2904,'Codes éco-part'!$C:$E,3,FALSE)","v":"095"},0.3]
["REP ABJ",4,"22151480520",null,"Entretien et aménagement du jardin","Equipement personnel et accessoires de protection de jardinage","PVC >90%","Compris entre 2 kg et 3 kg exclus","€/unité",0.41,0.41,{"$f":"VLOOKUP(J2905,'Codes éco-part'!$C:$E,3,FALSE)","v":"503"},{"$f":"J2905*1.2","v":0.49199999999999994}]
["REP ABJ",4,"22151480530",null,"Entretien et aménagement du jardin","Equipement personnel et accessoires de protection de jardinage","PVC >90%","Compris entre 3 kg et 5 kg exclus","€/unité",0.66,0.66,{"$f":"VLOOKUP(J2906,'Codes éco-part'!$C:$E,3,FALSE)","v":"453"},0.79200000000000004]
["REP ABJ",4,"22151480540",null,"Entretien et aménagement du jardin","Equipement personnel et accessoires de protection de jardinage","PVC >90%","Compris entre 5 kg et 7 kg exclus","€/unité",1.1599999999999999,1.1599999999999999,{"$f":"VLOOKUP(J2907,'Codes éco-part'!$C:$E,3,FALSE)","v":"504"},1.3919999999999999]
["REP ABJ",4,"22151490000",null,"Entretien et aménagement du jardin","Equipement personnel et accessoires de protection de jardinage","Caoutchouc synthétique >90%","Eléments de toutes dimensions et poids","€ / Tonne",165,165,{"$f":"VLOOKUP(J2908,'Codes éco-part'!$C:$E,3,FALSE)","v":"496"},198]
["REP ABJ",4,"22151490200",null,"Entretien et aménagement du jardin","Equipement personnel et accessoires de protection de jardinage","Caoutchouc synthétique >90%","Inférieur strictement à 0,5 kg","€/unité",0.04,0.04,{"$f":"VLOOKUP(J2909,'Codes éco-part'!$C:$E,3,FALSE)","v":"002"},4.8000000000000001E-2]
["REP ABJ",4,"22151490210",null,"Entretien et aménagement du jardin","Equipement personnel et accessoires de protection de jardinage","Caoutchouc synthétique >90%","Compris entre 0,5 kg et 1 kg exclus","€/unité",0.12,0.12,{"$f":"VLOOKUP(J2910,'Codes éco-part'!$C:$E,3,FALSE)","v":"097"},0.14399999999999999]
["REP ABJ",4,"22151490220",null,"Entretien et aménagement du jardin","Equipement personnel et accessoires de protection de jardinage","Caoutchouc synthétique >90%","Compris entre 1 kg et 2 kg exclus","€/unité",0.25,0.25,{"$f":"VLOOKUP(J2911,'Codes éco-part'!$C:$E,3,FALSE)","v":"095"},0.3]
["REP ABJ",4,"22151490520",null,"Entretien et aménagement du jardin","Equipement personnel et accessoires de protection de jardinage","Caoutchouc synthétique >90%","Compris entre 2 kg et 3 kg exclus","€/unité",0.41,0.41,{"$f":"VLOOKUP(J2912,'Codes éco-part'!$C:$E,3,FALSE)","v":"503"},0.49199999999999994]
["REP ABJ",4,"22151490530",null,"Entretien et aménagement du jardin","Equipement personnel et accessoires de protection de jardinage","Caoutchouc synthétique >90%","Compris entre 3 kg et 5 kg exclus","€/unité",0.66,0.66,{"$f":"VLOOKUP(J2913,'Codes éco-part'!$C:$E,3,FALSE)","v":"453"},0.79200000000000004]
["REP ABJ",4,"22151490540",null,"Entretien et aménagement du jardin","Equipement personnel et accessoires de protection de jardinage","Caoutchouc synthétique >90%","Compris entre 5 kg et 7 kg exclus","€/unité",1.1599999999999999,1.1599999999999999,{"$f":"VLOOKUP(J2914,'Codes éco-part'!$C:$E,3,FALSE)","v":"504"},1.3919999999999999]
["REP ABJ",4,"22151520000",null,"Entretien et aménagement du jardin","Equipement personnel et accessoires de protection de jardinage","Massif et assimilés certifiés >90%","Eléments de toutes dimensions et poids","€ / Tonne",45,45,{"$f":"VLOOKUP(J2915,'Codes éco-part'!$C:$E,3,FALSE)","v":"169"},54]
["REP ABJ",4,"22151520200",null,"Entretien et aménagement du jardin","Equipement personnel et accessoires de protection de jardinage","Massif et assimilés certifiés >90%","Inférieur strictement à 0,5 kg","€/unité",0.01,0.01,{"$f":"VLOOKUP(J2916,'Codes éco-part'!$C:$E,3,FALSE)","v":"260"},1.2E-2]
["REP ABJ",4,"22151520210",null,"Entretien et aménagement du jardin","Equipement personnel et accessoires de protection de jardinage","Massif et assimilés certifiés >90%","Compris entre 0,5 kg et 1 kg exclus","€/unité",0.03,0.03,{"$f":"VLOOKUP(J2917,'Codes éco-part'!$C:$E,3,FALSE)","v":"092"},3.5999999999999997E-2]
["REP ABJ",4,"22151520220",null,"Entretien et aménagement du jardin","Equipement personnel et accessoires de protection de jardinage","Massif et assimilés certifiés >90%","Compris entre 1 kg et 2 kg exclus","€/unité",7.0000000000000007E-2,7.0000000000000007E-2,{"$f":"VLOOKUP(J2918,'Codes éco-part'!$C:$E,3,FALSE)","v":"247"},8.4000000000000005E-2]
["REP ABJ",4,"22151520520",null,"Entretien et aménagement du jardin","Equipement personnel et accessoires de protection de jardinage","Massif et assimilés certifiés >90%","Compris entre 2 kg et 3 kg exclus","€/unité",0.11,0.11,{"$f":"VLOOKUP(J2919,'Codes éco-part'!$C:$E,3,FALSE)","v":"262"},0.13200000000000001]
["REP ABJ",4,"22151520530",null,"Entretien et aménagement du jardin","Equipement personnel et accessoires de protection de jardinage","Massif et assimilés certifiés >90%","Compris entre 3 kg et 5 kg exclus","€/unité",0.18,0.18,{"$f":"VLOOKUP(J2920,'Codes éco-part'!$C:$E,3,FALSE)","v":"100"},0.216]
["REP ABJ",4,"22151520540",null,"Entretien et aménagement du jardin","Equipement personnel et accessoires de protection de jardinage","Massif et assimilés certifiés >90%","Compris entre 5 kg et 7 kg exclus","€/unité",0.32,0.32,{"$f":"VLOOKUP(J2921,'Codes éco-part'!$C:$E,3,FALSE)","v":"447"},0.38400000000000001]
["REP ABJ",4,"22151530000",null,"Entretien et aménagement du jardin","Equipement personnel et accessoires de protection de jardinage","Massif et assimilés >90%","Eléments de toutes dimensions et poids","€ / Tonne",45,45,{"$f":"VLOOKUP(J2922,'Codes éco-part'!$C:$E,3,FALSE)","v":"169"},54]
["REP ABJ",4,"22151530200",null,"Entretien et aménagement du jardin","Equipement personnel et accessoires de protection de jardinage","Massif et assimilés >90%","Inférieur strictement à 0,5 kg","€/unité",0.01,0.01,{"$f":"VLOOKUP(J2923,'Codes éco-part'!$C:$E,3,FALSE)","v":"260"},1.2E-2]
["REP ABJ",4,"22151530210",null,"Entretien et aménagement du jardin","Equipement personnel et accessoires de protection de jardinage","Massif et assimilés >90%","Compris entre 0,5 kg et 1 kg exclus","€/unité",0.03,0.03,{"$f":"VLOOKUP(J2924,'Codes éco-part'!$C:$E,3,FALSE)","v":"092"},3.5999999999999997E-2]
["REP ABJ",4,"22151530220",null,"Entretien et aménagement du jardin","Equipement personnel et accessoires de protection de jardinage","Massif et assimilés >90%","Compris entre 1 kg et 2 kg exclus","€/unité",7.0000000000000007E-2,7.0000000000000007E-2,{"$f":"VLOOKUP(J2925,'Codes éco-part'!$C:$E,3,FALSE)","v":"247"},8.4000000000000005E-2]
["REP ABJ",4,"22151530520",null,"Entretien et aménagement du jardin","Equipement personnel et accessoires de protection de jardinage","Massif et assimilés >90%","Compris entre 2 kg et 3 kg exclus","€/unité",0.11,0.11,{"$f":"VLOOKUP(J2926,'Codes éco-part'!$C:$E,3,FALSE)","v":"262"},0.13200000000000001]
["REP ABJ",4,"22151530530",null,"Entretien et aménagement du jardin","Equipement personnel et accessoires de protection de jardinage","Massif et assimilés >90%","Compris entre 3 kg et 5 kg exclus","€/unité",0.18,0.18,{"$f":"VLOOKUP(J2927,'Codes éco-part'!$C:$E,3,FALSE)","v":"100"},0.216]
["REP ABJ",4,"22151530540",null,"Entretien et aménagement du jardin","Equipement personnel et accessoires de protection de jardinage","Massif et assimilés >90%","Compris entre 5 kg et 7 kg exclus","€/unité",0.32,0.32,{"$f":"VLOOKUP(J2928,'Codes éco-part'!$C:$E,3,FALSE)","v":"447"},0.38400000000000001]
["REP ABJ",4,"22151550000",null,"Entretien et aménagement du jardin","Equipement personnel et accessoires de protection de jardinage","Matériaux bio sourcés ou textiles non synthétiques >90%","Eléments de toutes dimensions et poids","€ / Tonne",50,50,{"$f":"VLOOKUP(J2929,'Codes éco-part'!$C:$E,3,FALSE)","v":"173"},60]
["REP ABJ",4,"22151550200",null,"Entretien et aménagement du jardin","Equipement personnel et accessoires de protection de jardinage","Matériaux bio sourcés ou textiles non synthétiques >90%","Inférieur strictement à 0,5 kg","€/unité",0.01,0.01,{"$f":"VLOOKUP(J2930,'Codes éco-part'!$C:$E,3,FALSE)","v":"260"},1.2E-2]
["REP ABJ",4,"22151550210",null,"Entretien et aménagement du jardin","Equipement personnel et accessoires de protection de jardinage","Matériaux bio sourcés ou textiles non synthétiques >90%","Compris entre 0,5 kg et 1 kg exclus","€/unité",0.04,0.04,{"$f":"VLOOKUP(J2931,'Codes éco-part'!$C:$E,3,FALSE)","v":"002"},4.8000000000000001E-2]
["REP ABJ",4,"22151550220",null,"Entretien et aménagement du jardin","Equipement personnel et accessoires de protection de jardinage","Matériaux bio sourcés ou textiles non synthétiques >90%","Compris entre 1 kg et 2 kg exclus","€/unité",0.08,0.08,{"$f":"VLOOKUP(J2932,'Codes éco-part'!$C:$E,3,FALSE)","v":"003"},9.6000000000000002E-2]
["REP ABJ",4,"22151550520",null,"Entretien et aménagement du jardin","Equipement personnel et accessoires de protection de jardinage","Matériaux bio sourcés ou textiles non synthétiques >90%","Compris entre 2 kg et 3 kg exclus","€/unité",0.13,0.13,{"$f":"VLOOKUP(J2933,'Codes éco-part'!$C:$E,3,FALSE)","v":"004"},0.156]
["REP ABJ",4,"22151550530",null,"Entretien et aménagement du jardin","Equipement personnel et accessoires de protection de jardinage","Matériaux bio sourcés ou textiles non synthétiques >90%","Compris entre 3 kg et 5 kg exclus","€/unité",0.2,0.2,{"$f":"VLOOKUP(J2934,'Codes éco-part'!$C:$E,3,FALSE)","v":"101"},0.24]
["REP ABJ",4,"22151550540",null,"Entretien et aménagement du jardin","Equipement personnel et accessoires de protection de jardinage","Matériaux bio sourcés ou textiles non synthétiques >90%","Compris entre 5 kg et 7 kg exclus","€/unité",0.35,0.35,{"$f":"VLOOKUP(J2935,'Codes éco-part'!$C:$E,3,FALSE)","v":"448"},0.42]
["REP ABJ",4,"22151590000",null,"Entretien et aménagement du jardin","Equipement personnel et accessoires de protection de jardinage","Panneaux de particules ou OSB certifiés >90%","Eléments de toutes dimensions et poids","€ / Tonne",45,45,{"$f":"VLOOKUP(J2936,'Codes éco-part'!$C:$E,3,FALSE)","v":"169"},54]
["REP ABJ",4,"22151590200",null,"Entretien et aménagement du jardin","Equipement personnel et accessoires de protection de jardinage","Panneaux de particules ou OSB certifiés >90%","Inférieur strictement à 0,5 kg","€/unité",0.01,0.01,{"$f":"VLOOKUP(J2937,'Codes éco-part'!$C:$E,3,FALSE)","v":"260"},1.2E-2]
["REP ABJ",4,"22151590210",null,"Entretien et aménagement du jardin","Equipement personnel et accessoires de protection de jardinage","Panneaux de particules ou OSB certifiés >90%","Compris entre 0,5 kg et 1 kg exclus","€/unité",0.03,0.03,{"$f":"VLOOKUP(J2938,'Codes éco-part'!$C:$E,3,FALSE)","v":"092"},3.5999999999999997E-2]
["REP ABJ",4,"22151590220",null,"Entretien et aménagement du jardin","Equipement personnel et accessoires de protection de jardinage","Panneaux de particules ou OSB certifiés >90%","Compris entre 1 kg et 2 kg exclus","€/unité",7.0000000000000007E-2,7.0000000000000007E-2,{"$f":"VLOOKUP(J2939,'Codes éco-part'!$C:$E,3,FALSE)","v":"247"},8.4000000000000005E-2]
["REP ABJ",4,"22151590520",null,"Entretien et aménagement du jardin","Equipement personnel et accessoires de protection de jardinage","Panneaux de particules ou OSB certifiés >90%","Compris entre 2 kg et 3 kg exclus","€/unité",0.11,0.11,{"$f":"VLOOKUP(J2940,'Codes éco-part'!$C:$E,3,FALSE)","v":"262"},0.13200000000000001]
["REP ABJ",4,"22151590530",null,"Entretien et aménagement du jardin","Equipement personnel et accessoires de protection de jardinage","Panneaux de particules ou OSB certifiés >90%","Compris entre 3 kg et 5 kg exclus","€/unité",0.18,0.18,{"$f":"VLOOKUP(J2941,'Codes éco-part'!$C:$E,3,FALSE)","v":"100"},0.216]
["REP ABJ",4,"22151590540",null,"Entretien et aménagement du jardin","Equipement personnel et accessoires de protection de jardinage","Panneaux de particules ou OSB certifiés >90%","Compris entre 5 kg et 7 kg exclus","€/unité",0.32,0.32,{"$f":"VLOOKUP(J2942,'Codes éco-part'!$C:$E,3,FALSE)","v":"447"},0.38400000000000001]
["REP ABJ",4,"22151600000",null,"Entretien et aménagement du jardin","Equipement personnel et accessoires de protection de jardinage","Panneaux de particules ou OSB certifiés >75%","Eléments de toutes dimensions et poids","€ / Tonne",45,45,{"$f":"VLOOKUP(J2943,'Codes éco-part'!$C:$E,3,FALSE)","v":"169"},54]
["REP ABJ",4,"22151600200",null,"Entretien et aménagement du jardin","Equipement personnel et accessoires de protection de jardinage","Panneaux de particules ou OSB certifiés >75%","Inférieur strictement à 0,5 kg","€/unité",0.01,0.01,{"$f":"VLOOKUP(J2944,'Codes éco-part'!$C:$E,3,FALSE)","v":"260"},1.2E-2]
["REP ABJ",4,"22151600210",null,"Entretien et aménagement du jardin","Equipement personnel et accessoires de protection de jardinage","Panneaux de particules ou OSB certifiés >75%","Compris entre 0,5 kg et 1 kg exclus","€/unité",0.03,0.03,{"$f":"VLOOKUP(J2945,'Codes éco-part'!$C:$E,3,FALSE)","v":"092"},3.5999999999999997E-2]
["REP ABJ",4,"22151600220",null,"Entretien et aménagement du jardin","Equipement personnel et accessoires de protection de jardinage","Panneaux de particules ou OSB certifiés >75%","Compris entre 1 kg et 2 kg exclus","€/unité",7.0000000000000007E-2,7.0000000000000007E-2,{"$f":"VLOOKUP(J2946,'Codes éco-part'!$C:$E,3,FALSE)","v":"247"},8.4000000000000005E-2]
["REP ABJ",4,"22151600520",null,"Entretien et aménagement du jardin","Equipement personnel et accessoires de protection de jardinage","Panneaux de particules ou OSB certifiés >75%","Compris entre 2 kg et 3 kg exclus","€/unité",0.11,0.11,{"$f":"VLOOKUP(J2947,'Codes éco-part'!$C:$E,3,FALSE)","v":"262"},0.13200000000000001]
["REP ABJ",4,"22151600530",null,"Entretien et aménagement du jardin","Equipement personnel et accessoires de protection de jardinage","Panneaux de particules ou OSB certifiés >75%","Compris entre 3 kg et 5 kg exclus","€/unité",0.18,0.18,{"$f":"VLOOKUP(J2948,'Codes éco-part'!$C:$E,3,FALSE)","v":"100"},0.216]
["REP ABJ",4,"22151600540",null,"Entretien et aménagement du jardin","Equipement personnel et accessoires de protection de jardinage","Panneaux de particules ou OSB certifiés >75%","Compris entre 5 kg et 7 kg exclus","€/unité",0.32,0.32,{"$f":"VLOOKUP(J2949,'Codes éco-part'!$C:$E,3,FALSE)","v":"447"},0.38400000000000001]
["REP ABJ",4,"22151610000",null,"Entretien et aménagement du jardin","Equipement personnel et accessoires de protection de jardinage","Panneaux de particules ou OSB >90%","Eléments de toutes dimensions et poids","€ / Tonne",45,45,{"$f":"VLOOKUP(J2950,'Codes éco-part'!$C:$E,3,FALSE)","v":"169"},54]
["REP ABJ",4,"22151610200",null,"Entretien et aménagement du jardin","Equipement personnel et accessoires de protection de jardinage","Panneaux de particules ou OSB >90%","Inférieur strictement à 0,5 kg","€/unité",0.01,0.01,{"$f":"VLOOKUP(J2951,'Codes éco-part'!$C:$E,3,FALSE)","v":"260"},1.2E-2]
["REP ABJ",4,"22151610210",null,"Entretien et aménagement du jardin","Equipement personnel et accessoires de protection de jardinage","Panneaux de particules ou OSB >90%","Compris entre 0,5 kg et 1 kg exclus","€/unité",0.03,0.03,{"$f":"VLOOKUP(J2952,'Codes éco-part'!$C:$E,3,FALSE)","v":"092"},3.5999999999999997E-2]
["REP ABJ",4,"22151610220",null,"Entretien et aménagement du jardin","Equipement personnel et accessoires de protection de jardinage","Panneaux de particules ou OSB >90%","Compris entre 1 kg et 2 kg exclus","€/unité",7.0000000000000007E-2,7.0000000000000007E-2,{"$f":"VLOOKUP(J2953,'Codes éco-part'!$C:$E,3,FALSE)","v":"247"},8.4000000000000005E-2]
["REP ABJ",4,"22151610520",null,"Entretien et aménagement du jardin","Equipement personnel et accessoires de protection de jardinage","Panneaux de particules ou OSB >90%","Compris entre 2 kg et 3 kg exclus","€/unité",0.11,0.11,{"$f":"VLOOKUP(J2954,'Codes éco-part'!$C:$E,3,FALSE)","v":"262"},0.13200000000000001]
["REP ABJ",4,"22151610530",null,"Entretien et aménagement du jardin","Equipement personnel et accessoires de protection de jardinage","Panneaux de particules ou OSB >90%","Compris entre 3 kg et 5 kg exclus","€/unité",0.18,0.18,{"$f":"VLOOKUP(J2955,'Codes éco-part'!$C:$E,3,FALSE)","v":"100"},0.216]
["REP ABJ",4,"22151610540",null,"Entretien et aménagement du jardin","Equipement personnel et accessoires de protection de jardinage","Panneaux de particules ou OSB >90%","Compris entre 5 kg et 7 kg exclus","€/unité",0.32,0.32,{"$f":"VLOOKUP(J2956,'Codes éco-part'!$C:$E,3,FALSE)","v":"447"},0.38400000000000001]
["REP ABJ",4,"22151620000",null,"Entretien et aménagement du jardin","Equipement personnel et accessoires de protection de jardinage","Dérivés de bois >90%","Eléments de toutes dimensions et poids","€ / Tonne",45,45,{"$f":"VLOOKUP(J2957,'Codes éco-part'!$C:$E,3,FALSE)","v":"169"},54]
["REP ABJ",4,"22151620200",null,"Entretien et aménagement du jardin","Equipement personnel et accessoires de protection de jardinage","Dérivés de bois >90%","Inférieur strictement à 0,5 kg","€/unité",0.01,0.01,{"$f":"VLOOKUP(J2958,'Codes éco-part'!$C:$E,3,FALSE)","v":"260"},1.2E-2]
["REP ABJ",4,"22151620210",null,"Entretien et aménagement du jardin","Equipement personnel et accessoires de protection de jardinage","Dérivés de bois >90%","Compris entre 0,5 kg et 1 kg exclus","€/unité",0.03,0.03,{"$f":"VLOOKUP(J2959,'Codes éco-part'!$C:$E,3,FALSE)","v":"092"},3.5999999999999997E-2]
["REP ABJ",4,"22151620220",null,"Entretien et aménagement du jardin","Equipement personnel et accessoires de protection de jardinage","Dérivés de bois >90%","Compris entre 1 kg et 2 kg exclus","€/unité",7.0000000000000007E-2,7.0000000000000007E-2,{"$f":"VLOOKUP(J2960,'Codes éco-part'!$C:$E,3,FALSE)","v":"247"},8.4000000000000005E-2]
["REP ABJ",4,"22151620520",null,"Entretien et aménagement du jardin","Equipement personnel et accessoires de protection de jardinage","Dérivés de bois >90%","Compris entre 2 kg et 3 kg exclus","€/unité",0.11,0.11,{"$f":"VLOOKUP(J2961,'Codes éco-part'!$C:$E,3,FALSE)","v":"262"},0.13200000000000001]
["REP ABJ",4,"22151620530",null,"Entretien et aménagement du jardin","Equipement personnel et accessoires de protection de jardinage","Dérivés de bois >90%","Compris entre 3 kg et 5 kg exclus","€/unité",0.18,0.18,{"$f":"VLOOKUP(J2962,'Codes éco-part'!$C:$E,3,FALSE)","v":"100"},0.216]
["REP ABJ",4,"22151620540",null,"Entretien et aménagement du jardin","Equipement personnel et accessoires de protection de jardinage","Dérivés de bois >90%","Compris entre 5 kg et 7 kg exclus","€/unité",0.32,0.32,{"$f":"VLOOKUP(J2963,'Codes éco-part'!$C:$E,3,FALSE)","v":"447"},0.38400000000000001]
["REP ABJ",4,"22151630000",null,"Entretien et aménagement du jardin","Equipement personnel et accessoires de protection de jardinage","Caoutchouc naturel >90%","Eléments de toutes dimensions et poids","€ / Tonne",50,50,{"$f":"VLOOKUP(J2964,'Codes éco-part'!$C:$E,3,FALSE)","v":"173"},60]
["REP ABJ",4,"22151630200",null,"Entretien et aménagement du jardin","Equipement personnel et accessoires de protection de jardinage","Caoutchouc naturel >90%","Inférieur strictement à 0,5 kg","€/unité",0.01,0.01,{"$f":"VLOOKUP(J2965,'Codes éco-part'!$C:$E,3,FALSE)","v":"260"},1.2E-2]
["REP ABJ",4,"22151630210",null,"Entretien et aménagement du jardin","Equipement personnel et accessoires de protection de jardinage","Caoutchouc naturel >90%","Compris entre 0,5 kg et 1 kg exclus","€/unité",0.04,0.04,{"$f":"VLOOKUP(J2966,'Codes éco-part'!$C:$E,3,FALSE)","v":"002"},4.8000000000000001E-2]
["REP ABJ",4,"22151630220",null,"Entretien et aménagement du jardin","Equipement personnel et accessoires de protection de jardinage","Caoutchouc naturel >90%","Compris entre 1 kg et 2 kg exclus","€/unité",0.08,0.08,{"$f":"VLOOKUP(J2967,'Codes éco-part'!$C:$E,3,FALSE)","v":"003"},9.6000000000000002E-2]
["REP ABJ",4,"22151630520",null,"Entretien et aménagement du jardin","Equipement personnel et accessoires de protection de jardinage","Caoutchouc naturel >90%","Compris entre 2 kg et 3 kg exclus","€/unité",0.13,0.13,{"$f":"VLOOKUP(J2968,'Codes éco-part'!$C:$E,3,FALSE)","v":"004"},0.156]
["REP ABJ",4,"22151630530",null,"Entretien et aménagement du jardin","Equipement personnel et accessoires de protection de jardinage","Caoutchouc naturel >90%","Compris entre 3 kg et 5 kg exclus","€/unité",0.2,0.2,{"$f":"VLOOKUP(J2969,'Codes éco-part'!$C:$E,3,FALSE)","v":"101"},{"$f":"J2969*1.2","v":0.24}]
["REP ABJ",4,"22151630540",null,"Entretien et aménagement du jardin","Equipement personnel et accessoires de protection de jardinage","Caoutchouc naturel >90%","Compris entre 5 kg et 7 kg exclus","€/unité",0.35,0.35,{"$f":"VLOOKUP(J2970,'Codes éco-part'!$C:$E,3,FALSE)","v":"448"},0.42]
["REP ABJ",4,"22151640000",null,"Entretien et aménagement du jardin","Equipement personnel et accessoires de protection de jardinage","Caoutchouc naturel >50%","Eléments de toutes dimensions et poids","€ / Tonne",215,215,{"$f":"VLOOKUP(J2971,'Codes éco-part'!$C:$E,3,FALSE)","v":"498"},258]
["REP ABJ",4,"22151640200",null,"Entretien et aménagement du jardin","Equipement personnel et accessoires de protection de jardinage","Caoutchouc naturel >50%","Inférieur strictement à 0,5 kg","€/unité",0.05,0.05,{"$f":"VLOOKUP(J2972,'Codes éco-part'!$C:$E,3,FALSE)","v":"048"},0.06]
["REP ABJ",4,"22151640210",null,"Entretien et aménagement du jardin","Equipement personnel et accessoires de protection de jardinage","Caoutchouc naturel >50%","Compris entre 0,5 kg et 1 kg exclus","€/unité",0.16,0.16,{"$f":"VLOOKUP(J2973,'Codes éco-part'!$C:$E,3,FALSE)","v":"099"},0.192]
["REP ABJ",4,"22151640220",null,"Entretien et aménagement du jardin","Equipement personnel et accessoires de protection de jardinage","Caoutchouc naturel >50%","Compris entre 1 kg et 2 kg exclus","€/unité",0.32,0.32,{"$f":"VLOOKUP(J2974,'Codes éco-part'!$C:$E,3,FALSE)","v":"447"},0.38400000000000001]
["REP ABJ",4,"22151640520",null,"Entretien et aménagement du jardin","Equipement personnel et accessoires de protection de jardinage","Caoutchouc naturel >50%","Compris entre 2 kg et 3 kg exclus","€/unité",0.54,0.54,{"$f":"VLOOKUP(J2975,'Codes éco-part'!$C:$E,3,FALSE)","v":"500"},0.64800000000000002]
["REP ABJ",4,"22151640530",null,"Entretien et aménagement du jardin","Equipement personnel et accessoires de protection de jardinage","Caoutchouc naturel >50%","Compris entre 3 kg et 5 kg exclus","€/unité",0.86,0.86,{"$f":"VLOOKUP(J2976,'Codes éco-part'!$C:$E,3,FALSE)","v":"501"},1.032]
["REP ABJ",4,"22151640540",null,"Entretien et aménagement du jardin","Equipement personnel et accessoires de protection de jardinage","Caoutchouc naturel >50%","Compris entre 5 kg et 7 kg exclus","€/unité",1.51,1.51,{"$f":"VLOOKUP(J2977,'Codes éco-part'!$C:$E,3,FALSE)","v":"502"},1.8119999999999998]
["REP ABJ",4,"22151650000",null,"Entretien et aménagement du jardin","Equipement personnel et accessoires de protection de jardinage","Matériaux ou fibres synthétiques >90%","Eléments de toutes dimensions et poids","€ / Tonne",165,165,{"$f":"VLOOKUP(J2978,'Codes éco-part'!$C:$E,3,FALSE)","v":"496"},198]
["REP ABJ",4,"22151650200",null,"Entretien et aménagement du jardin","Equipement personnel et accessoires de protection de jardinage","Matériaux ou fibres synthétiques >90%","Inférieur strictement à 0,5 kg","€/unité",0.04,0.04,{"$f":"VLOOKUP(J2979,'Codes éco-part'!$C:$E,3,FALSE)","v":"002"},4.8000000000000001E-2]
["REP ABJ",4,"22151650210",null,"Entretien et aménagement du jardin","Equipement personnel et accessoires de protection de jardinage","Matériaux ou fibres synthétiques >90%","Compris entre 0,5 kg et 1 kg exclus","€/unité",0.12,0.12,{"$f":"VLOOKUP(J2980,'Codes éco-part'!$C:$E,3,FALSE)","v":"097"},0.14399999999999999]
["REP ABJ",4,"22151650220",null,"Entretien et aménagement du jardin","Equipement personnel et accessoires de protection de jardinage","Matériaux ou fibres synthétiques >90%","Compris entre 1 kg et 2 kg exclus","€/unité",0.25,0.25,{"$f":"VLOOKUP(J2981,'Codes éco-part'!$C:$E,3,FALSE)","v":"095"},0.3]
["REP ABJ",4,"22151650520",null,"Entretien et aménagement du jardin","Equipement personnel et accessoires de protection de jardinage","Matériaux ou fibres synthétiques >90%","Compris entre 2 kg et 3 kg exclus","€/unité",0.41,0.41,{"$f":"VLOOKUP(J2982,'Codes éco-part'!$C:$E,3,FALSE)","v":"503"},0.49199999999999994]
["REP ABJ",4,"22151650530",null,"Entretien et aménagement du jardin","Equipement personnel et accessoires de protection de jardinage","Matériaux ou fibres synthétiques >90%","Compris entre 3 kg et 5 kg exclus","€/unité",0.66,0.66,{"$f":"VLOOKUP(J2983,'Codes éco-part'!$C:$E,3,FALSE)","v":"453"},0.79200000000000004]
["REP ABJ",4,"22151650540",null,"Entretien et aménagement du jardin","Equipement personnel et accessoires de protection de jardinage","Matériaux ou fibres synthétiques >90%","Compris entre 5 kg et 7 kg exclus","€/unité",1.1599999999999999,1.1599999999999999,{"$f":"VLOOKUP(J2984,'Codes éco-part'!$C:$E,3,FALSE)","v":"504"},1.3919999999999999]
["REP ABJ",4,"22151670000",null,"Entretien et aménagement du jardin","Equipement personnel et accessoires de protection de jardinage","Assemblage matériaux ou fibres synthétiques >50% avec d'autres matériaux","Eléments de toutes dimensions et poids","€ / Tonne",215,215,{"$f":"VLOOKUP(J2985,'Codes éco-part'!$C:$E,3,FALSE)","v":"498"},258]
["REP ABJ",4,"22151670200",null,"Entretien et aménagement du jardin","Equipement personnel et accessoires de protection de jardinage","Assemblage matériaux ou fibres synthétiques >50% avec d'autres matériaux","Inférieur strictement à 0,5 kg","€/unité",0.05,0.05,{"$f":"VLOOKUP(J2986,'Codes éco-part'!$C:$E,3,FALSE)","v":"048"},0.06]
["REP ABJ",4,"22151670210",null,"Entretien et aménagement du jardin","Equipement personnel et accessoires de protection de jardinage","Assemblage matériaux ou fibres synthétiques >50% avec d'autres matériaux","Compris entre 0,5 kg et 1 kg exclus","€/unité",0.16,0.16,{"$f":"VLOOKUP(J2987,'Codes éco-part'!$C:$E,3,FALSE)","v":"099"},0.192]
["REP ABJ",4,"22151670220",null,"Entretien et aménagement du jardin","Equipement personnel et accessoires de protection de jardinage","Assemblage matériaux ou fibres synthétiques >50% avec d'autres matériaux","Compris entre 1 kg et 2 kg exclus","€/unité",0.32,0.32,{"$f":"VLOOKUP(J2988,'Codes éco-part'!$C:$E,3,FALSE)","v":"447"},0.38400000000000001]
["REP ABJ",4,"22151670520",null,"Entretien et aménagement du jardin","Equipement personnel et accessoires de protection de jardinage","Assemblage matériaux ou fibres synthétiques >50% avec d'autres matériaux","Compris entre 2 kg et 3 kg exclus","€/unité",0.54,0.54,{"$f":"VLOOKUP(J2989,'Codes éco-part'!$C:$E,3,FALSE)","v":"500"},0.64800000000000002]
["REP ABJ",4,"22151670530",null,"Entretien et aménagement du jardin","Equipement personnel et accessoires de protection de jardinage","Assemblage matériaux ou fibres synthétiques >50% avec d'autres matériaux","Compris entre 3 kg et 5 kg exclus","€/unité",0.86,0.86,{"$f":"VLOOKUP(J2990,'Codes éco-part'!$C:$E,3,FALSE)","v":"501"},1.032]
["REP ABJ",4,"22151670540",null,"Entretien et aménagement du jardin","Equipement personnel et accessoires de protection de jardinage","Assemblage matériaux ou fibres synthétiques >50% avec d'autres matériaux","Compris entre 5 kg et 7 kg exclus","€/unité",1.51,1.51,{"$f":"VLOOKUP(J2991,'Codes éco-part'!$C:$E,3,FALSE)","v":"502"},1.8119999999999998]
["REP ABJ",4,"22151680000",null,"Entretien et aménagement du jardin","Equipement personnel et accessoires de protection de jardinage","Verre >90%","Eléments de toutes dimensions et poids","€ / Tonne",5,5,{"$f":"VLOOKUP(J2992,'Codes éco-part'!$C:$E,3,FALSE)","v":"042"},6]
["REP ABJ",4,"22151680200",null,"Entretien et aménagement du jardin","Equipement personnel et accessoires de protection de jardinage","Verre >90%","Inférieur strictement à 0,5 kg","€/unité",0.01,0.01,{"$f":"VLOOKUP(J2993,'Codes éco-part'!$C:$E,3,FALSE)","v":"260"},1.2E-2]
["REP ABJ",4,"22151680210",null,"Entretien et aménagement du jardin","Equipement personnel et accessoires de protection de jardinage","Verre >90%","Compris entre 0,5 kg et 1 kg exclus","€/unité",0.01,0.01,{"$f":"VLOOKUP(J2994,'Codes éco-part'!$C:$E,3,FALSE)","v":"260"},1.2E-2]
["REP ABJ",4,"22151680220",null,"Entretien et aménagement du jardin","Equipement personnel et accessoires de protection de jardinage","Verre >90%","Compris entre 1 kg et 2 kg exclus","€/unité",0.01,0.01,{"$f":"VLOOKUP(J2995,'Codes éco-part'!$C:$E,3,FALSE)","v":"260"},1.2E-2]
["REP ABJ",4,"22151680520",null,"Entretien et aménagement du jardin","Equipement personnel et accessoires de protection de jardinage","Verre >90%","Compris entre 2 kg et 3 kg exclus","€/unité",0.01,0.01,{"$f":"VLOOKUP(J2996,'Codes éco-part'!$C:$E,3,FALSE)","v":"260"},1.2E-2]
["REP ABJ",4,"22151680530",null,"Entretien et aménagement du jardin","Equipement personnel et accessoires de protection de jardinage","Verre >90%","Compris entre 3 kg et 5 kg exclus","€/unité",0.02,0.02,{"$f":"VLOOKUP(J2997,'Codes éco-part'!$C:$E,3,FALSE)","v":"047"},2.4E-2]
["REP ABJ",4,"22151680540",null,"Entretien et aménagement du jardin","Equipement personnel et accessoires de protection de jardinage","Verre >90%","Compris entre 5 kg et 7 kg exclus","€/unité",0.04,0.04,{"$f":"VLOOKUP(J2998,'Codes éco-part'!$C:$E,3,FALSE)","v":"002"},4.8000000000000001E-2]
["REP ABJ",4,"22151700000",null,"Entretien et aménagement du jardin","Equipement personnel et accessoires de protection de jardinage","Assemblage verre à plus de 50% avec métal","Eléments de toutes dimensions et poids","€ / Tonne",215,215,{"$f":"VLOOKUP(J2999,'Codes éco-part'!$C:$E,3,FALSE)","v":"498"},258]
["REP ABJ",4,"22151700200",null,"Entretien et aménagement du jardin","Equipement personnel et accessoires de protection de jardinage","Assemblage verre à plus de 50% avec métal","Inférieur strictement à 0,5 kg","€/unité",0.05,0.05,{"$f":"VLOOKUP(J3000,'Codes éco-part'!$C:$E,3,FALSE)","v":"048"},0.06]
["REP ABJ",4,"22151700210",null,"Entretien et aménagement du jardin","Equipement personnel et accessoires de protection de jardinage","Assemblage verre à plus de 50% avec métal","Compris entre 0,5 kg et 1 kg exclus","€/unité",0.16,0.16,{"$f":"VLOOKUP(J3001,'Codes éco-part'!$C:$E,3,FALSE)","v":"099"},0.192]
["REP ABJ",4,"22151700220",null,"Entretien et aménagement du jardin","Equipement personnel et accessoires de protection de jardinage","Assemblage verre à plus de 50% avec métal","Compris entre 1 kg et 2 kg exclus","€/unité",0.32,0.32,{"$f":"VLOOKUP(J3002,'Codes éco-part'!$C:$E,3,FALSE)","v":"447"},0.38400000000000001]
["REP ABJ",4,"22151700520",null,"Entretien et aménagement du jardin","Equipement personnel et accessoires de protection de jardinage","Assemblage verre à plus de 50% avec métal","Compris entre 2 kg et 3 kg exclus","€/unité",0.54,0.54,{"$f":"VLOOKUP(J3003,'Codes éco-part'!$C:$E,3,FALSE)","v":"500"},0.64800000000000002]
["REP ABJ",4,"22151700530",null,"Entretien et aménagement du jardin","Equipement personnel et accessoires de protection de jardinage","Assemblage verre à plus de 50% avec métal","Compris entre 3 kg et 5 kg exclus","€/unité",0.86,0.86,{"$f":"VLOOKUP(J3004,'Codes éco-part'!$C:$E,3,FALSE)","v":"501"},1.032]
["REP ABJ",4,"22151700540",null,"Entretien et aménagement du jardin","Equipement personnel et accessoires de protection de jardinage","Assemblage verre à plus de 50% avec métal","Compris entre 5 kg et 7 kg exclus","€/unité",1.51,1.51,{"$f":"VLOOKUP(J3005,'Codes éco-part'!$C:$E,3,FALSE)","v":"502"},1.8119999999999998]
["REP ABJ",4,"22151710000",null,"Entretien et aménagement du jardin","Equipement personnel et accessoires de protection de jardinage","Assemblage verre à plus de 50% avec Inerte","Eléments de toutes dimensions et poids","€ / Tonne",215,215,{"$f":"VLOOKUP(J3006,'Codes éco-part'!$C:$E,3,FALSE)","v":"498"},258]
["REP ABJ",4,"22151710200",null,"Entretien et aménagement du jardin","Equipement personnel et accessoires de protection de jardinage","Assemblage verre à plus de 50% avec Inerte","Inférieur strictement à 0,5 kg","€/unité",0.05,0.05,{"$f":"VLOOKUP(J3007,'Codes éco-part'!$C:$E,3,FALSE)","v":"048"},0.06]
["REP ABJ",4,"22151710210",null,"Entretien et aménagement du jardin","Equipement personnel et accessoires de protection de jardinage","Assemblage verre à plus de 50% avec Inerte","Compris entre 0,5 kg et 1 kg exclus","€/unité",0.16,0.16,{"$f":"VLOOKUP(J3008,'Codes éco-part'!$C:$E,3,FALSE)","v":"099"},0.192]
["REP ABJ",4,"22151710220",null,"Entretien et aménagement du jardin","Equipement personnel et accessoires de protection de jardinage","Assemblage verre à plus de 50% avec Inerte","Compris entre 1 kg et 2 kg exclus","€/unité",0.32,0.32,{"$f":"VLOOKUP(J3009,'Codes éco-part'!$C:$E,3,FALSE)","v":"447"},0.38400000000000001]
["REP ABJ",4,"22151710520",null,"Entretien et aménagement du jardin","Equipement personnel et accessoires de protection de jardinage","Assemblage verre à plus de 50% avec Inerte","Compris entre 2 kg et 3 kg exclus","€/unité",0.54,0.54,{"$f":"VLOOKUP(J3010,'Codes éco-part'!$C:$E,3,FALSE)","v":"500"},0.64800000000000002]
["REP ABJ",4,"22151710530",null,"Entretien et aménagement du jardin","Equipement personnel et accessoires de protection de jardinage","Assemblage verre à plus de 50% avec Inerte","Compris entre 3 kg et 5 kg exclus","€/unité",0.86,0.86,{"$f":"VLOOKUP(J3011,'Codes éco-part'!$C:$E,3,FALSE)","v":"501"},1.032]
["REP ABJ",4,"22151710540",null,"Entretien et aménagement du jardin","Equipement personnel et accessoires de protection de jardinage","Assemblage verre à plus de 50% avec Inerte","Compris entre 5 kg et 7 kg exclus","€/unité",1.51,1.51,{"$f":"VLOOKUP(J3012,'Codes éco-part'!$C:$E,3,FALSE)","v":"502"},1.8119999999999998]
["REP ABJ",4,"22151720000",null,"Entretien et aménagement du jardin","Equipement personnel et accessoires de protection de jardinage","Assemblage verre à plus de 50% avec bois ou dérivés de bois","Eléments de toutes dimensions et poids","€ / Tonne",215,215,{"$f":"VLOOKUP(J3013,'Codes éco-part'!$C:$E,3,FALSE)","v":"498"},258]
["REP ABJ",4,"22151720200",null,"Entretien et aménagement du jardin","Equipement personnel et accessoires de protection de jardinage","Assemblage verre à plus de 50% avec bois ou dérivés de bois","Inférieur strictement à 0,5 kg","€/unité",0.05,0.05,{"$f":"VLOOKUP(J3014,'Codes éco-part'!$C:$E,3,FALSE)","v":"048"},0.06]
["REP ABJ",4,"22151720210",null,"Entretien et aménagement du jardin","Equipement personnel et accessoires de protection de jardinage","Assemblage verre à plus de 50% avec bois ou dérivés de bois","Compris entre 0,5 kg et 1 kg exclus","€/unité",0.16,0.16,{"$f":"VLOOKUP(J3015,'Codes éco-part'!$C:$E,3,FALSE)","v":"099"},0.192]
["REP ABJ",4,"22151720220",null,"Entretien et aménagement du jardin","Equipement personnel et accessoires de protection de jardinage","Assemblage verre à plus de 50% avec bois ou dérivés de bois","Compris entre 1 kg et 2 kg exclus","€/unité",0.32,0.32,{"$f":"VLOOKUP(J3016,'Codes éco-part'!$C:$E,3,FALSE)","v":"447"},0.38400000000000001]
["REP ABJ",4,"22151720520",null,"Entretien et aménagement du jardin","Equipement personnel et accessoires de protection de jardinage","Assemblage verre à plus de 50% avec bois ou dérivés de bois","Compris entre 2 kg et 3 kg exclus","€/unité",0.54,0.54,{"$f":"VLOOKUP(J3017,'Codes éco-part'!$C:$E,3,FALSE)","v":"500"},0.64800000000000002]
["REP ABJ",4,"22151720530",null,"Entretien et aménagement du jardin","Equipement personnel et accessoires de protection de jardinage","Assemblage verre à plus de 50% avec bois ou dérivés de bois","Compris entre 3 kg et 5 kg exclus","€/unité",0.86,0.86,{"$f":"VLOOKUP(J3018,'Codes éco-part'!$C:$E,3,FALSE)","v":"501"},1.032]
["REP ABJ",4,"22151720540",null,"Entretien et aménagement du jardin","Equipement personnel et accessoires de protection de jardinage","Assemblage verre à plus de 50% avec bois ou dérivés de bois","Compris entre 5 kg et 7 kg exclus","€/unité",1.51,1.51,{"$f":"VLOOKUP(J3019,'Codes éco-part'!$C:$E,3,FALSE)","v":"502"},1.8119999999999998]
["REP ABJ",4,"22151730000",null,"Entretien et aménagement du jardin","Equipement personnel et accessoires de protection de jardinage","Assemblage verre à plus de 50% avec plastique","Eléments de toutes dimensions et poids","€ / Tonne",215,215,{"$f":"VLOOKUP(J3020,'Codes éco-part'!$C:$E,3,FALSE)","v":"498"},258]
["REP ABJ",4,"22151730200",null,"Entretien et aménagement du jardin","Equipement personnel et accessoires de protection de jardinage","Assemblage verre à plus de 50% avec plastique","Inférieur strictement à 0,5 kg","€/unité",0.05,0.05,{"$f":"VLOOKUP(J3021,'Codes éco-part'!$C:$E,3,FALSE)","v":"048"},0.06]
["REP ABJ",4,"22151730210",null,"Entretien et aménagement du jardin","Equipement personnel et accessoires de protection de jardinage","Assemblage verre à plus de 50% avec plastique","Compris entre 0,5 kg et 1 kg exclus","€/unité",0.16,0.16,{"$f":"VLOOKUP(J3022,'Codes éco-part'!$C:$E,3,FALSE)","v":"099"},0.192]
["REP ABJ",4,"22151730220",null,"Entretien et aménagement du jardin","Equipement personnel et accessoires de protection de jardinage","Assemblage verre à plus de 50% avec plastique","Compris entre 1 kg et 2 kg exclus","€/unité",0.32,0.32,{"$f":"VLOOKUP(J3023,'Codes éco-part'!$C:$E,3,FALSE)","v":"447"},0.38400000000000001]
["REP ABJ",4,"22151730520",null,"Entretien et aménagement du jardin","Equipement personnel et accessoires de protection de jardinage","Assemblage verre à plus de 50% avec plastique","Compris entre 2 kg et 3 kg exclus","€/unité",0.54,0.54,{"$f":"VLOOKUP(J3024,'Codes éco-part'!$C:$E,3,FALSE)","v":"500"},0.64800000000000002]
["REP ABJ",4,"22151730530",null,"Entretien et aménagement du jardin","Equipement personnel et accessoires de protection de jardinage","Assemblage verre à plus de 50% avec plastique","Compris entre 3 kg et 5 kg exclus","€/unité",0.86,0.86,{"$f":"VLOOKUP(J3025,'Codes éco-part'!$C:$E,3,FALSE)","v":"501"},1.032]
["REP ABJ",4,"22151730540",null,"Entretien et aménagement du jardin","Equipement personnel et accessoires de protection de jardinage","Assemblage verre à plus de 50% avec plastique","Compris entre 5 kg et 7 kg exclus","€/unité",1.51,1.51,{"$f":"VLOOKUP(J3026,'Codes éco-part'!$C:$E,3,FALSE)","v":"502"},1.8119999999999998]
["REP ABJ",4,"22151810000",null,"Entretien et aménagement du jardin","Equipement personnel et accessoires de protection de jardinage","Assemblage dont la composition conjointe en bois, dérivés de bois et en métal dépasse 90%","Eléments de toutes dimensions et poids","€ / Tonne",45,45,{"$f":"VLOOKUP(J3027,'Codes éco-part'!$C:$E,3,FALSE)","v":"169"},54]
["REP ABJ",4,"22151810200",null,"Entretien et aménagement du jardin","Equipement personnel et accessoires de protection de jardinage","Assemblage dont la composition conjointe en bois, dérivés de bois et en métal dépasse 90%","Inférieur strictement à 0,5 kg","€/unité",0.01,0.01,{"$f":"VLOOKUP(J3028,'Codes éco-part'!$C:$E,3,FALSE)","v":"260"},1.2E-2]
["REP ABJ",4,"22151810210",null,"Entretien et aménagement du jardin","Equipement personnel et accessoires de protection de jardinage","Assemblage dont la composition conjointe en bois, dérivés de bois et en métal dépasse 90%","Compris entre 0,5 kg et 1 kg exclus","€/unité",0.03,0.03,{"$f":"VLOOKUP(J3029,'Codes éco-part'!$C:$E,3,FALSE)","v":"092"},3.5999999999999997E-2]
["REP ABJ",4,"22151810220",null,"Entretien et aménagement du jardin","Equipement personnel et accessoires de protection de jardinage","Assemblage dont la composition conjointe en bois, dérivés de bois et en métal dépasse 90%","Compris entre 1 kg et 2 kg exclus","€/unité",7.0000000000000007E-2,7.0000000000000007E-2,{"$f":"VLOOKUP(J3030,'Codes éco-part'!$C:$E,3,FALSE)","v":"247"},8.4000000000000005E-2]
["REP ABJ",4,"22151810520",null,"Entretien et aménagement du jardin","Equipement personnel et accessoires de protection de jardinage","Assemblage dont la composition conjointe en bois, dérivés de bois et en métal dépasse 90%","Compris entre 2 kg et 3 kg exclus","€/unité",0.11,0.11,{"$f":"VLOOKUP(J3031,'Codes éco-part'!$C:$E,3,FALSE)","v":"262"},0.13200000000000001]
["REP ABJ",4,"22151810530",null,"Entretien et aménagement du jardin","Equipement personnel et accessoires de protection de jardinage","Assemblage dont la composition conjointe en bois, dérivés de bois et en métal dépasse 90%","Compris entre 3 kg et 5 kg exclus","€/unité",0.18,0.18,{"$f":"VLOOKUP(J3032,'Codes éco-part'!$C:$E,3,FALSE)","v":"100"},0.216]
["REP ABJ",4,"22151810540",null,"Entretien et aménagement du jardin","Equipement personnel et accessoires de protection de jardinage","Assemblage dont la composition conjointe en bois, dérivés de bois et en métal dépasse 90%","Compris entre 5 kg et 7 kg exclus","€/unité",0.32,0.32,{"$f":"VLOOKUP(J3033,'Codes éco-part'!$C:$E,3,FALSE)","v":"447"},{"$f":"J3033*1.2","v":0.38400000000000001}]
["REP ABJ",4,"22151820000",null,"Entretien et aménagement du jardin","Equipement personnel et accessoires de protection de jardinage","Assemblage de 3 matériaux ou plus sans un matériau à plus de 50%","Eléments de toutes dimensions et poids","€ / Tonne",215,215,{"$f":"VLOOKUP(J3034,'Codes éco-part'!$C:$E,3,FALSE)","v":"498"},258]
["REP ABJ",4,"22151820200",null,"Entretien et aménagement du jardin","Equipement personnel et accessoires de protection de jardinage","Assemblage de 3 matériaux ou plus sans un matériau à plus de 50%","Inférieur strictement à 0,5 kg","€/unité",0.05,0.05,{"$f":"VLOOKUP(J3035,'Codes éco-part'!$C:$E,3,FALSE)","v":"048"},0.06]
["REP ABJ",4,"22151820210",null,"Entretien et aménagement du jardin","Equipement personnel et accessoires de protection de jardinage","Assemblage de 3 matériaux ou plus sans un matériau à plus de 50%","Compris entre 0,5 kg et 1 kg exclus","€/unité",0.16,0.16,{"$f":"VLOOKUP(J3036,'Codes éco-part'!$C:$E,3,FALSE)","v":"099"},0.192]
["REP ABJ",4,"22151820220",null,"Entretien et aménagement du jardin","Equipement personnel et accessoires de protection de jardinage","Assemblage de 3 matériaux ou plus sans un matériau à plus de 50%","Compris entre 1 kg et 2 kg exclus","€/unité",0.32,0.32,{"$f":"VLOOKUP(J3037,'Codes éco-part'!$C:$E,3,FALSE)","v":"447"},0.38400000000000001]
["REP ABJ",4,"22151820520",null,"Entretien et aménagement du jardin","Equipement personnel et accessoires de protection de jardinage","Assemblage de 3 matériaux ou plus sans un matériau à plus de 50%","Compris entre 2 kg et 3 kg exclus","€/unité",0.54,0.54,{"$f":"VLOOKUP(J3038,'Codes éco-part'!$C:$E,3,FALSE)","v":"500"},0.64800000000000002]
["REP ABJ",4,"22151820530",null,"Entretien et aménagement du jardin","Equipement personnel et accessoires de protection de jardinage","Assemblage de 3 matériaux ou plus sans un matériau à plus de 50%","Compris entre 3 kg et 5 kg exclus","€/unité",0.86,0.86,{"$f":"VLOOKUP(J3039,'Codes éco-part'!$C:$E,3,FALSE)","v":"501"},1.032]
["REP ABJ",4,"22151820540",null,"Entretien et aménagement du jardin","Equipement personnel et accessoires de protection de jardinage","Assemblage de 3 matériaux ou plus sans un matériau à plus de 50%","Compris entre 5 kg et 7 kg exclus","€/unité",1.51,1.51,{"$f":"VLOOKUP(J3040,'Codes éco-part'!$C:$E,3,FALSE)","v":"502"},1.8119999999999998]
["REP ABJ",4,"22152000000",null,"Entretien et aménagement du jardin","Pots de fleur et contenants","Non connu ou non spécifié par l'entreprise","Eléments de toutes dimensions et poids","€ / Tonne",170,170,{"$f":"VLOOKUP(J3041,'Codes éco-part'!$C:$E,3,FALSE)","v":"497"},204]
["REP ABJ",4,"22152000200",null,"Entretien et aménagement du jardin","Pots de fleur et contenants","Non connu ou non spécifié par l'entreprise","Inférieur strictement à 0,5 kg","€/unité",0.04,0.04,{"$f":"VLOOKUP(J3042,'Codes éco-part'!$C:$E,3,FALSE)","v":"002"},4.8000000000000001E-2]
["REP ABJ",4,"22152000210",null,"Entretien et aménagement du jardin","Pots de fleur et contenants","Non connu ou non spécifié par l'entreprise","Compris entre 0,5 kg et 1 kg exclus","€/unité",0.13,0.13,{"$f":"VLOOKUP(J3043,'Codes éco-part'!$C:$E,3,FALSE)","v":"004"},0.156]
["REP ABJ",4,"22152000220",null,"Entretien et aménagement du jardin","Pots de fleur et contenants","Non connu ou non spécifié par l'entreprise","Compris entre 1 kg et 2 kg exclus","€/unité",0.26,0.26,{"$f":"VLOOKUP(J3044,'Codes éco-part'!$C:$E,3,FALSE)","v":"445"},0.312]
["REP ABJ",4,"22152000520",null,"Entretien et aménagement du jardin","Pots de fleur et contenants","Non connu ou non spécifié par l'entreprise","Compris entre 2 kg et 3 kg exclus","€/unité",0.43,0.43,{"$f":"VLOOKUP(J3045,'Codes éco-part'!$C:$E,3,FALSE)","v":"506"},0.51600000000000001]
["REP ABJ",4,"22152000530",null,"Entretien et aménagement du jardin","Pots de fleur et contenants","Non connu ou non spécifié par l'entreprise","Compris entre 3 kg et 5 kg exclus","€/unité",0.68,0.68,{"$f":"VLOOKUP(J3046,'Codes éco-part'!$C:$E,3,FALSE)","v":"044"},0.81600000000000006]
["REP ABJ",4,"22152000540",null,"Entretien et aménagement du jardin","Pots de fleur et contenants","Non connu ou non spécifié par l'entreprise","Compris entre 5 kg et 7 kg exclus","€/unité",1.19,1.19,{"$f":"VLOOKUP(J3047,'Codes éco-part'!$C:$E,3,FALSE)","v":"507"},1.4279999999999999]
["REP ABJ",4,"22152000550",null,"Entretien et aménagement du jardin","Pots de fleur et contenants","Non connu ou non spécifié par l'entreprise","Compris entre 7 kg et 10 kg exclus","€/unité",1.7,1.7,{"$f":"VLOOKUP(J3048,'Codes éco-part'!$C:$E,3,FALSE)","v":"256"},2.04]
["REP ABJ",4,"22152000560",null,"Entretien et aménagement du jardin","Pots de fleur et contenants","Non connu ou non spécifié par l'entreprise","Compris entre 10 kg et 15 kg exclus","€/unité",2.5499999999999998,2.5499999999999998,{"$f":"VLOOKUP(J3049,'Codes éco-part'!$C:$E,3,FALSE)","v":"272"},3.0599999999999996]
["REP ABJ",4,"22152000570",null,"Entretien et aménagement du jardin","Pots de fleur et contenants","Non connu ou non spécifié par l'entreprise","Compris entre 15 kg et 20 kg exclus","€/unité",3.4,3.4,{"$f":"VLOOKUP(J3050,'Codes éco-part'!$C:$E,3,FALSE)","v":"508"},4.08]
["REP ABJ",4,"22152000900",null,"Entretien et aménagement du jardin","Pots de fleur et contenants","Non connu ou non spécifié par l'entreprise","Lot de 10","€/Lot",10.199999999999999,10.199999999999999,{"$f":"VLOOKUP(J3051,'Codes éco-part'!$C:$E,3,FALSE)","v":"517"},12.239999999999998]
["REP ABJ",4,"22152010000",null,"Entretien et aménagement du jardin","Pots de fleur et contenants","Assemblage de bois, dérivés de bois à plus de 50% avec d'autres matériaux ou bois composite (hors verre)","Eléments de toutes dimensions et poids","€ / Tonne",20,20,{"$f":"VLOOKUP(J3052,'Codes éco-part'!$C:$E,3,FALSE)","v":"148"},24]
["REP ABJ",4,"22152010200",null,"Entretien et aménagement du jardin","Pots de fleur et contenants","Assemblage de bois, dérivés de bois à plus de 50% avec d'autres matériaux ou bois composite (hors verre)","Inférieur strictement à 0,5 kg","€/unité",0.01,0.01,{"$f":"VLOOKUP(J3053,'Codes éco-part'!$C:$E,3,FALSE)","v":"260"},1.2E-2]
["REP ABJ",4,"22152010210",null,"Entretien et aménagement du jardin","Pots de fleur et contenants","Assemblage de bois, dérivés de bois à plus de 50% avec d'autres matériaux ou bois composite (hors verre)","Compris entre 0,5 kg et 1 kg exclus","€/unité",0.02,0.02,{"$f":"VLOOKUP(J3054,'Codes éco-part'!$C:$E,3,FALSE)","v":"047"},2.4E-2]
["REP ABJ",4,"22152010220",null,"Entretien et aménagement du jardin","Pots de fleur et contenants","Assemblage de bois, dérivés de bois à plus de 50% avec d'autres matériaux ou bois composite (hors verre)","Compris entre 1 kg et 2 kg exclus","€/unité",0.03,0.03,{"$f":"VLOOKUP(J3055,'Codes éco-part'!$C:$E,3,FALSE)","v":"092"},3.5999999999999997E-2]
["REP ABJ",4,"22152010520",null,"Entretien et aménagement du jardin","Pots de fleur et contenants","Assemblage de bois, dérivés de bois à plus de 50% avec d'autres matériaux ou bois composite (hors verre)","Compris entre 2 kg et 3 kg exclus","€/unité",0.05,0.05,{"$f":"VLOOKUP(J3056,'Codes éco-part'!$C:$E,3,FALSE)","v":"048"},0.06]
["REP ABJ",4,"22152010530",null,"Entretien et aménagement du jardin","Pots de fleur et contenants","Assemblage de bois, dérivés de bois à plus de 50% avec d'autres matériaux ou bois composite (hors verre)","Compris entre 3 kg et 5 kg exclus","€/unité",0.08,0.08,{"$f":"VLOOKUP(J3057,'Codes éco-part'!$C:$E,3,FALSE)","v":"003"},9.6000000000000002E-2]
["REP ABJ",4,"22152010540",null,"Entretien et aménagement du jardin","Pots de fleur et contenants","Assemblage de bois, dérivés de bois à plus de 50% avec d'autres matériaux ou bois composite (hors verre)","Compris entre 5 kg et 7 kg exclus","€/unité",0.14000000000000001,0.14000000000000001,{"$f":"VLOOKUP(J3058,'Codes éco-part'!$C:$E,3,FALSE)","v":"098"},0.16800000000000001]
["REP ABJ",4,"22152010550",null,"Entretien et aménagement du jardin","Pots de fleur et contenants","Assemblage de bois, dérivés de bois à plus de 50% avec d'autres matériaux ou bois composite (hors verre)","Compris entre 7 kg et 10 kg exclus","€/unité",0.2,0.2,{"$f":"VLOOKUP(J3059,'Codes éco-part'!$C:$E,3,FALSE)","v":"101"},0.24]
["REP ABJ",4,"22152010560",null,"Entretien et aménagement du jardin","Pots de fleur et contenants","Assemblage de bois, dérivés de bois à plus de 50% avec d'autres matériaux ou bois composite (hors verre)","Compris entre 10 kg et 15 kg exclus","€/unité",0.3,0.3,{"$f":"VLOOKUP(J3060,'Codes éco-part'!$C:$E,3,FALSE)","v":"446"},0.36]
["REP ABJ",4,"22152010570",null,"Entretien et aménagement du jardin","Pots de fleur et contenants","Assemblage de bois, dérivés de bois à plus de 50% avec d'autres matériaux ou bois composite (hors verre)","Compris entre 15 kg et 20 kg exclus","€/unité",0.4,0.4,{"$f":"VLOOKUP(J3061,'Codes éco-part'!$C:$E,3,FALSE)","v":"105"},0.48]
["REP ABJ",4,"22152020000",null,"Entretien et aménagement du jardin","Pots de fleur et contenants","Assemblage avec métal >50% et autres matériaux","Eléments de toutes dimensions et poids","€ / Tonne",10,10,{"$f":"VLOOKUP(J3062,'Codes éco-part'!$C:$E,3,FALSE)","v":"138"},12]
["REP ABJ",4,"22152020200",null,"Entretien et aménagement du jardin","Pots de fleur et contenants","Assemblage avec métal >50% et autres matériaux","Inférieur strictement à 0,5 kg","€/unité",0.01,0.01,{"$f":"VLOOKUP(J3063,'Codes éco-part'!$C:$E,3,FALSE)","v":"260"},1.2E-2]
["REP ABJ",4,"22152020210",null,"Entretien et aménagement du jardin","Pots de fleur et contenants","Assemblage avec métal >50% et autres matériaux","Compris entre 0,5 kg et 1 kg exclus","€/unité",0.01,0.01,{"$f":"VLOOKUP(J3064,'Codes éco-part'!$C:$E,3,FALSE)","v":"260"},1.2E-2]
["REP ABJ",4,"22152020220",null,"Entretien et aménagement du jardin","Pots de fleur et contenants","Assemblage avec métal >50% et autres matériaux","Compris entre 1 kg et 2 kg exclus","€/unité",0.02,0.02,{"$f":"VLOOKUP(J3065,'Codes éco-part'!$C:$E,3,FALSE)","v":"047"},2.4E-2]
["REP ABJ",4,"22152020520",null,"Entretien et aménagement du jardin","Pots de fleur et contenants","Assemblage avec métal >50% et autres matériaux","Compris entre 2 kg et 3 kg exclus","€/unité",0.03,0.03,{"$f":"VLOOKUP(J3066,'Codes éco-part'!$C:$E,3,FALSE)","v":"092"},3.5999999999999997E-2]
["REP ABJ",4,"22152020530",null,"Entretien et aménagement du jardin","Pots de fleur et contenants","Assemblage avec métal >50% et autres matériaux","Compris entre 3 kg et 5 kg exclus","€/unité",0.04,0.04,{"$f":"VLOOKUP(J3067,'Codes éco-part'!$C:$E,3,FALSE)","v":"002"},4.8000000000000001E-2]
["REP ABJ",4,"22152020540",null,"Entretien et aménagement du jardin","Pots de fleur et contenants","Assemblage avec métal >50% et autres matériaux","Compris entre 5 kg et 7 kg exclus","€/unité",7.0000000000000007E-2,7.0000000000000007E-2,{"$f":"VLOOKUP(J3068,'Codes éco-part'!$C:$E,3,FALSE)","v":"247"},8.4000000000000005E-2]
["REP ABJ",4,"22152020550",null,"Entretien et aménagement du jardin","Pots de fleur et contenants","Assemblage avec métal >50% et autres matériaux","Compris entre 7 kg et 10 kg exclus","€/unité",0.1,0.1,{"$f":"VLOOKUP(J3069,'Codes éco-part'!$C:$E,3,FALSE)","v":"094"},0.12]
["REP ABJ",4,"22152020560",null,"Entretien et aménagement du jardin","Pots de fleur et contenants","Assemblage avec métal >50% et autres matériaux","Compris entre 10 kg et 15 kg exclus","€/unité",0.15,0.15,{"$f":"VLOOKUP(J3070,'Codes éco-part'!$C:$E,3,FALSE)","v":"050"},0.18]
["REP ABJ",4,"22152020570",null,"Entretien et aménagement du jardin","Pots de fleur et contenants","Assemblage avec métal >50% et autres matériaux","Compris entre 15 kg et 20 kg exclus","€/unité",0.2,0.2,{"$f":"VLOOKUP(J3071,'Codes éco-part'!$C:$E,3,FALSE)","v":"101"},0.24]
["REP ABJ",4,"22152040000",null,"Entretien et aménagement du jardin","Pots de fleur et contenants","Matériaux bio sourcés ou textiles non synthétiques >50%","Eléments de toutes dimensions et poids","€ / Tonne",170,170,{"$f":"VLOOKUP(J3072,'Codes éco-part'!$C:$E,3,FALSE)","v":"497"},204]
["REP ABJ",4,"22152040200",null,"Entretien et aménagement du jardin","Pots de fleur et contenants","Matériaux bio sourcés ou textiles non synthétiques >50%","Inférieur strictement à 0,5 kg","€/unité",0.04,0.04,{"$f":"VLOOKUP(J3073,'Codes éco-part'!$C:$E,3,FALSE)","v":"002"},4.8000000000000001E-2]
["REP ABJ",4,"22152040210",null,"Entretien et aménagement du jardin","Pots de fleur et contenants","Matériaux bio sourcés ou textiles non synthétiques >50%","Compris entre 0,5 kg et 1 kg exclus","€/unité",0.13,0.13,{"$f":"VLOOKUP(J3074,'Codes éco-part'!$C:$E,3,FALSE)","v":"004"},0.156]
["REP ABJ",4,"22152040220",null,"Entretien et aménagement du jardin","Pots de fleur et contenants","Matériaux bio sourcés ou textiles non synthétiques >50%","Compris entre 1 kg et 2 kg exclus","€/unité",0.26,0.26,{"$f":"VLOOKUP(J3075,'Codes éco-part'!$C:$E,3,FALSE)","v":"445"},0.312]
["REP ABJ",4,"22152040520",null,"Entretien et aménagement du jardin","Pots de fleur et contenants","Matériaux bio sourcés ou textiles non synthétiques >50%","Compris entre 2 kg et 3 kg exclus","€/unité",0.43,0.43,{"$f":"VLOOKUP(J3076,'Codes éco-part'!$C:$E,3,FALSE)","v":"506"},0.51600000000000001]
["REP ABJ",4,"22152040530",null,"Entretien et aménagement du jardin","Pots de fleur et contenants","Matériaux bio sourcés ou textiles non synthétiques >50%","Compris entre 3 kg et 5 kg exclus","€/unité",0.68,0.68,{"$f":"VLOOKUP(J3077,'Codes éco-part'!$C:$E,3,FALSE)","v":"044"},0.81600000000000006]
["REP ABJ",4,"22152040540",null,"Entretien et aménagement du jardin","Pots de fleur et contenants","Matériaux bio sourcés ou textiles non synthétiques >50%","Compris entre 5 kg et 7 kg exclus","€/unité",1.19,1.19,{"$f":"VLOOKUP(J3078,'Codes éco-part'!$C:$E,3,FALSE)","v":"507"},1.4279999999999999]
["REP ABJ",4,"22152040550",null,"Entretien et aménagement du jardin","Pots de fleur et contenants","Matériaux bio sourcés ou textiles non synthétiques >50%","Compris entre 7 kg et 10 kg exclus","€/unité",1.7,1.7,{"$f":"VLOOKUP(J3079,'Codes éco-part'!$C:$E,3,FALSE)","v":"256"},2.04]
["REP ABJ",4,"22152040560",null,"Entretien et aménagement du jardin","Pots de fleur et contenants","Matériaux bio sourcés ou textiles non synthétiques >50%","Compris entre 10 kg et 15 kg exclus","€/unité",2.5499999999999998,2.5499999999999998,{"$f":"VLOOKUP(J3080,'Codes éco-part'!$C:$E,3,FALSE)","v":"272"},3.0599999999999996]
["REP ABJ",4,"22152040570",null,"Entretien et aménagement du jardin","Pots de fleur et contenants","Matériaux bio sourcés ou textiles non synthétiques >50%","Compris entre 15 kg et 20 kg exclus","€/unité",3.4,3.4,{"$f":"VLOOKUP(J3081,'Codes éco-part'!$C:$E,3,FALSE)","v":"508"},4.08]
["REP ABJ",4,"22152050000",null,"Entretien et aménagement du jardin","Pots de fleur et contenants","Plastiques ou autres matériaux synthétiques >50%","Eléments de toutes dimensions et poids","€ / Tonne",170,170,{"$f":"VLOOKUP(J3082,'Codes éco-part'!$C:$E,3,FALSE)","v":"497"},204]
["REP ABJ",4,"22152050200",null,"Entretien et aménagement du jardin","Pots de fleur et contenants","Plastiques ou autres matériaux synthétiques >50%","Inférieur strictement à 0,5 kg","€/unité",0.04,0.04,{"$f":"VLOOKUP(J3083,'Codes éco-part'!$C:$E,3,FALSE)","v":"002"},4.8000000000000001E-2]
["REP ABJ",4,"22152050210",null,"Entretien et aménagement du jardin","Pots de fleur et contenants","Plastiques ou autres matériaux synthétiques >50%","Compris entre 0,5 kg et 1 kg exclus","€/unité",0.13,0.13,{"$f":"VLOOKUP(J3084,'Codes éco-part'!$C:$E,3,FALSE)","v":"004"},0.156]
["REP ABJ",4,"22152050220",null,"Entretien et aménagement du jardin","Pots de fleur et contenants","Plastiques ou autres matériaux synthétiques >50%","Compris entre 1 kg et 2 kg exclus","€/unité",0.26,0.26,{"$f":"VLOOKUP(J3085,'Codes éco-part'!$C:$E,3,FALSE)","v":"445"},0.312]
["REP ABJ",4,"22152050520",null,"Entretien et aménagement du jardin","Pots de fleur et contenants","Plastiques ou autres matériaux synthétiques >50%","Compris entre 2 kg et 3 kg exclus","€/unité",0.43,0.43,{"$f":"VLOOKUP(J3086,'Codes éco-part'!$C:$E,3,FALSE)","v":"506"},0.51600000000000001]
["REP ABJ",4,"22152050530",null,"Entretien et aménagement du jardin","Pots de fleur et contenants","Plastiques ou autres matériaux synthétiques >50%","Compris entre 3 kg et 5 kg exclus","€/unité",0.68,0.68,{"$f":"VLOOKUP(J3087,'Codes éco-part'!$C:$E,3,FALSE)","v":"044"},0.81600000000000006]
["REP ABJ",4,"22152050540",null,"Entretien et aménagement du jardin","Pots de fleur et contenants","Plastiques ou autres matériaux synthétiques >50%","Compris entre 5 kg et 7 kg exclus","€/unité",1.19,1.19,{"$f":"VLOOKUP(J3088,'Codes éco-part'!$C:$E,3,FALSE)","v":"507"},1.4279999999999999]
["REP ABJ",4,"22152050550",null,"Entretien et aménagement du jardin","Pots de fleur et contenants","Plastiques ou autres matériaux synthétiques >50%","Compris entre 7 kg et 10 kg exclus","€/unité",1.7,1.7,{"$f":"VLOOKUP(J3089,'Codes éco-part'!$C:$E,3,FALSE)","v":"256"},2.04]
["REP ABJ",4,"22152050560",null,"Entretien et aménagement du jardin","Pots de fleur et contenants","Plastiques ou autres matériaux synthétiques >50%","Compris entre 10 kg et 15 kg exclus","€/unité",2.5499999999999998,2.5499999999999998,{"$f":"VLOOKUP(J3090,'Codes éco-part'!$C:$E,3,FALSE)","v":"272"},3.0599999999999996]
["REP ABJ",4,"22152050570",null,"Entretien et aménagement du jardin","Pots de fleur et contenants","Plastiques ou autres matériaux synthétiques >50%","Compris entre 15 kg et 20 kg exclus","€/unité",3.4,3.4,{"$f":"VLOOKUP(J3091,'Codes éco-part'!$C:$E,3,FALSE)","v":"508"},4.08]
["REP ABJ",4,"22152060000",null,"Entretien et aménagement du jardin","Pots de fleur et contenants","Matériaux d'origine animale >50%","Eléments de toutes dimensions et poids","€ / Tonne",170,170,{"$f":"VLOOKUP(J3092,'Codes éco-part'!$C:$E,3,FALSE)","v":"497"},204]
["REP ABJ",4,"22152060200",null,"Entretien et aménagement du jardin","Pots de fleur et contenants","Matériaux d'origine animale >50%","Inférieur strictement à 0,5 kg","€/unité",0.04,0.04,{"$f":"VLOOKUP(J3093,'Codes éco-part'!$C:$E,3,FALSE)","v":"002"},4.8000000000000001E-2]
["REP ABJ",4,"22152060210",null,"Entretien et aménagement du jardin","Pots de fleur et contenants","Matériaux d'origine animale >50%","Compris entre 0,5 kg et 1 kg exclus","€/unité",0.13,0.13,{"$f":"VLOOKUP(J3094,'Codes éco-part'!$C:$E,3,FALSE)","v":"004"},0.156]
["REP ABJ",4,"22152060220",null,"Entretien et aménagement du jardin","Pots de fleur et contenants","Matériaux d'origine animale >50%","Compris entre 1 kg et 2 kg exclus","€/unité",0.26,0.26,{"$f":"VLOOKUP(J3095,'Codes éco-part'!$C:$E,3,FALSE)","v":"445"},0.312]
["REP ABJ",4,"22152060520",null,"Entretien et aménagement du jardin","Pots de fleur et contenants","Matériaux d'origine animale >50%","Compris entre 2 kg et 3 kg exclus","€/unité",0.43,0.43,{"$f":"VLOOKUP(J3096,'Codes éco-part'!$C:$E,3,FALSE)","v":"506"},0.51600000000000001]
["REP ABJ",4,"22152060530",null,"Entretien et aménagement du jardin","Pots de fleur et contenants","Matériaux d'origine animale >50%","Compris entre 3 kg et 5 kg exclus","€/unité",0.68,0.68,{"$f":"VLOOKUP(J3097,'Codes éco-part'!$C:$E,3,FALSE)","v":"044"},{"$f":"J3097*1.2","v":0.81600000000000006}]
["REP ABJ",4,"22152060540",null,"Entretien et aménagement du jardin","Pots de fleur et contenants","Matériaux d'origine animale >50%","Compris entre 5 kg et 7 kg exclus","€/unité",1.19,1.19,{"$f":"VLOOKUP(J3098,'Codes éco-part'!$C:$E,3,FALSE)","v":"507"},1.4279999999999999]
["REP ABJ",4,"22152060550",null,"Entretien et aménagement du jardin","Pots de fleur et contenants","Matériaux d'origine animale >50%","Compris entre 7 kg et 10 kg exclus","€/unité",1.7,1.7,{"$f":"VLOOKUP(J3099,'Codes éco-part'!$C:$E,3,FALSE)","v":"256"},2.04]
["REP ABJ",4,"22152060560",null,"Entretien et aménagement du jardin","Pots de fleur et contenants","Matériaux d'origine animale >50%","Compris entre 10 kg et 15 kg exclus","€/unité",2.5499999999999998,2.5499999999999998,{"$f":"VLOOKUP(J3100,'Codes éco-part'!$C:$E,3,FALSE)","v":"272"},3.0599999999999996]
["REP ABJ",4,"22152060570",null,"Entretien et aménagement du jardin","Pots de fleur et contenants","Matériaux d'origine animale >50%","Compris entre 15 kg et 20 kg exclus","€/unité",3.4,3.4,{"$f":"VLOOKUP(J3101,'Codes éco-part'!$C:$E,3,FALSE)","v":"508"},4.08]
["REP ABJ",4,"22152080000",null,"Entretien et aménagement du jardin","Pots de fleur et contenants","Assemblage de matériaux avec de l'inerte >50%","Eléments de toutes dimensions et poids","€ / Tonne",170,170,{"$f":"VLOOKUP(J3102,'Codes éco-part'!$C:$E,3,FALSE)","v":"497"},204]
["REP ABJ",4,"22152080200",null,"Entretien et aménagement du jardin","Pots de fleur et contenants","Assemblage de matériaux avec de l'inerte >50%","Inférieur strictement à 0,5 kg","€/unité",0.04,0.04,{"$f":"VLOOKUP(J3103,'Codes éco-part'!$C:$E,3,FALSE)","v":"002"},4.8000000000000001E-2]
["REP ABJ",4,"22152080210",null,"Entretien et aménagement du jardin","Pots de fleur et contenants","Assemblage de matériaux avec de l'inerte >50%","Compris entre 0,5 kg et 1 kg exclus","€/unité",0.13,0.13,{"$f":"VLOOKUP(J3104,'Codes éco-part'!$C:$E,3,FALSE)","v":"004"},0.156]
["REP ABJ",4,"22152080220",null,"Entretien et aménagement du jardin","Pots de fleur et contenants","Assemblage de matériaux avec de l'inerte >50%","Compris entre 1 kg et 2 kg exclus","€/unité",0.26,0.26,{"$f":"VLOOKUP(J3105,'Codes éco-part'!$C:$E,3,FALSE)","v":"445"},0.312]
["REP ABJ",4,"22152080520",null,"Entretien et aménagement du jardin","Pots de fleur et contenants","Assemblage de matériaux avec de l'inerte >50%","Compris entre 2 kg et 3 kg exclus","€/unité",0.43,0.43,{"$f":"VLOOKUP(J3106,'Codes éco-part'!$C:$E,3,FALSE)","v":"506"},0.51600000000000001]
["REP ABJ",4,"22152080530",null,"Entretien et aménagement du jardin","Pots de fleur et contenants","Assemblage de matériaux avec de l'inerte >50%","Compris entre 3 kg et 5 kg exclus","€/unité",0.68,0.68,{"$f":"VLOOKUP(J3107,'Codes éco-part'!$C:$E,3,FALSE)","v":"044"},0.81600000000000006]
["REP ABJ",4,"22152080540",null,"Entretien et aménagement du jardin","Pots de fleur et contenants","Assemblage de matériaux avec de l'inerte >50%","Compris entre 5 kg et 7 kg exclus","€/unité",1.19,1.19,{"$f":"VLOOKUP(J3108,'Codes éco-part'!$C:$E,3,FALSE)","v":"507"},1.4279999999999999]
["REP ABJ",4,"22152080550",null,"Entretien et aménagement du jardin","Pots de fleur et contenants","Assemblage de matériaux avec de l'inerte >50%","Compris entre 7 kg et 10 kg exclus","€/unité",1.7,1.7,{"$f":"VLOOKUP(J3109,'Codes éco-part'!$C:$E,3,FALSE)","v":"256"},2.04]
["REP ABJ",4,"22152080560",null,"Entretien et aménagement du jardin","Pots de fleur et contenants","Assemblage de matériaux avec de l'inerte >50%","Compris entre 10 kg et 15 kg exclus","€/unité",2.5499999999999998,2.5499999999999998,{"$f":"VLOOKUP(J3110,'Codes éco-part'!$C:$E,3,FALSE)","v":"272"},3.0599999999999996]
["REP ABJ",4,"22152080570",null,"Entretien et aménagement du jardin","Pots de fleur et contenants","Assemblage de matériaux avec de l'inerte >50%","Compris entre 15 kg et 20 kg exclus","€/unité",3.4,3.4,{"$f":"VLOOKUP(J3111,'Codes éco-part'!$C:$E,3,FALSE)","v":"508"},4.08]
["REP ABJ",4,"22152150000",null,"Entretien et aménagement du jardin","Pots de fleur et contenants","Composites et autres matériaux minéraux reconstitués >50%","Eléments de toutes dimensions et poids","€ / Tonne",170,170,{"$f":"VLOOKUP(J3112,'Codes éco-part'!$C:$E,3,FALSE)","v":"497"},204]
["REP ABJ",4,"22152150200",null,"Entretien et aménagement du jardin","Pots de fleur et contenants","Composites et autres matériaux minéraux reconstitués >50%","Inférieur strictement à 0,5 kg","€/unité",0.04,0.04,{"$f":"VLOOKUP(J3113,'Codes éco-part'!$C:$E,3,FALSE)","v":"002"},4.8000000000000001E-2]
["REP ABJ",4,"22152150210",null,"Entretien et aménagement du jardin","Pots de fleur et contenants","Composites et autres matériaux minéraux reconstitués >50%","Compris entre 0,5 kg et 1 kg exclus","€/unité",0.13,0.13,{"$f":"VLOOKUP(J3114,'Codes éco-part'!$C:$E,3,FALSE)","v":"004"},0.156]
["REP ABJ",4,"22152150220",null,"Entretien et aménagement du jardin","Pots de fleur et contenants","Composites et autres matériaux minéraux reconstitués >50%","Compris entre 1 kg et 2 kg exclus","€/unité",0.26,0.26,{"$f":"VLOOKUP(J3115,'Codes éco-part'!$C:$E,3,FALSE)","v":"445"},0.312]
["REP ABJ",4,"22152150520",null,"Entretien et aménagement du jardin","Pots de fleur et contenants","Composites et autres matériaux minéraux reconstitués >50%","Compris entre 2 kg et 3 kg exclus","€/unité",0.43,0.43,{"$f":"VLOOKUP(J3116,'Codes éco-part'!$C:$E,3,FALSE)","v":"506"},0.51600000000000001]
["REP ABJ",4,"22152150530",null,"Entretien et aménagement du jardin","Pots de fleur et contenants","Composites et autres matériaux minéraux reconstitués >50%","Compris entre 3 kg et 5 kg exclus","€/unité",0.68,0.68,{"$f":"VLOOKUP(J3117,'Codes éco-part'!$C:$E,3,FALSE)","v":"044"},0.81600000000000006]
["REP ABJ",4,"22152150540",null,"Entretien et aménagement du jardin","Pots de fleur et contenants","Composites et autres matériaux minéraux reconstitués >50%","Compris entre 5 kg et 7 kg exclus","€/unité",1.19,1.19,{"$f":"VLOOKUP(J3118,'Codes éco-part'!$C:$E,3,FALSE)","v":"507"},1.4279999999999999]
["REP ABJ",4,"22152150550",null,"Entretien et aménagement du jardin","Pots de fleur et contenants","Composites et autres matériaux minéraux reconstitués >50%","Compris entre 7 kg et 10 kg exclus","€/unité",1.7,1.7,{"$f":"VLOOKUP(J3119,'Codes éco-part'!$C:$E,3,FALSE)","v":"256"},2.04]
["REP ABJ",4,"22152150560",null,"Entretien et aménagement du jardin","Pots de fleur et contenants","Composites et autres matériaux minéraux reconstitués >50%","Compris entre 10 kg et 15 kg exclus","€/unité",2.5499999999999998,2.5499999999999998,{"$f":"VLOOKUP(J3120,'Codes éco-part'!$C:$E,3,FALSE)","v":"272"},3.0599999999999996]
["REP ABJ",4,"22152150570",null,"Entretien et aménagement du jardin","Pots de fleur et contenants","Composites et autres matériaux minéraux reconstitués >50%","Compris entre 15 kg et 20 kg exclus","€/unité",3.4,3.4,{"$f":"VLOOKUP(J3121,'Codes éco-part'!$C:$E,3,FALSE)","v":"508"},4.08]
["REP ABJ",4,"22152190000",null,"Entretien et aménagement du jardin","Pots de fleur et contenants","Papier carton >50% avec d'autres matériaux (hors verre)","Eléments de toutes dimensions et poids","€ / Tonne",170,170,{"$f":"VLOOKUP(J3122,'Codes éco-part'!$C:$E,3,FALSE)","v":"497"},204]
["REP ABJ",4,"22152190200",null,"Entretien et aménagement du jardin","Pots de fleur et contenants","Papier carton >50% avec d'autres matériaux (hors verre)","Inférieur strictement à 0,5 kg","€/unité",0.04,0.04,{"$f":"VLOOKUP(J3123,'Codes éco-part'!$C:$E,3,FALSE)","v":"002"},4.8000000000000001E-2]
["REP ABJ",4,"22152190210",null,"Entretien et aménagement du jardin","Pots de fleur et contenants","Papier carton >50% avec d'autres matériaux (hors verre)","Compris entre 0,5 kg et 1 kg exclus","€/unité",0.13,0.13,{"$f":"VLOOKUP(J3124,'Codes éco-part'!$C:$E,3,FALSE)","v":"004"},0.156]
["REP ABJ",4,"22152190220",null,"Entretien et aménagement du jardin","Pots de fleur et contenants","Papier carton >50% avec d'autres matériaux (hors verre)","Compris entre 1 kg et 2 kg exclus","€/unité",0.26,0.26,{"$f":"VLOOKUP(J3125,'Codes éco-part'!$C:$E,3,FALSE)","v":"445"},0.312]
["REP ABJ",4,"22152190520",null,"Entretien et aménagement du jardin","Pots de fleur et contenants","Papier carton >50% avec d'autres matériaux (hors verre)","Compris entre 2 kg et 3 kg exclus","€/unité",0.43,0.43,{"$f":"VLOOKUP(J3126,'Codes éco-part'!$C:$E,3,FALSE)","v":"506"},0.51600000000000001]
["REP ABJ",4,"22152190530",null,"Entretien et aménagement du jardin","Pots de fleur et contenants","Papier carton >50% avec d'autres matériaux (hors verre)","Compris entre 3 kg et 5 kg exclus","€/unité",0.68,0.68,{"$f":"VLOOKUP(J3127,'Codes éco-part'!$C:$E,3,FALSE)","v":"044"},0.81600000000000006]
["REP ABJ",4,"22152190540",null,"Entretien et aménagement du jardin","Pots de fleur et contenants","Papier carton >50% avec d'autres matériaux (hors verre)","Compris entre 5 kg et 7 kg exclus","€/unité",1.19,1.19,{"$f":"VLOOKUP(J3128,'Codes éco-part'!$C:$E,3,FALSE)","v":"507"},1.4279999999999999]
["REP ABJ",4,"22152190550",null,"Entretien et aménagement du jardin","Pots de fleur et contenants","Papier carton >50% avec d'autres matériaux (hors verre)","Compris entre 7 kg et 10 kg exclus","€/unité",1.7,1.7,{"$f":"VLOOKUP(J3129,'Codes éco-part'!$C:$E,3,FALSE)","v":"256"},2.04]
["REP ABJ",4,"22152190560",null,"Entretien et aménagement du jardin","Pots de fleur et contenants","Papier carton >50% avec d'autres matériaux (hors verre)","Compris entre 10 kg et 15 kg exclus","€/unité",2.5499999999999998,2.5499999999999998,{"$f":"VLOOKUP(J3130,'Codes éco-part'!$C:$E,3,FALSE)","v":"272"},3.0599999999999996]
["REP ABJ",4,"22152190570",null,"Entretien et aménagement du jardin","Pots de fleur et contenants","Papier carton >50% avec d'autres matériaux (hors verre)","Compris entre 15 kg et 20 kg exclus","€/unité",3.4,3.4,{"$f":"VLOOKUP(J3131,'Codes éco-part'!$C:$E,3,FALSE)","v":"508"},4.08]
["REP ABJ",4,"22152200000",null,"Entretien et aménagement du jardin","Pots de fleur et contenants","Massif et assimilés certifiés >75%","Eléments de toutes dimensions et poids","€ / Tonne",20,20,{"$f":"VLOOKUP(J3132,'Codes éco-part'!$C:$E,3,FALSE)","v":"148"},24]
["REP ABJ",4,"22152200200",null,"Entretien et aménagement du jardin","Pots de fleur et contenants","Massif et assimilés certifiés >75%","Inférieur strictement à 0,5 kg","€/unité",0.01,0.01,{"$f":"VLOOKUP(J3133,'Codes éco-part'!$C:$E,3,FALSE)","v":"260"},1.2E-2]
["REP ABJ",4,"22152200210",null,"Entretien et aménagement du jardin","Pots de fleur et contenants","Massif et assimilés certifiés >75%","Compris entre 0,5 kg et 1 kg exclus","€/unité",0.02,0.02,{"$f":"VLOOKUP(J3134,'Codes éco-part'!$C:$E,3,FALSE)","v":"047"},2.4E-2]
["REP ABJ",4,"22152200220",null,"Entretien et aménagement du jardin","Pots de fleur et contenants","Massif et assimilés certifiés >75%","Compris entre 1 kg et 2 kg exclus","€/unité",0.03,0.03,{"$f":"VLOOKUP(J3135,'Codes éco-part'!$C:$E,3,FALSE)","v":"092"},3.5999999999999997E-2]
["REP ABJ",4,"22152200520",null,"Entretien et aménagement du jardin","Pots de fleur et contenants","Massif et assimilés certifiés >75%","Compris entre 2 kg et 3 kg exclus","€/unité",0.05,0.05,{"$f":"VLOOKUP(J3136,'Codes éco-part'!$C:$E,3,FALSE)","v":"048"},0.06]
["REP ABJ",4,"22152200530",null,"Entretien et aménagement du jardin","Pots de fleur et contenants","Massif et assimilés certifiés >75%","Compris entre 3 kg et 5 kg exclus","€/unité",0.08,0.08,{"$f":"VLOOKUP(J3137,'Codes éco-part'!$C:$E,3,FALSE)","v":"003"},9.6000000000000002E-2]
["REP ABJ",4,"22152200540",null,"Entretien et aménagement du jardin","Pots de fleur et contenants","Massif et assimilés certifiés >75%","Compris entre 5 kg et 7 kg exclus","€/unité",0.14000000000000001,0.14000000000000001,{"$f":"VLOOKUP(J3138,'Codes éco-part'!$C:$E,3,FALSE)","v":"098"},0.16800000000000001]
["REP ABJ",4,"22152200550",null,"Entretien et aménagement du jardin","Pots de fleur et contenants","Massif et assimilés certifiés >75%","Compris entre 7 kg et 10 kg exclus","€/unité",0.2,0.2,{"$f":"VLOOKUP(J3139,'Codes éco-part'!$C:$E,3,FALSE)","v":"101"},0.24]
["REP ABJ",4,"22152200560",null,"Entretien et aménagement du jardin","Pots de fleur et contenants","Massif et assimilés certifiés >75%","Compris entre 10 kg et 15 kg exclus","€/unité",0.3,0.3,{"$f":"VLOOKUP(J3140,'Codes éco-part'!$C:$E,3,FALSE)","v":"446"},0.36]
["REP ABJ",4,"22152200570",null,"Entretien et aménagement du jardin","Pots de fleur et contenants","Massif et assimilés certifiés >75%","Compris entre 15 kg et 20 kg exclus","€/unité",0.4,0.4,{"$f":"VLOOKUP(J3141,'Codes éco-part'!$C:$E,3,FALSE)","v":"105"},0.48]
["REP ABJ",4,"22152210000",null,"Entretien et aménagement du jardin","Pots de fleur et contenants","Massif et assimilés >75%","Eléments de toutes dimensions et poids","€ / Tonne",20,20,{"$f":"VLOOKUP(J3142,'Codes éco-part'!$C:$E,3,FALSE)","v":"148"},24]
["REP ABJ",4,"22152210200",null,"Entretien et aménagement du jardin","Pots de fleur et contenants","Massif et assimilés >75%","Inférieur strictement à 0,5 kg","€/unité",0.01,0.01,{"$f":"VLOOKUP(J3143,'Codes éco-part'!$C:$E,3,FALSE)","v":"260"},1.2E-2]
["REP ABJ",4,"22152210210",null,"Entretien et aménagement du jardin","Pots de fleur et contenants","Massif et assimilés >75%","Compris entre 0,5 kg et 1 kg exclus","€/unité",0.02,0.02,{"$f":"VLOOKUP(J3144,'Codes éco-part'!$C:$E,3,FALSE)","v":"047"},2.4E-2]
["REP ABJ",4,"22152210220",null,"Entretien et aménagement du jardin","Pots de fleur et contenants","Massif et assimilés >75%","Compris entre 1 kg et 2 kg exclus","€/unité",0.03,0.03,{"$f":"VLOOKUP(J3145,'Codes éco-part'!$C:$E,3,FALSE)","v":"092"},3.5999999999999997E-2]
["REP ABJ",4,"22152210520",null,"Entretien et aménagement du jardin","Pots de fleur et contenants","Massif et assimilés >75%","Compris entre 2 kg et 3 kg exclus","€/unité",0.05,0.05,{"$f":"VLOOKUP(J3146,'Codes éco-part'!$C:$E,3,FALSE)","v":"048"},0.06]
["REP ABJ",4,"22152210530",null,"Entretien et aménagement du jardin","Pots de fleur et contenants","Massif et assimilés >75%","Compris entre 3 kg et 5 kg exclus","€/unité",0.08,0.08,{"$f":"VLOOKUP(J3147,'Codes éco-part'!$C:$E,3,FALSE)","v":"003"},9.6000000000000002E-2]
["REP ABJ",4,"22152210540",null,"Entretien et aménagement du jardin","Pots de fleur et contenants","Massif et assimilés >75%","Compris entre 5 kg et 7 kg exclus","€/unité",0.14000000000000001,0.14000000000000001,{"$f":"VLOOKUP(J3148,'Codes éco-part'!$C:$E,3,FALSE)","v":"098"},0.16800000000000001]
["REP ABJ",4,"22152210550",null,"Entretien et aménagement du jardin","Pots de fleur et contenants","Massif et assimilés >75%","Compris entre 7 kg et 10 kg exclus","€/unité",0.2,0.2,{"$f":"VLOOKUP(J3149,'Codes éco-part'!$C:$E,3,FALSE)","v":"101"},0.24]
["REP ABJ",4,"22152210560",null,"Entretien et aménagement du jardin","Pots de fleur et contenants","Massif et assimilés >75%","Compris entre 10 kg et 15 kg exclus","€/unité",0.3,0.3,{"$f":"VLOOKUP(J3150,'Codes éco-part'!$C:$E,3,FALSE)","v":"446"},0.36]
["REP ABJ",4,"22152210570",null,"Entretien et aménagement du jardin","Pots de fleur et contenants","Massif et assimilés >75%","Compris entre 15 kg et 20 kg exclus","€/unité",0.4,0.4,{"$f":"VLOOKUP(J3151,'Codes éco-part'!$C:$E,3,FALSE)","v":"105"},0.48]
["REP ABJ",4,"22152250000",null,"Entretien et aménagement du jardin","Pots de fleur et contenants","Panneaux de particules ou OSB >75%","Eléments de toutes dimensions et poids","€ / Tonne",20,20,{"$f":"VLOOKUP(J3152,'Codes éco-part'!$C:$E,3,FALSE)","v":"148"},24]
["REP ABJ",4,"22152250200",null,"Entretien et aménagement du jardin","Pots de fleur et contenants","Panneaux de particules ou OSB >75%","Inférieur strictement à 0,5 kg","€/unité",0.01,0.01,{"$f":"VLOOKUP(J3153,'Codes éco-part'!$C:$E,3,FALSE)","v":"260"},1.2E-2]
["REP ABJ",4,"22152250210",null,"Entretien et aménagement du jardin","Pots de fleur et contenants","Panneaux de particules ou OSB >75%","Compris entre 0,5 kg et 1 kg exclus","€/unité",0.02,0.02,{"$f":"VLOOKUP(J3154,'Codes éco-part'!$C:$E,3,FALSE)","v":"047"},2.4E-2]
["REP ABJ",4,"22152250220",null,"Entretien et aménagement du jardin","Pots de fleur et contenants","Panneaux de particules ou OSB >75%","Compris entre 1 kg et 2 kg exclus","€/unité",0.03,0.03,{"$f":"VLOOKUP(J3155,'Codes éco-part'!$C:$E,3,FALSE)","v":"092"},3.5999999999999997E-2]
["REP ABJ",4,"22152250520",null,"Entretien et aménagement du jardin","Pots de fleur et contenants","Panneaux de particules ou OSB >75%","Compris entre 2 kg et 3 kg exclus","€/unité",0.05,0.05,{"$f":"VLOOKUP(J3156,'Codes éco-part'!$C:$E,3,FALSE)","v":"048"},0.06]
["REP ABJ",4,"22152250530",null,"Entretien et aménagement du jardin","Pots de fleur et contenants","Panneaux de particules ou OSB >75%","Compris entre 3 kg et 5 kg exclus","€/unité",0.08,0.08,{"$f":"VLOOKUP(J3157,'Codes éco-part'!$C:$E,3,FALSE)","v":"003"},9.6000000000000002E-2]
["REP ABJ",4,"22152250540",null,"Entretien et aménagement du jardin","Pots de fleur et contenants","Panneaux de particules ou OSB >75%","Compris entre 5 kg et 7 kg exclus","€/unité",0.14000000000000001,0.14000000000000001,{"$f":"VLOOKUP(J3158,'Codes éco-part'!$C:$E,3,FALSE)","v":"098"},0.16800000000000001]
["REP ABJ",4,"22152250550",null,"Entretien et aménagement du jardin","Pots de fleur et contenants","Panneaux de particules ou OSB >75%","Compris entre 7 kg et 10 kg exclus","€/unité",0.2,0.2,{"$f":"VLOOKUP(J3159,'Codes éco-part'!$C:$E,3,FALSE)","v":"101"},0.24]
["REP ABJ",4,"22152250560",null,"Entretien et aménagement du jardin","Pots de fleur et contenants","Panneaux de particules ou OSB >75%","Compris entre 10 kg et 15 kg exclus","€/unité",0.3,0.3,{"$f":"VLOOKUP(J3160,'Codes éco-part'!$C:$E,3,FALSE)","v":"446"},0.36]
["REP ABJ",4,"22152250570",null,"Entretien et aménagement du jardin","Pots de fleur et contenants","Panneaux de particules ou OSB >75%","Compris entre 15 kg et 20 kg exclus","€/unité",0.4,0.4,{"$f":"VLOOKUP(J3161,'Codes éco-part'!$C:$E,3,FALSE)","v":"105"},{"$f":"J3161*1.2","v":0.48}]
["REP ABJ",4,"22152280000",null,"Entretien et aménagement du jardin","Pots de fleur et contenants","Métal >90%","Eléments de toutes dimensions et poids","€ / Tonne",10,10,{"$f":"VLOOKUP(J3162,'Codes éco-part'!$C:$E,3,FALSE)","v":"138"},12]
["REP ABJ",4,"22152280200",null,"Entretien et aménagement du jardin","Pots de fleur et contenants","Métal >90%","Inférieur strictement à 0,5 kg","€/unité",0.01,0.01,{"$f":"VLOOKUP(J3163,'Codes éco-part'!$C:$E,3,FALSE)","v":"260"},1.2E-2]
["REP ABJ",4,"22152280210",null,"Entretien et aménagement du jardin","Pots de fleur et contenants","Métal >90%","Compris entre 0,5 kg et 1 kg exclus","€/unité",0.01,0.01,{"$f":"VLOOKUP(J3164,'Codes éco-part'!$C:$E,3,FALSE)","v":"260"},1.2E-2]
["REP ABJ",4,"22152280220",null,"Entretien et aménagement du jardin","Pots de fleur et contenants","Métal >90%","Compris entre 1 kg et 2 kg exclus","€/unité",0.02,0.02,{"$f":"VLOOKUP(J3165,'Codes éco-part'!$C:$E,3,FALSE)","v":"047"},2.4E-2]
["REP ABJ",4,"22152280520",null,"Entretien et aménagement du jardin","Pots de fleur et contenants","Métal >90%","Compris entre 2 kg et 3 kg exclus","€/unité",0.03,0.03,{"$f":"VLOOKUP(J3166,'Codes éco-part'!$C:$E,3,FALSE)","v":"092"},3.5999999999999997E-2]
["REP ABJ",4,"22152280530",null,"Entretien et aménagement du jardin","Pots de fleur et contenants","Métal >90%","Compris entre 3 kg et 5 kg exclus","€/unité",0.04,0.04,{"$f":"VLOOKUP(J3167,'Codes éco-part'!$C:$E,3,FALSE)","v":"002"},4.8000000000000001E-2]
["REP ABJ",4,"22152280540",null,"Entretien et aménagement du jardin","Pots de fleur et contenants","Métal >90%","Compris entre 5 kg et 7 kg exclus","€/unité",7.0000000000000007E-2,7.0000000000000007E-2,{"$f":"VLOOKUP(J3168,'Codes éco-part'!$C:$E,3,FALSE)","v":"247"},8.4000000000000005E-2]
["REP ABJ",4,"22152280550",null,"Entretien et aménagement du jardin","Pots de fleur et contenants","Métal >90%","Compris entre 7 kg et 10 kg exclus","€/unité",0.1,0.1,{"$f":"VLOOKUP(J3169,'Codes éco-part'!$C:$E,3,FALSE)","v":"094"},0.12]
["REP ABJ",4,"22152280560",null,"Entretien et aménagement du jardin","Pots de fleur et contenants","Métal >90%","Compris entre 10 kg et 15 kg exclus","€/unité",0.15,0.15,{"$f":"VLOOKUP(J3170,'Codes éco-part'!$C:$E,3,FALSE)","v":"050"},0.18]
["REP ABJ",4,"22152280570",null,"Entretien et aménagement du jardin","Pots de fleur et contenants","Métal >90%","Compris entre 15 kg et 20 kg exclus","€/unité",0.2,0.2,{"$f":"VLOOKUP(J3171,'Codes éco-part'!$C:$E,3,FALSE)","v":"101"},0.24]
["REP ABJ",4,"22152400000",null,"Entretien et aménagement du jardin","Pots de fleur et contenants","Assemblage caoutchouc synthétique ou latex >50% avec d'autres matériaux","Eléments de toutes dimensions et poids","€ / Tonne",170,170,{"$f":"VLOOKUP(J3172,'Codes éco-part'!$C:$E,3,FALSE)","v":"497"},204]
["REP ABJ",4,"22152400200",null,"Entretien et aménagement du jardin","Pots de fleur et contenants","Assemblage caoutchouc synthétique ou latex >50% avec d'autres matériaux","Inférieur strictement à 0,5 kg","€/unité",0.04,0.04,{"$f":"VLOOKUP(J3173,'Codes éco-part'!$C:$E,3,FALSE)","v":"002"},4.8000000000000001E-2]
["REP ABJ",4,"22152400210",null,"Entretien et aménagement du jardin","Pots de fleur et contenants","Assemblage caoutchouc synthétique ou latex >50% avec d'autres matériaux","Compris entre 0,5 kg et 1 kg exclus","€/unité",0.13,0.13,{"$f":"VLOOKUP(J3174,'Codes éco-part'!$C:$E,3,FALSE)","v":"004"},0.156]
["REP ABJ",4,"22152400220",null,"Entretien et aménagement du jardin","Pots de fleur et contenants","Assemblage caoutchouc synthétique ou latex >50% avec d'autres matériaux","Compris entre 1 kg et 2 kg exclus","€/unité",0.26,0.26,{"$f":"VLOOKUP(J3175,'Codes éco-part'!$C:$E,3,FALSE)","v":"445"},0.312]
["REP ABJ",4,"22152400520",null,"Entretien et aménagement du jardin","Pots de fleur et contenants","Assemblage caoutchouc synthétique ou latex >50% avec d'autres matériaux","Compris entre 2 kg et 3 kg exclus","€/unité",0.43,0.43,{"$f":"VLOOKUP(J3176,'Codes éco-part'!$C:$E,3,FALSE)","v":"506"},0.51600000000000001]
["REP ABJ",4,"22152400530",null,"Entretien et aménagement du jardin","Pots de fleur et contenants","Assemblage caoutchouc synthétique ou latex >50% avec d'autres matériaux","Compris entre 3 kg et 5 kg exclus","€/unité",0.68,0.68,{"$f":"VLOOKUP(J3177,'Codes éco-part'!$C:$E,3,FALSE)","v":"044"},0.81600000000000006]
["REP ABJ",4,"22152400540",null,"Entretien et aménagement du jardin","Pots de fleur et contenants","Assemblage caoutchouc synthétique ou latex >50% avec d'autres matériaux","Compris entre 5 kg et 7 kg exclus","€/unité",1.19,1.19,{"$f":"VLOOKUP(J3178,'Codes éco-part'!$C:$E,3,FALSE)","v":"507"},1.4279999999999999]
["REP ABJ",4,"22152400550",null,"Entretien et aménagement du jardin","Pots de fleur et contenants","Assemblage caoutchouc synthétique ou latex >50% avec d'autres matériaux","Compris entre 7 kg et 10 kg exclus","€/unité",1.7,1.7,{"$f":"VLOOKUP(J3179,'Codes éco-part'!$C:$E,3,FALSE)","v":"256"},2.04]
["REP ABJ",4,"22152400560",null,"Entretien et aménagement du jardin","Pots de fleur et contenants","Assemblage caoutchouc synthétique ou latex >50% avec d'autres matériaux","Compris entre 10 kg et 15 kg exclus","€/unité",2.5499999999999998,2.5499999999999998,{"$f":"VLOOKUP(J3180,'Codes éco-part'!$C:$E,3,FALSE)","v":"272"},3.0599999999999996]
["REP ABJ",4,"22152400570",null,"Entretien et aménagement du jardin","Pots de fleur et contenants","Assemblage caoutchouc synthétique ou latex >50% avec d'autres matériaux","Compris entre 15 kg et 20 kg exclus","€/unité",3.4,3.4,{"$f":"VLOOKUP(J3181,'Codes éco-part'!$C:$E,3,FALSE)","v":"508"},4.08]
["REP ABJ",4,"22152410000",null,"Entretien et aménagement du jardin","Pots de fleur et contenants","Plastiques (mono résine) >90%","Eléments de toutes dimensions et poids","€ / Tonne",130,130,{"$f":"VLOOKUP(J3182,'Codes éco-part'!$C:$E,3,FALSE)","v":"495"},156]
["REP ABJ",4,"22152410200",null,"Entretien et aménagement du jardin","Pots de fleur et contenants","Plastiques (mono résine) >90%","Inférieur strictement à 0,5 kg","€/unité",0.03,0.03,{"$f":"VLOOKUP(J3183,'Codes éco-part'!$C:$E,3,FALSE)","v":"092"},3.5999999999999997E-2]
["REP ABJ",4,"22152410210",null,"Entretien et aménagement du jardin","Pots de fleur et contenants","Plastiques (mono résine) >90%","Compris entre 0,5 kg et 1 kg exclus","€/unité",0.1,0.1,{"$f":"VLOOKUP(J3184,'Codes éco-part'!$C:$E,3,FALSE)","v":"094"},0.12]
["REP ABJ",4,"22152410220",null,"Entretien et aménagement du jardin","Pots de fleur et contenants","Plastiques (mono résine) >90%","Compris entre 1 kg et 2 kg exclus","€/unité",0.2,0.2,{"$f":"VLOOKUP(J3185,'Codes éco-part'!$C:$E,3,FALSE)","v":"101"},0.24]
["REP ABJ",4,"22152410520",null,"Entretien et aménagement du jardin","Pots de fleur et contenants","Plastiques (mono résine) >90%","Compris entre 2 kg et 3 kg exclus","€/unité",0.33,0.33,{"$f":"VLOOKUP(J3186,'Codes éco-part'!$C:$E,3,FALSE)","v":"006"},0.39600000000000002]
["REP ABJ",4,"22152410530",null,"Entretien et aménagement du jardin","Pots de fleur et contenants","Plastiques (mono résine) >90%","Compris entre 3 kg et 5 kg exclus","€/unité",0.52,0.52,{"$f":"VLOOKUP(J3187,'Codes éco-part'!$C:$E,3,FALSE)","v":"509"},0.624]
["REP ABJ",4,"22152410540",null,"Entretien et aménagement du jardin","Pots de fleur et contenants","Plastiques (mono résine) >90%","Compris entre 5 kg et 7 kg exclus","€/unité",0.91,0.91,{"$f":"VLOOKUP(J3188,'Codes éco-part'!$C:$E,3,FALSE)","v":"510"},1.0920000000000001]
["REP ABJ",4,"22152410550",null,"Entretien et aménagement du jardin","Pots de fleur et contenants","Plastiques (mono résine) >90%","Compris entre 7 kg et 10 kg exclus","€/unité",1.3,1.3,{"$f":"VLOOKUP(J3189,'Codes éco-part'!$C:$E,3,FALSE)","v":"511"},1.56]
["REP ABJ",4,"22152410560",null,"Entretien et aménagement du jardin","Pots de fleur et contenants","Plastiques (mono résine) >90%","Compris entre 10 kg et 15 kg exclus","€/unité",1.95,1.95,{"$f":"VLOOKUP(J3190,'Codes éco-part'!$C:$E,3,FALSE)","v":"512"},2.34]
["REP ABJ",4,"22152410570",null,"Entretien et aménagement du jardin","Pots de fleur et contenants","Plastiques (mono résine) >90%","Compris entre 15 kg et 20 kg exclus","€/unité",2.6,2.6,{"$f":"VLOOKUP(J3191,'Codes éco-part'!$C:$E,3,FALSE)","v":"513"},3.12]
["REP ABJ",4,"22152420000",null,"Entretien et aménagement du jardin","Pots de fleur et contenants","Polyterephtalate d'Ethylène (PET) >90%","Eléments de toutes dimensions et poids","€ / Tonne",130,130,{"$f":"VLOOKUP(J3192,'Codes éco-part'!$C:$E,3,FALSE)","v":"495"},156]
["REP ABJ",4,"22152420200",null,"Entretien et aménagement du jardin","Pots de fleur et contenants","Polyterephtalate d'Ethylène (PET) >90%","Inférieur strictement à 0,5 kg","€/unité",0.03,0.03,{"$f":"VLOOKUP(J3193,'Codes éco-part'!$C:$E,3,FALSE)","v":"092"},3.5999999999999997E-2]
["REP ABJ",4,"22152420210",null,"Entretien et aménagement du jardin","Pots de fleur et contenants","Polyterephtalate d'Ethylène (PET) >90%","Compris entre 0,5 kg et 1 kg exclus","€/unité",0.1,0.1,{"$f":"VLOOKUP(J3194,'Codes éco-part'!$C:$E,3,FALSE)","v":"094"},0.12]
["REP ABJ",4,"22152420220",null,"Entretien et aménagement du jardin","Pots de fleur et contenants","Polyterephtalate d'Ethylène (PET) >90%","Compris entre 1 kg et 2 kg exclus","€/unité",0.2,0.2,{"$f":"VLOOKUP(J3195,'Codes éco-part'!$C:$E,3,FALSE)","v":"101"},0.24]
["REP ABJ",4,"22152420520",null,"Entretien et aménagement du jardin","Pots de fleur et contenants","Polyterephtalate d'Ethylène (PET) >90%","Compris entre 2 kg et 3 kg exclus","€/unité",0.33,0.33,{"$f":"VLOOKUP(J3196,'Codes éco-part'!$C:$E,3,FALSE)","v":"006"},0.39600000000000002]
["REP ABJ",4,"22152420530",null,"Entretien et aménagement du jardin","Pots de fleur et contenants","Polyterephtalate d'Ethylène (PET) >90%","Compris entre 3 kg et 5 kg exclus","€/unité",0.52,0.52,{"$f":"VLOOKUP(J3197,'Codes éco-part'!$C:$E,3,FALSE)","v":"509"},0.624]
["REP ABJ",4,"22152420540",null,"Entretien et aménagement du jardin","Pots de fleur et contenants","Polyterephtalate d'Ethylène (PET) >90%","Compris entre 5 kg et 7 kg exclus","€/unité",0.91,0.91,{"$f":"VLOOKUP(J3198,'Codes éco-part'!$C:$E,3,FALSE)","v":"510"},1.0920000000000001]
["REP ABJ",4,"22152420550",null,"Entretien et aménagement du jardin","Pots de fleur et contenants","Polyterephtalate d'Ethylène (PET) >90%","Compris entre 7 kg et 10 kg exclus","€/unité",1.3,1.3,{"$f":"VLOOKUP(J3199,'Codes éco-part'!$C:$E,3,FALSE)","v":"511"},1.56]
["REP ABJ",4,"22152420560",null,"Entretien et aménagement du jardin","Pots de fleur et contenants","Polyterephtalate d'Ethylène (PET) >90%","Compris entre 10 kg et 15 kg exclus","€/unité",1.95,1.95,{"$f":"VLOOKUP(J3200,'Codes éco-part'!$C:$E,3,FALSE)","v":"512"},2.34]
["REP ABJ",4,"22152420570",null,"Entretien et aménagement du jardin","Pots de fleur et contenants","Polyterephtalate d'Ethylène (PET) >90%","Compris entre 15 kg et 20 kg exclus","€/unité",2.6,2.6,{"$f":"VLOOKUP(J3201,'Codes éco-part'!$C:$E,3,FALSE)","v":"513"},3.12]
["REP ABJ",4,"22152450000",null,"Entretien et aménagement du jardin","Pots de fleur et contenants","PE ou PP ou mélange PP/PE >90%","Eléments de toutes dimensions et poids","€ / Tonne",130,130,{"$f":"VLOOKUP(J3202,'Codes éco-part'!$C:$E,3,FALSE)","v":"495"},156]
["REP ABJ",4,"22152450200",null,"Entretien et aménagement du jardin","Pots de fleur et contenants","PE ou PP ou mélange PP/PE >90%","Inférieur strictement à 0,5 kg","€/unité",0.03,0.03,{"$f":"VLOOKUP(J3203,'Codes éco-part'!$C:$E,3,FALSE)","v":"092"},3.5999999999999997E-2]
["REP ABJ",4,"22152450210",null,"Entretien et aménagement du jardin","Pots de fleur et contenants","PE ou PP ou mélange PP/PE >90%","Compris entre 0,5 kg et 1 kg exclus","€/unité",0.1,0.1,{"$f":"VLOOKUP(J3204,'Codes éco-part'!$C:$E,3,FALSE)","v":"094"},0.12]
["REP ABJ",4,"22152450220",null,"Entretien et aménagement du jardin","Pots de fleur et contenants","PE ou PP ou mélange PP/PE >90%","Compris entre 1 kg et 2 kg exclus","€/unité",0.2,0.2,{"$f":"VLOOKUP(J3205,'Codes éco-part'!$C:$E,3,FALSE)","v":"101"},0.24]
["REP ABJ",4,"22152450520",null,"Entretien et aménagement du jardin","Pots de fleur et contenants","PE ou PP ou mélange PP/PE >90%","Compris entre 2 kg et 3 kg exclus","€/unité",0.33,0.33,{"$f":"VLOOKUP(J3206,'Codes éco-part'!$C:$E,3,FALSE)","v":"006"},0.39600000000000002]
["REP ABJ",4,"22152450530",null,"Entretien et aménagement du jardin","Pots de fleur et contenants","PE ou PP ou mélange PP/PE >90%","Compris entre 3 kg et 5 kg exclus","€/unité",0.52,0.52,{"$f":"VLOOKUP(J3207,'Codes éco-part'!$C:$E,3,FALSE)","v":"509"},0.624]
["REP ABJ",4,"22152450540",null,"Entretien et aménagement du jardin","Pots de fleur et contenants","PE ou PP ou mélange PP/PE >90%","Compris entre 5 kg et 7 kg exclus","€/unité",0.91,0.91,{"$f":"VLOOKUP(J3208,'Codes éco-part'!$C:$E,3,FALSE)","v":"510"},1.0920000000000001]
["REP ABJ",4,"22152450550",null,"Entretien et aménagement du jardin","Pots de fleur et contenants","PE ou PP ou mélange PP/PE >90%","Compris entre 7 kg et 10 kg exclus","€/unité",1.3,1.3,{"$f":"VLOOKUP(J3209,'Codes éco-part'!$C:$E,3,FALSE)","v":"511"},1.56]
["REP ABJ",4,"22152450560",null,"Entretien et aménagement du jardin","Pots de fleur et contenants","PE ou PP ou mélange PP/PE >90%","Compris entre 10 kg et 15 kg exclus","€/unité",1.95,1.95,{"$f":"VLOOKUP(J3210,'Codes éco-part'!$C:$E,3,FALSE)","v":"512"},2.34]
["REP ABJ",4,"22152450570",null,"Entretien et aménagement du jardin","Pots de fleur et contenants","PE ou PP ou mélange PP/PE >90%","Compris entre 15 kg et 20 kg exclus","€/unité",2.6,2.6,{"$f":"VLOOKUP(J3211,'Codes éco-part'!$C:$E,3,FALSE)","v":"513"},3.12]
["REP ABJ",4,"22152460000",null,"Entretien et aménagement du jardin","Pots de fleur et contenants","ABS >90%","Eléments de toutes dimensions et poids","€ / Tonne",130,130,{"$f":"VLOOKUP(J3212,'Codes éco-part'!$C:$E,3,FALSE)","v":"495"},156]
["REP ABJ",4,"22152460200",null,"Entretien et aménagement du jardin","Pots de fleur et contenants","ABS >90%","Inférieur strictement à 0,5 kg","€/unité",0.03,0.03,{"$f":"VLOOKUP(J3213,'Codes éco-part'!$C:$E,3,FALSE)","v":"092"},3.5999999999999997E-2]
["REP ABJ",4,"22152460210",null,"Entretien et aménagement du jardin","Pots de fleur et contenants","ABS >90%","Compris entre 0,5 kg et 1 kg exclus","€/unité",0.1,0.1,{"$f":"VLOOKUP(J3214,'Codes éco-part'!$C:$E,3,FALSE)","v":"094"},0.12]
["REP ABJ",4,"22152460220",null,"Entretien et aménagement du jardin","Pots de fleur et contenants","ABS >90%","Compris entre 1 kg et 2 kg exclus","€/unité",0.2,0.2,{"$f":"VLOOKUP(J3215,'Codes éco-part'!$C:$E,3,FALSE)","v":"101"},0.24]
["REP ABJ",4,"22152460520",null,"Entretien et aménagement du jardin","Pots de fleur et contenants","ABS >90%","Compris entre 2 kg et 3 kg exclus","€/unité",0.33,0.33,{"$f":"VLOOKUP(J3216,'Codes éco-part'!$C:$E,3,FALSE)","v":"006"},0.39600000000000002]
["REP ABJ",4,"22152460530",null,"Entretien et aménagement du jardin","Pots de fleur et contenants","ABS >90%","Compris entre 3 kg et 5 kg exclus","€/unité",0.52,0.52,{"$f":"VLOOKUP(J3217,'Codes éco-part'!$C:$E,3,FALSE)","v":"509"},0.624]
["REP ABJ",4,"22152460540",null,"Entretien et aménagement du jardin","Pots de fleur et contenants","ABS >90%","Compris entre 5 kg et 7 kg exclus","€/unité",0.91,0.91,{"$f":"VLOOKUP(J3218,'Codes éco-part'!$C:$E,3,FALSE)","v":"510"},1.0920000000000001]
["REP ABJ",4,"22152460550",null,"Entretien et aménagement du jardin","Pots de fleur et contenants","ABS >90%","Compris entre 7 kg et 10 kg exclus","€/unité",1.3,1.3,{"$f":"VLOOKUP(J3219,'Codes éco-part'!$C:$E,3,FALSE)","v":"511"},1.56]
["REP ABJ",4,"22152460560",null,"Entretien et aménagement du jardin","Pots de fleur et contenants","ABS >90%","Compris entre 10 kg et 15 kg exclus","€/unité",1.95,1.95,{"$f":"VLOOKUP(J3220,'Codes éco-part'!$C:$E,3,FALSE)","v":"512"},2.34]
["REP ABJ",4,"22152460570",null,"Entretien et aménagement du jardin","Pots de fleur et contenants","ABS >90%","Compris entre 15 kg et 20 kg exclus","€/unité",2.6,2.6,{"$f":"VLOOKUP(J3221,'Codes éco-part'!$C:$E,3,FALSE)","v":"513"},3.12]
["REP ABJ",4,"22152470000",null,"Entretien et aménagement du jardin","Pots de fleur et contenants","Polystyrène >90%","Eléments de toutes dimensions et poids","€ / Tonne",130,130,{"$f":"VLOOKUP(J3222,'Codes éco-part'!$C:$E,3,FALSE)","v":"495"},156]
["REP ABJ",4,"22152470200",null,"Entretien et aménagement du jardin","Pots de fleur et contenants","Polystyrène >90%","Inférieur strictement à 0,5 kg","€/unité",0.03,0.03,{"$f":"VLOOKUP(J3223,'Codes éco-part'!$C:$E,3,FALSE)","v":"092"},3.5999999999999997E-2]
["REP ABJ",4,"22152470210",null,"Entretien et aménagement du jardin","Pots de fleur et contenants","Polystyrène >90%","Compris entre 0,5 kg et 1 kg exclus","€/unité",0.1,0.1,{"$f":"VLOOKUP(J3224,'Codes éco-part'!$C:$E,3,FALSE)","v":"094"},0.12]
["REP ABJ",4,"22152470220",null,"Entretien et aménagement du jardin","Pots de fleur et contenants","Polystyrène >90%","Compris entre 1 kg et 2 kg exclus","€/unité",0.2,0.2,{"$f":"VLOOKUP(J3225,'Codes éco-part'!$C:$E,3,FALSE)","v":"101"},{"$f":"J3225*1.2","v":0.24}]
["REP ABJ",4,"22152470520",null,"Entretien et aménagement du jardin","Pots de fleur et contenants","Polystyrène >90%","Compris entre 2 kg et 3 kg exclus","€/unité",0.33,0.33,{"$f":"VLOOKUP(J3226,'Codes éco-part'!$C:$E,3,FALSE)","v":"006"},0.39600000000000002]
["REP ABJ",4,"22152470530",null,"Entretien et aménagement du jardin","Pots de fleur et contenants","Polystyrène >90%","Compris entre 3 kg et 5 kg exclus","€/unité",0.52,0.52,{"$f":"VLOOKUP(J3227,'Codes éco-part'!$C:$E,3,FALSE)","v":"509"},0.624]
["REP ABJ",4,"22152470540",null,"Entretien et aménagement du jardin","Pots de fleur et contenants","Polystyrène >90%","Compris entre 5 kg et 7 kg exclus","€/unité",0.91,0.91,{"$f":"VLOOKUP(J3228,'Codes éco-part'!$C:$E,3,FALSE)","v":"510"},1.0920000000000001]
["REP ABJ",4,"22152470550",null,"Entretien et aménagement du jardin","Pots de fleur et contenants","Polystyrène >90%","Compris entre 7 kg et 10 kg exclus","€/unité",1.3,1.3,{"$f":"VLOOKUP(J3229,'Codes éco-part'!$C:$E,3,FALSE)","v":"511"},1.56]
["REP ABJ",4,"22152470560",null,"Entretien et aménagement du jardin","Pots de fleur et contenants","Polystyrène >90%","Compris entre 10 kg et 15 kg exclus","€/unité",1.95,1.95,{"$f":"VLOOKUP(J3230,'Codes éco-part'!$C:$E,3,FALSE)","v":"512"},2.34]
["REP ABJ",4,"22152470570",null,"Entretien et aménagement du jardin","Pots de fleur et contenants","Polystyrène >90%","Compris entre 15 kg et 20 kg exclus","€/unité",2.6,2.6,{"$f":"VLOOKUP(J3231,'Codes éco-part'!$C:$E,3,FALSE)","v":"513"},3.12]
["REP ABJ",4,"22152480000",null,"Entretien et aménagement du jardin","Pots de fleur et contenants","PVC >90%","Eléments de toutes dimensions et poids","€ / Tonne",130,130,{"$f":"VLOOKUP(J3232,'Codes éco-part'!$C:$E,3,FALSE)","v":"495"},156]
["REP ABJ",4,"22152480200",null,"Entretien et aménagement du jardin","Pots de fleur et contenants","PVC >90%","Inférieur strictement à 0,5 kg","€/unité",0.03,0.03,{"$f":"VLOOKUP(J3233,'Codes éco-part'!$C:$E,3,FALSE)","v":"092"},3.5999999999999997E-2]
["REP ABJ",4,"22152480210",null,"Entretien et aménagement du jardin","Pots de fleur et contenants","PVC >90%","Compris entre 0,5 kg et 1 kg exclus","€/unité",0.1,0.1,{"$f":"VLOOKUP(J3234,'Codes éco-part'!$C:$E,3,FALSE)","v":"094"},0.12]
["REP ABJ",4,"22152480220",null,"Entretien et aménagement du jardin","Pots de fleur et contenants","PVC >90%","Compris entre 1 kg et 2 kg exclus","€/unité",0.2,0.2,{"$f":"VLOOKUP(J3235,'Codes éco-part'!$C:$E,3,FALSE)","v":"101"},0.24]
["REP ABJ",4,"22152480520",null,"Entretien et aménagement du jardin","Pots de fleur et contenants","PVC >90%","Compris entre 2 kg et 3 kg exclus","€/unité",0.33,0.33,{"$f":"VLOOKUP(J3236,'Codes éco-part'!$C:$E,3,FALSE)","v":"006"},0.39600000000000002]
["REP ABJ",4,"22152480530",null,"Entretien et aménagement du jardin","Pots de fleur et contenants","PVC >90%","Compris entre 3 kg et 5 kg exclus","€/unité",0.52,0.52,{"$f":"VLOOKUP(J3237,'Codes éco-part'!$C:$E,3,FALSE)","v":"509"},0.624]
["REP ABJ",4,"22152480540",null,"Entretien et aménagement du jardin","Pots de fleur et contenants","PVC >90%","Compris entre 5 kg et 7 kg exclus","€/unité",0.91,0.91,{"$f":"VLOOKUP(J3238,'Codes éco-part'!$C:$E,3,FALSE)","v":"510"},1.0920000000000001]
["REP ABJ",4,"22152480550",null,"Entretien et aménagement du jardin","Pots de fleur et contenants","PVC >90%","Compris entre 7 kg et 10 kg exclus","€/unité",1.3,1.3,{"$f":"VLOOKUP(J3239,'Codes éco-part'!$C:$E,3,FALSE)","v":"511"},1.56]
["REP ABJ",4,"22152480560",null,"Entretien et aménagement du jardin","Pots de fleur et contenants","PVC >90%","Compris entre 10 kg et 15 kg exclus","€/unité",1.95,1.95,{"$f":"VLOOKUP(J3240,'Codes éco-part'!$C:$E,3,FALSE)","v":"512"},2.34]
["REP ABJ",4,"22152480570",null,"Entretien et aménagement du jardin","Pots de fleur et contenants","PVC >90%","Compris entre 15 kg et 20 kg exclus","€/unité",2.6,2.6,{"$f":"VLOOKUP(J3241,'Codes éco-part'!$C:$E,3,FALSE)","v":"513"},3.12]
["REP ABJ",4,"22152490000",null,"Entretien et aménagement du jardin","Pots de fleur et contenants","Caoutchouc synthétique >90%","Eléments de toutes dimensions et poids","€ / Tonne",130,130,{"$f":"VLOOKUP(J3242,'Codes éco-part'!$C:$E,3,FALSE)","v":"495"},156]
["REP ABJ",4,"22152490200",null,"Entretien et aménagement du jardin","Pots de fleur et contenants","Caoutchouc synthétique >90%","Inférieur strictement à 0,5 kg","€/unité",0.03,0.03,{"$f":"VLOOKUP(J3243,'Codes éco-part'!$C:$E,3,FALSE)","v":"092"},3.5999999999999997E-2]
["REP ABJ",4,"22152490210",null,"Entretien et aménagement du jardin","Pots de fleur et contenants","Caoutchouc synthétique >90%","Compris entre 0,5 kg et 1 kg exclus","€/unité",0.1,0.1,{"$f":"VLOOKUP(J3244,'Codes éco-part'!$C:$E,3,FALSE)","v":"094"},0.12]
["REP ABJ",4,"22152490220",null,"Entretien et aménagement du jardin","Pots de fleur et contenants","Caoutchouc synthétique >90%","Compris entre 1 kg et 2 kg exclus","€/unité",0.2,0.2,{"$f":"VLOOKUP(J3245,'Codes éco-part'!$C:$E,3,FALSE)","v":"101"},0.24]
["REP ABJ",4,"22152490520",null,"Entretien et aménagement du jardin","Pots de fleur et contenants","Caoutchouc synthétique >90%","Compris entre 2 kg et 3 kg exclus","€/unité",0.33,0.33,{"$f":"VLOOKUP(J3246,'Codes éco-part'!$C:$E,3,FALSE)","v":"006"},0.39600000000000002]
["REP ABJ",4,"22152490530",null,"Entretien et aménagement du jardin","Pots de fleur et contenants","Caoutchouc synthétique >90%","Compris entre 3 kg et 5 kg exclus","€/unité",0.52,0.52,{"$f":"VLOOKUP(J3247,'Codes éco-part'!$C:$E,3,FALSE)","v":"509"},0.624]
["REP ABJ",4,"22152490540",null,"Entretien et aménagement du jardin","Pots de fleur et contenants","Caoutchouc synthétique >90%","Compris entre 5 kg et 7 kg exclus","€/unité",0.91,0.91,{"$f":"VLOOKUP(J3248,'Codes éco-part'!$C:$E,3,FALSE)","v":"510"},1.0920000000000001]
["REP ABJ",4,"22152490550",null,"Entretien et aménagement du jardin","Pots de fleur et contenants","Caoutchouc synthétique >90%","Compris entre 7 kg et 10 kg exclus","€/unité",1.3,1.3,{"$f":"VLOOKUP(J3249,'Codes éco-part'!$C:$E,3,FALSE)","v":"511"},1.56]
["REP ABJ",4,"22152490560",null,"Entretien et aménagement du jardin","Pots de fleur et contenants","Caoutchouc synthétique >90%","Compris entre 10 kg et 15 kg exclus","€/unité",1.95,1.95,{"$f":"VLOOKUP(J3250,'Codes éco-part'!$C:$E,3,FALSE)","v":"512"},2.34]
["REP ABJ",4,"22152490570",null,"Entretien et aménagement du jardin","Pots de fleur et contenants","Caoutchouc synthétique >90%","Compris entre 15 kg et 20 kg exclus","€/unité",2.6,2.6,{"$f":"VLOOKUP(J3251,'Codes éco-part'!$C:$E,3,FALSE)","v":"513"},3.12]
["REP ABJ",4,"22152520000",null,"Entretien et aménagement du jardin","Pots de fleur et contenants","Massif et assimilés certifiés >90%","Eléments de toutes dimensions et poids","€ / Tonne",20,20,{"$f":"VLOOKUP(J3252,'Codes éco-part'!$C:$E,3,FALSE)","v":"148"},24]
["REP ABJ",4,"22152520200",null,"Entretien et aménagement du jardin","Pots de fleur et contenants","Massif et assimilés certifiés >90%","Inférieur strictement à 0,5 kg","€/unité",0.01,0.01,{"$f":"VLOOKUP(J3253,'Codes éco-part'!$C:$E,3,FALSE)","v":"260"},1.2E-2]
["REP ABJ",4,"22152520210",null,"Entretien et aménagement du jardin","Pots de fleur et contenants","Massif et assimilés certifiés >90%","Compris entre 0,5 kg et 1 kg exclus","€/unité",0.02,0.02,{"$f":"VLOOKUP(J3254,'Codes éco-part'!$C:$E,3,FALSE)","v":"047"},2.4E-2]
["REP ABJ",4,"22152520220",null,"Entretien et aménagement du jardin","Pots de fleur et contenants","Massif et assimilés certifiés >90%","Compris entre 1 kg et 2 kg exclus","€/unité",0.03,0.03,{"$f":"VLOOKUP(J3255,'Codes éco-part'!$C:$E,3,FALSE)","v":"092"},3.5999999999999997E-2]
["REP ABJ",4,"22152520520",null,"Entretien et aménagement du jardin","Pots de fleur et contenants","Massif et assimilés certifiés >90%","Compris entre 2 kg et 3 kg exclus","€/unité",0.05,0.05,{"$f":"VLOOKUP(J3256,'Codes éco-part'!$C:$E,3,FALSE)","v":"048"},0.06]
["REP ABJ",4,"22152520530",null,"Entretien et aménagement du jardin","Pots de fleur et contenants","Massif et assimilés certifiés >90%","Compris entre 3 kg et 5 kg exclus","€/unité",0.08,0.08,{"$f":"VLOOKUP(J3257,'Codes éco-part'!$C:$E,3,FALSE)","v":"003"},9.6000000000000002E-2]
["REP ABJ",4,"22152520540",null,"Entretien et aménagement du jardin","Pots de fleur et contenants","Massif et assimilés certifiés >90%","Compris entre 5 kg et 7 kg exclus","€/unité",0.14000000000000001,0.14000000000000001,{"$f":"VLOOKUP(J3258,'Codes éco-part'!$C:$E,3,FALSE)","v":"098"},0.16800000000000001]
["REP ABJ",4,"22152520550",null,"Entretien et aménagement du jardin","Pots de fleur et contenants","Massif et assimilés certifiés >90%","Compris entre 7 kg et 10 kg exclus","€/unité",0.2,0.2,{"$f":"VLOOKUP(J3259,'Codes éco-part'!$C:$E,3,FALSE)","v":"101"},0.24]
["REP ABJ",4,"22152520560",null,"Entretien et aménagement du jardin","Pots de fleur et contenants","Massif et assimilés certifiés >90%","Compris entre 10 kg et 15 kg exclus","€/unité",0.3,0.3,{"$f":"VLOOKUP(J3260,'Codes éco-part'!$C:$E,3,FALSE)","v":"446"},0.36]
["REP ABJ",4,"22152520570",null,"Entretien et aménagement du jardin","Pots de fleur et contenants","Massif et assimilés certifiés >90%","Compris entre 15 kg et 20 kg exclus","€/unité",0.4,0.4,{"$f":"VLOOKUP(J3261,'Codes éco-part'!$C:$E,3,FALSE)","v":"105"},0.48]
["REP ABJ",4,"22152530000",null,"Entretien et aménagement du jardin","Pots de fleur et contenants","Massif et assimilés >90%","Eléments de toutes dimensions et poids","€ / Tonne",20,20,{"$f":"VLOOKUP(J3262,'Codes éco-part'!$C:$E,3,FALSE)","v":"148"},24]
["REP ABJ",4,"22152530200",null,"Entretien et aménagement du jardin","Pots de fleur et contenants","Massif et assimilés >90%","Inférieur strictement à 0,5 kg","€/unité",0.01,0.01,{"$f":"VLOOKUP(J3263,'Codes éco-part'!$C:$E,3,FALSE)","v":"260"},1.2E-2]
["REP ABJ",4,"22152530210",null,"Entretien et aménagement du jardin","Pots de fleur et contenants","Massif et assimilés >90%","Compris entre 0,5 kg et 1 kg exclus","€/unité",0.02,0.02,{"$f":"VLOOKUP(J3264,'Codes éco-part'!$C:$E,3,FALSE)","v":"047"},2.4E-2]
["REP ABJ",4,"22152530220",null,"Entretien et aménagement du jardin","Pots de fleur et contenants","Massif et assimilés >90%","Compris entre 1 kg et 2 kg exclus","€/unité",0.03,0.03,{"$f":"VLOOKUP(J3265,'Codes éco-part'!$C:$E,3,FALSE)","v":"092"},3.5999999999999997E-2]
["REP ABJ",4,"22152530520",null,"Entretien et aménagement du jardin","Pots de fleur et contenants","Massif et assimilés >90%","Compris entre 2 kg et 3 kg exclus","€/unité",0.05,0.05,{"$f":"VLOOKUP(J3266,'Codes éco-part'!$C:$E,3,FALSE)","v":"048"},0.06]
["REP ABJ",4,"22152530530",null,"Entretien et aménagement du jardin","Pots de fleur et contenants","Massif et assimilés >90%","Compris entre 3 kg et 5 kg exclus","€/unité",0.08,0.08,{"$f":"VLOOKUP(J3267,'Codes éco-part'!$C:$E,3,FALSE)","v":"003"},9.6000000000000002E-2]
["REP ABJ",4,"22152530540",null,"Entretien et aménagement du jardin","Pots de fleur et contenants","Massif et assimilés >90%","Compris entre 5 kg et 7 kg exclus","€/unité",0.14000000000000001,0.14000000000000001,{"$f":"VLOOKUP(J3268,'Codes éco-part'!$C:$E,3,FALSE)","v":"098"},0.16800000000000001]
["REP ABJ",4,"22152530550",null,"Entretien et aménagement du jardin","Pots de fleur et contenants","Massif et assimilés >90%","Compris entre 7 kg et 10 kg exclus","€/unité",0.2,0.2,{"$f":"VLOOKUP(J3269,'Codes éco-part'!$C:$E,3,FALSE)","v":"101"},0.24]
["REP ABJ",4,"22152530560",null,"Entretien et aménagement du jardin","Pots de fleur et contenants","Massif et assimilés >90%","Compris entre 10 kg et 15 kg exclus","€/unité",0.3,0.3,{"$f":"VLOOKUP(J3270,'Codes éco-part'!$C:$E,3,FALSE)","v":"446"},0.36]
["REP ABJ",4,"22152530570",null,"Entretien et aménagement du jardin","Pots de fleur et contenants","Massif et assimilés >90%","Compris entre 15 kg et 20 kg exclus","€/unité",0.4,0.4,{"$f":"VLOOKUP(J3271,'Codes éco-part'!$C:$E,3,FALSE)","v":"105"},0.48]
["REP ABJ",4,"22152550000",null,"Entretien et aménagement du jardin","Pots de fleur et contenants","Matériaux bio sourcés ou textiles non synthétiques >90%","Eléments de toutes dimensions et poids","€ / Tonne",50,50,{"$f":"VLOOKUP(J3272,'Codes éco-part'!$C:$E,3,FALSE)","v":"173"},60]
["REP ABJ",4,"22152550200",null,"Entretien et aménagement du jardin","Pots de fleur et contenants","Matériaux bio sourcés ou textiles non synthétiques >90%","Inférieur strictement à 0,5 kg","€/unité",0.01,0.01,{"$f":"VLOOKUP(J3273,'Codes éco-part'!$C:$E,3,FALSE)","v":"260"},1.2E-2]
["REP ABJ",4,"22152550210",null,"Entretien et aménagement du jardin","Pots de fleur et contenants","Matériaux bio sourcés ou textiles non synthétiques >90%","Compris entre 0,5 kg et 1 kg exclus","€/unité",0.04,0.04,{"$f":"VLOOKUP(J3274,'Codes éco-part'!$C:$E,3,FALSE)","v":"002"},4.8000000000000001E-2]
["REP ABJ",4,"22152550220",null,"Entretien et aménagement du jardin","Pots de fleur et contenants","Matériaux bio sourcés ou textiles non synthétiques >90%","Compris entre 1 kg et 2 kg exclus","€/unité",0.08,0.08,{"$f":"VLOOKUP(J3275,'Codes éco-part'!$C:$E,3,FALSE)","v":"003"},9.6000000000000002E-2]
["REP ABJ",4,"22152550520",null,"Entretien et aménagement du jardin","Pots de fleur et contenants","Matériaux bio sourcés ou textiles non synthétiques >90%","Compris entre 2 kg et 3 kg exclus","€/unité",0.13,0.13,{"$f":"VLOOKUP(J3276,'Codes éco-part'!$C:$E,3,FALSE)","v":"004"},0.156]
["REP ABJ",4,"22152550530",null,"Entretien et aménagement du jardin","Pots de fleur et contenants","Matériaux bio sourcés ou textiles non synthétiques >90%","Compris entre 3 kg et 5 kg exclus","€/unité",0.2,0.2,{"$f":"VLOOKUP(J3277,'Codes éco-part'!$C:$E,3,FALSE)","v":"101"},0.24]
["REP ABJ",4,"22152550540",null,"Entretien et aménagement du jardin","Pots de fleur et contenants","Matériaux bio sourcés ou textiles non synthétiques >90%","Compris entre 5 kg et 7 kg exclus","€/unité",0.35,0.35,{"$f":"VLOOKUP(J3278,'Codes éco-part'!$C:$E,3,FALSE)","v":"448"},0.42]
["REP ABJ",4,"22152550550",null,"Entretien et aménagement du jardin","Pots de fleur et contenants","Matériaux bio sourcés ou textiles non synthétiques >90%","Compris entre 7 kg et 10 kg exclus","€/unité",0.5,0.5,{"$f":"VLOOKUP(J3279,'Codes éco-part'!$C:$E,3,FALSE)","v":"053"},0.6]
["REP ABJ",4,"22152550560",null,"Entretien et aménagement du jardin","Pots de fleur et contenants","Matériaux bio sourcés ou textiles non synthétiques >90%","Compris entre 10 kg et 15 kg exclus","€/unité",0.75,0.75,{"$f":"VLOOKUP(J3280,'Codes éco-part'!$C:$E,3,FALSE)","v":"328"},0.89999999999999991]
["REP ABJ",4,"22152550570",null,"Entretien et aménagement du jardin","Pots de fleur et contenants","Matériaux bio sourcés ou textiles non synthétiques >90%","Compris entre 15 kg et 20 kg exclus","€/unité",1,1,{"$f":"VLOOKUP(J3281,'Codes éco-part'!$C:$E,3,FALSE)","v":"056"},1.2]
["REP ABJ",4,"22152590000",null,"Entretien et aménagement du jardin","Pots de fleur et contenants","Panneaux de particules ou OSB certifiés >90%","Eléments de toutes dimensions et poids","€ / Tonne",20,20,{"$f":"VLOOKUP(J3282,'Codes éco-part'!$C:$E,3,FALSE)","v":"148"},24]
["REP ABJ",4,"22152590200",null,"Entretien et aménagement du jardin","Pots de fleur et contenants","Panneaux de particules ou OSB certifiés >90%","Inférieur strictement à 0,5 kg","€/unité",0.01,0.01,{"$f":"VLOOKUP(J3283,'Codes éco-part'!$C:$E,3,FALSE)","v":"260"},1.2E-2]
["REP ABJ",4,"22152590210",null,"Entretien et aménagement du jardin","Pots de fleur et contenants","Panneaux de particules ou OSB certifiés >90%","Compris entre 0,5 kg et 1 kg exclus","€/unité",0.02,0.02,{"$f":"VLOOKUP(J3284,'Codes éco-part'!$C:$E,3,FALSE)","v":"047"},2.4E-2]
["REP ABJ",4,"22152590220",null,"Entretien et aménagement du jardin","Pots de fleur et contenants","Panneaux de particules ou OSB certifiés >90%","Compris entre 1 kg et 2 kg exclus","€/unité",0.03,0.03,{"$f":"VLOOKUP(J3285,'Codes éco-part'!$C:$E,3,FALSE)","v":"092"},3.5999999999999997E-2]
["REP ABJ",4,"22152590520",null,"Entretien et aménagement du jardin","Pots de fleur et contenants","Panneaux de particules ou OSB certifiés >90%","Compris entre 2 kg et 3 kg exclus","€/unité",0.05,0.05,{"$f":"VLOOKUP(J3286,'Codes éco-part'!$C:$E,3,FALSE)","v":"048"},0.06]
["REP ABJ",4,"22152590530",null,"Entretien et aménagement du jardin","Pots de fleur et contenants","Panneaux de particules ou OSB certifiés >90%","Compris entre 3 kg et 5 kg exclus","€/unité",0.08,0.08,{"$f":"VLOOKUP(J3287,'Codes éco-part'!$C:$E,3,FALSE)","v":"003"},9.6000000000000002E-2]
["REP ABJ",4,"22152590540",null,"Entretien et aménagement du jardin","Pots de fleur et contenants","Panneaux de particules ou OSB certifiés >90%","Compris entre 5 kg et 7 kg exclus","€/unité",0.14000000000000001,0.14000000000000001,{"$f":"VLOOKUP(J3288,'Codes éco-part'!$C:$E,3,FALSE)","v":"098"},0.16800000000000001]
["REP ABJ",4,"22152590550",null,"Entretien et aménagement du jardin","Pots de fleur et contenants","Panneaux de particules ou OSB certifiés >90%","Compris entre 7 kg et 10 kg exclus","€/unité",0.2,0.2,{"$f":"VLOOKUP(J3289,'Codes éco-part'!$C:$E,3,FALSE)","v":"101"},{"$f":"J3289*1.2","v":0.24}]
["REP ABJ",4,"22152590560",null,"Entretien et aménagement du jardin","Pots de fleur et contenants","Panneaux de particules ou OSB certifiés >90%","Compris entre 10 kg et 15 kg exclus","€/unité",0.3,0.3,{"$f":"VLOOKUP(J3290,'Codes éco-part'!$C:$E,3,FALSE)","v":"446"},0.36]
["REP ABJ",4,"22152590570",null,"Entretien et aménagement du jardin","Pots de fleur et contenants","Panneaux de particules ou OSB certifiés >90%","Compris entre 15 kg et 20 kg exclus","€/unité",0.4,0.4,{"$f":"VLOOKUP(J3291,'Codes éco-part'!$C:$E,3,FALSE)","v":"105"},0.48]
["REP ABJ",4,"22152600000",null,"Entretien et aménagement du jardin","Pots de fleur et contenants","Panneaux de particules ou OSB certifiés >75%","Eléments de toutes dimensions et poids","€ / Tonne",20,20,{"$f":"VLOOKUP(J3292,'Codes éco-part'!$C:$E,3,FALSE)","v":"148"},24]
["REP ABJ",4,"22152600200",null,"Entretien et aménagement du jardin","Pots de fleur et contenants","Panneaux de particules ou OSB certifiés >75%","Inférieur strictement à 0,5 kg","€/unité",0.01,0.01,{"$f":"VLOOKUP(J3293,'Codes éco-part'!$C:$E,3,FALSE)","v":"260"},1.2E-2]
["REP ABJ",4,"22152600210",null,"Entretien et aménagement du jardin","Pots de fleur et contenants","Panneaux de particules ou OSB certifiés >75%","Compris entre 0,5 kg et 1 kg exclus","€/unité",0.02,0.02,{"$f":"VLOOKUP(J3294,'Codes éco-part'!$C:$E,3,FALSE)","v":"047"},2.4E-2]
["REP ABJ",4,"22152600220",null,"Entretien et aménagement du jardin","Pots de fleur et contenants","Panneaux de particules ou OSB certifiés >75%","Compris entre 1 kg et 2 kg exclus","€/unité",0.03,0.03,{"$f":"VLOOKUP(J3295,'Codes éco-part'!$C:$E,3,FALSE)","v":"092"},3.5999999999999997E-2]
["REP ABJ",4,"22152600520",null,"Entretien et aménagement du jardin","Pots de fleur et contenants","Panneaux de particules ou OSB certifiés >75%","Compris entre 2 kg et 3 kg exclus","€/unité",0.05,0.05,{"$f":"VLOOKUP(J3296,'Codes éco-part'!$C:$E,3,FALSE)","v":"048"},0.06]
["REP ABJ",4,"22152600530",null,"Entretien et aménagement du jardin","Pots de fleur et contenants","Panneaux de particules ou OSB certifiés >75%","Compris entre 3 kg et 5 kg exclus","€/unité",0.08,0.08,{"$f":"VLOOKUP(J3297,'Codes éco-part'!$C:$E,3,FALSE)","v":"003"},9.6000000000000002E-2]
["REP ABJ",4,"22152600540",null,"Entretien et aménagement du jardin","Pots de fleur et contenants","Panneaux de particules ou OSB certifiés >75%","Compris entre 5 kg et 7 kg exclus","€/unité",0.14000000000000001,0.14000000000000001,{"$f":"VLOOKUP(J3298,'Codes éco-part'!$C:$E,3,FALSE)","v":"098"},0.16800000000000001]
["REP ABJ",4,"22152600550",null,"Entretien et aménagement du jardin","Pots de fleur et contenants","Panneaux de particules ou OSB certifiés >75%","Compris entre 7 kg et 10 kg exclus","€/unité",0.2,0.2,{"$f":"VLOOKUP(J3299,'Codes éco-part'!$C:$E,3,FALSE)","v":"101"},0.24]
["REP ABJ",4,"22152600560",null,"Entretien et aménagement du jardin","Pots de fleur et contenants","Panneaux de particules ou OSB certifiés >75%","Compris entre 10 kg et 15 kg exclus","€/unité",0.3,0.3,{"$f":"VLOOKUP(J3300,'Codes éco-part'!$C:$E,3,FALSE)","v":"446"},0.36]
["REP ABJ",4,"22152600570",null,"Entretien et aménagement du jardin","Pots de fleur et contenants","Panneaux de particules ou OSB certifiés >75%","Compris entre 15 kg et 20 kg exclus","€/unité",0.4,0.4,{"$f":"VLOOKUP(J3301,'Codes éco-part'!$C:$E,3,FALSE)","v":"105"},0.48]
["REP ABJ",4,"22152610000",null,"Entretien et aménagement du jardin","Pots de fleur et contenants","Panneaux de particules ou OSB >90%","Eléments de toutes dimensions et poids","€ / Tonne",20,20,{"$f":"VLOOKUP(J3302,'Codes éco-part'!$C:$E,3,FALSE)","v":"148"},24]
["REP ABJ",4,"22152610200",null,"Entretien et aménagement du jardin","Pots de fleur et contenants","Panneaux de particules ou OSB >90%","Inférieur strictement à 0,5 kg","€/unité",0.01,0.01,{"$f":"VLOOKUP(J3303,'Codes éco-part'!$C:$E,3,FALSE)","v":"260"},1.2E-2]
["REP ABJ",4,"22152610210",null,"Entretien et aménagement du jardin","Pots de fleur et contenants","Panneaux de particules ou OSB >90%","Compris entre 0,5 kg et 1 kg exclus","€/unité",0.02,0.02,{"$f":"VLOOKUP(J3304,'Codes éco-part'!$C:$E,3,FALSE)","v":"047"},2.4E-2]
["REP ABJ",4,"22152610220",null,"Entretien et aménagement du jardin","Pots de fleur et contenants","Panneaux de particules ou OSB >90%","Compris entre 1 kg et 2 kg exclus","€/unité",0.03,0.03,{"$f":"VLOOKUP(J3305,'Codes éco-part'!$C:$E,3,FALSE)","v":"092"},3.5999999999999997E-2]
["REP ABJ",4,"22152610520",null,"Entretien et aménagement du jardin","Pots de fleur et contenants","Panneaux de particules ou OSB >90%","Compris entre 2 kg et 3 kg exclus","€/unité",0.05,0.05,{"$f":"VLOOKUP(J3306,'Codes éco-part'!$C:$E,3,FALSE)","v":"048"},0.06]
["REP ABJ",4,"22152610530",null,"Entretien et aménagement du jardin","Pots de fleur et contenants","Panneaux de particules ou OSB >90%","Compris entre 3 kg et 5 kg exclus","€/unité",0.08,0.08,{"$f":"VLOOKUP(J3307,'Codes éco-part'!$C:$E,3,FALSE)","v":"003"},9.6000000000000002E-2]
["REP ABJ",4,"22152610540",null,"Entretien et aménagement du jardin","Pots de fleur et contenants","Panneaux de particules ou OSB >90%","Compris entre 5 kg et 7 kg exclus","€/unité",0.14000000000000001,0.14000000000000001,{"$f":"VLOOKUP(J3308,'Codes éco-part'!$C:$E,3,FALSE)","v":"098"},0.16800000000000001]
["REP ABJ",4,"22152610550",null,"Entretien et aménagement du jardin","Pots de fleur et contenants","Panneaux de particules ou OSB >90%","Compris entre 7 kg et 10 kg exclus","€/unité",0.2,0.2,{"$f":"VLOOKUP(J3309,'Codes éco-part'!$C:$E,3,FALSE)","v":"101"},0.24]
["REP ABJ",4,"22152610560",null,"Entretien et aménagement du jardin","Pots de fleur et contenants","Panneaux de particules ou OSB >90%","Compris entre 10 kg et 15 kg exclus","€/unité",0.3,0.3,{"$f":"VLOOKUP(J3310,'Codes éco-part'!$C:$E,3,FALSE)","v":"446"},0.36]
["REP ABJ",4,"22152610570",null,"Entretien et aménagement du jardin","Pots de fleur et contenants","Panneaux de particules ou OSB >90%","Compris entre 15 kg et 20 kg exclus","€/unité",0.4,0.4,{"$f":"VLOOKUP(J3311,'Codes éco-part'!$C:$E,3,FALSE)","v":"105"},0.48]
["REP ABJ",4,"22152620000",null,"Entretien et aménagement du jardin","Pots de fleur et contenants","Dérivés de bois >90%","Eléments de toutes dimensions et poids","€ / Tonne",20,20,{"$f":"VLOOKUP(J3312,'Codes éco-part'!$C:$E,3,FALSE)","v":"148"},24]
["REP ABJ",4,"22152620200",null,"Entretien et aménagement du jardin","Pots de fleur et contenants","Dérivés de bois >90%","Inférieur strictement à 0,5 kg","€/unité",0.01,0.01,{"$f":"VLOOKUP(J3313,'Codes éco-part'!$C:$E,3,FALSE)","v":"260"},1.2E-2]
["REP ABJ",4,"22152620210",null,"Entretien et aménagement du jardin","Pots de fleur et contenants","Dérivés de bois >90%","Compris entre 0,5 kg et 1 kg exclus","€/unité",0.02,0.02,{"$f":"VLOOKUP(J3314,'Codes éco-part'!$C:$E,3,FALSE)","v":"047"},2.4E-2]
["REP ABJ",4,"22152620220",null,"Entretien et aménagement du jardin","Pots de fleur et contenants","Dérivés de bois >90%","Compris entre 1 kg et 2 kg exclus","€/unité",0.03,0.03,{"$f":"VLOOKUP(J3315,'Codes éco-part'!$C:$E,3,FALSE)","v":"092"},3.5999999999999997E-2]
["REP ABJ",4,"22152620520",null,"Entretien et aménagement du jardin","Pots de fleur et contenants","Dérivés de bois >90%","Compris entre 2 kg et 3 kg exclus","€/unité",0.05,0.05,{"$f":"VLOOKUP(J3316,'Codes éco-part'!$C:$E,3,FALSE)","v":"048"},0.06]
["REP ABJ",4,"22152620530",null,"Entretien et aménagement du jardin","Pots de fleur et contenants","Dérivés de bois >90%","Compris entre 3 kg et 5 kg exclus","€/unité",0.08,0.08,{"$f":"VLOOKUP(J3317,'Codes éco-part'!$C:$E,3,FALSE)","v":"003"},9.6000000000000002E-2]
["REP ABJ",4,"22152620540",null,"Entretien et aménagement du jardin","Pots de fleur et contenants","Dérivés de bois >90%","Compris entre 5 kg et 7 kg exclus","€/unité",0.14000000000000001,0.14000000000000001,{"$f":"VLOOKUP(J3318,'Codes éco-part'!$C:$E,3,FALSE)","v":"098"},0.16800000000000001]
["REP ABJ",4,"22152620550",null,"Entretien et aménagement du jardin","Pots de fleur et contenants","Dérivés de bois >90%","Compris entre 7 kg et 10 kg exclus","€/unité",0.2,0.2,{"$f":"VLOOKUP(J3319,'Codes éco-part'!$C:$E,3,FALSE)","v":"101"},0.24]
["REP ABJ",4,"22152620560",null,"Entretien et aménagement du jardin","Pots de fleur et contenants","Dérivés de bois >90%","Compris entre 10 kg et 15 kg exclus","€/unité",0.3,0.3,{"$f":"VLOOKUP(J3320,'Codes éco-part'!$C:$E,3,FALSE)","v":"446"},0.36]
["REP ABJ",4,"22152620570",null,"Entretien et aménagement du jardin","Pots de fleur et contenants","Dérivés de bois >90%","Compris entre 15 kg et 20 kg exclus","€/unité",0.4,0.4,{"$f":"VLOOKUP(J3321,'Codes éco-part'!$C:$E,3,FALSE)","v":"105"},0.48]
["REP ABJ",4,"22152630000",null,"Entretien et aménagement du jardin","Pots de fleur et contenants","Caoutchouc naturel >90%","Eléments de toutes dimensions et poids","€ / Tonne",50,50,{"$f":"VLOOKUP(J3322,'Codes éco-part'!$C:$E,3,FALSE)","v":"173"},60]
["REP ABJ",4,"22152630200",null,"Entretien et aménagement du jardin","Pots de fleur et contenants","Caoutchouc naturel >90%","Inférieur strictement à 0,5 kg","€/unité",0.01,0.01,{"$f":"VLOOKUP(J3323,'Codes éco-part'!$C:$E,3,FALSE)","v":"260"},1.2E-2]
["REP ABJ",4,"22152630210",null,"Entretien et aménagement du jardin","Pots de fleur et contenants","Caoutchouc naturel >90%","Compris entre 0,5 kg et 1 kg exclus","€/unité",0.04,0.04,{"$f":"VLOOKUP(J3324,'Codes éco-part'!$C:$E,3,FALSE)","v":"002"},4.8000000000000001E-2]
["REP ABJ",4,"22152630220",null,"Entretien et aménagement du jardin","Pots de fleur et contenants","Caoutchouc naturel >90%","Compris entre 1 kg et 2 kg exclus","€/unité",0.08,0.08,{"$f":"VLOOKUP(J3325,'Codes éco-part'!$C:$E,3,FALSE)","v":"003"},9.6000000000000002E-2]
["REP ABJ",4,"22152630520",null,"Entretien et aménagement du jardin","Pots de fleur et contenants","Caoutchouc naturel >90%","Compris entre 2 kg et 3 kg exclus","€/unité",0.13,0.13,{"$f":"VLOOKUP(J3326,'Codes éco-part'!$C:$E,3,FALSE)","v":"004"},0.156]
["REP ABJ",4,"22152630530",null,"Entretien et aménagement du jardin","Pots de fleur et contenants","Caoutchouc naturel >90%","Compris entre 3 kg et 5 kg exclus","€/unité",0.2,0.2,{"$f":"VLOOKUP(J3327,'Codes éco-part'!$C:$E,3,FALSE)","v":"101"},0.24]
["REP ABJ",4,"22152630540",null,"Entretien et aménagement du jardin","Pots de fleur et contenants","Caoutchouc naturel >90%","Compris entre 5 kg et 7 kg exclus","€/unité",0.35,0.35,{"$f":"VLOOKUP(J3328,'Codes éco-part'!$C:$E,3,FALSE)","v":"448"},0.42]
["REP ABJ",4,"22152630550",null,"Entretien et aménagement du jardin","Pots de fleur et contenants","Caoutchouc naturel >90%","Compris entre 7 kg et 10 kg exclus","€/unité",0.5,0.5,{"$f":"VLOOKUP(J3329,'Codes éco-part'!$C:$E,3,FALSE)","v":"053"},0.6]
["REP ABJ",4,"22152630560",null,"Entretien et aménagement du jardin","Pots de fleur et contenants","Caoutchouc naturel >90%","Compris entre 10 kg et 15 kg exclus","€/unité",0.75,0.75,{"$f":"VLOOKUP(J3330,'Codes éco-part'!$C:$E,3,FALSE)","v":"328"},0.89999999999999991]
["REP ABJ",4,"22152630570",null,"Entretien et aménagement du jardin","Pots de fleur et contenants","Caoutchouc naturel >90%","Compris entre 15 kg et 20 kg exclus","€/unité",1,1,{"$f":"VLOOKUP(J3331,'Codes éco-part'!$C:$E,3,FALSE)","v":"056"},1.2]
["REP ABJ",4,"22152640000",null,"Entretien et aménagement du jardin","Pots de fleur et contenants","Caoutchouc naturel >50%","Eléments de toutes dimensions et poids","€ / Tonne",170,170,{"$f":"VLOOKUP(J3332,'Codes éco-part'!$C:$E,3,FALSE)","v":"497"},204]
["REP ABJ",4,"22152640200",null,"Entretien et aménagement du jardin","Pots de fleur et contenants","Caoutchouc naturel >50%","Inférieur strictement à 0,5 kg","€/unité",0.04,0.04,{"$f":"VLOOKUP(J3333,'Codes éco-part'!$C:$E,3,FALSE)","v":"002"},4.8000000000000001E-2]
["REP ABJ",4,"22152640210",null,"Entretien et aménagement du jardin","Pots de fleur et contenants","Caoutchouc naturel >50%","Compris entre 0,5 kg et 1 kg exclus","€/unité",0.13,0.13,{"$f":"VLOOKUP(J3334,'Codes éco-part'!$C:$E,3,FALSE)","v":"004"},0.156]
["REP ABJ",4,"22152640220",null,"Entretien et aménagement du jardin","Pots de fleur et contenants","Caoutchouc naturel >50%","Compris entre 1 kg et 2 kg exclus","€/unité",0.26,0.26,{"$f":"VLOOKUP(J3335,'Codes éco-part'!$C:$E,3,FALSE)","v":"445"},0.312]
["REP ABJ",4,"22152640520",null,"Entretien et aménagement du jardin","Pots de fleur et contenants","Caoutchouc naturel >50%","Compris entre 2 kg et 3 kg exclus","€/unité",0.43,0.43,{"$f":"VLOOKUP(J3336,'Codes éco-part'!$C:$E,3,FALSE)","v":"506"},0.51600000000000001]
["REP ABJ",4,"22152640530",null,"Entretien et aménagement du jardin","Pots de fleur et contenants","Caoutchouc naturel >50%","Compris entre 3 kg et 5 kg exclus","€/unité",0.68,0.68,{"$f":"VLOOKUP(J3337,'Codes éco-part'!$C:$E,3,FALSE)","v":"044"},0.81600000000000006]
["REP ABJ",4,"22152640540",null,"Entretien et aménagement du jardin","Pots de fleur et contenants","Caoutchouc naturel >50%","Compris entre 5 kg et 7 kg exclus","€/unité",1.19,1.19,{"$f":"VLOOKUP(J3338,'Codes éco-part'!$C:$E,3,FALSE)","v":"507"},1.4279999999999999]
["REP ABJ",4,"22152640550",null,"Entretien et aménagement du jardin","Pots de fleur et contenants","Caoutchouc naturel >50%","Compris entre 7 kg et 10 kg exclus","€/unité",1.7,1.7,{"$f":"VLOOKUP(J3339,'Codes éco-part'!$C:$E,3,FALSE)","v":"256"},2.04]
["REP ABJ",4,"22152640560",null,"Entretien et aménagement du jardin","Pots de fleur et contenants","Caoutchouc naturel >50%","Compris entre 10 kg et 15 kg exclus","€/unité",2.5499999999999998,2.5499999999999998,{"$f":"VLOOKUP(J3340,'Codes éco-part'!$C:$E,3,FALSE)","v":"272"},3.0599999999999996]
["REP ABJ",4,"22152640570",null,"Entretien et aménagement du jardin","Pots de fleur et contenants","Caoutchouc naturel >50%","Compris entre 15 kg et 20 kg exclus","€/unité",3.4,3.4,{"$f":"VLOOKUP(J3341,'Codes éco-part'!$C:$E,3,FALSE)","v":"508"},4.08]
["REP ABJ",4,"22152650000",null,"Entretien et aménagement du jardin","Pots de fleur et contenants","Matériaux ou fibres synthétiques >90%","Eléments de toutes dimensions et poids","€ / Tonne",130,130,{"$f":"VLOOKUP(J3342,'Codes éco-part'!$C:$E,3,FALSE)","v":"495"},156]
["REP ABJ",4,"22152650200",null,"Entretien et aménagement du jardin","Pots de fleur et contenants","Matériaux ou fibres synthétiques >90%","Inférieur strictement à 0,5 kg","€/unité",0.03,0.03,{"$f":"VLOOKUP(J3343,'Codes éco-part'!$C:$E,3,FALSE)","v":"092"},3.5999999999999997E-2]
["REP ABJ",4,"22152650210",null,"Entretien et aménagement du jardin","Pots de fleur et contenants","Matériaux ou fibres synthétiques >90%","Compris entre 0,5 kg et 1 kg exclus","€/unité",0.1,0.1,{"$f":"VLOOKUP(J3344,'Codes éco-part'!$C:$E,3,FALSE)","v":"094"},0.12]
["REP ABJ",4,"22152650220",null,"Entretien et aménagement du jardin","Pots de fleur et contenants","Matériaux ou fibres synthétiques >90%","Compris entre 1 kg et 2 kg exclus","€/unité",0.2,0.2,{"$f":"VLOOKUP(J3345,'Codes éco-part'!$C:$E,3,FALSE)","v":"101"},0.24]
["REP ABJ",4,"22152650520",null,"Entretien et aménagement du jardin","Pots de fleur et contenants","Matériaux ou fibres synthétiques >90%","Compris entre 2 kg et 3 kg exclus","€/unité",0.33,0.33,{"$f":"VLOOKUP(J3346,'Codes éco-part'!$C:$E,3,FALSE)","v":"006"},0.39600000000000002]
["REP ABJ",4,"22152650530",null,"Entretien et aménagement du jardin","Pots de fleur et contenants","Matériaux ou fibres synthétiques >90%","Compris entre 3 kg et 5 kg exclus","€/unité",0.52,0.52,{"$f":"VLOOKUP(J3347,'Codes éco-part'!$C:$E,3,FALSE)","v":"509"},0.624]
["REP ABJ",4,"22152650540",null,"Entretien et aménagement du jardin","Pots de fleur et contenants","Matériaux ou fibres synthétiques >90%","Compris entre 5 kg et 7 kg exclus","€/unité",0.91,0.91,{"$f":"VLOOKUP(J3348,'Codes éco-part'!$C:$E,3,FALSE)","v":"510"},1.0920000000000001]
["REP ABJ",4,"22152650550",null,"Entretien et aménagement du jardin","Pots de fleur et contenants","Matériaux ou fibres synthétiques >90%","Compris entre 7 kg et 10 kg exclus","€/unité",1.3,1.3,{"$f":"VLOOKUP(J3349,'Codes éco-part'!$C:$E,3,FALSE)","v":"511"},1.56]
["REP ABJ",4,"22152650560",null,"Entretien et aménagement du jardin","Pots de fleur et contenants","Matériaux ou fibres synthétiques >90%","Compris entre 10 kg et 15 kg exclus","€/unité",1.95,1.95,{"$f":"VLOOKUP(J3350,'Codes éco-part'!$C:$E,3,FALSE)","v":"512"},2.34]
["REP ABJ",4,"22152650570",null,"Entretien et aménagement du jardin","Pots de fleur et contenants","Matériaux ou fibres synthétiques >90%","Compris entre 15 kg et 20 kg exclus","€/unité",2.6,2.6,{"$f":"VLOOKUP(J3351,'Codes éco-part'!$C:$E,3,FALSE)","v":"513"},3.12]
["REP ABJ",4,"22152670000",null,"Entretien et aménagement du jardin","Pots de fleur et contenants","Assemblage matériaux ou fibres synthétiques >50% avec d'autres matériaux","Eléments de toutes dimensions et poids","€ / Tonne",170,170,{"$f":"VLOOKUP(J3352,'Codes éco-part'!$C:$E,3,FALSE)","v":"497"},204]
["REP ABJ",4,"22152670200",null,"Entretien et aménagement du jardin","Pots de fleur et contenants","Assemblage matériaux ou fibres synthétiques >50% avec d'autres matériaux","Inférieur strictement à 0,5 kg","€/unité",0.04,0.04,{"$f":"VLOOKUP(J3353,'Codes éco-part'!$C:$E,3,FALSE)","v":"002"},{"$f":"J3353*1.2","v":4.8000000000000001E-2}]
["REP ABJ",4,"22152670210",null,"Entretien et aménagement du jardin","Pots de fleur et contenants","Assemblage matériaux ou fibres synthétiques >50% avec d'autres matériaux","Compris entre 0,5 kg et 1 kg exclus","€/unité",0.13,0.13,{"$f":"VLOOKUP(J3354,'Codes éco-part'!$C:$E,3,FALSE)","v":"004"},0.156]
["REP ABJ",4,"22152670220",null,"Entretien et aménagement du jardin","Pots de fleur et contenants","Assemblage matériaux ou fibres synthétiques >50% avec d'autres matériaux","Compris entre 1 kg et 2 kg exclus","€/unité",0.26,0.26,{"$f":"VLOOKUP(J3355,'Codes éco-part'!$C:$E,3,FALSE)","v":"445"},0.312]
["REP ABJ",4,"22152670520",null,"Entretien et aménagement du jardin","Pots de fleur et contenants","Assemblage matériaux ou fibres synthétiques >50% avec d'autres matériaux","Compris entre 2 kg et 3 kg exclus","€/unité",0.43,0.43,{"$f":"VLOOKUP(J3356,'Codes éco-part'!$C:$E,3,FALSE)","v":"506"},0.51600000000000001]
["REP ABJ",4,"22152670530",null,"Entretien et aménagement du jardin","Pots de fleur et contenants","Assemblage matériaux ou fibres synthétiques >50% avec d'autres matériaux","Compris entre 3 kg et 5 kg exclus","€/unité",0.68,0.68,{"$f":"VLOOKUP(J3357,'Codes éco-part'!$C:$E,3,FALSE)","v":"044"},0.81600000000000006]
["REP ABJ",4,"22152670540",null,"Entretien et aménagement du jardin","Pots de fleur et contenants","Assemblage matériaux ou fibres synthétiques >50% avec d'autres matériaux","Compris entre 5 kg et 7 kg exclus","€/unité",1.19,1.19,{"$f":"VLOOKUP(J3358,'Codes éco-part'!$C:$E,3,FALSE)","v":"507"},1.4279999999999999]
["REP ABJ",4,"22152670550",null,"Entretien et aménagement du jardin","Pots de fleur et contenants","Assemblage matériaux ou fibres synthétiques >50% avec d'autres matériaux","Compris entre 7 kg et 10 kg exclus","€/unité",1.7,1.7,{"$f":"VLOOKUP(J3359,'Codes éco-part'!$C:$E,3,FALSE)","v":"256"},2.04]
["REP ABJ",4,"22152670560",null,"Entretien et aménagement du jardin","Pots de fleur et contenants","Assemblage matériaux ou fibres synthétiques >50% avec d'autres matériaux","Compris entre 10 kg et 15 kg exclus","€/unité",2.5499999999999998,2.5499999999999998,{"$f":"VLOOKUP(J3360,'Codes éco-part'!$C:$E,3,FALSE)","v":"272"},3.0599999999999996]
["REP ABJ",4,"22152670570",null,"Entretien et aménagement du jardin","Pots de fleur et contenants","Assemblage matériaux ou fibres synthétiques >50% avec d'autres matériaux","Compris entre 15 kg et 20 kg exclus","€/unité",3.4,3.4,{"$f":"VLOOKUP(J3361,'Codes éco-part'!$C:$E,3,FALSE)","v":"508"},4.08]
["REP ABJ",4,"22152680000",null,"Entretien et aménagement du jardin","Pots de fleur et contenants","Verre >90%","Eléments de toutes dimensions et poids","€ / Tonne",5,5,{"$f":"VLOOKUP(J3362,'Codes éco-part'!$C:$E,3,FALSE)","v":"042"},6]
["REP ABJ",4,"22152680200",null,"Entretien et aménagement du jardin","Pots de fleur et contenants","Verre >90%","Inférieur strictement à 0,5 kg","€/unité",0.01,0.01,{"$f":"VLOOKUP(J3363,'Codes éco-part'!$C:$E,3,FALSE)","v":"260"},1.2E-2]
["REP ABJ",4,"22152680210",null,"Entretien et aménagement du jardin","Pots de fleur et contenants","Verre >90%","Compris entre 0,5 kg et 1 kg exclus","€/unité",0.01,0.01,{"$f":"VLOOKUP(J3364,'Codes éco-part'!$C:$E,3,FALSE)","v":"260"},1.2E-2]
["REP ABJ",4,"22152680220",null,"Entretien et aménagement du jardin","Pots de fleur et contenants","Verre >90%","Compris entre 1 kg et 2 kg exclus","€/unité",0.01,0.01,{"$f":"VLOOKUP(J3365,'Codes éco-part'!$C:$E,3,FALSE)","v":"260"},1.2E-2]
["REP ABJ",4,"22152680520",null,"Entretien et aménagement du jardin","Pots de fleur et contenants","Verre >90%","Compris entre 2 kg et 3 kg exclus","€/unité",0.01,0.01,{"$f":"VLOOKUP(J3366,'Codes éco-part'!$C:$E,3,FALSE)","v":"260"},1.2E-2]
["REP ABJ",4,"22152680530",null,"Entretien et aménagement du jardin","Pots de fleur et contenants","Verre >90%","Compris entre 3 kg et 5 kg exclus","€/unité",0.02,0.02,{"$f":"VLOOKUP(J3367,'Codes éco-part'!$C:$E,3,FALSE)","v":"047"},2.4E-2]
["REP ABJ",4,"22152680540",null,"Entretien et aménagement du jardin","Pots de fleur et contenants","Verre >90%","Compris entre 5 kg et 7 kg exclus","€/unité",0.04,0.04,{"$f":"VLOOKUP(J3368,'Codes éco-part'!$C:$E,3,FALSE)","v":"002"},4.8000000000000001E-2]
["REP ABJ",4,"22152680550",null,"Entretien et aménagement du jardin","Pots de fleur et contenants","Verre >90%","Compris entre 7 kg et 10 kg exclus","€/unité",0.05,0.05,{"$f":"VLOOKUP(J3369,'Codes éco-part'!$C:$E,3,FALSE)","v":"048"},0.06]
["REP ABJ",4,"22152680560",null,"Entretien et aménagement du jardin","Pots de fleur et contenants","Verre >90%","Compris entre 10 kg et 15 kg exclus","€/unité",0.08,0.08,{"$f":"VLOOKUP(J3370,'Codes éco-part'!$C:$E,3,FALSE)","v":"003"},9.6000000000000002E-2]
["REP ABJ",4,"22152680570",null,"Entretien et aménagement du jardin","Pots de fleur et contenants","Verre >90%","Compris entre 15 kg et 20 kg exclus","€/unité",0.1,0.1,{"$f":"VLOOKUP(J3371,'Codes éco-part'!$C:$E,3,FALSE)","v":"094"},0.12]
["REP ABJ",4,"22152700000",null,"Entretien et aménagement du jardin","Pots de fleur et contenants","Assemblage verre à plus de 50% avec métal","Eléments de toutes dimensions et poids","€ / Tonne",170,170,{"$f":"VLOOKUP(J3372,'Codes éco-part'!$C:$E,3,FALSE)","v":"497"},204]
["REP ABJ",4,"22152700200",null,"Entretien et aménagement du jardin","Pots de fleur et contenants","Assemblage verre à plus de 50% avec métal","Inférieur strictement à 0,5 kg","€/unité",0.04,0.04,{"$f":"VLOOKUP(J3373,'Codes éco-part'!$C:$E,3,FALSE)","v":"002"},4.8000000000000001E-2]
["REP ABJ",4,"22152700210",null,"Entretien et aménagement du jardin","Pots de fleur et contenants","Assemblage verre à plus de 50% avec métal","Compris entre 0,5 kg et 1 kg exclus","€/unité",0.13,0.13,{"$f":"VLOOKUP(J3374,'Codes éco-part'!$C:$E,3,FALSE)","v":"004"},0.156]
["REP ABJ",4,"22152700220",null,"Entretien et aménagement du jardin","Pots de fleur et contenants","Assemblage verre à plus de 50% avec métal","Compris entre 1 kg et 2 kg exclus","€/unité",0.26,0.26,{"$f":"VLOOKUP(J3375,'Codes éco-part'!$C:$E,3,FALSE)","v":"445"},0.312]
["REP ABJ",4,"22152700520",null,"Entretien et aménagement du jardin","Pots de fleur et contenants","Assemblage verre à plus de 50% avec métal","Compris entre 2 kg et 3 kg exclus","€/unité",0.43,0.43,{"$f":"VLOOKUP(J3376,'Codes éco-part'!$C:$E,3,FALSE)","v":"506"},0.51600000000000001]
["REP ABJ",4,"22152700530",null,"Entretien et aménagement du jardin","Pots de fleur et contenants","Assemblage verre à plus de 50% avec métal","Compris entre 3 kg et 5 kg exclus","€/unité",0.68,0.68,{"$f":"VLOOKUP(J3377,'Codes éco-part'!$C:$E,3,FALSE)","v":"044"},0.81600000000000006]
["REP ABJ",4,"22152700540",null,"Entretien et aménagement du jardin","Pots de fleur et contenants","Assemblage verre à plus de 50% avec métal","Compris entre 5 kg et 7 kg exclus","€/unité",1.19,1.19,{"$f":"VLOOKUP(J3378,'Codes éco-part'!$C:$E,3,FALSE)","v":"507"},1.4279999999999999]
["REP ABJ",4,"22152700550",null,"Entretien et aménagement du jardin","Pots de fleur et contenants","Assemblage verre à plus de 50% avec métal","Compris entre 7 kg et 10 kg exclus","€/unité",1.7,1.7,{"$f":"VLOOKUP(J3379,'Codes éco-part'!$C:$E,3,FALSE)","v":"256"},2.04]
["REP ABJ",4,"22152700560",null,"Entretien et aménagement du jardin","Pots de fleur et contenants","Assemblage verre à plus de 50% avec métal","Compris entre 10 kg et 15 kg exclus","€/unité",2.5499999999999998,2.5499999999999998,{"$f":"VLOOKUP(J3380,'Codes éco-part'!$C:$E,3,FALSE)","v":"272"},3.0599999999999996]
["REP ABJ",4,"22152700570",null,"Entretien et aménagement du jardin","Pots de fleur et contenants","Assemblage verre à plus de 50% avec métal","Compris entre 15 kg et 20 kg exclus","€/unité",3.4,3.4,{"$f":"VLOOKUP(J3381,'Codes éco-part'!$C:$E,3,FALSE)","v":"508"},4.08]
["REP ABJ",4,"22152710000",null,"Entretien et aménagement du jardin","Pots de fleur et contenants","Assemblage verre à plus de 50% avec Inerte","Eléments de toutes dimensions et poids","€ / Tonne",170,170,{"$f":"VLOOKUP(J3382,'Codes éco-part'!$C:$E,3,FALSE)","v":"497"},204]
["REP ABJ",4,"22152710200",null,"Entretien et aménagement du jardin","Pots de fleur et contenants","Assemblage verre à plus de 50% avec Inerte","Inférieur strictement à 0,5 kg","€/unité",0.04,0.04,{"$f":"VLOOKUP(J3383,'Codes éco-part'!$C:$E,3,FALSE)","v":"002"},4.8000000000000001E-2]
["REP ABJ",4,"22152710210",null,"Entretien et aménagement du jardin","Pots de fleur et contenants","Assemblage verre à plus de 50% avec Inerte","Compris entre 0,5 kg et 1 kg exclus","€/unité",0.13,0.13,{"$f":"VLOOKUP(J3384,'Codes éco-part'!$C:$E,3,FALSE)","v":"004"},0.156]
["REP ABJ",4,"22152710220",null,"Entretien et aménagement du jardin","Pots de fleur et contenants","Assemblage verre à plus de 50% avec Inerte","Compris entre 1 kg et 2 kg exclus","€/unité",0.26,0.26,{"$f":"VLOOKUP(J3385,'Codes éco-part'!$C:$E,3,FALSE)","v":"445"},0.312]
["REP ABJ",4,"22152710520",null,"Entretien et aménagement du jardin","Pots de fleur et contenants","Assemblage verre à plus de 50% avec Inerte","Compris entre 2 kg et 3 kg exclus","€/unité",0.43,0.43,{"$f":"VLOOKUP(J3386,'Codes éco-part'!$C:$E,3,FALSE)","v":"506"},0.51600000000000001]
["REP ABJ",4,"22152710530",null,"Entretien et aménagement du jardin","Pots de fleur et contenants","Assemblage verre à plus de 50% avec Inerte","Compris entre 3 kg et 5 kg exclus","€/unité",0.68,0.68,{"$f":"VLOOKUP(J3387,'Codes éco-part'!$C:$E,3,FALSE)","v":"044"},0.81600000000000006]
["REP ABJ",4,"22152710540",null,"Entretien et aménagement du jardin","Pots de fleur et contenants","Assemblage verre à plus de 50% avec Inerte","Compris entre 5 kg et 7 kg exclus","€/unité",1.19,1.19,{"$f":"VLOOKUP(J3388,'Codes éco-part'!$C:$E,3,FALSE)","v":"507"},1.4279999999999999]
["REP ABJ",4,"22152710550",null,"Entretien et aménagement du jardin","Pots de fleur et contenants","Assemblage verre à plus de 50% avec Inerte","Compris entre 7 kg et 10 kg exclus","€/unité",1.7,1.7,{"$f":"VLOOKUP(J3389,'Codes éco-part'!$C:$E,3,FALSE)","v":"256"},2.04]
["REP ABJ",4,"22152710560",null,"Entretien et aménagement du jardin","Pots de fleur et contenants","Assemblage verre à plus de 50% avec Inerte","Compris entre 10 kg et 15 kg exclus","€/unité",2.5499999999999998,2.5499999999999998,{"$f":"VLOOKUP(J3390,'Codes éco-part'!$C:$E,3,FALSE)","v":"272"},3.0599999999999996]
["REP ABJ",4,"22152710570",null,"Entretien et aménagement du jardin","Pots de fleur et contenants","Assemblage verre à plus de 50% avec Inerte","Compris entre 15 kg et 20 kg exclus","€/unité",3.4,3.4,{"$f":"VLOOKUP(J3391,'Codes éco-part'!$C:$E,3,FALSE)","v":"508"},4.08]
["REP ABJ",4,"22152720000",null,"Entretien et aménagement du jardin","Pots de fleur et contenants","Assemblage verre à plus de 50% avec bois ou dérivés de bois","Eléments de toutes dimensions et poids","€ / Tonne",170,170,{"$f":"VLOOKUP(J3392,'Codes éco-part'!$C:$E,3,FALSE)","v":"497"},204]
["REP ABJ",4,"22152720200",null,"Entretien et aménagement du jardin","Pots de fleur et contenants","Assemblage verre à plus de 50% avec bois ou dérivés de bois","Inférieur strictement à 0,5 kg","€/unité",0.04,0.04,{"$f":"VLOOKUP(J3393,'Codes éco-part'!$C:$E,3,FALSE)","v":"002"},4.8000000000000001E-2]
["REP ABJ",4,"22152720210",null,"Entretien et aménagement du jardin","Pots de fleur et contenants","Assemblage verre à plus de 50% avec bois ou dérivés de bois","Compris entre 0,5 kg et 1 kg exclus","€/unité",0.13,0.13,{"$f":"VLOOKUP(J3394,'Codes éco-part'!$C:$E,3,FALSE)","v":"004"},0.156]
["REP ABJ",4,"22152720220",null,"Entretien et aménagement du jardin","Pots de fleur et contenants","Assemblage verre à plus de 50% avec bois ou dérivés de bois","Compris entre 1 kg et 2 kg exclus","€/unité",0.26,0.26,{"$f":"VLOOKUP(J3395,'Codes éco-part'!$C:$E,3,FALSE)","v":"445"},0.312]
["REP ABJ",4,"22152720520",null,"Entretien et aménagement du jardin","Pots de fleur et contenants","Assemblage verre à plus de 50% avec bois ou dérivés de bois","Compris entre 2 kg et 3 kg exclus","€/unité",0.43,0.43,{"$f":"VLOOKUP(J3396,'Codes éco-part'!$C:$E,3,FALSE)","v":"506"},0.51600000000000001]
["REP ABJ",4,"22152720530",null,"Entretien et aménagement du jardin","Pots de fleur et contenants","Assemblage verre à plus de 50% avec bois ou dérivés de bois","Compris entre 3 kg et 5 kg exclus","€/unité",0.68,0.68,{"$f":"VLOOKUP(J3397,'Codes éco-part'!$C:$E,3,FALSE)","v":"044"},0.81600000000000006]
["REP ABJ",4,"22152720540",null,"Entretien et aménagement du jardin","Pots de fleur et contenants","Assemblage verre à plus de 50% avec bois ou dérivés de bois","Compris entre 5 kg et 7 kg exclus","€/unité",1.19,1.19,{"$f":"VLOOKUP(J3398,'Codes éco-part'!$C:$E,3,FALSE)","v":"507"},1.4279999999999999]
["REP ABJ",4,"22152720550",null,"Entretien et aménagement du jardin","Pots de fleur et contenants","Assemblage verre à plus de 50% avec bois ou dérivés de bois","Compris entre 7 kg et 10 kg exclus","€/unité",1.7,1.7,{"$f":"VLOOKUP(J3399,'Codes éco-part'!$C:$E,3,FALSE)","v":"256"},2.04]
["REP ABJ",4,"22152720560",null,"Entretien et aménagement du jardin","Pots de fleur et contenants","Assemblage verre à plus de 50% avec bois ou dérivés de bois","Compris entre 10 kg et 15 kg exclus","€/unité",2.5499999999999998,2.5499999999999998,{"$f":"VLOOKUP(J3400,'Codes éco-part'!$C:$E,3,FALSE)","v":"272"},3.0599999999999996]
["REP ABJ",4,"22152720570",null,"Entretien et aménagement du jardin","Pots de fleur et contenants","Assemblage verre à plus de 50% avec bois ou dérivés de bois","Compris entre 15 kg et 20 kg exclus","€/unité",3.4,3.4,{"$f":"VLOOKUP(J3401,'Codes éco-part'!$C:$E,3,FALSE)","v":"508"},4.08]
["REP ABJ",4,"22152730000",null,"Entretien et aménagement du jardin","Pots de fleur et contenants","Assemblage verre à plus de 50% avec plastique","Eléments de toutes dimensions et poids","€ / Tonne",170,170,{"$f":"VLOOKUP(J3402,'Codes éco-part'!$C:$E,3,FALSE)","v":"497"},204]
["REP ABJ",4,"22152730200",null,"Entretien et aménagement du jardin","Pots de fleur et contenants","Assemblage verre à plus de 50% avec plastique","Inférieur strictement à 0,5 kg","€/unité",0.04,0.04,{"$f":"VLOOKUP(J3403,'Codes éco-part'!$C:$E,3,FALSE)","v":"002"},4.8000000000000001E-2]
["REP ABJ",4,"22152730210",null,"Entretien et aménagement du jardin","Pots de fleur et contenants","Assemblage verre à plus de 50% avec plastique","Compris entre 0,5 kg et 1 kg exclus","€/unité",0.13,0.13,{"$f":"VLOOKUP(J3404,'Codes éco-part'!$C:$E,3,FALSE)","v":"004"},0.156]
["REP ABJ",4,"22152730220",null,"Entretien et aménagement du jardin","Pots de fleur et contenants","Assemblage verre à plus de 50% avec plastique","Compris entre 1 kg et 2 kg exclus","€/unité",0.26,0.26,{"$f":"VLOOKUP(J3405,'Codes éco-part'!$C:$E,3,FALSE)","v":"445"},0.312]
["REP ABJ",4,"22152730520",null,"Entretien et aménagement du jardin","Pots de fleur et contenants","Assemblage verre à plus de 50% avec plastique","Compris entre 2 kg et 3 kg exclus","€/unité",0.43,0.43,{"$f":"VLOOKUP(J3406,'Codes éco-part'!$C:$E,3,FALSE)","v":"506"},0.51600000000000001]
["REP ABJ",4,"22152730530",null,"Entretien et aménagement du jardin","Pots de fleur et contenants","Assemblage verre à plus de 50% avec plastique","Compris entre 3 kg et 5 kg exclus","€/unité",0.68,0.68,{"$f":"VLOOKUP(J3407,'Codes éco-part'!$C:$E,3,FALSE)","v":"044"},0.81600000000000006]
["REP ABJ",4,"22152730540",null,"Entretien et aménagement du jardin","Pots de fleur et contenants","Assemblage verre à plus de 50% avec plastique","Compris entre 5 kg et 7 kg exclus","€/unité",1.19,1.19,{"$f":"VLOOKUP(J3408,'Codes éco-part'!$C:$E,3,FALSE)","v":"507"},1.4279999999999999]
["REP ABJ",4,"22152730550",null,"Entretien et aménagement du jardin","Pots de fleur et contenants","Assemblage verre à plus de 50% avec plastique","Compris entre 7 kg et 10 kg exclus","€/unité",1.7,1.7,{"$f":"VLOOKUP(J3409,'Codes éco-part'!$C:$E,3,FALSE)","v":"256"},2.04]
["REP ABJ",4,"22152730560",null,"Entretien et aménagement du jardin","Pots de fleur et contenants","Assemblage verre à plus de 50% avec plastique","Compris entre 10 kg et 15 kg exclus","€/unité",2.5499999999999998,2.5499999999999998,{"$f":"VLOOKUP(J3410,'Codes éco-part'!$C:$E,3,FALSE)","v":"272"},3.0599999999999996]
["REP ABJ",4,"22152730570",null,"Entretien et aménagement du jardin","Pots de fleur et contenants","Assemblage verre à plus de 50% avec plastique","Compris entre 15 kg et 20 kg exclus","€/unité",3.4,3.4,{"$f":"VLOOKUP(J3411,'Codes éco-part'!$C:$E,3,FALSE)","v":"508"},4.08]
["REP ABJ",4,"22152740000",null,"Entretien et aménagement du jardin","Pots de fleur et contenants","Béton >90%","Eléments de toutes dimensions et poids","€ / Tonne",5,5,{"$f":"VLOOKUP(J3412,'Codes éco-part'!$C:$E,3,FALSE)","v":"042"},6]
["REP ABJ",4,"22152740200",null,"Entretien et aménagement du jardin","Pots de fleur et contenants","Béton >90%","Inférieur strictement à 0,5 kg","€/unité",0.01,0.01,{"$f":"VLOOKUP(J3413,'Codes éco-part'!$C:$E,3,FALSE)","v":"260"},1.2E-2]
["REP ABJ",4,"22152740210",null,"Entretien et aménagement du jardin","Pots de fleur et contenants","Béton >90%","Compris entre 0,5 kg et 1 kg exclus","€/unité",0.01,0.01,{"$f":"VLOOKUP(J3414,'Codes éco-part'!$C:$E,3,FALSE)","v":"260"},1.2E-2]
["REP ABJ",4,"22152740220",null,"Entretien et aménagement du jardin","Pots de fleur et contenants","Béton >90%","Compris entre 1 kg et 2 kg exclus","€/unité",0.01,0.01,{"$f":"VLOOKUP(J3415,'Codes éco-part'!$C:$E,3,FALSE)","v":"260"},1.2E-2]
["REP ABJ",4,"22152740520",null,"Entretien et aménagement du jardin","Pots de fleur et contenants","Béton >90%","Compris entre 2 kg et 3 kg exclus","€/unité",0.01,0.01,{"$f":"VLOOKUP(J3416,'Codes éco-part'!$C:$E,3,FALSE)","v":"260"},1.2E-2]
["REP ABJ",4,"22152740530",null,"Entretien et aménagement du jardin","Pots de fleur et contenants","Béton >90%","Compris entre 3 kg et 5 kg exclus","€/unité",0.02,0.02,{"$f":"VLOOKUP(J3417,'Codes éco-part'!$C:$E,3,FALSE)","v":"047"},{"$f":"J3417*1.2","v":2.4E-2}]
["REP ABJ",4,"22152740540",null,"Entretien et aménagement du jardin","Pots de fleur et contenants","Béton >90%","Compris entre 5 kg et 7 kg exclus","€/unité",0.04,0.04,{"$f":"VLOOKUP(J3418,'Codes éco-part'!$C:$E,3,FALSE)","v":"002"},4.8000000000000001E-2]
["REP ABJ",4,"22152740550",null,"Entretien et aménagement du jardin","Pots de fleur et contenants","Béton >90%","Compris entre 7 kg et 10 kg exclus","€/unité",0.05,0.05,{"$f":"VLOOKUP(J3419,'Codes éco-part'!$C:$E,3,FALSE)","v":"048"},0.06]
["REP ABJ",4,"22152740560",null,"Entretien et aménagement du jardin","Pots de fleur et contenants","Béton >90%","Compris entre 10 kg et 15 kg exclus","€/unité",0.08,0.08,{"$f":"VLOOKUP(J3420,'Codes éco-part'!$C:$E,3,FALSE)","v":"003"},9.6000000000000002E-2]
["REP ABJ",4,"22152740570",null,"Entretien et aménagement du jardin","Pots de fleur et contenants","Béton >90%","Compris entre 15 kg et 20 kg exclus","€/unité",0.1,0.1,{"$f":"VLOOKUP(J3421,'Codes éco-part'!$C:$E,3,FALSE)","v":"094"},0.12]
["REP ABJ",4,"22152810000",null,"Entretien et aménagement du jardin","Pots de fleur et contenants","Assemblage dont la composition conjointe en bois, dérivés de bois et en métal dépasse 90%","Eléments de toutes dimensions et poids","€ / Tonne",20,20,{"$f":"VLOOKUP(J3422,'Codes éco-part'!$C:$E,3,FALSE)","v":"148"},24]
["REP ABJ",4,"22152810200",null,"Entretien et aménagement du jardin","Pots de fleur et contenants","Assemblage dont la composition conjointe en bois, dérivés de bois et en métal dépasse 90%","Inférieur strictement à 0,5 kg","€/unité",0.01,0.01,{"$f":"VLOOKUP(J3423,'Codes éco-part'!$C:$E,3,FALSE)","v":"260"},1.2E-2]
["REP ABJ",4,"22152810210",null,"Entretien et aménagement du jardin","Pots de fleur et contenants","Assemblage dont la composition conjointe en bois, dérivés de bois et en métal dépasse 90%","Compris entre 0,5 kg et 1 kg exclus","€/unité",0.02,0.02,{"$f":"VLOOKUP(J3424,'Codes éco-part'!$C:$E,3,FALSE)","v":"047"},2.4E-2]
["REP ABJ",4,"22152810220",null,"Entretien et aménagement du jardin","Pots de fleur et contenants","Assemblage dont la composition conjointe en bois, dérivés de bois et en métal dépasse 90%","Compris entre 1 kg et 2 kg exclus","€/unité",0.03,0.03,{"$f":"VLOOKUP(J3425,'Codes éco-part'!$C:$E,3,FALSE)","v":"092"},3.5999999999999997E-2]
["REP ABJ",4,"22152810520",null,"Entretien et aménagement du jardin","Pots de fleur et contenants","Assemblage dont la composition conjointe en bois, dérivés de bois et en métal dépasse 90%","Compris entre 2 kg et 3 kg exclus","€/unité",0.05,0.05,{"$f":"VLOOKUP(J3426,'Codes éco-part'!$C:$E,3,FALSE)","v":"048"},0.06]
["REP ABJ",4,"22152810530",null,"Entretien et aménagement du jardin","Pots de fleur et contenants","Assemblage dont la composition conjointe en bois, dérivés de bois et en métal dépasse 90%","Compris entre 3 kg et 5 kg exclus","€/unité",0.08,0.08,{"$f":"VLOOKUP(J3427,'Codes éco-part'!$C:$E,3,FALSE)","v":"003"},9.6000000000000002E-2]
["REP ABJ",4,"22152810540",null,"Entretien et aménagement du jardin","Pots de fleur et contenants","Assemblage dont la composition conjointe en bois, dérivés de bois et en métal dépasse 90%","Compris entre 5 kg et 7 kg exclus","€/unité",0.14000000000000001,0.14000000000000001,{"$f":"VLOOKUP(J3428,'Codes éco-part'!$C:$E,3,FALSE)","v":"098"},0.16800000000000001]
["REP ABJ",4,"22152810550",null,"Entretien et aménagement du jardin","Pots de fleur et contenants","Assemblage dont la composition conjointe en bois, dérivés de bois et en métal dépasse 90%","Compris entre 7 kg et 10 kg exclus","€/unité",0.2,0.2,{"$f":"VLOOKUP(J3429,'Codes éco-part'!$C:$E,3,FALSE)","v":"101"},0.24]
["REP ABJ",4,"22152810560",null,"Entretien et aménagement du jardin","Pots de fleur et contenants","Assemblage dont la composition conjointe en bois, dérivés de bois et en métal dépasse 90%","Compris entre 10 kg et 15 kg exclus","€/unité",0.3,0.3,{"$f":"VLOOKUP(J3430,'Codes éco-part'!$C:$E,3,FALSE)","v":"446"},0.36]
["REP ABJ",4,"22152810570",null,"Entretien et aménagement du jardin","Pots de fleur et contenants","Assemblage dont la composition conjointe en bois, dérivés de bois et en métal dépasse 90%","Compris entre 15 kg et 20 kg exclus","€/unité",0.4,0.4,{"$f":"VLOOKUP(J3431,'Codes éco-part'!$C:$E,3,FALSE)","v":"105"},0.48]
["REP ABJ",4,"22152820000",null,"Entretien et aménagement du jardin","Pots de fleur et contenants","Assemblage de 3 matériaux ou plus sans un matériau à plus de 50%","Eléments de toutes dimensions et poids","€ / Tonne",170,170,{"$f":"VLOOKUP(J3432,'Codes éco-part'!$C:$E,3,FALSE)","v":"497"},204]
["REP ABJ",4,"22152820200",null,"Entretien et aménagement du jardin","Pots de fleur et contenants","Assemblage de 3 matériaux ou plus sans un matériau à plus de 50%","Inférieur strictement à 0,5 kg","€/unité",0.04,0.04,{"$f":"VLOOKUP(J3433,'Codes éco-part'!$C:$E,3,FALSE)","v":"002"},4.8000000000000001E-2]
["REP ABJ",4,"22152820210",null,"Entretien et aménagement du jardin","Pots de fleur et contenants","Assemblage de 3 matériaux ou plus sans un matériau à plus de 50%","Compris entre 0,5 kg et 1 kg exclus","€/unité",0.13,0.13,{"$f":"VLOOKUP(J3434,'Codes éco-part'!$C:$E,3,FALSE)","v":"004"},0.156]
["REP ABJ",4,"22152820220",null,"Entretien et aménagement du jardin","Pots de fleur et contenants","Assemblage de 3 matériaux ou plus sans un matériau à plus de 50%","Compris entre 1 kg et 2 kg exclus","€/unité",0.26,0.26,{"$f":"VLOOKUP(J3435,'Codes éco-part'!$C:$E,3,FALSE)","v":"445"},0.312]
["REP ABJ",4,"22152820520",null,"Entretien et aménagement du jardin","Pots de fleur et contenants","Assemblage de 3 matériaux ou plus sans un matériau à plus de 50%","Compris entre 2 kg et 3 kg exclus","€/unité",0.43,0.43,{"$f":"VLOOKUP(J3436,'Codes éco-part'!$C:$E,3,FALSE)","v":"506"},0.51600000000000001]
["REP ABJ",4,"22152820530",null,"Entretien et aménagement du jardin","Pots de fleur et contenants","Assemblage de 3 matériaux ou plus sans un matériau à plus de 50%","Compris entre 3 kg et 5 kg exclus","€/unité",0.68,0.68,{"$f":"VLOOKUP(J3437,'Codes éco-part'!$C:$E,3,FALSE)","v":"044"},0.81600000000000006]
["REP ABJ",4,"22152820540",null,"Entretien et aménagement du jardin","Pots de fleur et contenants","Assemblage de 3 matériaux ou plus sans un matériau à plus de 50%","Compris entre 5 kg et 7 kg exclus","€/unité",1.19,1.19,{"$f":"VLOOKUP(J3438,'Codes éco-part'!$C:$E,3,FALSE)","v":"507"},1.4279999999999999]
["REP ABJ",4,"22152820550",null,"Entretien et aménagement du jardin","Pots de fleur et contenants","Assemblage de 3 matériaux ou plus sans un matériau à plus de 50%","Compris entre 7 kg et 10 kg exclus","€/unité",1.7,1.7,{"$f":"VLOOKUP(J3439,'Codes éco-part'!$C:$E,3,FALSE)","v":"256"},2.04]
["REP ABJ",4,"22152820560",null,"Entretien et aménagement du jardin","Pots de fleur et contenants","Assemblage de 3 matériaux ou plus sans un matériau à plus de 50%","Compris entre 10 kg et 15 kg exclus","€/unité",2.5499999999999998,2.5499999999999998,{"$f":"VLOOKUP(J3440,'Codes éco-part'!$C:$E,3,FALSE)","v":"272"},3.0599999999999996]
["REP ABJ",4,"22152820570",null,"Entretien et aménagement du jardin","Pots de fleur et contenants","Assemblage de 3 matériaux ou plus sans un matériau à plus de 50%","Compris entre 15 kg et 20 kg exclus","€/unité",3.4,3.4,{"$f":"VLOOKUP(J3441,'Codes éco-part'!$C:$E,3,FALSE)","v":"508"},4.08]
["REP ABJ",4,"22152840000",null,"Entretien et aménagement du jardin","Pots de fleur et contenants","Ardoise >90%","Eléments de toutes dimensions et poids","€ / Tonne",5,5,{"$f":"VLOOKUP(J3442,'Codes éco-part'!$C:$E,3,FALSE)","v":"042"},6]
["REP ABJ",4,"22152840200",null,"Entretien et aménagement du jardin","Pots de fleur et contenants","Ardoise >90%","Inférieur strictement à 0,5 kg","€/unité",0.01,0.01,{"$f":"VLOOKUP(J3443,'Codes éco-part'!$C:$E,3,FALSE)","v":"260"},1.2E-2]
["REP ABJ",4,"22152840210",null,"Entretien et aménagement du jardin","Pots de fleur et contenants","Ardoise >90%","Compris entre 0,5 kg et 1 kg exclus","€/unité",0.01,0.01,{"$f":"VLOOKUP(J3444,'Codes éco-part'!$C:$E,3,FALSE)","v":"260"},1.2E-2]
["REP ABJ",4,"22152840220",null,"Entretien et aménagement du jardin","Pots de fleur et contenants","Ardoise >90%","Compris entre 1 kg et 2 kg exclus","€/unité",0.01,0.01,{"$f":"VLOOKUP(J3445,'Codes éco-part'!$C:$E,3,FALSE)","v":"260"},1.2E-2]
["REP ABJ",4,"22152840520",null,"Entretien et aménagement du jardin","Pots de fleur et contenants","Ardoise >90%","Compris entre 2 kg et 3 kg exclus","€/unité",0.01,0.01,{"$f":"VLOOKUP(J3446,'Codes éco-part'!$C:$E,3,FALSE)","v":"260"},1.2E-2]
["REP ABJ",4,"22152840530",null,"Entretien et aménagement du jardin","Pots de fleur et contenants","Ardoise >90%","Compris entre 3 kg et 5 kg exclus","€/unité",0.02,0.02,{"$f":"VLOOKUP(J3447,'Codes éco-part'!$C:$E,3,FALSE)","v":"047"},2.4E-2]
["REP ABJ",4,"22152840540",null,"Entretien et aménagement du jardin","Pots de fleur et contenants","Ardoise >90%","Compris entre 5 kg et 7 kg exclus","€/unité",0.04,0.04,{"$f":"VLOOKUP(J3448,'Codes éco-part'!$C:$E,3,FALSE)","v":"002"},4.8000000000000001E-2]
["REP ABJ",4,"22152840550",null,"Entretien et aménagement du jardin","Pots de fleur et contenants","Ardoise >90%","Compris entre 7 kg et 10 kg exclus","€/unité",0.05,0.05,{"$f":"VLOOKUP(J3449,'Codes éco-part'!$C:$E,3,FALSE)","v":"048"},0.06]
["REP ABJ",4,"22152840560",null,"Entretien et aménagement du jardin","Pots de fleur et contenants","Ardoise >90%","Compris entre 10 kg et 15 kg exclus","€/unité",0.08,0.08,{"$f":"VLOOKUP(J3450,'Codes éco-part'!$C:$E,3,FALSE)","v":"003"},9.6000000000000002E-2]
["REP ABJ",4,"22152840570",null,"Entretien et aménagement du jardin","Pots de fleur et contenants","Ardoise >90%","Compris entre 15 kg et 20 kg exclus","€/unité",0.1,0.1,{"$f":"VLOOKUP(J3451,'Codes éco-part'!$C:$E,3,FALSE)","v":"094"},0.12]
["REP ABJ",4,"22152860000",null,"Entretien et aménagement du jardin","Pots de fleur et contenants","Pierre calcaire >90%","Eléments de toutes dimensions et poids","€ / Tonne",5,5,{"$f":"VLOOKUP(J3452,'Codes éco-part'!$C:$E,3,FALSE)","v":"042"},6]
["REP ABJ",4,"22152860200",null,"Entretien et aménagement du jardin","Pots de fleur et contenants","Pierre calcaire >90%","Inférieur strictement à 0,5 kg","€/unité",0.01,0.01,{"$f":"VLOOKUP(J3453,'Codes éco-part'!$C:$E,3,FALSE)","v":"260"},1.2E-2]
["REP ABJ",4,"22152860210",null,"Entretien et aménagement du jardin","Pots de fleur et contenants","Pierre calcaire >90%","Compris entre 0,5 kg et 1 kg exclus","€/unité",0.01,0.01,{"$f":"VLOOKUP(J3454,'Codes éco-part'!$C:$E,3,FALSE)","v":"260"},1.2E-2]
["REP ABJ",4,"22152860220",null,"Entretien et aménagement du jardin","Pots de fleur et contenants","Pierre calcaire >90%","Compris entre 1 kg et 2 kg exclus","€/unité",0.01,0.01,{"$f":"VLOOKUP(J3455,'Codes éco-part'!$C:$E,3,FALSE)","v":"260"},1.2E-2]
["REP ABJ",4,"22152860520",null,"Entretien et aménagement du jardin","Pots de fleur et contenants","Pierre calcaire >90%","Compris entre 2 kg et 3 kg exclus","€/unité",0.01,0.01,{"$f":"VLOOKUP(J3456,'Codes éco-part'!$C:$E,3,FALSE)","v":"260"},1.2E-2]
["REP ABJ",4,"22152860530",null,"Entretien et aménagement du jardin","Pots de fleur et contenants","Pierre calcaire >90%","Compris entre 3 kg et 5 kg exclus","€/unité",0.02,0.02,{"$f":"VLOOKUP(J3457,'Codes éco-part'!$C:$E,3,FALSE)","v":"047"},2.4E-2]
["REP ABJ",4,"22152860540",null,"Entretien et aménagement du jardin","Pots de fleur et contenants","Pierre calcaire >90%","Compris entre 5 kg et 7 kg exclus","€/unité",0.04,0.04,{"$f":"VLOOKUP(J3458,'Codes éco-part'!$C:$E,3,FALSE)","v":"002"},4.8000000000000001E-2]
["REP ABJ",4,"22152860550",null,"Entretien et aménagement du jardin","Pots de fleur et contenants","Pierre calcaire >90%","Compris entre 7 kg et 10 kg exclus","€/unité",0.05,0.05,{"$f":"VLOOKUP(J3459,'Codes éco-part'!$C:$E,3,FALSE)","v":"048"},0.06]
["REP ABJ",4,"22152860560",null,"Entretien et aménagement du jardin","Pots de fleur et contenants","Pierre calcaire >90%","Compris entre 10 kg et 15 kg exclus","€/unité",0.08,0.08,{"$f":"VLOOKUP(J3460,'Codes éco-part'!$C:$E,3,FALSE)","v":"003"},9.6000000000000002E-2]
["REP ABJ",4,"22152860570",null,"Entretien et aménagement du jardin","Pots de fleur et contenants","Pierre calcaire >90%","Compris entre 15 kg et 20 kg exclus","€/unité",0.1,0.1,{"$f":"VLOOKUP(J3461,'Codes éco-part'!$C:$E,3,FALSE)","v":"094"},0.12]
["REP ABJ",4,"22152870000",null,"Entretien et aménagement du jardin","Pots de fleur et contenants","Lave >90%","Eléments de toutes dimensions et poids","€ / Tonne",5,5,{"$f":"VLOOKUP(J3462,'Codes éco-part'!$C:$E,3,FALSE)","v":"042"},6]
["REP ABJ",4,"22152870200",null,"Entretien et aménagement du jardin","Pots de fleur et contenants","Lave >90%","Inférieur strictement à 0,5 kg","€/unité",0.01,0.01,{"$f":"VLOOKUP(J3463,'Codes éco-part'!$C:$E,3,FALSE)","v":"260"},1.2E-2]
["REP ABJ",4,"22152870210",null,"Entretien et aménagement du jardin","Pots de fleur et contenants","Lave >90%","Compris entre 0,5 kg et 1 kg exclus","€/unité",0.01,0.01,{"$f":"VLOOKUP(J3464,'Codes éco-part'!$C:$E,3,FALSE)","v":"260"},1.2E-2]
["REP ABJ",4,"22152870220",null,"Entretien et aménagement du jardin","Pots de fleur et contenants","Lave >90%","Compris entre 1 kg et 2 kg exclus","€/unité",0.01,0.01,{"$f":"VLOOKUP(J3465,'Codes éco-part'!$C:$E,3,FALSE)","v":"260"},1.2E-2]
["REP ABJ",4,"22152870520",null,"Entretien et aménagement du jardin","Pots de fleur et contenants","Lave >90%","Compris entre 2 kg et 3 kg exclus","€/unité",0.01,0.01,{"$f":"VLOOKUP(J3466,'Codes éco-part'!$C:$E,3,FALSE)","v":"260"},1.2E-2]
["REP ABJ",4,"22152870530",null,"Entretien et aménagement du jardin","Pots de fleur et contenants","Lave >90%","Compris entre 3 kg et 5 kg exclus","€/unité",0.02,0.02,{"$f":"VLOOKUP(J3467,'Codes éco-part'!$C:$E,3,FALSE)","v":"047"},2.4E-2]
["REP ABJ",4,"22152870540",null,"Entretien et aménagement du jardin","Pots de fleur et contenants","Lave >90%","Compris entre 5 kg et 7 kg exclus","€/unité",0.04,0.04,{"$f":"VLOOKUP(J3468,'Codes éco-part'!$C:$E,3,FALSE)","v":"002"},4.8000000000000001E-2]
["REP ABJ",4,"22152870550",null,"Entretien et aménagement du jardin","Pots de fleur et contenants","Lave >90%","Compris entre 7 kg et 10 kg exclus","€/unité",0.05,0.05,{"$f":"VLOOKUP(J3469,'Codes éco-part'!$C:$E,3,FALSE)","v":"048"},0.06]
["REP ABJ",4,"22152870560",null,"Entretien et aménagement du jardin","Pots de fleur et contenants","Lave >90%","Compris entre 10 kg et 15 kg exclus","€/unité",0.08,0.08,{"$f":"VLOOKUP(J3470,'Codes éco-part'!$C:$E,3,FALSE)","v":"003"},9.6000000000000002E-2]
["REP ABJ",4,"22152870570",null,"Entretien et aménagement du jardin","Pots de fleur et contenants","Lave >90%","Compris entre 15 kg et 20 kg exclus","€/unité",0.1,0.1,{"$f":"VLOOKUP(J3471,'Codes éco-part'!$C:$E,3,FALSE)","v":"094"},0.12]
["REP ABJ",4,"22152890000",null,"Entretien et aménagement du jardin","Pots de fleur et contenants","Terre cuite ou crue >90%","Eléments de toutes dimensions et poids","€ / Tonne",5,5,{"$f":"VLOOKUP(J3472,'Codes éco-part'!$C:$E,3,FALSE)","v":"042"},6]
["REP ABJ",4,"22152890200",null,"Entretien et aménagement du jardin","Pots de fleur et contenants","Terre cuite ou crue >90%","Inférieur strictement à 0,5 kg","€/unité",0.01,0.01,{"$f":"VLOOKUP(J3473,'Codes éco-part'!$C:$E,3,FALSE)","v":"260"},1.2E-2]
["REP ABJ",4,"22152890210",null,"Entretien et aménagement du jardin","Pots de fleur et contenants","Terre cuite ou crue >90%","Compris entre 0,5 kg et 1 kg exclus","€/unité",0.01,0.01,{"$f":"VLOOKUP(J3474,'Codes éco-part'!$C:$E,3,FALSE)","v":"260"},1.2E-2]
["REP ABJ",4,"22152890220",null,"Entretien et aménagement du jardin","Pots de fleur et contenants","Terre cuite ou crue >90%","Compris entre 1 kg et 2 kg exclus","€/unité",0.01,0.01,{"$f":"VLOOKUP(J3475,'Codes éco-part'!$C:$E,3,FALSE)","v":"260"},1.2E-2]
["REP ABJ",4,"22152890520",null,"Entretien et aménagement du jardin","Pots de fleur et contenants","Terre cuite ou crue >90%","Compris entre 2 kg et 3 kg exclus","€/unité",0.01,0.01,{"$f":"VLOOKUP(J3476,'Codes éco-part'!$C:$E,3,FALSE)","v":"260"},1.2E-2]
["REP ABJ",4,"22152890530",null,"Entretien et aménagement du jardin","Pots de fleur et contenants","Terre cuite ou crue >90%","Compris entre 3 kg et 5 kg exclus","€/unité",0.02,0.02,{"$f":"VLOOKUP(J3477,'Codes éco-part'!$C:$E,3,FALSE)","v":"047"},2.4E-2]
["REP ABJ",4,"22152890540",null,"Entretien et aménagement du jardin","Pots de fleur et contenants","Terre cuite ou crue >90%","Compris entre 5 kg et 7 kg exclus","€/unité",0.04,0.04,{"$f":"VLOOKUP(J3478,'Codes éco-part'!$C:$E,3,FALSE)","v":"002"},4.8000000000000001E-2]
["REP ABJ",4,"22152890550",null,"Entretien et aménagement du jardin","Pots de fleur et contenants","Terre cuite ou crue >90%","Compris entre 7 kg et 10 kg exclus","€/unité",0.05,0.05,{"$f":"VLOOKUP(J3479,'Codes éco-part'!$C:$E,3,FALSE)","v":"048"},0.06]
["REP ABJ",4,"22152890560",null,"Entretien et aménagement du jardin","Pots de fleur et contenants","Terre cuite ou crue >90%","Compris entre 10 kg et 15 kg exclus","€/unité",0.08,0.08,{"$f":"VLOOKUP(J3480,'Codes éco-part'!$C:$E,3,FALSE)","v":"003"},9.6000000000000002E-2]
["REP ABJ",4,"22152890570",null,"Entretien et aménagement du jardin","Pots de fleur et contenants","Terre cuite ou crue >90%","Compris entre 15 kg et 20 kg exclus","€/unité",0.1,0.1,{"$f":"VLOOKUP(J3481,'Codes éco-part'!$C:$E,3,FALSE)","v":"094"},{"$f":"J3481*1.2","v":0.12}]
["REP ABJ",4,"22152900000",null,"Entretien et aménagement du jardin","Pots de fleur et contenants","Ciment >90%","Eléments de toutes dimensions et poids","€ / Tonne",5,5,{"$f":"VLOOKUP(J3482,'Codes éco-part'!$C:$E,3,FALSE)","v":"042"},6]
["REP ABJ",4,"22152900200",null,"Entretien et aménagement du jardin","Pots de fleur et contenants","Ciment >90%","Inférieur strictement à 0,5 kg","€/unité",0.01,0.01,{"$f":"VLOOKUP(J3483,'Codes éco-part'!$C:$E,3,FALSE)","v":"260"},1.2E-2]
["REP ABJ",4,"22152900210",null,"Entretien et aménagement du jardin","Pots de fleur et contenants","Ciment >90%","Compris entre 0,5 kg et 1 kg exclus","€/unité",0.01,0.01,{"$f":"VLOOKUP(J3484,'Codes éco-part'!$C:$E,3,FALSE)","v":"260"},1.2E-2]
["REP ABJ",4,"22152900220",null,"Entretien et aménagement du jardin","Pots de fleur et contenants","Ciment >90%","Compris entre 1 kg et 2 kg exclus","€/unité",0.01,0.01,{"$f":"VLOOKUP(J3485,'Codes éco-part'!$C:$E,3,FALSE)","v":"260"},1.2E-2]
["REP ABJ",4,"22152900520",null,"Entretien et aménagement du jardin","Pots de fleur et contenants","Ciment >90%","Compris entre 2 kg et 3 kg exclus","€/unité",0.01,0.01,{"$f":"VLOOKUP(J3486,'Codes éco-part'!$C:$E,3,FALSE)","v":"260"},1.2E-2]
["REP ABJ",4,"22152900530",null,"Entretien et aménagement du jardin","Pots de fleur et contenants","Ciment >90%","Compris entre 3 kg et 5 kg exclus","€/unité",0.02,0.02,{"$f":"VLOOKUP(J3487,'Codes éco-part'!$C:$E,3,FALSE)","v":"047"},2.4E-2]
["REP ABJ",4,"22152900540",null,"Entretien et aménagement du jardin","Pots de fleur et contenants","Ciment >90%","Compris entre 5 kg et 7 kg exclus","€/unité",0.04,0.04,{"$f":"VLOOKUP(J3488,'Codes éco-part'!$C:$E,3,FALSE)","v":"002"},4.8000000000000001E-2]
["REP ABJ",4,"22152900550",null,"Entretien et aménagement du jardin","Pots de fleur et contenants","Ciment >90%","Compris entre 7 kg et 10 kg exclus","€/unité",0.05,0.05,{"$f":"VLOOKUP(J3489,'Codes éco-part'!$C:$E,3,FALSE)","v":"048"},0.06]
["REP ABJ",4,"22152900560",null,"Entretien et aménagement du jardin","Pots de fleur et contenants","Ciment >90%","Compris entre 10 kg et 15 kg exclus","€/unité",0.08,0.08,{"$f":"VLOOKUP(J3490,'Codes éco-part'!$C:$E,3,FALSE)","v":"003"},9.6000000000000002E-2]
["REP ABJ",4,"22152900570",null,"Entretien et aménagement du jardin","Pots de fleur et contenants","Ciment >90%","Compris entre 15 kg et 20 kg exclus","€/unité",0.1,0.1,{"$f":"VLOOKUP(J3491,'Codes éco-part'!$C:$E,3,FALSE)","v":"094"},0.12]
["REP ABJ",4,"22152910000",null,"Entretien et aménagement du jardin","Pots de fleur et contenants","Granit >90%","Eléments de toutes dimensions et poids","€ / Tonne",5,5,{"$f":"VLOOKUP(J3492,'Codes éco-part'!$C:$E,3,FALSE)","v":"042"},6]
["REP ABJ",4,"22152910200",null,"Entretien et aménagement du jardin","Pots de fleur et contenants","Granit >90%","Inférieur strictement à 0,5 kg","€/unité",0.01,0.01,{"$f":"VLOOKUP(J3493,'Codes éco-part'!$C:$E,3,FALSE)","v":"260"},1.2E-2]
["REP ABJ",4,"22152910210",null,"Entretien et aménagement du jardin","Pots de fleur et contenants","Granit >90%","Compris entre 0,5 kg et 1 kg exclus","€/unité",0.01,0.01,{"$f":"VLOOKUP(J3494,'Codes éco-part'!$C:$E,3,FALSE)","v":"260"},1.2E-2]
["REP ABJ",4,"22152910220",null,"Entretien et aménagement du jardin","Pots de fleur et contenants","Granit >90%","Compris entre 1 kg et 2 kg exclus","€/unité",0.01,0.01,{"$f":"VLOOKUP(J3495,'Codes éco-part'!$C:$E,3,FALSE)","v":"260"},1.2E-2]
["REP ABJ",4,"22152910520",null,"Entretien et aménagement du jardin","Pots de fleur et contenants","Granit >90%","Compris entre 2 kg et 3 kg exclus","€/unité",0.01,0.01,{"$f":"VLOOKUP(J3496,'Codes éco-part'!$C:$E,3,FALSE)","v":"260"},1.2E-2]
["REP ABJ",4,"22152910530",null,"Entretien et aménagement du jardin","Pots de fleur et contenants","Granit >90%","Compris entre 3 kg et 5 kg exclus","€/unité",0.02,0.02,{"$f":"VLOOKUP(J3497,'Codes éco-part'!$C:$E,3,FALSE)","v":"047"},2.4E-2]
["REP ABJ",4,"22152910540",null,"Entretien et aménagement du jardin","Pots de fleur et contenants","Granit >90%","Compris entre 5 kg et 7 kg exclus","€/unité",0.04,0.04,{"$f":"VLOOKUP(J3498,'Codes éco-part'!$C:$E,3,FALSE)","v":"002"},4.8000000000000001E-2]
["REP ABJ",4,"22152910550",null,"Entretien et aménagement du jardin","Pots de fleur et contenants","Granit >90%","Compris entre 7 kg et 10 kg exclus","€/unité",0.05,0.05,{"$f":"VLOOKUP(J3499,'Codes éco-part'!$C:$E,3,FALSE)","v":"048"},0.06]
["REP ABJ",4,"22152910560",null,"Entretien et aménagement du jardin","Pots de fleur et contenants","Granit >90%","Compris entre 10 kg et 15 kg exclus","€/unité",0.08,0.08,{"$f":"VLOOKUP(J3500,'Codes éco-part'!$C:$E,3,FALSE)","v":"003"},9.6000000000000002E-2]
["REP ABJ",4,"22152910570",null,"Entretien et aménagement du jardin","Pots de fleur et contenants","Granit >90%","Compris entre 15 kg et 20 kg exclus","€/unité",0.1,0.1,{"$f":"VLOOKUP(J3501,'Codes éco-part'!$C:$E,3,FALSE)","v":"094"},0.12]
["REP ABJ",4,"22152940000",null,"Entretien et aménagement du jardin","Pots de fleur et contenants","Grès >90%","Eléments de toutes dimensions et poids","€ / Tonne",5,5,{"$f":"VLOOKUP(J3502,'Codes éco-part'!$C:$E,3,FALSE)","v":"042"},6]
["REP ABJ",4,"22152940200",null,"Entretien et aménagement du jardin","Pots de fleur et contenants","Grès >90%","Inférieur strictement à 0,5 kg","€/unité",0.01,0.01,{"$f":"VLOOKUP(J3503,'Codes éco-part'!$C:$E,3,FALSE)","v":"260"},1.2E-2]
["REP ABJ",4,"22152940210",null,"Entretien et aménagement du jardin","Pots de fleur et contenants","Grès >90%","Compris entre 0,5 kg et 1 kg exclus","€/unité",0.01,0.01,{"$f":"VLOOKUP(J3504,'Codes éco-part'!$C:$E,3,FALSE)","v":"260"},1.2E-2]
["REP ABJ",4,"22152940220",null,"Entretien et aménagement du jardin","Pots de fleur et contenants","Grès >90%","Compris entre 1 kg et 2 kg exclus","€/unité",0.01,0.01,{"$f":"VLOOKUP(J3505,'Codes éco-part'!$C:$E,3,FALSE)","v":"260"},1.2E-2]
["REP ABJ",4,"22152940520",null,"Entretien et aménagement du jardin","Pots de fleur et contenants","Grès >90%","Compris entre 2 kg et 3 kg exclus","€/unité",0.01,0.01,{"$f":"VLOOKUP(J3506,'Codes éco-part'!$C:$E,3,FALSE)","v":"260"},1.2E-2]
["REP ABJ",4,"22152940530",null,"Entretien et aménagement du jardin","Pots de fleur et contenants","Grès >90%","Compris entre 3 kg et 5 kg exclus","€/unité",0.02,0.02,{"$f":"VLOOKUP(J3507,'Codes éco-part'!$C:$E,3,FALSE)","v":"047"},2.4E-2]
["REP ABJ",4,"22152940540",null,"Entretien et aménagement du jardin","Pots de fleur et contenants","Grès >90%","Compris entre 5 kg et 7 kg exclus","€/unité",0.04,0.04,{"$f":"VLOOKUP(J3508,'Codes éco-part'!$C:$E,3,FALSE)","v":"002"},4.8000000000000001E-2]
["REP ABJ",4,"22152940550",null,"Entretien et aménagement du jardin","Pots de fleur et contenants","Grès >90%","Compris entre 7 kg et 10 kg exclus","€/unité",0.05,0.05,{"$f":"VLOOKUP(J3509,'Codes éco-part'!$C:$E,3,FALSE)","v":"048"},0.06]
["REP ABJ",4,"22152940560",null,"Entretien et aménagement du jardin","Pots de fleur et contenants","Grès >90%","Compris entre 10 kg et 15 kg exclus","€/unité",0.08,0.08,{"$f":"VLOOKUP(J3510,'Codes éco-part'!$C:$E,3,FALSE)","v":"003"},9.6000000000000002E-2]
["REP ABJ",4,"22152940570",null,"Entretien et aménagement du jardin","Pots de fleur et contenants","Grès >90%","Compris entre 15 kg et 20 kg exclus","€/unité",0.1,0.1,{"$f":"VLOOKUP(J3511,'Codes éco-part'!$C:$E,3,FALSE)","v":"094"},0.12]
["REP ABJ",4,"22152970000",null,"Entretien et aménagement du jardin","Pots de fleur et contenants","Céramique >90%","Eléments de toutes dimensions et poids","€ / Tonne",10,10,{"$f":"VLOOKUP(J3512,'Codes éco-part'!$C:$E,3,FALSE)","v":"138"},12]
["REP ABJ",4,"22152970200",null,"Entretien et aménagement du jardin","Pots de fleur et contenants","Céramique >90%","Inférieur strictement à 0,5 kg","€/unité",0.01,0.01,{"$f":"VLOOKUP(J3513,'Codes éco-part'!$C:$E,3,FALSE)","v":"260"},1.2E-2]
["REP ABJ",4,"22152970210",null,"Entretien et aménagement du jardin","Pots de fleur et contenants","Céramique >90%","Compris entre 0,5 kg et 1 kg exclus","€/unité",0.01,0.01,{"$f":"VLOOKUP(J3514,'Codes éco-part'!$C:$E,3,FALSE)","v":"260"},1.2E-2]
["REP ABJ",4,"22152970220",null,"Entretien et aménagement du jardin","Pots de fleur et contenants","Céramique >90%","Compris entre 1 kg et 2 kg exclus","€/unité",0.02,0.02,{"$f":"VLOOKUP(J3515,'Codes éco-part'!$C:$E,3,FALSE)","v":"047"},2.4E-2]
["REP ABJ",4,"22152970520",null,"Entretien et aménagement du jardin","Pots de fleur et contenants","Céramique >90%","Compris entre 2 kg et 3 kg exclus","€/unité",0.03,0.03,{"$f":"VLOOKUP(J3516,'Codes éco-part'!$C:$E,3,FALSE)","v":"092"},3.5999999999999997E-2]
["REP ABJ",4,"22152970530",null,"Entretien et aménagement du jardin","Pots de fleur et contenants","Céramique >90%","Compris entre 3 kg et 5 kg exclus","€/unité",0.04,0.04,{"$f":"VLOOKUP(J3517,'Codes éco-part'!$C:$E,3,FALSE)","v":"002"},4.8000000000000001E-2]
["REP ABJ",4,"22152970540",null,"Entretien et aménagement du jardin","Pots de fleur et contenants","Céramique >90%","Compris entre 5 kg et 7 kg exclus","€/unité",7.0000000000000007E-2,7.0000000000000007E-2,{"$f":"VLOOKUP(J3518,'Codes éco-part'!$C:$E,3,FALSE)","v":"247"},8.4000000000000005E-2]
["REP ABJ",4,"22152970550",null,"Entretien et aménagement du jardin","Pots de fleur et contenants","Céramique >90%","Compris entre 7 kg et 10 kg exclus","€/unité",0.1,0.1,{"$f":"VLOOKUP(J3519,'Codes éco-part'!$C:$E,3,FALSE)","v":"094"},0.12]
["REP ABJ",4,"22152970560",null,"Entretien et aménagement du jardin","Pots de fleur et contenants","Céramique >90%","Compris entre 10 kg et 15 kg exclus","€/unité",0.15,0.15,{"$f":"VLOOKUP(J3520,'Codes éco-part'!$C:$E,3,FALSE)","v":"050"},0.18]
["REP ABJ",4,"22152970570",null,"Entretien et aménagement du jardin","Pots de fleur et contenants","Céramique >90%","Compris entre 15 kg et 20 kg exclus","€/unité",0.2,0.2,{"$f":"VLOOKUP(J3521,'Codes éco-part'!$C:$E,3,FALSE)","v":"101"},0.24]
["REP ABJ",4,"22152980000",null,"Entretien et aménagement du jardin","Pots de fleur et contenants","Pierre artificielle >90%","Eléments de toutes dimensions et poids","€ / Tonne",5,5,{"$f":"VLOOKUP(J3522,'Codes éco-part'!$C:$E,3,FALSE)","v":"042"},6]
["REP ABJ",4,"22152980200",null,"Entretien et aménagement du jardin","Pots de fleur et contenants","Pierre artificielle >90%","Inférieur strictement à 0,5 kg","€/unité",0.01,0.01,{"$f":"VLOOKUP(J3523,'Codes éco-part'!$C:$E,3,FALSE)","v":"260"},1.2E-2]
["REP ABJ",4,"22152980210",null,"Entretien et aménagement du jardin","Pots de fleur et contenants","Pierre artificielle >90%","Compris entre 0,5 kg et 1 kg exclus","€/unité",0.01,0.01,{"$f":"VLOOKUP(J3524,'Codes éco-part'!$C:$E,3,FALSE)","v":"260"},1.2E-2]
["REP ABJ",4,"22152980220",null,"Entretien et aménagement du jardin","Pots de fleur et contenants","Pierre artificielle >90%","Compris entre 1 kg et 2 kg exclus","€/unité",0.01,0.01,{"$f":"VLOOKUP(J3525,'Codes éco-part'!$C:$E,3,FALSE)","v":"260"},1.2E-2]
["REP ABJ",4,"22152980520",null,"Entretien et aménagement du jardin","Pots de fleur et contenants","Pierre artificielle >90%","Compris entre 2 kg et 3 kg exclus","€/unité",0.01,0.01,{"$f":"VLOOKUP(J3526,'Codes éco-part'!$C:$E,3,FALSE)","v":"260"},1.2E-2]
["REP ABJ",4,"22152980530",null,"Entretien et aménagement du jardin","Pots de fleur et contenants","Pierre artificielle >90%","Compris entre 3 kg et 5 kg exclus","€/unité",0.02,0.02,{"$f":"VLOOKUP(J3527,'Codes éco-part'!$C:$E,3,FALSE)","v":"047"},2.4E-2]
["REP ABJ",4,"22152980540",null,"Entretien et aménagement du jardin","Pots de fleur et contenants","Pierre artificielle >90%","Compris entre 5 kg et 7 kg exclus","€/unité",0.04,0.04,{"$f":"VLOOKUP(J3528,'Codes éco-part'!$C:$E,3,FALSE)","v":"002"},4.8000000000000001E-2]
["REP ABJ",4,"22152980550",null,"Entretien et aménagement du jardin","Pots de fleur et contenants","Pierre artificielle >90%","Compris entre 7 kg et 10 kg exclus","€/unité",0.05,0.05,{"$f":"VLOOKUP(J3529,'Codes éco-part'!$C:$E,3,FALSE)","v":"048"},0.06]
["REP ABJ",4,"22152980560",null,"Entretien et aménagement du jardin","Pots de fleur et contenants","Pierre artificielle >90%","Compris entre 10 kg et 15 kg exclus","€/unité",0.08,0.08,{"$f":"VLOOKUP(J3530,'Codes éco-part'!$C:$E,3,FALSE)","v":"003"},9.6000000000000002E-2]
["REP ABJ",4,"22152980570",null,"Entretien et aménagement du jardin","Pots de fleur et contenants","Pierre artificielle >90%","Compris entre 15 kg et 20 kg exclus","€/unité",0.1,0.1,{"$f":"VLOOKUP(J3531,'Codes éco-part'!$C:$E,3,FALSE)","v":"094"},0.12]
["REP ABJ",4,"22153000000",null,"Entretien et aménagement du jardin","Bâches, housses, filets et films de jardinage","Non connu ou non spécifié par l'entreprise","Eléments de toutes dimensions et poids","€ / Tonne",215,215,{"$f":"VLOOKUP(J3532,'Codes éco-part'!$C:$E,3,FALSE)","v":"498"},258]
["REP ABJ",4,"22153000200",null,"Entretien et aménagement du jardin","Bâches, housses, filets et films de jardinage","Non connu ou non spécifié par l'entreprise","Inférieur strictement à 0,5 kg","€/unité",0.05,0.05,{"$f":"VLOOKUP(J3533,'Codes éco-part'!$C:$E,3,FALSE)","v":"048"},0.06]
["REP ABJ",4,"22153000210",null,"Entretien et aménagement du jardin","Bâches, housses, filets et films de jardinage","Non connu ou non spécifié par l'entreprise","Compris entre 0,5 kg et 1 kg exclus","€/unité",0.16,0.16,{"$f":"VLOOKUP(J3534,'Codes éco-part'!$C:$E,3,FALSE)","v":"099"},0.192]
["REP ABJ",4,"22153000220",null,"Entretien et aménagement du jardin","Bâches, housses, filets et films de jardinage","Non connu ou non spécifié par l'entreprise","Compris entre 1 kg et 2 kg exclus","€/unité",0.32,0.32,{"$f":"VLOOKUP(J3535,'Codes éco-part'!$C:$E,3,FALSE)","v":"447"},0.38400000000000001]
["REP ABJ",4,"22153000520",null,"Entretien et aménagement du jardin","Bâches, housses, filets et films de jardinage","Non connu ou non spécifié par l'entreprise","Compris entre 2 kg et 3 kg exclus","€/unité",0.54,0.54,{"$f":"VLOOKUP(J3536,'Codes éco-part'!$C:$E,3,FALSE)","v":"500"},0.64800000000000002]
["REP ABJ",4,"22153000530",null,"Entretien et aménagement du jardin","Bâches, housses, filets et films de jardinage","Non connu ou non spécifié par l'entreprise","Compris entre 3 kg et 5 kg exclus","€/unité",0.86,0.86,{"$f":"VLOOKUP(J3537,'Codes éco-part'!$C:$E,3,FALSE)","v":"501"},1.032]
["REP ABJ",4,"22153000540",null,"Entretien et aménagement du jardin","Bâches, housses, filets et films de jardinage","Non connu ou non spécifié par l'entreprise","Compris entre 5 kg et 7 kg exclus","€/unité",1.51,1.51,{"$f":"VLOOKUP(J3538,'Codes éco-part'!$C:$E,3,FALSE)","v":"502"},1.8119999999999998]
["REP ABJ",4,"22153000900",null,"Entretien et aménagement du jardin","Bâches, housses, filets et films de jardinage","Non connu ou non spécifié par l'entreprise","Lot de 10","€/Lot",15.05,15.05,{"$f":"VLOOKUP(J3539,'Codes éco-part'!$C:$E,3,FALSE)","v":"516"},18.059999999999999]
["REP ABJ",4,"22153040000",null,"Entretien et aménagement du jardin","Bâches, housses, filets et films de jardinage","Matériaux bio sourcés ou textiles non synthétiques >50%","Eléments de toutes dimensions et poids","€ / Tonne",215,215,{"$f":"VLOOKUP(J3540,'Codes éco-part'!$C:$E,3,FALSE)","v":"498"},258]
["REP ABJ",4,"22153040200",null,"Entretien et aménagement du jardin","Bâches, housses, filets et films de jardinage","Matériaux bio sourcés ou textiles non synthétiques >50%","Inférieur strictement à 0,5 kg","€/unité",0.05,0.05,{"$f":"VLOOKUP(J3541,'Codes éco-part'!$C:$E,3,FALSE)","v":"048"},0.06]
["REP ABJ",4,"22153040210",null,"Entretien et aménagement du jardin","Bâches, housses, filets et films de jardinage","Matériaux bio sourcés ou textiles non synthétiques >50%","Compris entre 0,5 kg et 1 kg exclus","€/unité",0.16,0.16,{"$f":"VLOOKUP(J3542,'Codes éco-part'!$C:$E,3,FALSE)","v":"099"},0.192]
["REP ABJ",4,"22153040220",null,"Entretien et aménagement du jardin","Bâches, housses, filets et films de jardinage","Matériaux bio sourcés ou textiles non synthétiques >50%","Compris entre 1 kg et 2 kg exclus","€/unité",0.32,0.32,{"$f":"VLOOKUP(J3543,'Codes éco-part'!$C:$E,3,FALSE)","v":"447"},0.38400000000000001]
["REP ABJ",4,"22153040520",null,"Entretien et aménagement du jardin","Bâches, housses, filets et films de jardinage","Matériaux bio sourcés ou textiles non synthétiques >50%","Compris entre 2 kg et 3 kg exclus","€/unité",0.54,0.54,{"$f":"VLOOKUP(J3544,'Codes éco-part'!$C:$E,3,FALSE)","v":"500"},0.64800000000000002]
["REP ABJ",4,"22153040530",null,"Entretien et aménagement du jardin","Bâches, housses, filets et films de jardinage","Matériaux bio sourcés ou textiles non synthétiques >50%","Compris entre 3 kg et 5 kg exclus","€/unité",0.86,0.86,{"$f":"VLOOKUP(J3545,'Codes éco-part'!$C:$E,3,FALSE)","v":"501"},{"$f":"J3545*1.2","v":1.032}]
["REP ABJ",4,"22153040540",null,"Entretien et aménagement du jardin","Bâches, housses, filets et films de jardinage","Matériaux bio sourcés ou textiles non synthétiques >50%","Compris entre 5 kg et 7 kg exclus","€/unité",1.51,1.51,{"$f":"VLOOKUP(J3546,'Codes éco-part'!$C:$E,3,FALSE)","v":"502"},1.8119999999999998]
["REP ABJ",4,"22153050000",null,"Entretien et aménagement du jardin","Bâches, housses, filets et films de jardinage","Plastiques ou autres matériaux synthétiques >50%","Eléments de toutes dimensions et poids","€ / Tonne",215,215,{"$f":"VLOOKUP(J3547,'Codes éco-part'!$C:$E,3,FALSE)","v":"498"},258]
["REP ABJ",4,"22153050200",null,"Entretien et aménagement du jardin","Bâches, housses, filets et films de jardinage","Plastiques ou autres matériaux synthétiques >50%","Inférieur strictement à 0,5 kg","€/unité",0.05,0.05,{"$f":"VLOOKUP(J3548,'Codes éco-part'!$C:$E,3,FALSE)","v":"048"},0.06]
["REP ABJ",4,"22153050210",null,"Entretien et aménagement du jardin","Bâches, housses, filets et films de jardinage","Plastiques ou autres matériaux synthétiques >50%","Compris entre 0,5 kg et 1 kg exclus","€/unité",0.16,0.16,{"$f":"VLOOKUP(J3549,'Codes éco-part'!$C:$E,3,FALSE)","v":"099"},0.192]
["REP ABJ",4,"22153050220",null,"Entretien et aménagement du jardin","Bâches, housses, filets et films de jardinage","Plastiques ou autres matériaux synthétiques >50%","Compris entre 1 kg et 2 kg exclus","€/unité",0.32,0.32,{"$f":"VLOOKUP(J3550,'Codes éco-part'!$C:$E,3,FALSE)","v":"447"},0.38400000000000001]
["REP ABJ",4,"22153050520",null,"Entretien et aménagement du jardin","Bâches, housses, filets et films de jardinage","Plastiques ou autres matériaux synthétiques >50%","Compris entre 2 kg et 3 kg exclus","€/unité",0.54,0.54,{"$f":"VLOOKUP(J3551,'Codes éco-part'!$C:$E,3,FALSE)","v":"500"},0.64800000000000002]
["REP ABJ",4,"22153050530",null,"Entretien et aménagement du jardin","Bâches, housses, filets et films de jardinage","Plastiques ou autres matériaux synthétiques >50%","Compris entre 3 kg et 5 kg exclus","€/unité",0.86,0.86,{"$f":"VLOOKUP(J3552,'Codes éco-part'!$C:$E,3,FALSE)","v":"501"},1.032]
["REP ABJ",4,"22153050540",null,"Entretien et aménagement du jardin","Bâches, housses, filets et films de jardinage","Plastiques ou autres matériaux synthétiques >50%","Compris entre 5 kg et 7 kg exclus","€/unité",1.51,1.51,{"$f":"VLOOKUP(J3553,'Codes éco-part'!$C:$E,3,FALSE)","v":"502"},1.8119999999999998]
["REP ABJ",4,"22153060000",null,"Entretien et aménagement du jardin","Bâches, housses, filets et films de jardinage","Matériaux d'origine animale >50%","Eléments de toutes dimensions et poids","€ / Tonne",215,215,{"$f":"VLOOKUP(J3554,'Codes éco-part'!$C:$E,3,FALSE)","v":"498"},258]
["REP ABJ",4,"22153060200",null,"Entretien et aménagement du jardin","Bâches, housses, filets et films de jardinage","Matériaux d'origine animale >50%","Inférieur strictement à 0,5 kg","€/unité",0.05,0.05,{"$f":"VLOOKUP(J3555,'Codes éco-part'!$C:$E,3,FALSE)","v":"048"},0.06]
["REP ABJ",4,"22153060210",null,"Entretien et aménagement du jardin","Bâches, housses, filets et films de jardinage","Matériaux d'origine animale >50%","Compris entre 0,5 kg et 1 kg exclus","€/unité",0.16,0.16,{"$f":"VLOOKUP(J3556,'Codes éco-part'!$C:$E,3,FALSE)","v":"099"},0.192]
["REP ABJ",4,"22153060220",null,"Entretien et aménagement du jardin","Bâches, housses, filets et films de jardinage","Matériaux d'origine animale >50%","Compris entre 1 kg et 2 kg exclus","€/unité",0.32,0.32,{"$f":"VLOOKUP(J3557,'Codes éco-part'!$C:$E,3,FALSE)","v":"447"},0.38400000000000001]
["REP ABJ",4,"22153060520",null,"Entretien et aménagement du jardin","Bâches, housses, filets et films de jardinage","Matériaux d'origine animale >50%","Compris entre 2 kg et 3 kg exclus","€/unité",0.54,0.54,{"$f":"VLOOKUP(J3558,'Codes éco-part'!$C:$E,3,FALSE)","v":"500"},0.64800000000000002]
["REP ABJ",4,"22153060530",null,"Entretien et aménagement du jardin","Bâches, housses, filets et films de jardinage","Matériaux d'origine animale >50%","Compris entre 3 kg et 5 kg exclus","€/unité",0.86,0.86,{"$f":"VLOOKUP(J3559,'Codes éco-part'!$C:$E,3,FALSE)","v":"501"},1.032]
["REP ABJ",4,"22153060540",null,"Entretien et aménagement du jardin","Bâches, housses, filets et films de jardinage","Matériaux d'origine animale >50%","Compris entre 5 kg et 7 kg exclus","€/unité",1.51,1.51,{"$f":"VLOOKUP(J3560,'Codes éco-part'!$C:$E,3,FALSE)","v":"502"},1.8119999999999998]
["REP ABJ",4,"22153190000",null,"Entretien et aménagement du jardin","Bâches, housses, filets et films de jardinage","Papier carton >50% avec d'autres matériaux (hors verre)","Eléments de toutes dimensions et poids","€ / Tonne",215,215,{"$f":"VLOOKUP(J3561,'Codes éco-part'!$C:$E,3,FALSE)","v":"498"},258]
["REP ABJ",4,"22153190200",null,"Entretien et aménagement du jardin","Bâches, housses, filets et films de jardinage","Papier carton >50% avec d'autres matériaux (hors verre)","Inférieur strictement à 0,5 kg","€/unité",0.05,0.05,{"$f":"VLOOKUP(J3562,'Codes éco-part'!$C:$E,3,FALSE)","v":"048"},0.06]
["REP ABJ",4,"22153190210",null,"Entretien et aménagement du jardin","Bâches, housses, filets et films de jardinage","Papier carton >50% avec d'autres matériaux (hors verre)","Compris entre 0,5 kg et 1 kg exclus","€/unité",0.16,0.16,{"$f":"VLOOKUP(J3563,'Codes éco-part'!$C:$E,3,FALSE)","v":"099"},0.192]
["REP ABJ",4,"22153190220",null,"Entretien et aménagement du jardin","Bâches, housses, filets et films de jardinage","Papier carton >50% avec d'autres matériaux (hors verre)","Compris entre 1 kg et 2 kg exclus","€/unité",0.32,0.32,{"$f":"VLOOKUP(J3564,'Codes éco-part'!$C:$E,3,FALSE)","v":"447"},0.38400000000000001]
["REP ABJ",4,"22153190520",null,"Entretien et aménagement du jardin","Bâches, housses, filets et films de jardinage","Papier carton >50% avec d'autres matériaux (hors verre)","Compris entre 2 kg et 3 kg exclus","€/unité",0.54,0.54,{"$f":"VLOOKUP(J3565,'Codes éco-part'!$C:$E,3,FALSE)","v":"500"},0.64800000000000002]
["REP ABJ",4,"22153190530",null,"Entretien et aménagement du jardin","Bâches, housses, filets et films de jardinage","Papier carton >50% avec d'autres matériaux (hors verre)","Compris entre 3 kg et 5 kg exclus","€/unité",0.86,0.86,{"$f":"VLOOKUP(J3566,'Codes éco-part'!$C:$E,3,FALSE)","v":"501"},1.032]
["REP ABJ",4,"22153190540",null,"Entretien et aménagement du jardin","Bâches, housses, filets et films de jardinage","Papier carton >50% avec d'autres matériaux (hors verre)","Compris entre 5 kg et 7 kg exclus","€/unité",1.51,1.51,{"$f":"VLOOKUP(J3567,'Codes éco-part'!$C:$E,3,FALSE)","v":"502"},1.8119999999999998]
["REP ABJ",4,"22153400000",null,"Entretien et aménagement du jardin","Bâches, housses, filets et films de jardinage","Assemblage caoutchouc synthétique ou latex >50% avec d'autres matériaux","Eléments de toutes dimensions et poids","€ / Tonne",215,215,{"$f":"VLOOKUP(J3568,'Codes éco-part'!$C:$E,3,FALSE)","v":"498"},258]
["REP ABJ",4,"22153400200",null,"Entretien et aménagement du jardin","Bâches, housses, filets et films de jardinage","Assemblage caoutchouc synthétique ou latex >50% avec d'autres matériaux","Inférieur strictement à 0,5 kg","€/unité",0.05,0.05,{"$f":"VLOOKUP(J3569,'Codes éco-part'!$C:$E,3,FALSE)","v":"048"},0.06]
["REP ABJ",4,"22153400210",null,"Entretien et aménagement du jardin","Bâches, housses, filets et films de jardinage","Assemblage caoutchouc synthétique ou latex >50% avec d'autres matériaux","Compris entre 0,5 kg et 1 kg exclus","€/unité",0.16,0.16,{"$f":"VLOOKUP(J3570,'Codes éco-part'!$C:$E,3,FALSE)","v":"099"},0.192]
["REP ABJ",4,"22153400220",null,"Entretien et aménagement du jardin","Bâches, housses, filets et films de jardinage","Assemblage caoutchouc synthétique ou latex >50% avec d'autres matériaux","Compris entre 1 kg et 2 kg exclus","€/unité",0.32,0.32,{"$f":"VLOOKUP(J3571,'Codes éco-part'!$C:$E,3,FALSE)","v":"447"},0.38400000000000001]
["REP ABJ",4,"22153400520",null,"Entretien et aménagement du jardin","Bâches, housses, filets et films de jardinage","Assemblage caoutchouc synthétique ou latex >50% avec d'autres matériaux","Compris entre 2 kg et 3 kg exclus","€/unité",0.54,0.54,{"$f":"VLOOKUP(J3572,'Codes éco-part'!$C:$E,3,FALSE)","v":"500"},0.64800000000000002]
["REP ABJ",4,"22153400530",null,"Entretien et aménagement du jardin","Bâches, housses, filets et films de jardinage","Assemblage caoutchouc synthétique ou latex >50% avec d'autres matériaux","Compris entre 3 kg et 5 kg exclus","€/unité",0.86,0.86,{"$f":"VLOOKUP(J3573,'Codes éco-part'!$C:$E,3,FALSE)","v":"501"},1.032]
["REP ABJ",4,"22153400540",null,"Entretien et aménagement du jardin","Bâches, housses, filets et films de jardinage","Assemblage caoutchouc synthétique ou latex >50% avec d'autres matériaux","Compris entre 5 kg et 7 kg exclus","€/unité",1.51,1.51,{"$f":"VLOOKUP(J3574,'Codes éco-part'!$C:$E,3,FALSE)","v":"502"},1.8119999999999998]
["REP ABJ",4,"22153410000",null,"Entretien et aménagement du jardin","Bâches, housses, filets et films de jardinage","Plastiques (mono résine) >90%","Eléments de toutes dimensions et poids","€ / Tonne",165,165,{"$f":"VLOOKUP(J3575,'Codes éco-part'!$C:$E,3,FALSE)","v":"496"},198]
["REP ABJ",4,"22153410200",null,"Entretien et aménagement du jardin","Bâches, housses, filets et films de jardinage","Plastiques (mono résine) >90%","Inférieur strictement à 0,5 kg","€/unité",0.04,0.04,{"$f":"VLOOKUP(J3576,'Codes éco-part'!$C:$E,3,FALSE)","v":"002"},4.8000000000000001E-2]
["REP ABJ",4,"22153410210",null,"Entretien et aménagement du jardin","Bâches, housses, filets et films de jardinage","Plastiques (mono résine) >90%","Compris entre 0,5 kg et 1 kg exclus","€/unité",0.12,0.12,{"$f":"VLOOKUP(J3577,'Codes éco-part'!$C:$E,3,FALSE)","v":"097"},0.14399999999999999]
["REP ABJ",4,"22153410220",null,"Entretien et aménagement du jardin","Bâches, housses, filets et films de jardinage","Plastiques (mono résine) >90%","Compris entre 1 kg et 2 kg exclus","€/unité",0.25,0.25,{"$f":"VLOOKUP(J3578,'Codes éco-part'!$C:$E,3,FALSE)","v":"095"},0.3]
["REP ABJ",4,"22153410520",null,"Entretien et aménagement du jardin","Bâches, housses, filets et films de jardinage","Plastiques (mono résine) >90%","Compris entre 2 kg et 3 kg exclus","€/unité",0.41,0.41,{"$f":"VLOOKUP(J3579,'Codes éco-part'!$C:$E,3,FALSE)","v":"503"},0.49199999999999994]
["REP ABJ",4,"22153410530",null,"Entretien et aménagement du jardin","Bâches, housses, filets et films de jardinage","Plastiques (mono résine) >90%","Compris entre 3 kg et 5 kg exclus","€/unité",0.66,0.66,{"$f":"VLOOKUP(J3580,'Codes éco-part'!$C:$E,3,FALSE)","v":"453"},0.79200000000000004]
["REP ABJ",4,"22153410540",null,"Entretien et aménagement du jardin","Bâches, housses, filets et films de jardinage","Plastiques (mono résine) >90%","Compris entre 5 kg et 7 kg exclus","€/unité",1.1599999999999999,1.1599999999999999,{"$f":"VLOOKUP(J3581,'Codes éco-part'!$C:$E,3,FALSE)","v":"504"},1.3919999999999999]
["REP ABJ",4,"22153420000",null,"Entretien et aménagement du jardin","Bâches, housses, filets et films de jardinage","Polyterephtalate d'Ethylène (PET) >90%","Eléments de toutes dimensions et poids","€ / Tonne",165,165,{"$f":"VLOOKUP(J3582,'Codes éco-part'!$C:$E,3,FALSE)","v":"496"},198]
["REP ABJ",4,"22153420200",null,"Entretien et aménagement du jardin","Bâches, housses, filets et films de jardinage","Polyterephtalate d'Ethylène (PET) >90%","Inférieur strictement à 0,5 kg","€/unité",0.04,0.04,{"$f":"VLOOKUP(J3583,'Codes éco-part'!$C:$E,3,FALSE)","v":"002"},4.8000000000000001E-2]
["REP ABJ",4,"22153420210",null,"Entretien et aménagement du jardin","Bâches, housses, filets et films de jardinage","Polyterephtalate d'Ethylène (PET) >90%","Compris entre 0,5 kg et 1 kg exclus","€/unité",0.12,0.12,{"$f":"VLOOKUP(J3584,'Codes éco-part'!$C:$E,3,FALSE)","v":"097"},0.14399999999999999]
["REP ABJ",4,"22153420220",null,"Entretien et aménagement du jardin","Bâches, housses, filets et films de jardinage","Polyterephtalate d'Ethylène (PET) >90%","Compris entre 1 kg et 2 kg exclus","€/unité",0.25,0.25,{"$f":"VLOOKUP(J3585,'Codes éco-part'!$C:$E,3,FALSE)","v":"095"},0.3]
["REP ABJ",4,"22153420520",null,"Entretien et aménagement du jardin","Bâches, housses, filets et films de jardinage","Polyterephtalate d'Ethylène (PET) >90%","Compris entre 2 kg et 3 kg exclus","€/unité",0.41,0.41,{"$f":"VLOOKUP(J3586,'Codes éco-part'!$C:$E,3,FALSE)","v":"503"},0.49199999999999994]
["REP ABJ",4,"22153420530",null,"Entretien et aménagement du jardin","Bâches, housses, filets et films de jardinage","Polyterephtalate d'Ethylène (PET) >90%","Compris entre 3 kg et 5 kg exclus","€/unité",0.66,0.66,{"$f":"VLOOKUP(J3587,'Codes éco-part'!$C:$E,3,FALSE)","v":"453"},0.79200000000000004]
["REP ABJ",4,"22153420540",null,"Entretien et aménagement du jardin","Bâches, housses, filets et films de jardinage","Polyterephtalate d'Ethylène (PET) >90%","Compris entre 5 kg et 7 kg exclus","€/unité",1.1599999999999999,1.1599999999999999,{"$f":"VLOOKUP(J3588,'Codes éco-part'!$C:$E,3,FALSE)","v":"504"},1.3919999999999999]
["REP ABJ",4,"22153450000",null,"Entretien et aménagement du jardin","Bâches, housses, filets et films de jardinage","PE ou PP ou mélange PP/PE >90%","Eléments de toutes dimensions et poids","€ / Tonne",165,165,{"$f":"VLOOKUP(J3589,'Codes éco-part'!$C:$E,3,FALSE)","v":"496"},198]
["REP ABJ",4,"22153450200",null,"Entretien et aménagement du jardin","Bâches, housses, filets et films de jardinage","PE ou PP ou mélange PP/PE >90%","Inférieur strictement à 0,5 kg","€/unité",0.04,0.04,{"$f":"VLOOKUP(J3590,'Codes éco-part'!$C:$E,3,FALSE)","v":"002"},4.8000000000000001E-2]
["REP ABJ",4,"22153450210",null,"Entretien et aménagement du jardin","Bâches, housses, filets et films de jardinage","PE ou PP ou mélange PP/PE >90%","Compris entre 0,5 kg et 1 kg exclus","€/unité",0.12,0.12,{"$f":"VLOOKUP(J3591,'Codes éco-part'!$C:$E,3,FALSE)","v":"097"},0.14399999999999999]
["REP ABJ",4,"22153450220",null,"Entretien et aménagement du jardin","Bâches, housses, filets et films de jardinage","PE ou PP ou mélange PP/PE >90%","Compris entre 1 kg et 2 kg exclus","€/unité",0.25,0.25,{"$f":"VLOOKUP(J3592,'Codes éco-part'!$C:$E,3,FALSE)","v":"095"},0.3]
["REP ABJ",4,"22153450520",null,"Entretien et aménagement du jardin","Bâches, housses, filets et films de jardinage","PE ou PP ou mélange PP/PE >90%","Compris entre 2 kg et 3 kg exclus","€/unité",0.41,0.41,{"$f":"VLOOKUP(J3593,'Codes éco-part'!$C:$E,3,FALSE)","v":"503"},0.49199999999999994]
["REP ABJ",4,"22153450530",null,"Entretien et aménagement du jardin","Bâches, housses, filets et films de jardinage","PE ou PP ou mélange PP/PE >90%","Compris entre 3 kg et 5 kg exclus","€/unité",0.66,0.66,{"$f":"VLOOKUP(J3594,'Codes éco-part'!$C:$E,3,FALSE)","v":"453"},0.79200000000000004]
["REP ABJ",4,"22153450540",null,"Entretien et aménagement du jardin","Bâches, housses, filets et films de jardinage","PE ou PP ou mélange PP/PE >90%","Compris entre 5 kg et 7 kg exclus","€/unité",1.1599999999999999,1.1599999999999999,{"$f":"VLOOKUP(J3595,'Codes éco-part'!$C:$E,3,FALSE)","v":"504"},1.3919999999999999]
["REP ABJ",4,"22153460000",null,"Entretien et aménagement du jardin","Bâches, housses, filets et films de jardinage","ABS >90%","Eléments de toutes dimensions et poids","€ / Tonne",165,165,{"$f":"VLOOKUP(J3596,'Codes éco-part'!$C:$E,3,FALSE)","v":"496"},198]
["REP ABJ",4,"22153460200",null,"Entretien et aménagement du jardin","Bâches, housses, filets et films de jardinage","ABS >90%","Inférieur strictement à 0,5 kg","€/unité",0.04,0.04,{"$f":"VLOOKUP(J3597,'Codes éco-part'!$C:$E,3,FALSE)","v":"002"},4.8000000000000001E-2]
["REP ABJ",4,"22153460210",null,"Entretien et aménagement du jardin","Bâches, housses, filets et films de jardinage","ABS >90%","Compris entre 0,5 kg et 1 kg exclus","€/unité",0.12,0.12,{"$f":"VLOOKUP(J3598,'Codes éco-part'!$C:$E,3,FALSE)","v":"097"},0.14399999999999999]
["REP ABJ",4,"22153460220",null,"Entretien et aménagement du jardin","Bâches, housses, filets et films de jardinage","ABS >90%","Compris entre 1 kg et 2 kg exclus","€/unité",0.25,0.25,{"$f":"VLOOKUP(J3599,'Codes éco-part'!$C:$E,3,FALSE)","v":"095"},0.3]
["REP ABJ",4,"22153460520",null,"Entretien et aménagement du jardin","Bâches, housses, filets et films de jardinage","ABS >90%","Compris entre 2 kg et 3 kg exclus","€/unité",0.41,0.41,{"$f":"VLOOKUP(J3600,'Codes éco-part'!$C:$E,3,FALSE)","v":"503"},0.49199999999999994]
["REP ABJ",4,"22153460530",null,"Entretien et aménagement du jardin","Bâches, housses, filets et films de jardinage","ABS >90%","Compris entre 3 kg et 5 kg exclus","€/unité",0.66,0.66,{"$f":"VLOOKUP(J3601,'Codes éco-part'!$C:$E,3,FALSE)","v":"453"},0.79200000000000004]
["REP ABJ",4,"22153460540",null,"Entretien et aménagement du jardin","Bâches, housses, filets et films de jardinage","ABS >90%","Compris entre 5 kg et 7 kg exclus","€/unité",1.1599999999999999,1.1599999999999999,{"$f":"VLOOKUP(J3602,'Codes éco-part'!$C:$E,3,FALSE)","v":"504"},1.3919999999999999]
["REP ABJ",4,"22153470000",null,"Entretien et aménagement du jardin","Bâches, housses, filets et films de jardinage","Polystyrène >90%","Eléments de toutes dimensions et poids","€ / Tonne",165,165,{"$f":"VLOOKUP(J3603,'Codes éco-part'!$C:$E,3,FALSE)","v":"496"},198]
["REP ABJ",4,"22153470200",null,"Entretien et aménagement du jardin","Bâches, housses, filets et films de jardinage","Polystyrène >90%","Inférieur strictement à 0,5 kg","€/unité",0.04,0.04,{"$f":"VLOOKUP(J3604,'Codes éco-part'!$C:$E,3,FALSE)","v":"002"},4.8000000000000001E-2]
["REP ABJ",4,"22153470210",null,"Entretien et aménagement du jardin","Bâches, housses, filets et films de jardinage","Polystyrène >90%","Compris entre 0,5 kg et 1 kg exclus","€/unité",0.12,0.12,{"$f":"VLOOKUP(J3605,'Codes éco-part'!$C:$E,3,FALSE)","v":"097"},0.14399999999999999]
["REP ABJ",4,"22153470220",null,"Entretien et aménagement du jardin","Bâches, housses, filets et films de jardinage","Polystyrène >90%","Compris entre 1 kg et 2 kg exclus","€/unité",0.25,0.25,{"$f":"VLOOKUP(J3606,'Codes éco-part'!$C:$E,3,FALSE)","v":"095"},0.3]
["REP ABJ",4,"22153470520",null,"Entretien et aménagement du jardin","Bâches, housses, filets et films de jardinage","Polystyrène >90%","Compris entre 2 kg et 3 kg exclus","€/unité",0.41,0.41,{"$f":"VLOOKUP(J3607,'Codes éco-part'!$C:$E,3,FALSE)","v":"503"},0.49199999999999994]
["REP ABJ",4,"22153470530",null,"Entretien et aménagement du jardin","Bâches, housses, filets et films de jardinage","Polystyrène >90%","Compris entre 3 kg et 5 kg exclus","€/unité",0.66,0.66,{"$f":"VLOOKUP(J3608,'Codes éco-part'!$C:$E,3,FALSE)","v":"453"},0.79200000000000004]
["REP ABJ",4,"22153470540",null,"Entretien et aménagement du jardin","Bâches, housses, filets et films de jardinage","Polystyrène >90%","Compris entre 5 kg et 7 kg exclus","€/unité",1.1599999999999999,1.1599999999999999,{"$f":"VLOOKUP(J3609,'Codes éco-part'!$C:$E,3,FALSE)","v":"504"},{"$f":"J3609*1.2","v":1.3919999999999999}]
["REP ABJ",4,"22153480000",null,"Entretien et aménagement du jardin","Bâches, housses, filets et films de jardinage","PVC >90%","Eléments de toutes dimensions et poids","€ / Tonne",165,165,{"$f":"VLOOKUP(J3610,'Codes éco-part'!$C:$E,3,FALSE)","v":"496"},198]
["REP ABJ",4,"22153480200",null,"Entretien et aménagement du jardin","Bâches, housses, filets et films de jardinage","PVC >90%","Inférieur strictement à 0,5 kg","€/unité",0.04,0.04,{"$f":"VLOOKUP(J3611,'Codes éco-part'!$C:$E,3,FALSE)","v":"002"},4.8000000000000001E-2]
["REP ABJ",4,"22153480210",null,"Entretien et aménagement du jardin","Bâches, housses, filets et films de jardinage","PVC >90%","Compris entre 0,5 kg et 1 kg exclus","€/unité",0.12,0.12,{"$f":"VLOOKUP(J3612,'Codes éco-part'!$C:$E,3,FALSE)","v":"097"},0.14399999999999999]
["REP ABJ",4,"22153480220",null,"Entretien et aménagement du jardin","Bâches, housses, filets et films de jardinage","PVC >90%","Compris entre 1 kg et 2 kg exclus","€/unité",0.25,0.25,{"$f":"VLOOKUP(J3613,'Codes éco-part'!$C:$E,3,FALSE)","v":"095"},0.3]
["REP ABJ",4,"22153480520",null,"Entretien et aménagement du jardin","Bâches, housses, filets et films de jardinage","PVC >90%","Compris entre 2 kg et 3 kg exclus","€/unité",0.41,0.41,{"$f":"VLOOKUP(J3614,'Codes éco-part'!$C:$E,3,FALSE)","v":"503"},0.49199999999999994]
["REP ABJ",4,"22153480530",null,"Entretien et aménagement du jardin","Bâches, housses, filets et films de jardinage","PVC >90%","Compris entre 3 kg et 5 kg exclus","€/unité",0.66,0.66,{"$f":"VLOOKUP(J3615,'Codes éco-part'!$C:$E,3,FALSE)","v":"453"},0.79200000000000004]
["REP ABJ",4,"22153480540",null,"Entretien et aménagement du jardin","Bâches, housses, filets et films de jardinage","PVC >90%","Compris entre 5 kg et 7 kg exclus","€/unité",1.1599999999999999,1.1599999999999999,{"$f":"VLOOKUP(J3616,'Codes éco-part'!$C:$E,3,FALSE)","v":"504"},1.3919999999999999]
["REP ABJ",4,"22153490000",null,"Entretien et aménagement du jardin","Bâches, housses, filets et films de jardinage","Caoutchouc synthétique >90%","Eléments de toutes dimensions et poids","€ / Tonne",165,165,{"$f":"VLOOKUP(J3617,'Codes éco-part'!$C:$E,3,FALSE)","v":"496"},198]
["REP ABJ",4,"22153490200",null,"Entretien et aménagement du jardin","Bâches, housses, filets et films de jardinage","Caoutchouc synthétique >90%","Inférieur strictement à 0,5 kg","€/unité",0.04,0.04,{"$f":"VLOOKUP(J3618,'Codes éco-part'!$C:$E,3,FALSE)","v":"002"},4.8000000000000001E-2]
["REP ABJ",4,"22153490210",null,"Entretien et aménagement du jardin","Bâches, housses, filets et films de jardinage","Caoutchouc synthétique >90%","Compris entre 0,5 kg et 1 kg exclus","€/unité",0.12,0.12,{"$f":"VLOOKUP(J3619,'Codes éco-part'!$C:$E,3,FALSE)","v":"097"},0.14399999999999999]
["REP ABJ",4,"22153490220",null,"Entretien et aménagement du jardin","Bâches, housses, filets et films de jardinage","Caoutchouc synthétique >90%","Compris entre 1 kg et 2 kg exclus","€/unité",0.25,0.25,{"$f":"VLOOKUP(J3620,'Codes éco-part'!$C:$E,3,FALSE)","v":"095"},0.3]
["REP ABJ",4,"22153490520",null,"Entretien et aménagement du jardin","Bâches, housses, filets et films de jardinage","Caoutchouc synthétique >90%","Compris entre 2 kg et 3 kg exclus","€/unité",0.41,0.41,{"$f":"VLOOKUP(J3621,'Codes éco-part'!$C:$E,3,FALSE)","v":"503"},0.49199999999999994]
["REP ABJ",4,"22153490530",null,"Entretien et aménagement du jardin","Bâches, housses, filets et films de jardinage","Caoutchouc synthétique >90%","Compris entre 3 kg et 5 kg exclus","€/unité",0.66,0.66,{"$f":"VLOOKUP(J3622,'Codes éco-part'!$C:$E,3,FALSE)","v":"453"},0.79200000000000004]
["REP ABJ",4,"22153490540",null,"Entretien et aménagement du jardin","Bâches, housses, filets et films de jardinage","Caoutchouc synthétique >90%","Compris entre 5 kg et 7 kg exclus","€/unité",1.1599999999999999,1.1599999999999999,{"$f":"VLOOKUP(J3623,'Codes éco-part'!$C:$E,3,FALSE)","v":"504"},1.3919999999999999]
["REP ABJ",4,"22153550000",null,"Entretien et aménagement du jardin","Bâches, housses, filets et films de jardinage","Matériaux bio sourcés ou textiles non synthétiques >90%","Eléments de toutes dimensions et poids","€ / Tonne",50,50,{"$f":"VLOOKUP(J3624,'Codes éco-part'!$C:$E,3,FALSE)","v":"173"},60]
["REP ABJ",4,"22153550200",null,"Entretien et aménagement du jardin","Bâches, housses, filets et films de jardinage","Matériaux bio sourcés ou textiles non synthétiques >90%","Inférieur strictement à 0,5 kg","€/unité",0.01,0.01,{"$f":"VLOOKUP(J3625,'Codes éco-part'!$C:$E,3,FALSE)","v":"260"},1.2E-2]
["REP ABJ",4,"22153550210",null,"Entretien et aménagement du jardin","Bâches, housses, filets et films de jardinage","Matériaux bio sourcés ou textiles non synthétiques >90%","Compris entre 0,5 kg et 1 kg exclus","€/unité",0.04,0.04,{"$f":"VLOOKUP(J3626,'Codes éco-part'!$C:$E,3,FALSE)","v":"002"},4.8000000000000001E-2]
["REP ABJ",4,"22153550220",null,"Entretien et aménagement du jardin","Bâches, housses, filets et films de jardinage","Matériaux bio sourcés ou textiles non synthétiques >90%","Compris entre 1 kg et 2 kg exclus","€/unité",0.08,0.08,{"$f":"VLOOKUP(J3627,'Codes éco-part'!$C:$E,3,FALSE)","v":"003"},9.6000000000000002E-2]
["REP ABJ",4,"22153550520",null,"Entretien et aménagement du jardin","Bâches, housses, filets et films de jardinage","Matériaux bio sourcés ou textiles non synthétiques >90%","Compris entre 2 kg et 3 kg exclus","€/unité",0.13,0.13,{"$f":"VLOOKUP(J3628,'Codes éco-part'!$C:$E,3,FALSE)","v":"004"},0.156]
["REP ABJ",4,"22153550530",null,"Entretien et aménagement du jardin","Bâches, housses, filets et films de jardinage","Matériaux bio sourcés ou textiles non synthétiques >90%","Compris entre 3 kg et 5 kg exclus","€/unité",0.2,0.2,{"$f":"VLOOKUP(J3629,'Codes éco-part'!$C:$E,3,FALSE)","v":"101"},0.24]
["REP ABJ",4,"22153550540",null,"Entretien et aménagement du jardin","Bâches, housses, filets et films de jardinage","Matériaux bio sourcés ou textiles non synthétiques >90%","Compris entre 5 kg et 7 kg exclus","€/unité",0.35,0.35,{"$f":"VLOOKUP(J3630,'Codes éco-part'!$C:$E,3,FALSE)","v":"448"},0.42]
["REP ABJ",4,"22153630000",null,"Entretien et aménagement du jardin","Bâches, housses, filets et films de jardinage","Caoutchouc naturel >90%","Eléments de toutes dimensions et poids","€ / Tonne",50,50,{"$f":"VLOOKUP(J3631,'Codes éco-part'!$C:$E,3,FALSE)","v":"173"},60]
["REP ABJ",4,"22153630200",null,"Entretien et aménagement du jardin","Bâches, housses, filets et films de jardinage","Caoutchouc naturel >90%","Inférieur strictement à 0,5 kg","€/unité",0.01,0.01,{"$f":"VLOOKUP(J3632,'Codes éco-part'!$C:$E,3,FALSE)","v":"260"},1.2E-2]
["REP ABJ",4,"22153630210",null,"Entretien et aménagement du jardin","Bâches, housses, filets et films de jardinage","Caoutchouc naturel >90%","Compris entre 0,5 kg et 1 kg exclus","€/unité",0.04,0.04,{"$f":"VLOOKUP(J3633,'Codes éco-part'!$C:$E,3,FALSE)","v":"002"},4.8000000000000001E-2]
["REP ABJ",4,"22153630220",null,"Entretien et aménagement du jardin","Bâches, housses, filets et films de jardinage","Caoutchouc naturel >90%","Compris entre 1 kg et 2 kg exclus","€/unité",0.08,0.08,{"$f":"VLOOKUP(J3634,'Codes éco-part'!$C:$E,3,FALSE)","v":"003"},9.6000000000000002E-2]
["REP ABJ",4,"22153630520",null,"Entretien et aménagement du jardin","Bâches, housses, filets et films de jardinage","Caoutchouc naturel >90%","Compris entre 2 kg et 3 kg exclus","€/unité",0.13,0.13,{"$f":"VLOOKUP(J3635,'Codes éco-part'!$C:$E,3,FALSE)","v":"004"},0.156]
["REP ABJ",4,"22153630530",null,"Entretien et aménagement du jardin","Bâches, housses, filets et films de jardinage","Caoutchouc naturel >90%","Compris entre 3 kg et 5 kg exclus","€/unité",0.2,0.2,{"$f":"VLOOKUP(J3636,'Codes éco-part'!$C:$E,3,FALSE)","v":"101"},0.24]
["REP ABJ",4,"22153630540",null,"Entretien et aménagement du jardin","Bâches, housses, filets et films de jardinage","Caoutchouc naturel >90%","Compris entre 5 kg et 7 kg exclus","€/unité",0.35,0.35,{"$f":"VLOOKUP(J3637,'Codes éco-part'!$C:$E,3,FALSE)","v":"448"},0.42]
["REP ABJ",4,"22153640000",null,"Entretien et aménagement du jardin","Bâches, housses, filets et films de jardinage","Caoutchouc naturel >50%","Eléments de toutes dimensions et poids","€ / Tonne",215,215,{"$f":"VLOOKUP(J3638,'Codes éco-part'!$C:$E,3,FALSE)","v":"498"},258]
["REP ABJ",4,"22153640200",null,"Entretien et aménagement du jardin","Bâches, housses, filets et films de jardinage","Caoutchouc naturel >50%","Inférieur strictement à 0,5 kg","€/unité",0.05,0.05,{"$f":"VLOOKUP(J3639,'Codes éco-part'!$C:$E,3,FALSE)","v":"048"},0.06]
["REP ABJ",4,"22153640210",null,"Entretien et aménagement du jardin","Bâches, housses, filets et films de jardinage","Caoutchouc naturel >50%","Compris entre 0,5 kg et 1 kg exclus","€/unité",0.16,0.16,{"$f":"VLOOKUP(J3640,'Codes éco-part'!$C:$E,3,FALSE)","v":"099"},0.192]
["REP ABJ",4,"22153640220",null,"Entretien et aménagement du jardin","Bâches, housses, filets et films de jardinage","Caoutchouc naturel >50%","Compris entre 1 kg et 2 kg exclus","€/unité",0.32,0.32,{"$f":"VLOOKUP(J3641,'Codes éco-part'!$C:$E,3,FALSE)","v":"447"},0.38400000000000001]
["REP ABJ",4,"22153640520",null,"Entretien et aménagement du jardin","Bâches, housses, filets et films de jardinage","Caoutchouc naturel >50%","Compris entre 2 kg et 3 kg exclus","€/unité",0.54,0.54,{"$f":"VLOOKUP(J3642,'Codes éco-part'!$C:$E,3,FALSE)","v":"500"},0.64800000000000002]
["REP ABJ",4,"22153640530",null,"Entretien et aménagement du jardin","Bâches, housses, filets et films de jardinage","Caoutchouc naturel >50%","Compris entre 3 kg et 5 kg exclus","€/unité",0.86,0.86,{"$f":"VLOOKUP(J3643,'Codes éco-part'!$C:$E,3,FALSE)","v":"501"},1.032]
["REP ABJ",4,"22153640540",null,"Entretien et aménagement du jardin","Bâches, housses, filets et films de jardinage","Caoutchouc naturel >50%","Compris entre 5 kg et 7 kg exclus","€/unité",1.51,1.51,{"$f":"VLOOKUP(J3644,'Codes éco-part'!$C:$E,3,FALSE)","v":"502"},1.8119999999999998]
["REP ABJ",4,"22153650000",null,"Entretien et aménagement du jardin","Bâches, housses, filets et films de jardinage","Matériaux ou fibres synthétiques >90%","Eléments de toutes dimensions et poids","€ / Tonne",165,165,{"$f":"VLOOKUP(J3645,'Codes éco-part'!$C:$E,3,FALSE)","v":"496"},198]
["REP ABJ",4,"22153650200",null,"Entretien et aménagement du jardin","Bâches, housses, filets et films de jardinage","Matériaux ou fibres synthétiques >90%","Inférieur strictement à 0,5 kg","€/unité",0.04,0.04,{"$f":"VLOOKUP(J3646,'Codes éco-part'!$C:$E,3,FALSE)","v":"002"},4.8000000000000001E-2]
["REP ABJ",4,"22153650210",null,"Entretien et aménagement du jardin","Bâches, housses, filets et films de jardinage","Matériaux ou fibres synthétiques >90%","Compris entre 0,5 kg et 1 kg exclus","€/unité",0.12,0.12,{"$f":"VLOOKUP(J3647,'Codes éco-part'!$C:$E,3,FALSE)","v":"097"},0.14399999999999999]
["REP ABJ",4,"22153650220",null,"Entretien et aménagement du jardin","Bâches, housses, filets et films de jardinage","Matériaux ou fibres synthétiques >90%","Compris entre 1 kg et 2 kg exclus","€/unité",0.25,0.25,{"$f":"VLOOKUP(J3648,'Codes éco-part'!$C:$E,3,FALSE)","v":"095"},0.3]
["REP ABJ",4,"22153650520",null,"Entretien et aménagement du jardin","Bâches, housses, filets et films de jardinage","Matériaux ou fibres synthétiques >90%","Compris entre 2 kg et 3 kg exclus","€/unité",0.41,0.41,{"$f":"VLOOKUP(J3649,'Codes éco-part'!$C:$E,3,FALSE)","v":"503"},0.49199999999999994]
["REP ABJ",4,"22153650530",null,"Entretien et aménagement du jardin","Bâches, housses, filets et films de jardinage","Matériaux ou fibres synthétiques >90%","Compris entre 3 kg et 5 kg exclus","€/unité",0.66,0.66,{"$f":"VLOOKUP(J3650,'Codes éco-part'!$C:$E,3,FALSE)","v":"453"},0.79200000000000004]
["REP ABJ",4,"22153650540",null,"Entretien et aménagement du jardin","Bâches, housses, filets et films de jardinage","Matériaux ou fibres synthétiques >90%","Compris entre 5 kg et 7 kg exclus","€/unité",1.1599999999999999,1.1599999999999999,{"$f":"VLOOKUP(J3651,'Codes éco-part'!$C:$E,3,FALSE)","v":"504"},1.3919999999999999]
["REP ABJ",4,"22153670000",null,"Entretien et aménagement du jardin","Bâches, housses, filets et films de jardinage","Assemblage matériaux ou fibres synthétiques >50% avec d'autres matériaux","Eléments de toutes dimensions et poids","€ / Tonne",215,215,{"$f":"VLOOKUP(J3652,'Codes éco-part'!$C:$E,3,FALSE)","v":"498"},258]
["REP ABJ",4,"22153670200",null,"Entretien et aménagement du jardin","Bâches, housses, filets et films de jardinage","Assemblage matériaux ou fibres synthétiques >50% avec d'autres matériaux","Inférieur strictement à 0,5 kg","€/unité",0.05,0.05,{"$f":"VLOOKUP(J3653,'Codes éco-part'!$C:$E,3,FALSE)","v":"048"},0.06]
["REP ABJ",4,"22153670210",null,"Entretien et aménagement du jardin","Bâches, housses, filets et films de jardinage","Assemblage matériaux ou fibres synthétiques >50% avec d'autres matériaux","Compris entre 0,5 kg et 1 kg exclus","€/unité",0.16,0.16,{"$f":"VLOOKUP(J3654,'Codes éco-part'!$C:$E,3,FALSE)","v":"099"},0.192]
["REP ABJ",4,"22153670220",null,"Entretien et aménagement du jardin","Bâches, housses, filets et films de jardinage","Assemblage matériaux ou fibres synthétiques >50% avec d'autres matériaux","Compris entre 1 kg et 2 kg exclus","€/unité",0.32,0.32,{"$f":"VLOOKUP(J3655,'Codes éco-part'!$C:$E,3,FALSE)","v":"447"},0.38400000000000001]
["REP ABJ",4,"22153670520",null,"Entretien et aménagement du jardin","Bâches, housses, filets et films de jardinage","Assemblage matériaux ou fibres synthétiques >50% avec d'autres matériaux","Compris entre 2 kg et 3 kg exclus","€/unité",0.54,0.54,{"$f":"VLOOKUP(J3656,'Codes éco-part'!$C:$E,3,FALSE)","v":"500"},0.64800000000000002]
["REP ABJ",4,"22153670530",null,"Entretien et aménagement du jardin","Bâches, housses, filets et films de jardinage","Assemblage matériaux ou fibres synthétiques >50% avec d'autres matériaux","Compris entre 3 kg et 5 kg exclus","€/unité",0.86,0.86,{"$f":"VLOOKUP(J3657,'Codes éco-part'!$C:$E,3,FALSE)","v":"501"},1.032]
["REP ABJ",4,"22153670540",null,"Entretien et aménagement du jardin","Bâches, housses, filets et films de jardinage","Assemblage matériaux ou fibres synthétiques >50% avec d'autres matériaux","Compris entre 5 kg et 7 kg exclus","€/unité",1.51,1.51,{"$f":"VLOOKUP(J3658,'Codes éco-part'!$C:$E,3,FALSE)","v":"502"},1.8119999999999998]
["REP ABJ",4,"22153820000",null,"Entretien et aménagement du jardin","Bâches, housses, filets et films de jardinage","Assemblage de 3 matériaux ou plus sans un matériau à plus de 50%","Eléments de toutes dimensions et poids","€ / Tonne",215,215,{"$f":"VLOOKUP(J3659,'Codes éco-part'!$C:$E,3,FALSE)","v":"498"},258]
["REP ABJ",4,"22153820200",null,"Entretien et aménagement du jardin","Bâches, housses, filets et films de jardinage","Assemblage de 3 matériaux ou plus sans un matériau à plus de 50%","Inférieur strictement à 0,5 kg","€/unité",0.05,0.05,{"$f":"VLOOKUP(J3660,'Codes éco-part'!$C:$E,3,FALSE)","v":"048"},0.06]
["REP ABJ",4,"22153820210",null,"Entretien et aménagement du jardin","Bâches, housses, filets et films de jardinage","Assemblage de 3 matériaux ou plus sans un matériau à plus de 50%","Compris entre 0,5 kg et 1 kg exclus","€/unité",0.16,0.16,{"$f":"VLOOKUP(J3661,'Codes éco-part'!$C:$E,3,FALSE)","v":"099"},0.192]
["REP ABJ",4,"22153820220",null,"Entretien et aménagement du jardin","Bâches, housses, filets et films de jardinage","Assemblage de 3 matériaux ou plus sans un matériau à plus de 50%","Compris entre 1 kg et 2 kg exclus","€/unité",0.32,0.32,{"$f":"VLOOKUP(J3662,'Codes éco-part'!$C:$E,3,FALSE)","v":"447"},0.38400000000000001]
["REP ABJ",4,"22153820520",null,"Entretien et aménagement du jardin","Bâches, housses, filets et films de jardinage","Assemblage de 3 matériaux ou plus sans un matériau à plus de 50%","Compris entre 2 kg et 3 kg exclus","€/unité",0.54,0.54,{"$f":"VLOOKUP(J3663,'Codes éco-part'!$C:$E,3,FALSE)","v":"500"},0.64800000000000002]
["REP ABJ",4,"22153820530",null,"Entretien et aménagement du jardin","Bâches, housses, filets et films de jardinage","Assemblage de 3 matériaux ou plus sans un matériau à plus de 50%","Compris entre 3 kg et 5 kg exclus","€/unité",0.86,0.86,{"$f":"VLOOKUP(J3664,'Codes éco-part'!$C:$E,3,FALSE)","v":"501"},1.032]
["REP ABJ",4,"22153820540",null,"Entretien et aménagement du jardin","Bâches, housses, filets et films de jardinage","Assemblage de 3 matériaux ou plus sans un matériau à plus de 50%","Compris entre 5 kg et 7 kg exclus","€/unité",1.51,1.51,{"$f":"VLOOKUP(J3665,'Codes éco-part'!$C:$E,3,FALSE)","v":"502"},1.8119999999999998]
["REP ABJ",4,"22154000000",null,"Entretien et aménagement du jardin","Equipements de plein air et leurs accessoires (hors bâches, filets, housses)","Non connu ou non spécifié par l'entreprise","Eléments de toutes dimensions et poids","€ / Tonne",75,75,{"$f":"VLOOKUP(J3666,'Codes éco-part'!$C:$E,3,FALSE)","v":"192"},90]
["REP ABJ",4,"22154000200",null,"Entretien et aménagement du jardin","Equipements de plein air et leurs accessoires (hors bâches, filets, housses)","Non connu ou non spécifié par l'entreprise","Inférieur strictement à 0,5 kg","€/unité",0.02,0.02,{"$f":"VLOOKUP(J3667,'Codes éco-part'!$C:$E,3,FALSE)","v":"047"},2.4E-2]
["REP ABJ",4,"22154000210",null,"Entretien et aménagement du jardin","Equipements de plein air et leurs accessoires (hors bâches, filets, housses)","Non connu ou non spécifié par l'entreprise","Compris entre 0,5 kg et 1 kg exclus","€/unité",0.06,0.06,{"$f":"VLOOKUP(J3668,'Codes éco-part'!$C:$E,3,FALSE)","v":"096"},7.1999999999999995E-2]
["REP ABJ",4,"22154000220",null,"Entretien et aménagement du jardin","Equipements de plein air et leurs accessoires (hors bâches, filets, housses)","Non connu ou non spécifié par l'entreprise","Compris entre 1 kg et 2 kg exclus","€/unité",0.11,0.11,{"$f":"VLOOKUP(J3669,'Codes éco-part'!$C:$E,3,FALSE)","v":"262"},0.13200000000000001]
["REP ABJ",4,"22154000270",null,"Entretien et aménagement du jardin","Equipements de plein air et leurs accessoires (hors bâches, filets, housses)","Non connu ou non spécifié par l'entreprise","Compris entre 30 kg et 40 kg exclus","€/unité",3,3,{"$f":"VLOOKUP(J3670,'Codes éco-part'!$C:$E,3,FALSE)","v":"474"},3.5999999999999996]
["REP ABJ",4,"22154000520",null,"Entretien et aménagement du jardin","Equipements de plein air et leurs accessoires (hors bâches, filets, housses)","Non connu ou non spécifié par l'entreprise","Compris entre 2 kg et 3 kg exclus","€/unité",0.19,0.19,{"$f":"VLOOKUP(J3671,'Codes éco-part'!$C:$E,3,FALSE)","v":"291"},0.22799999999999998]
["REP ABJ",4,"22154000530",null,"Entretien et aménagement du jardin","Equipements de plein air et leurs accessoires (hors bâches, filets, housses)","Non connu ou non spécifié par l'entreprise","Compris entre 3 kg et 5 kg exclus","€/unité",0.3,0.3,{"$f":"VLOOKUP(J3672,'Codes éco-part'!$C:$E,3,FALSE)","v":"446"},0.36]
["REP ABJ",4,"22154000540",null,"Entretien et aménagement du jardin","Equipements de plein air et leurs accessoires (hors bâches, filets, housses)","Non connu ou non spécifié par l'entreprise","Compris entre 5 kg et 7 kg exclus","€/unité",0.53,0.53,{"$f":"VLOOKUP(J3673,'Codes éco-part'!$C:$E,3,FALSE)","v":"451"},{"$f":"J3673*1.2","v":0.63600000000000001}]
["REP ABJ",4,"22154000550",null,"Entretien et aménagement du jardin","Equipements de plein air et leurs accessoires (hors bâches, filets, housses)","Non connu ou non spécifié par l'entreprise","Compris entre 7 kg et 10 kg exclus","€/unité",0.75,0.75,{"$f":"VLOOKUP(J3674,'Codes éco-part'!$C:$E,3,FALSE)","v":"328"},0.89999999999999991]
["REP ABJ",4,"22154000560",null,"Entretien et aménagement du jardin","Equipements de plein air et leurs accessoires (hors bâches, filets, housses)","Non connu ou non spécifié par l'entreprise","Compris entre 10 kg et 15 kg exclus","€/unité",1.1299999999999999,1.1299999999999999,{"$f":"VLOOKUP(J3675,'Codes éco-part'!$C:$E,3,FALSE)","v":"331"},1.3559999999999999]
["REP ABJ",4,"22154000570",null,"Entretien et aménagement du jardin","Equipements de plein air et leurs accessoires (hors bâches, filets, housses)","Non connu ou non spécifié par l'entreprise","Compris entre 15 kg et 20 kg exclus","€/unité",1.5,1.5,{"$f":"VLOOKUP(J3676,'Codes éco-part'!$C:$E,3,FALSE)","v":"059"},1.7999999999999998]
["REP ABJ",4,"22154000580",null,"Entretien et aménagement du jardin","Equipements de plein air et leurs accessoires (hors bâches, filets, housses)","Non connu ou non spécifié par l'entreprise","Compris entre 20 kg et 25 kg exclus","€/unité",1.88,1.88,{"$f":"VLOOKUP(J3677,'Codes éco-part'!$C:$E,3,FALSE)","v":"335"},2.2559999999999998]
["REP ABJ",4,"22154000590",null,"Entretien et aménagement du jardin","Equipements de plein air et leurs accessoires (hors bâches, filets, housses)","Non connu ou non spécifié par l'entreprise","Compris entre 25 kg et 30 kg exclus","€/unité",2.25,2.25,{"$f":"VLOOKUP(J3678,'Codes éco-part'!$C:$E,3,FALSE)","v":"118"},2.6999999999999997]
["REP ABJ",4,"22154000600",null,"Entretien et aménagement du jardin","Equipements de plein air et leurs accessoires (hors bâches, filets, housses)","Non connu ou non spécifié par l'entreprise","Compris entre 40 kg et 50 kg exclus","€/unité",3.75,3.75,{"$f":"VLOOKUP(J3679,'Codes éco-part'!$C:$E,3,FALSE)","v":"015"},4.5]
["REP ABJ",4,"22154000900",null,"Entretien et aménagement du jardin","Equipements de plein air et leurs accessoires (hors bâches, filets, housses)","Non connu ou non spécifié par l'entreprise","Lot de 10","€/Lot",30,30,{"$f":"VLOOKUP(J3680,'Codes éco-part'!$C:$E,3,FALSE)","v":"153"},36]
["REP ABJ",4,"22154010000",null,"Entretien et aménagement du jardin","Equipements de plein air et leurs accessoires (hors bâches, filets, housses)","Assemblage de bois, dérivés de bois à plus de 50% avec d'autres matériaux ou bois composite (hors verre)","Eléments de toutes dimensions et poids","€ / Tonne",10,10,{"$f":"VLOOKUP(J3681,'Codes éco-part'!$C:$E,3,FALSE)","v":"138"},12]
["REP ABJ",4,"22154010200",null,"Entretien et aménagement du jardin","Equipements de plein air et leurs accessoires (hors bâches, filets, housses)","Assemblage de bois, dérivés de bois à plus de 50% avec d'autres matériaux ou bois composite (hors verre)","Inférieur strictement à 0,5 kg","€/unité",0.01,0.01,{"$f":"VLOOKUP(J3682,'Codes éco-part'!$C:$E,3,FALSE)","v":"260"},1.2E-2]
["REP ABJ",4,"22154010210",null,"Entretien et aménagement du jardin","Equipements de plein air et leurs accessoires (hors bâches, filets, housses)","Assemblage de bois, dérivés de bois à plus de 50% avec d'autres matériaux ou bois composite (hors verre)","Compris entre 0,5 kg et 1 kg exclus","€/unité",0.01,0.01,{"$f":"VLOOKUP(J3683,'Codes éco-part'!$C:$E,3,FALSE)","v":"260"},1.2E-2]
["REP ABJ",4,"22154010220",null,"Entretien et aménagement du jardin","Equipements de plein air et leurs accessoires (hors bâches, filets, housses)","Assemblage de bois, dérivés de bois à plus de 50% avec d'autres matériaux ou bois composite (hors verre)","Compris entre 1 kg et 2 kg exclus","€/unité",0.02,0.02,{"$f":"VLOOKUP(J3684,'Codes éco-part'!$C:$E,3,FALSE)","v":"047"},2.4E-2]
["REP ABJ",4,"22154010270",null,"Entretien et aménagement du jardin","Equipements de plein air et leurs accessoires (hors bâches, filets, housses)","Assemblage de bois, dérivés de bois à plus de 50% avec d'autres matériaux ou bois composite (hors verre)","Compris entre 30 kg et 40 kg exclus","€/unité",0.4,0.4,{"$f":"VLOOKUP(J3685,'Codes éco-part'!$C:$E,3,FALSE)","v":"105"},0.48]
["REP ABJ",4,"22154010520",null,"Entretien et aménagement du jardin","Equipements de plein air et leurs accessoires (hors bâches, filets, housses)","Assemblage de bois, dérivés de bois à plus de 50% avec d'autres matériaux ou bois composite (hors verre)","Compris entre 2 kg et 3 kg exclus","€/unité",0.03,0.03,{"$f":"VLOOKUP(J3686,'Codes éco-part'!$C:$E,3,FALSE)","v":"092"},3.5999999999999997E-2]
["REP ABJ",4,"22154010530",null,"Entretien et aménagement du jardin","Equipements de plein air et leurs accessoires (hors bâches, filets, housses)","Assemblage de bois, dérivés de bois à plus de 50% avec d'autres matériaux ou bois composite (hors verre)","Compris entre 3 kg et 5 kg exclus","€/unité",0.04,0.04,{"$f":"VLOOKUP(J3687,'Codes éco-part'!$C:$E,3,FALSE)","v":"002"},4.8000000000000001E-2]
["REP ABJ",4,"22154010540",null,"Entretien et aménagement du jardin","Equipements de plein air et leurs accessoires (hors bâches, filets, housses)","Assemblage de bois, dérivés de bois à plus de 50% avec d'autres matériaux ou bois composite (hors verre)","Compris entre 5 kg et 7 kg exclus","€/unité",7.0000000000000007E-2,7.0000000000000007E-2,{"$f":"VLOOKUP(J3688,'Codes éco-part'!$C:$E,3,FALSE)","v":"247"},8.4000000000000005E-2]
["REP ABJ",4,"22154010550",null,"Entretien et aménagement du jardin","Equipements de plein air et leurs accessoires (hors bâches, filets, housses)","Assemblage de bois, dérivés de bois à plus de 50% avec d'autres matériaux ou bois composite (hors verre)","Compris entre 7 kg et 10 kg exclus","€/unité",0.1,0.1,{"$f":"VLOOKUP(J3689,'Codes éco-part'!$C:$E,3,FALSE)","v":"094"},0.12]
["REP ABJ",4,"22154010560",null,"Entretien et aménagement du jardin","Equipements de plein air et leurs accessoires (hors bâches, filets, housses)","Assemblage de bois, dérivés de bois à plus de 50% avec d'autres matériaux ou bois composite (hors verre)","Compris entre 10 kg et 15 kg exclus","€/unité",0.15,0.15,{"$f":"VLOOKUP(J3690,'Codes éco-part'!$C:$E,3,FALSE)","v":"050"},0.18]
["REP ABJ",4,"22154010570",null,"Entretien et aménagement du jardin","Equipements de plein air et leurs accessoires (hors bâches, filets, housses)","Assemblage de bois, dérivés de bois à plus de 50% avec d'autres matériaux ou bois composite (hors verre)","Compris entre 15 kg et 20 kg exclus","€/unité",0.2,0.2,{"$f":"VLOOKUP(J3691,'Codes éco-part'!$C:$E,3,FALSE)","v":"101"},0.24]
["REP ABJ",4,"22154010580",null,"Entretien et aménagement du jardin","Equipements de plein air et leurs accessoires (hors bâches, filets, housses)","Assemblage de bois, dérivés de bois à plus de 50% avec d'autres matériaux ou bois composite (hors verre)","Compris entre 20 kg et 25 kg exclus","€/unité",0.25,0.25,{"$f":"VLOOKUP(J3692,'Codes éco-part'!$C:$E,3,FALSE)","v":"095"},0.3]
["REP ABJ",4,"22154010590",null,"Entretien et aménagement du jardin","Equipements de plein air et leurs accessoires (hors bâches, filets, housses)","Assemblage de bois, dérivés de bois à plus de 50% avec d'autres matériaux ou bois composite (hors verre)","Compris entre 25 kg et 30 kg exclus","€/unité",0.3,0.3,{"$f":"VLOOKUP(J3693,'Codes éco-part'!$C:$E,3,FALSE)","v":"446"},0.36]
["REP ABJ",4,"22154010600",null,"Entretien et aménagement du jardin","Equipements de plein air et leurs accessoires (hors bâches, filets, housses)","Assemblage de bois, dérivés de bois à plus de 50% avec d'autres matériaux ou bois composite (hors verre)","Compris entre 40 kg et 50 kg exclus","€/unité",0.5,0.5,{"$f":"VLOOKUP(J3694,'Codes éco-part'!$C:$E,3,FALSE)","v":"053"},0.6]
["REP ABJ",4,"22154020000",null,"Entretien et aménagement du jardin","Equipements de plein air et leurs accessoires (hors bâches, filets, housses)","Assemblage avec métal >50% et autres matériaux","Eléments de toutes dimensions et poids","€ / Tonne",3,3,{"$f":"VLOOKUP(J3695,'Codes éco-part'!$C:$E,3,FALSE)","v":"474"},3.5999999999999996]
["REP ABJ",4,"22154020200",null,"Entretien et aménagement du jardin","Equipements de plein air et leurs accessoires (hors bâches, filets, housses)","Assemblage avec métal >50% et autres matériaux","Inférieur strictement à 0,5 kg","€/unité",0.01,0.01,{"$f":"VLOOKUP(J3696,'Codes éco-part'!$C:$E,3,FALSE)","v":"260"},1.2E-2]
["REP ABJ",4,"22154020210",null,"Entretien et aménagement du jardin","Equipements de plein air et leurs accessoires (hors bâches, filets, housses)","Assemblage avec métal >50% et autres matériaux","Compris entre 0,5 kg et 1 kg exclus","€/unité",0.01,0.01,{"$f":"VLOOKUP(J3697,'Codes éco-part'!$C:$E,3,FALSE)","v":"260"},1.2E-2]
["REP ABJ",4,"22154020220",null,"Entretien et aménagement du jardin","Equipements de plein air et leurs accessoires (hors bâches, filets, housses)","Assemblage avec métal >50% et autres matériaux","Compris entre 1 kg et 2 kg exclus","€/unité",0.01,0.01,{"$f":"VLOOKUP(J3698,'Codes éco-part'!$C:$E,3,FALSE)","v":"260"},1.2E-2]
["REP ABJ",4,"22154020270",null,"Entretien et aménagement du jardin","Equipements de plein air et leurs accessoires (hors bâches, filets, housses)","Assemblage avec métal >50% et autres matériaux","Compris entre 30 kg et 40 kg exclus","€/unité",0.12,0.12,{"$f":"VLOOKUP(J3699,'Codes éco-part'!$C:$E,3,FALSE)","v":"097"},0.14399999999999999]
["REP ABJ",4,"22154020520",null,"Entretien et aménagement du jardin","Equipements de plein air et leurs accessoires (hors bâches, filets, housses)","Assemblage avec métal >50% et autres matériaux","Compris entre 2 kg et 3 kg exclus","€/unité",0.01,0.01,{"$f":"VLOOKUP(J3700,'Codes éco-part'!$C:$E,3,FALSE)","v":"260"},1.2E-2]
["REP ABJ",4,"22154020530",null,"Entretien et aménagement du jardin","Equipements de plein air et leurs accessoires (hors bâches, filets, housses)","Assemblage avec métal >50% et autres matériaux","Compris entre 3 kg et 5 kg exclus","€/unité",0.01,0.01,{"$f":"VLOOKUP(J3701,'Codes éco-part'!$C:$E,3,FALSE)","v":"260"},1.2E-2]
["REP ABJ",4,"22154020540",null,"Entretien et aménagement du jardin","Equipements de plein air et leurs accessoires (hors bâches, filets, housses)","Assemblage avec métal >50% et autres matériaux","Compris entre 5 kg et 7 kg exclus","€/unité",0.02,0.02,{"$f":"VLOOKUP(J3702,'Codes éco-part'!$C:$E,3,FALSE)","v":"047"},2.4E-2]
["REP ABJ",4,"22154020550",null,"Entretien et aménagement du jardin","Equipements de plein air et leurs accessoires (hors bâches, filets, housses)","Assemblage avec métal >50% et autres matériaux","Compris entre 7 kg et 10 kg exclus","€/unité",0.03,0.03,{"$f":"VLOOKUP(J3703,'Codes éco-part'!$C:$E,3,FALSE)","v":"092"},3.5999999999999997E-2]
["REP ABJ",4,"22154020560",null,"Entretien et aménagement du jardin","Equipements de plein air et leurs accessoires (hors bâches, filets, housses)","Assemblage avec métal >50% et autres matériaux","Compris entre 10 kg et 15 kg exclus","€/unité",0.05,0.05,{"$f":"VLOOKUP(J3704,'Codes éco-part'!$C:$E,3,FALSE)","v":"048"},0.06]
["REP ABJ",4,"22154020570",null,"Entretien et aménagement du jardin","Equipements de plein air et leurs accessoires (hors bâches, filets, housses)","Assemblage avec métal >50% et autres matériaux","Compris entre 15 kg et 20 kg exclus","€/unité",0.06,0.06,{"$f":"VLOOKUP(J3705,'Codes éco-part'!$C:$E,3,FALSE)","v":"096"},7.1999999999999995E-2]
["REP ABJ",4,"22154020580",null,"Entretien et aménagement du jardin","Equipements de plein air et leurs accessoires (hors bâches, filets, housses)","Assemblage avec métal >50% et autres matériaux","Compris entre 20 kg et 25 kg exclus","€/unité",0.08,0.08,{"$f":"VLOOKUP(J3706,'Codes éco-part'!$C:$E,3,FALSE)","v":"003"},9.6000000000000002E-2]
["REP ABJ",4,"22154020590",null,"Entretien et aménagement du jardin","Equipements de plein air et leurs accessoires (hors bâches, filets, housses)","Assemblage avec métal >50% et autres matériaux","Compris entre 25 kg et 30 kg exclus","€/unité",0.09,0.09,{"$f":"VLOOKUP(J3707,'Codes éco-part'!$C:$E,3,FALSE)","v":"049"},0.108]
["REP ABJ",4,"22154020600",null,"Entretien et aménagement du jardin","Equipements de plein air et leurs accessoires (hors bâches, filets, housses)","Assemblage avec métal >50% et autres matériaux","Compris entre 40 kg et 50 kg exclus","€/unité",0.15,0.15,{"$f":"VLOOKUP(J3708,'Codes éco-part'!$C:$E,3,FALSE)","v":"050"},0.18]
["REP ABJ",4,"22154040000",null,"Entretien et aménagement du jardin","Equipements de plein air et leurs accessoires (hors bâches, filets, housses)","Matériaux bio sourcés ou textiles non synthétiques >50%","Eléments de toutes dimensions et poids","€ / Tonne",75,30,{"$f":"VLOOKUP(J3709,'Codes éco-part'!$C:$E,3,FALSE)","v":"192"},90]
["REP ABJ",4,"22154040200",null,"Entretien et aménagement du jardin","Equipements de plein air et leurs accessoires (hors bâches, filets, housses)","Matériaux bio sourcés ou textiles non synthétiques >50%","Inférieur strictement à 0,5 kg","€/unité",0.02,0.02,{"$f":"VLOOKUP(J3710,'Codes éco-part'!$C:$E,3,FALSE)","v":"047"},2.4E-2]
["REP ABJ",4,"22154040210",null,"Entretien et aménagement du jardin","Equipements de plein air et leurs accessoires (hors bâches, filets, housses)","Matériaux bio sourcés ou textiles non synthétiques >50%","Compris entre 0,5 kg et 1 kg exclus","€/unité",0.06,0.06,{"$f":"VLOOKUP(J3711,'Codes éco-part'!$C:$E,3,FALSE)","v":"096"},7.1999999999999995E-2]
["REP ABJ",4,"22154040220",null,"Entretien et aménagement du jardin","Equipements de plein air et leurs accessoires (hors bâches, filets, housses)","Matériaux bio sourcés ou textiles non synthétiques >50%","Compris entre 1 kg et 2 kg exclus","€/unité",0.11,0.11,{"$f":"VLOOKUP(J3712,'Codes éco-part'!$C:$E,3,FALSE)","v":"262"},0.13200000000000001]
["REP ABJ",4,"22154040270",null,"Entretien et aménagement du jardin","Equipements de plein air et leurs accessoires (hors bâches, filets, housses)","Matériaux bio sourcés ou textiles non synthétiques >50%","Compris entre 30 kg et 40 kg exclus","€/unité",3,3,{"$f":"VLOOKUP(J3713,'Codes éco-part'!$C:$E,3,FALSE)","v":"474"},3.5999999999999996]
["REP ABJ",4,"22154040520",null,"Entretien et aménagement du jardin","Equipements de plein air et leurs accessoires (hors bâches, filets, housses)","Matériaux bio sourcés ou textiles non synthétiques >50%","Compris entre 2 kg et 3 kg exclus","€/unité",0.19,0.19,{"$f":"VLOOKUP(J3714,'Codes éco-part'!$C:$E,3,FALSE)","v":"291"},0.22799999999999998]
["REP ABJ",4,"22154040530",null,"Entretien et aménagement du jardin","Equipements de plein air et leurs accessoires (hors bâches, filets, housses)","Matériaux bio sourcés ou textiles non synthétiques >50%","Compris entre 3 kg et 5 kg exclus","€/unité",0.3,0.3,{"$f":"VLOOKUP(J3715,'Codes éco-part'!$C:$E,3,FALSE)","v":"446"},0.36]
["REP ABJ",4,"22154040540",null,"Entretien et aménagement du jardin","Equipements de plein air et leurs accessoires (hors bâches, filets, housses)","Matériaux bio sourcés ou textiles non synthétiques >50%","Compris entre 5 kg et 7 kg exclus","€/unité",0.53,0.53,{"$f":"VLOOKUP(J3716,'Codes éco-part'!$C:$E,3,FALSE)","v":"451"},0.63600000000000001]
["REP ABJ",4,"22154040550",null,"Entretien et aménagement du jardin","Equipements de plein air et leurs accessoires (hors bâches, filets, housses)","Matériaux bio sourcés ou textiles non synthétiques >50%","Compris entre 7 kg et 10 kg exclus","€/unité",0.75,0.75,{"$f":"VLOOKUP(J3717,'Codes éco-part'!$C:$E,3,FALSE)","v":"328"},0.89999999999999991]
["REP ABJ",4,"22154040560",null,"Entretien et aménagement du jardin","Equipements de plein air et leurs accessoires (hors bâches, filets, housses)","Matériaux bio sourcés ou textiles non synthétiques >50%","Compris entre 10 kg et 15 kg exclus","€/unité",1.1299999999999999,1.1299999999999999,{"$f":"VLOOKUP(J3718,'Codes éco-part'!$C:$E,3,FALSE)","v":"331"},1.3559999999999999]
["REP ABJ",4,"22154040570",null,"Entretien et aménagement du jardin","Equipements de plein air et leurs accessoires (hors bâches, filets, housses)","Matériaux bio sourcés ou textiles non synthétiques >50%","Compris entre 15 kg et 20 kg exclus","€/unité",1.5,1.5,{"$f":"VLOOKUP(J3719,'Codes éco-part'!$C:$E,3,FALSE)","v":"059"},1.7999999999999998]
["REP ABJ",4,"22154040580",null,"Entretien et aménagement du jardin","Equipements de plein air et leurs accessoires (hors bâches, filets, housses)","Matériaux bio sourcés ou textiles non synthétiques >50%","Compris entre 20 kg et 25 kg exclus","€/unité",1.88,1.88,{"$f":"VLOOKUP(J3720,'Codes éco-part'!$C:$E,3,FALSE)","v":"335"},2.2559999999999998]
["REP ABJ",4,"22154040590",null,"Entretien et aménagement du jardin","Equipements de plein air et leurs accessoires (hors bâches, filets, housses)","Matériaux bio sourcés ou textiles non synthétiques >50%","Compris entre 25 kg et 30 kg exclus","€/unité",2.25,2.25,{"$f":"VLOOKUP(J3721,'Codes éco-part'!$C:$E,3,FALSE)","v":"118"},2.6999999999999997]
["REP ABJ",4,"22154040600",null,"Entretien et aménagement du jardin","Equipements de plein air et leurs accessoires (hors bâches, filets, housses)","Matériaux bio sourcés ou textiles non synthétiques >50%","Compris entre 40 kg et 50 kg exclus","€/unité",3.75,3.75,{"$f":"VLOOKUP(J3722,'Codes éco-part'!$C:$E,3,FALSE)","v":"015"},4.5]
["REP ABJ",4,"22154050000",null,"Entretien et aménagement du jardin","Equipements de plein air et leurs accessoires (hors bâches, filets, housses)","Plastiques ou autres matériaux synthétiques >50%","Eléments de toutes dimensions et poids","€ / Tonne",75,75,{"$f":"VLOOKUP(J3723,'Codes éco-part'!$C:$E,3,FALSE)","v":"192"},90]
["REP ABJ",4,"22154050200",null,"Entretien et aménagement du jardin","Equipements de plein air et leurs accessoires (hors bâches, filets, housses)","Plastiques ou autres matériaux synthétiques >50%","Inférieur strictement à 0,5 kg","€/unité",0.02,0.02,{"$f":"VLOOKUP(J3724,'Codes éco-part'!$C:$E,3,FALSE)","v":"047"},2.4E-2]
["REP ABJ",4,"22154050210",null,"Entretien et aménagement du jardin","Equipements de plein air et leurs accessoires (hors bâches, filets, housses)","Plastiques ou autres matériaux synthétiques >50%","Compris entre 0,5 kg et 1 kg exclus","€/unité",0.06,0.06,{"$f":"VLOOKUP(J3725,'Codes éco-part'!$C:$E,3,FALSE)","v":"096"},7.1999999999999995E-2]
["REP ABJ",4,"22154050220",null,"Entretien et aménagement du jardin","Equipements de plein air et leurs accessoires (hors bâches, filets, housses)","Plastiques ou autres matériaux synthétiques >50%","Compris entre 1 kg et 2 kg exclus","€/unité",0.11,0.11,{"$f":"VLOOKUP(J3726,'Codes éco-part'!$C:$E,3,FALSE)","v":"262"},0.13200000000000001]
["REP ABJ",4,"22154050270",null,"Entretien et aménagement du jardin","Equipements de plein air et leurs accessoires (hors bâches, filets, housses)","Plastiques ou autres matériaux synthétiques >50%","Compris entre 30 kg et 40 kg exclus","€/unité",3,3,{"$f":"VLOOKUP(J3727,'Codes éco-part'!$C:$E,3,FALSE)","v":"474"},3.5999999999999996]
["REP ABJ",4,"22154050520",null,"Entretien et aménagement du jardin","Equipements de plein air et leurs accessoires (hors bâches, filets, housses)","Plastiques ou autres matériaux synthétiques >50%","Compris entre 2 kg et 3 kg exclus","€/unité",0.19,0.19,{"$f":"VLOOKUP(J3728,'Codes éco-part'!$C:$E,3,FALSE)","v":"291"},0.22799999999999998]
["REP ABJ",4,"22154050530",null,"Entretien et aménagement du jardin","Equipements de plein air et leurs accessoires (hors bâches, filets, housses)","Plastiques ou autres matériaux synthétiques >50%","Compris entre 3 kg et 5 kg exclus","€/unité",0.3,0.3,{"$f":"VLOOKUP(J3729,'Codes éco-part'!$C:$E,3,FALSE)","v":"446"},0.36]
["REP ABJ",4,"22154050540",null,"Entretien et aménagement du jardin","Equipements de plein air et leurs accessoires (hors bâches, filets, housses)","Plastiques ou autres matériaux synthétiques >50%","Compris entre 5 kg et 7 kg exclus","€/unité",0.53,0.53,{"$f":"VLOOKUP(J3730,'Codes éco-part'!$C:$E,3,FALSE)","v":"451"},0.63600000000000001]
["REP ABJ",4,"22154050550",null,"Entretien et aménagement du jardin","Equipements de plein air et leurs accessoires (hors bâches, filets, housses)","Plastiques ou autres matériaux synthétiques >50%","Compris entre 7 kg et 10 kg exclus","€/unité",0.75,0.75,{"$f":"VLOOKUP(J3731,'Codes éco-part'!$C:$E,3,FALSE)","v":"328"},0.89999999999999991]
["REP ABJ",4,"22154050560",null,"Entretien et aménagement du jardin","Equipements de plein air et leurs accessoires (hors bâches, filets, housses)","Plastiques ou autres matériaux synthétiques >50%","Compris entre 10 kg et 15 kg exclus","€/unité",1.1299999999999999,1.1299999999999999,{"$f":"VLOOKUP(J3732,'Codes éco-part'!$C:$E,3,FALSE)","v":"331"},1.3559999999999999]
["REP ABJ",4,"22154050570",null,"Entretien et aménagement du jardin","Equipements de plein air et leurs accessoires (hors bâches, filets, housses)","Plastiques ou autres matériaux synthétiques >50%","Compris entre 15 kg et 20 kg exclus","€/unité",1.5,1.5,{"$f":"VLOOKUP(J3733,'Codes éco-part'!$C:$E,3,FALSE)","v":"059"},1.7999999999999998]
["REP ABJ",4,"22154050580",null,"Entretien et aménagement du jardin","Equipements de plein air et leurs accessoires (hors bâches, filets, housses)","Plastiques ou autres matériaux synthétiques >50%","Compris entre 20 kg et 25 kg exclus","€/unité",1.88,1.88,{"$f":"VLOOKUP(J3734,'Codes éco-part'!$C:$E,3,FALSE)","v":"335"},2.2559999999999998]
["REP ABJ",4,"22154050590",null,"Entretien et aménagement du jardin","Equipements de plein air et leurs accessoires (hors bâches, filets, housses)","Plastiques ou autres matériaux synthétiques >50%","Compris entre 25 kg et 30 kg exclus","€/unité",2.25,2.25,{"$f":"VLOOKUP(J3735,'Codes éco-part'!$C:$E,3,FALSE)","v":"118"},2.6999999999999997]
["REP ABJ",4,"22154050600",null,"Entretien et aménagement du jardin","Equipements de plein air et leurs accessoires (hors bâches, filets, housses)","Plastiques ou autres matériaux synthétiques >50%","Compris entre 40 kg et 50 kg exclus","€/unité",3.75,3.75,{"$f":"VLOOKUP(J3736,'Codes éco-part'!$C:$E,3,FALSE)","v":"015"},4.5]
["REP ABJ",4,"22154060000",null,"Entretien et aménagement du jardin","Equipements de plein air et leurs accessoires (hors bâches, filets, housses)","Matériaux d'origine animale >50%","Eléments de toutes dimensions et poids","€ / Tonne",30,30,{"$f":"VLOOKUP(J3737,'Codes éco-part'!$C:$E,3,FALSE)","v":"153"},{"$f":"J3737*1.2","v":36}]
["REP ABJ",4,"22154060200",null,"Entretien et aménagement du jardin","Equipements de plein air et leurs accessoires (hors bâches, filets, housses)","Matériaux d'origine animale >50%","Inférieur strictement à 0,5 kg","€/unité",0.02,0.02,{"$f":"VLOOKUP(J3738,'Codes éco-part'!$C:$E,3,FALSE)","v":"047"},2.4E-2]
["REP ABJ",4,"22154060210",null,"Entretien et aménagement du jardin","Equipements de plein air et leurs accessoires (hors bâches, filets, housses)","Matériaux d'origine animale >50%","Compris entre 0,5 kg et 1 kg exclus","€/unité",0.06,0.06,{"$f":"VLOOKUP(J3739,'Codes éco-part'!$C:$E,3,FALSE)","v":"096"},7.1999999999999995E-2]
["REP ABJ",4,"22154060220",null,"Entretien et aménagement du jardin","Equipements de plein air et leurs accessoires (hors bâches, filets, housses)","Matériaux d'origine animale >50%","Compris entre 1 kg et 2 kg exclus","€/unité",0.11,0.11,{"$f":"VLOOKUP(J3740,'Codes éco-part'!$C:$E,3,FALSE)","v":"262"},0.13200000000000001]
["REP ABJ",4,"22154060270",null,"Entretien et aménagement du jardin","Equipements de plein air et leurs accessoires (hors bâches, filets, housses)","Matériaux d'origine animale >50%","Compris entre 30 kg et 40 kg exclus","€/unité",3,3,{"$f":"VLOOKUP(J3741,'Codes éco-part'!$C:$E,3,FALSE)","v":"474"},3.5999999999999996]
["REP ABJ",4,"22154060520",null,"Entretien et aménagement du jardin","Equipements de plein air et leurs accessoires (hors bâches, filets, housses)","Matériaux d'origine animale >50%","Compris entre 2 kg et 3 kg exclus","€/unité",0.19,0.19,{"$f":"VLOOKUP(J3742,'Codes éco-part'!$C:$E,3,FALSE)","v":"291"},0.22799999999999998]
["REP ABJ",4,"22154060530",null,"Entretien et aménagement du jardin","Equipements de plein air et leurs accessoires (hors bâches, filets, housses)","Matériaux d'origine animale >50%","Compris entre 3 kg et 5 kg exclus","€/unité",0.3,0.3,{"$f":"VLOOKUP(J3743,'Codes éco-part'!$C:$E,3,FALSE)","v":"446"},0.36]
["REP ABJ",4,"22154060540",null,"Entretien et aménagement du jardin","Equipements de plein air et leurs accessoires (hors bâches, filets, housses)","Matériaux d'origine animale >50%","Compris entre 5 kg et 7 kg exclus","€/unité",0.53,0.53,{"$f":"VLOOKUP(J3744,'Codes éco-part'!$C:$E,3,FALSE)","v":"451"},0.63600000000000001]
["REP ABJ",4,"22154060550",null,"Entretien et aménagement du jardin","Equipements de plein air et leurs accessoires (hors bâches, filets, housses)","Matériaux d'origine animale >50%","Compris entre 7 kg et 10 kg exclus","€/unité",0.75,0.75,{"$f":"VLOOKUP(J3745,'Codes éco-part'!$C:$E,3,FALSE)","v":"328"},0.89999999999999991]
["REP ABJ",4,"22154060560",null,"Entretien et aménagement du jardin","Equipements de plein air et leurs accessoires (hors bâches, filets, housses)","Matériaux d'origine animale >50%","Compris entre 10 kg et 15 kg exclus","€/unité",1.1299999999999999,1.1299999999999999,{"$f":"VLOOKUP(J3746,'Codes éco-part'!$C:$E,3,FALSE)","v":"331"},1.3559999999999999]
["REP ABJ",4,"22154060570",null,"Entretien et aménagement du jardin","Equipements de plein air et leurs accessoires (hors bâches, filets, housses)","Matériaux d'origine animale >50%","Compris entre 15 kg et 20 kg exclus","€/unité",1.5,1.5,{"$f":"VLOOKUP(J3747,'Codes éco-part'!$C:$E,3,FALSE)","v":"059"},1.7999999999999998]
["REP ABJ",4,"22154060580",null,"Entretien et aménagement du jardin","Equipements de plein air et leurs accessoires (hors bâches, filets, housses)","Matériaux d'origine animale >50%","Compris entre 20 kg et 25 kg exclus","€/unité",1.88,1.88,{"$f":"VLOOKUP(J3748,'Codes éco-part'!$C:$E,3,FALSE)","v":"335"},2.2559999999999998]
["REP ABJ",4,"22154060590",null,"Entretien et aménagement du jardin","Equipements de plein air et leurs accessoires (hors bâches, filets, housses)","Matériaux d'origine animale >50%","Compris entre 25 kg et 30 kg exclus","€/unité",2.25,2.25,{"$f":"VLOOKUP(J3749,'Codes éco-part'!$C:$E,3,FALSE)","v":"118"},2.6999999999999997]
["REP ABJ",4,"22154060600",null,"Entretien et aménagement du jardin","Equipements de plein air et leurs accessoires (hors bâches, filets, housses)","Matériaux d'origine animale >50%","Compris entre 40 kg et 50 kg exclus","€/unité",3.75,3.75,{"$f":"VLOOKUP(J3750,'Codes éco-part'!$C:$E,3,FALSE)","v":"015"},4.5]
["REP ABJ",4,"22154080000",null,"Entretien et aménagement du jardin","Equipements de plein air et leurs accessoires (hors bâches, filets, housses)","Assemblage de matériaux avec de l'inerte >50%","Eléments de toutes dimensions et poids","€ / Tonne",75,75,{"$f":"VLOOKUP(J3751,'Codes éco-part'!$C:$E,3,FALSE)","v":"192"},90]
["REP ABJ",4,"22154080200",null,"Entretien et aménagement du jardin","Equipements de plein air et leurs accessoires (hors bâches, filets, housses)","Assemblage de matériaux avec de l'inerte >50%","Inférieur strictement à 0,5 kg","€/unité",0.02,0.02,{"$f":"VLOOKUP(J3752,'Codes éco-part'!$C:$E,3,FALSE)","v":"047"},2.4E-2]
["REP ABJ",4,"22154080210",null,"Entretien et aménagement du jardin","Equipements de plein air et leurs accessoires (hors bâches, filets, housses)","Assemblage de matériaux avec de l'inerte >50%","Compris entre 0,5 kg et 1 kg exclus","€/unité",0.06,0.06,{"$f":"VLOOKUP(J3753,'Codes éco-part'!$C:$E,3,FALSE)","v":"096"},7.1999999999999995E-2]
["REP ABJ",4,"22154080220",null,"Entretien et aménagement du jardin","Equipements de plein air et leurs accessoires (hors bâches, filets, housses)","Assemblage de matériaux avec de l'inerte >50%","Compris entre 1 kg et 2 kg exclus","€/unité",0.11,0.11,{"$f":"VLOOKUP(J3754,'Codes éco-part'!$C:$E,3,FALSE)","v":"262"},0.13200000000000001]
["REP ABJ",4,"22154080270",null,"Entretien et aménagement du jardin","Equipements de plein air et leurs accessoires (hors bâches, filets, housses)","Assemblage de matériaux avec de l'inerte >50%","Compris entre 30 kg et 40 kg exclus","€/unité",3,3,{"$f":"VLOOKUP(J3755,'Codes éco-part'!$C:$E,3,FALSE)","v":"474"},3.5999999999999996]
["REP ABJ",4,"22154080520",null,"Entretien et aménagement du jardin","Equipements de plein air et leurs accessoires (hors bâches, filets, housses)","Assemblage de matériaux avec de l'inerte >50%","Compris entre 2 kg et 3 kg exclus","€/unité",0.19,0.19,{"$f":"VLOOKUP(J3756,'Codes éco-part'!$C:$E,3,FALSE)","v":"291"},0.22799999999999998]
["REP ABJ",4,"22154080530",null,"Entretien et aménagement du jardin","Equipements de plein air et leurs accessoires (hors bâches, filets, housses)","Assemblage de matériaux avec de l'inerte >50%","Compris entre 3 kg et 5 kg exclus","€/unité",0.3,0.3,{"$f":"VLOOKUP(J3757,'Codes éco-part'!$C:$E,3,FALSE)","v":"446"},0.36]
["REP ABJ",4,"22154080540",null,"Entretien et aménagement du jardin","Equipements de plein air et leurs accessoires (hors bâches, filets, housses)","Assemblage de matériaux avec de l'inerte >50%","Compris entre 5 kg et 7 kg exclus","€/unité",0.53,0.53,{"$f":"VLOOKUP(J3758,'Codes éco-part'!$C:$E,3,FALSE)","v":"451"},0.63600000000000001]
["REP ABJ",4,"22154080550",null,"Entretien et aménagement du jardin","Equipements de plein air et leurs accessoires (hors bâches, filets, housses)","Assemblage de matériaux avec de l'inerte >50%","Compris entre 7 kg et 10 kg exclus","€/unité",0.75,0.75,{"$f":"VLOOKUP(J3759,'Codes éco-part'!$C:$E,3,FALSE)","v":"328"},0.89999999999999991]
["REP ABJ",4,"22154080560",null,"Entretien et aménagement du jardin","Equipements de plein air et leurs accessoires (hors bâches, filets, housses)","Assemblage de matériaux avec de l'inerte >50%","Compris entre 10 kg et 15 kg exclus","€/unité",1.1299999999999999,1.1299999999999999,{"$f":"VLOOKUP(J3760,'Codes éco-part'!$C:$E,3,FALSE)","v":"331"},1.3559999999999999]
["REP ABJ",4,"22154080570",null,"Entretien et aménagement du jardin","Equipements de plein air et leurs accessoires (hors bâches, filets, housses)","Assemblage de matériaux avec de l'inerte >50%","Compris entre 15 kg et 20 kg exclus","€/unité",1.5,1.5,{"$f":"VLOOKUP(J3761,'Codes éco-part'!$C:$E,3,FALSE)","v":"059"},1.7999999999999998]
["REP ABJ",4,"22154080580",null,"Entretien et aménagement du jardin","Equipements de plein air et leurs accessoires (hors bâches, filets, housses)","Assemblage de matériaux avec de l'inerte >50%","Compris entre 20 kg et 25 kg exclus","€/unité",1.88,1.88,{"$f":"VLOOKUP(J3762,'Codes éco-part'!$C:$E,3,FALSE)","v":"335"},2.2559999999999998]
["REP ABJ",4,"22154080590",null,"Entretien et aménagement du jardin","Equipements de plein air et leurs accessoires (hors bâches, filets, housses)","Assemblage de matériaux avec de l'inerte >50%","Compris entre 25 kg et 30 kg exclus","€/unité",2.25,2.25,{"$f":"VLOOKUP(J3763,'Codes éco-part'!$C:$E,3,FALSE)","v":"118"},2.6999999999999997]
["REP ABJ",4,"22154080600",null,"Entretien et aménagement du jardin","Equipements de plein air et leurs accessoires (hors bâches, filets, housses)","Assemblage de matériaux avec de l'inerte >50%","Compris entre 40 kg et 50 kg exclus","€/unité",3.75,3.75,{"$f":"VLOOKUP(J3764,'Codes éco-part'!$C:$E,3,FALSE)","v":"015"},4.5]
["REP ABJ",4,"22154150000",null,"Entretien et aménagement du jardin","Equipements de plein air et leurs accessoires (hors bâches, filets, housses)","Composites et autres matériaux minéraux reconstitués >50%","Eléments de toutes dimensions et poids","€ / Tonne",75,75,{"$f":"VLOOKUP(J3765,'Codes éco-part'!$C:$E,3,FALSE)","v":"192"},90]
["REP ABJ",4,"22154150200",null,"Entretien et aménagement du jardin","Equipements de plein air et leurs accessoires (hors bâches, filets, housses)","Composites et autres matériaux minéraux reconstitués >50%","Inférieur strictement à 0,5 kg","€/unité",0.02,0.02,{"$f":"VLOOKUP(J3766,'Codes éco-part'!$C:$E,3,FALSE)","v":"047"},2.4E-2]
["REP ABJ",4,"22154150210",null,"Entretien et aménagement du jardin","Equipements de plein air et leurs accessoires (hors bâches, filets, housses)","Composites et autres matériaux minéraux reconstitués >50%","Compris entre 0,5 kg et 1 kg exclus","€/unité",0.06,0.06,{"$f":"VLOOKUP(J3767,'Codes éco-part'!$C:$E,3,FALSE)","v":"096"},7.1999999999999995E-2]
["REP ABJ",4,"22154150220",null,"Entretien et aménagement du jardin","Equipements de plein air et leurs accessoires (hors bâches, filets, housses)","Composites et autres matériaux minéraux reconstitués >50%","Compris entre 1 kg et 2 kg exclus","€/unité",0.11,0.11,{"$f":"VLOOKUP(J3768,'Codes éco-part'!$C:$E,3,FALSE)","v":"262"},0.13200000000000001]
["REP ABJ",4,"22154150270",null,"Entretien et aménagement du jardin","Equipements de plein air et leurs accessoires (hors bâches, filets, housses)","Composites et autres matériaux minéraux reconstitués >50%","Compris entre 30 kg et 40 kg exclus","€/unité",3,3,{"$f":"VLOOKUP(J3769,'Codes éco-part'!$C:$E,3,FALSE)","v":"474"},3.5999999999999996]
["REP ABJ",4,"22154150520",null,"Entretien et aménagement du jardin","Equipements de plein air et leurs accessoires (hors bâches, filets, housses)","Composites et autres matériaux minéraux reconstitués >50%","Compris entre 2 kg et 3 kg exclus","€/unité",0.19,0.19,{"$f":"VLOOKUP(J3770,'Codes éco-part'!$C:$E,3,FALSE)","v":"291"},0.22799999999999998]
["REP ABJ",4,"22154150530",null,"Entretien et aménagement du jardin","Equipements de plein air et leurs accessoires (hors bâches, filets, housses)","Composites et autres matériaux minéraux reconstitués >50%","Compris entre 3 kg et 5 kg exclus","€/unité",0.3,0.3,{"$f":"VLOOKUP(J3771,'Codes éco-part'!$C:$E,3,FALSE)","v":"446"},0.36]
["REP ABJ",4,"22154150540",null,"Entretien et aménagement du jardin","Equipements de plein air et leurs accessoires (hors bâches, filets, housses)","Composites et autres matériaux minéraux reconstitués >50%","Compris entre 5 kg et 7 kg exclus","€/unité",0.53,0.53,{"$f":"VLOOKUP(J3772,'Codes éco-part'!$C:$E,3,FALSE)","v":"451"},0.63600000000000001]
["REP ABJ",4,"22154150550",null,"Entretien et aménagement du jardin","Equipements de plein air et leurs accessoires (hors bâches, filets, housses)","Composites et autres matériaux minéraux reconstitués >50%","Compris entre 7 kg et 10 kg exclus","€/unité",0.75,0.75,{"$f":"VLOOKUP(J3773,'Codes éco-part'!$C:$E,3,FALSE)","v":"328"},0.89999999999999991]
["REP ABJ",4,"22154150560",null,"Entretien et aménagement du jardin","Equipements de plein air et leurs accessoires (hors bâches, filets, housses)","Composites et autres matériaux minéraux reconstitués >50%","Compris entre 10 kg et 15 kg exclus","€/unité",1.1299999999999999,1.1299999999999999,{"$f":"VLOOKUP(J3774,'Codes éco-part'!$C:$E,3,FALSE)","v":"331"},1.3559999999999999]
["REP ABJ",4,"22154150570",null,"Entretien et aménagement du jardin","Equipements de plein air et leurs accessoires (hors bâches, filets, housses)","Composites et autres matériaux minéraux reconstitués >50%","Compris entre 15 kg et 20 kg exclus","€/unité",1.5,1.5,{"$f":"VLOOKUP(J3775,'Codes éco-part'!$C:$E,3,FALSE)","v":"059"},1.7999999999999998]
["REP ABJ",4,"22154150580",null,"Entretien et aménagement du jardin","Equipements de plein air et leurs accessoires (hors bâches, filets, housses)","Composites et autres matériaux minéraux reconstitués >50%","Compris entre 20 kg et 25 kg exclus","€/unité",1.88,1.88,{"$f":"VLOOKUP(J3776,'Codes éco-part'!$C:$E,3,FALSE)","v":"335"},2.2559999999999998]
["REP ABJ",4,"22154150590",null,"Entretien et aménagement du jardin","Equipements de plein air et leurs accessoires (hors bâches, filets, housses)","Composites et autres matériaux minéraux reconstitués >50%","Compris entre 25 kg et 30 kg exclus","€/unité",2.25,2.25,{"$f":"VLOOKUP(J3777,'Codes éco-part'!$C:$E,3,FALSE)","v":"118"},2.6999999999999997]
["REP ABJ",4,"22154150600",null,"Entretien et aménagement du jardin","Equipements de plein air et leurs accessoires (hors bâches, filets, housses)","Composites et autres matériaux minéraux reconstitués >50%","Compris entre 40 kg et 50 kg exclus","€/unité",3.75,3.75,{"$f":"VLOOKUP(J3778,'Codes éco-part'!$C:$E,3,FALSE)","v":"015"},4.5]
["REP ABJ",4,"22154190000",null,"Entretien et aménagement du jardin","Equipements de plein air et leurs accessoires (hors bâches, filets, housses)","Papier carton >50% avec d'autres matériaux (hors verre)","Eléments de toutes dimensions et poids","€ / Tonne",75,30,{"$f":"VLOOKUP(J3779,'Codes éco-part'!$C:$E,3,FALSE)","v":"192"},90]
["REP ABJ",4,"22154190200",null,"Entretien et aménagement du jardin","Equipements de plein air et leurs accessoires (hors bâches, filets, housses)","Papier carton >50% avec d'autres matériaux (hors verre)","Inférieur strictement à 0,5 kg","€/unité",0.02,0.02,{"$f":"VLOOKUP(J3780,'Codes éco-part'!$C:$E,3,FALSE)","v":"047"},2.4E-2]
["REP ABJ",4,"22154190210",null,"Entretien et aménagement du jardin","Equipements de plein air et leurs accessoires (hors bâches, filets, housses)","Papier carton >50% avec d'autres matériaux (hors verre)","Compris entre 0,5 kg et 1 kg exclus","€/unité",0.06,0.06,{"$f":"VLOOKUP(J3781,'Codes éco-part'!$C:$E,3,FALSE)","v":"096"},7.1999999999999995E-2]
["REP ABJ",4,"22154190220",null,"Entretien et aménagement du jardin","Equipements de plein air et leurs accessoires (hors bâches, filets, housses)","Papier carton >50% avec d'autres matériaux (hors verre)","Compris entre 1 kg et 2 kg exclus","€/unité",0.11,0.11,{"$f":"VLOOKUP(J3782,'Codes éco-part'!$C:$E,3,FALSE)","v":"262"},0.13200000000000001]
["REP ABJ",4,"22154190270",null,"Entretien et aménagement du jardin","Equipements de plein air et leurs accessoires (hors bâches, filets, housses)","Papier carton >50% avec d'autres matériaux (hors verre)","Compris entre 30 kg et 40 kg exclus","€/unité",3,3,{"$f":"VLOOKUP(J3783,'Codes éco-part'!$C:$E,3,FALSE)","v":"474"},3.5999999999999996]
["REP ABJ",4,"22154190520",null,"Entretien et aménagement du jardin","Equipements de plein air et leurs accessoires (hors bâches, filets, housses)","Papier carton >50% avec d'autres matériaux (hors verre)","Compris entre 2 kg et 3 kg exclus","€/unité",0.19,0.19,{"$f":"VLOOKUP(J3784,'Codes éco-part'!$C:$E,3,FALSE)","v":"291"},0.22799999999999998]
["REP ABJ",4,"22154190530",null,"Entretien et aménagement du jardin","Equipements de plein air et leurs accessoires (hors bâches, filets, housses)","Papier carton >50% avec d'autres matériaux (hors verre)","Compris entre 3 kg et 5 kg exclus","€/unité",0.3,0.3,{"$f":"VLOOKUP(J3785,'Codes éco-part'!$C:$E,3,FALSE)","v":"446"},0.36]
["REP ABJ",4,"22154190540",null,"Entretien et aménagement du jardin","Equipements de plein air et leurs accessoires (hors bâches, filets, housses)","Papier carton >50% avec d'autres matériaux (hors verre)","Compris entre 5 kg et 7 kg exclus","€/unité",0.53,0.53,{"$f":"VLOOKUP(J3786,'Codes éco-part'!$C:$E,3,FALSE)","v":"451"},0.63600000000000001]
["REP ABJ",4,"22154190550",null,"Entretien et aménagement du jardin","Equipements de plein air et leurs accessoires (hors bâches, filets, housses)","Papier carton >50% avec d'autres matériaux (hors verre)","Compris entre 7 kg et 10 kg exclus","€/unité",0.75,0.75,{"$f":"VLOOKUP(J3787,'Codes éco-part'!$C:$E,3,FALSE)","v":"328"},0.89999999999999991]
["REP ABJ",4,"22154190560",null,"Entretien et aménagement du jardin","Equipements de plein air et leurs accessoires (hors bâches, filets, housses)","Papier carton >50% avec d'autres matériaux (hors verre)","Compris entre 10 kg et 15 kg exclus","€/unité",1.1299999999999999,1.1299999999999999,{"$f":"VLOOKUP(J3788,'Codes éco-part'!$C:$E,3,FALSE)","v":"331"},1.3559999999999999]
["REP ABJ",4,"22154190570",null,"Entretien et aménagement du jardin","Equipements de plein air et leurs accessoires (hors bâches, filets, housses)","Papier carton >50% avec d'autres matériaux (hors verre)","Compris entre 15 kg et 20 kg exclus","€/unité",1.5,1.5,{"$f":"VLOOKUP(J3789,'Codes éco-part'!$C:$E,3,FALSE)","v":"059"},1.7999999999999998]
["REP ABJ",4,"22154190580",null,"Entretien et aménagement du jardin","Equipements de plein air et leurs accessoires (hors bâches, filets, housses)","Papier carton >50% avec d'autres matériaux (hors verre)","Compris entre 20 kg et 25 kg exclus","€/unité",1.88,1.88,{"$f":"VLOOKUP(J3790,'Codes éco-part'!$C:$E,3,FALSE)","v":"335"},2.2559999999999998]
["REP ABJ",4,"22154190590",null,"Entretien et aménagement du jardin","Equipements de plein air et leurs accessoires (hors bâches, filets, housses)","Papier carton >50% avec d'autres matériaux (hors verre)","Compris entre 25 kg et 30 kg exclus","€/unité",2.25,2.25,{"$f":"VLOOKUP(J3791,'Codes éco-part'!$C:$E,3,FALSE)","v":"118"},2.6999999999999997]
["REP ABJ",4,"22154190600",null,"Entretien et aménagement du jardin","Equipements de plein air et leurs accessoires (hors bâches, filets, housses)","Papier carton >50% avec d'autres matériaux (hors verre)","Compris entre 40 kg et 50 kg exclus","€/unité",3.75,3.75,{"$f":"VLOOKUP(J3792,'Codes éco-part'!$C:$E,3,FALSE)","v":"015"},4.5]
["REP ABJ",4,"22154200000",null,"Entretien et aménagement du jardin","Equipements de plein air et leurs accessoires (hors bâches, filets, housses)","Massif et assimilés certifiés >75%","Eléments de toutes dimensions et poids","€ / Tonne",10,10,{"$f":"VLOOKUP(J3793,'Codes éco-part'!$C:$E,3,FALSE)","v":"138"},12]
["REP ABJ",4,"22154200200",null,"Entretien et aménagement du jardin","Equipements de plein air et leurs accessoires (hors bâches, filets, housses)","Massif et assimilés certifiés >75%","Inférieur strictement à 0,5 kg","€/unité",0.01,0.01,{"$f":"VLOOKUP(J3794,'Codes éco-part'!$C:$E,3,FALSE)","v":"260"},1.2E-2]
["REP ABJ",4,"22154200210",null,"Entretien et aménagement du jardin","Equipements de plein air et leurs accessoires (hors bâches, filets, housses)","Massif et assimilés certifiés >75%","Compris entre 0,5 kg et 1 kg exclus","€/unité",0.01,0.01,{"$f":"VLOOKUP(J3795,'Codes éco-part'!$C:$E,3,FALSE)","v":"260"},1.2E-2]
["REP ABJ",4,"22154200220",null,"Entretien et aménagement du jardin","Equipements de plein air et leurs accessoires (hors bâches, filets, housses)","Massif et assimilés certifiés >75%","Compris entre 1 kg et 2 kg exclus","€/unité",0.02,0.02,{"$f":"VLOOKUP(J3796,'Codes éco-part'!$C:$E,3,FALSE)","v":"047"},2.4E-2]
["REP ABJ",4,"22154200270",null,"Entretien et aménagement du jardin","Equipements de plein air et leurs accessoires (hors bâches, filets, housses)","Massif et assimilés certifiés >75%","Compris entre 30 kg et 40 kg exclus","€/unité",0.4,0.4,{"$f":"VLOOKUP(J3797,'Codes éco-part'!$C:$E,3,FALSE)","v":"105"},0.48]
["REP ABJ",4,"22154200520",null,"Entretien et aménagement du jardin","Equipements de plein air et leurs accessoires (hors bâches, filets, housses)","Massif et assimilés certifiés >75%","Compris entre 2 kg et 3 kg exclus","€/unité",0.03,0.03,{"$f":"VLOOKUP(J3798,'Codes éco-part'!$C:$E,3,FALSE)","v":"092"},3.5999999999999997E-2]
["REP ABJ",4,"22154200530",null,"Entretien et aménagement du jardin","Equipements de plein air et leurs accessoires (hors bâches, filets, housses)","Massif et assimilés certifiés >75%","Compris entre 3 kg et 5 kg exclus","€/unité",0.04,0.04,{"$f":"VLOOKUP(J3799,'Codes éco-part'!$C:$E,3,FALSE)","v":"002"},4.8000000000000001E-2]
["REP ABJ",4,"22154200540",null,"Entretien et aménagement du jardin","Equipements de plein air et leurs accessoires (hors bâches, filets, housses)","Massif et assimilés certifiés >75%","Compris entre 5 kg et 7 kg exclus","€/unité",7.0000000000000007E-2,7.0000000000000007E-2,{"$f":"VLOOKUP(J3800,'Codes éco-part'!$C:$E,3,FALSE)","v":"247"},8.4000000000000005E-2]
["REP ABJ",4,"22154200550",null,"Entretien et aménagement du jardin","Equipements de plein air et leurs accessoires (hors bâches, filets, housses)","Massif et assimilés certifiés >75%","Compris entre 7 kg et 10 kg exclus","€/unité",0.1,0.1,{"$f":"VLOOKUP(J3801,'Codes éco-part'!$C:$E,3,FALSE)","v":"094"},{"$f":"J3801*1.2","v":0.12}]
["REP ABJ",4,"22154200560",null,"Entretien et aménagement du jardin","Equipements de plein air et leurs accessoires (hors bâches, filets, housses)","Massif et assimilés certifiés >75%","Compris entre 10 kg et 15 kg exclus","€/unité",0.15,0.15,{"$f":"VLOOKUP(J3802,'Codes éco-part'!$C:$E,3,FALSE)","v":"050"},0.18]
["REP ABJ",4,"22154200570",null,"Entretien et aménagement du jardin","Equipements de plein air et leurs accessoires (hors bâches, filets, housses)","Massif et assimilés certifiés >75%","Compris entre 15 kg et 20 kg exclus","€/unité",0.2,0.2,{"$f":"VLOOKUP(J3803,'Codes éco-part'!$C:$E,3,FALSE)","v":"101"},0.24]
["REP ABJ",4,"22154200580",null,"Entretien et aménagement du jardin","Equipements de plein air et leurs accessoires (hors bâches, filets, housses)","Massif et assimilés certifiés >75%","Compris entre 20 kg et 25 kg exclus","€/unité",0.25,0.25,{"$f":"VLOOKUP(J3804,'Codes éco-part'!$C:$E,3,FALSE)","v":"095"},0.3]
["REP ABJ",4,"22154200590",null,"Entretien et aménagement du jardin","Equipements de plein air et leurs accessoires (hors bâches, filets, housses)","Massif et assimilés certifiés >75%","Compris entre 25 kg et 30 kg exclus","€/unité",0.3,0.3,{"$f":"VLOOKUP(J3805,'Codes éco-part'!$C:$E,3,FALSE)","v":"446"},0.36]
["REP ABJ",4,"22154200600",null,"Entretien et aménagement du jardin","Equipements de plein air et leurs accessoires (hors bâches, filets, housses)","Massif et assimilés certifiés >75%","Compris entre 40 kg et 50 kg exclus","€/unité",0.5,0.5,{"$f":"VLOOKUP(J3806,'Codes éco-part'!$C:$E,3,FALSE)","v":"053"},0.6]
["REP ABJ",4,"22154210000",null,"Entretien et aménagement du jardin","Equipements de plein air et leurs accessoires (hors bâches, filets, housses)","Massif et assimilés >75%","Eléments de toutes dimensions et poids","€ / Tonne",10,10,{"$f":"VLOOKUP(J3807,'Codes éco-part'!$C:$E,3,FALSE)","v":"138"},12]
["REP ABJ",4,"22154210200",null,"Entretien et aménagement du jardin","Equipements de plein air et leurs accessoires (hors bâches, filets, housses)","Massif et assimilés >75%","Inférieur strictement à 0,5 kg","€/unité",0.01,0.01,{"$f":"VLOOKUP(J3808,'Codes éco-part'!$C:$E,3,FALSE)","v":"260"},1.2E-2]
["REP ABJ",4,"22154210210",null,"Entretien et aménagement du jardin","Equipements de plein air et leurs accessoires (hors bâches, filets, housses)","Massif et assimilés >75%","Compris entre 0,5 kg et 1 kg exclus","€/unité",0.01,0.01,{"$f":"VLOOKUP(J3809,'Codes éco-part'!$C:$E,3,FALSE)","v":"260"},1.2E-2]
["REP ABJ",4,"22154210220",null,"Entretien et aménagement du jardin","Equipements de plein air et leurs accessoires (hors bâches, filets, housses)","Massif et assimilés >75%","Compris entre 1 kg et 2 kg exclus","€/unité",0.02,0.02,{"$f":"VLOOKUP(J3810,'Codes éco-part'!$C:$E,3,FALSE)","v":"047"},2.4E-2]
["REP ABJ",4,"22154210270",null,"Entretien et aménagement du jardin","Equipements de plein air et leurs accessoires (hors bâches, filets, housses)","Massif et assimilés >75%","Compris entre 30 kg et 40 kg exclus","€/unité",0.4,0.4,{"$f":"VLOOKUP(J3811,'Codes éco-part'!$C:$E,3,FALSE)","v":"105"},0.48]
["REP ABJ",4,"22154210520",null,"Entretien et aménagement du jardin","Equipements de plein air et leurs accessoires (hors bâches, filets, housses)","Massif et assimilés >75%","Compris entre 2 kg et 3 kg exclus","€/unité",0.03,0.03,{"$f":"VLOOKUP(J3812,'Codes éco-part'!$C:$E,3,FALSE)","v":"092"},3.5999999999999997E-2]
["REP ABJ",4,"22154210530",null,"Entretien et aménagement du jardin","Equipements de plein air et leurs accessoires (hors bâches, filets, housses)","Massif et assimilés >75%","Compris entre 3 kg et 5 kg exclus","€/unité",0.04,0.04,{"$f":"VLOOKUP(J3813,'Codes éco-part'!$C:$E,3,FALSE)","v":"002"},4.8000000000000001E-2]
["REP ABJ",4,"22154210540",null,"Entretien et aménagement du jardin","Equipements de plein air et leurs accessoires (hors bâches, filets, housses)","Massif et assimilés >75%","Compris entre 5 kg et 7 kg exclus","€/unité",7.0000000000000007E-2,7.0000000000000007E-2,{"$f":"VLOOKUP(J3814,'Codes éco-part'!$C:$E,3,FALSE)","v":"247"},8.4000000000000005E-2]
["REP ABJ",4,"22154210550",null,"Entretien et aménagement du jardin","Equipements de plein air et leurs accessoires (hors bâches, filets, housses)","Massif et assimilés >75%","Compris entre 7 kg et 10 kg exclus","€/unité",0.1,0.1,{"$f":"VLOOKUP(J3815,'Codes éco-part'!$C:$E,3,FALSE)","v":"094"},0.12]
["REP ABJ",4,"22154210560",null,"Entretien et aménagement du jardin","Equipements de plein air et leurs accessoires (hors bâches, filets, housses)","Massif et assimilés >75%","Compris entre 10 kg et 15 kg exclus","€/unité",0.15,0.15,{"$f":"VLOOKUP(J3816,'Codes éco-part'!$C:$E,3,FALSE)","v":"050"},0.18]
["REP ABJ",4,"22154210570",null,"Entretien et aménagement du jardin","Equipements de plein air et leurs accessoires (hors bâches, filets, housses)","Massif et assimilés >75%","Compris entre 15 kg et 20 kg exclus","€/unité",0.2,0.2,{"$f":"VLOOKUP(J3817,'Codes éco-part'!$C:$E,3,FALSE)","v":"101"},0.24]
["REP ABJ",4,"22154210580",null,"Entretien et aménagement du jardin","Equipements de plein air et leurs accessoires (hors bâches, filets, housses)","Massif et assimilés >75%","Compris entre 20 kg et 25 kg exclus","€/unité",0.25,0.25,{"$f":"VLOOKUP(J3818,'Codes éco-part'!$C:$E,3,FALSE)","v":"095"},0.3]
["REP ABJ",4,"22154210590",null,"Entretien et aménagement du jardin","Equipements de plein air et leurs accessoires (hors bâches, filets, housses)","Massif et assimilés >75%","Compris entre 25 kg et 30 kg exclus","€/unité",0.3,0.3,{"$f":"VLOOKUP(J3819,'Codes éco-part'!$C:$E,3,FALSE)","v":"446"},0.36]
["REP ABJ",4,"22154210600",null,"Entretien et aménagement du jardin","Equipements de plein air et leurs accessoires (hors bâches, filets, housses)","Massif et assimilés >75%","Compris entre 40 kg et 50 kg exclus","€/unité",0.5,0.5,{"$f":"VLOOKUP(J3820,'Codes éco-part'!$C:$E,3,FALSE)","v":"053"},0.6]
["REP ABJ",4,"22154250000",null,"Entretien et aménagement du jardin","Equipements de plein air et leurs accessoires (hors bâches, filets, housses)","Panneaux de particules ou OSB >75%","Eléments de toutes dimensions et poids","€ / Tonne",10,10,{"$f":"VLOOKUP(J3821,'Codes éco-part'!$C:$E,3,FALSE)","v":"138"},12]
["REP ABJ",4,"22154250200",null,"Entretien et aménagement du jardin","Equipements de plein air et leurs accessoires (hors bâches, filets, housses)","Panneaux de particules ou OSB >75%","Inférieur strictement à 0,5 kg","€/unité",0.01,0.01,{"$f":"VLOOKUP(J3822,'Codes éco-part'!$C:$E,3,FALSE)","v":"260"},1.2E-2]
["REP ABJ",4,"22154250210",null,"Entretien et aménagement du jardin","Equipements de plein air et leurs accessoires (hors bâches, filets, housses)","Panneaux de particules ou OSB >75%","Compris entre 0,5 kg et 1 kg exclus","€/unité",0.01,0.01,{"$f":"VLOOKUP(J3823,'Codes éco-part'!$C:$E,3,FALSE)","v":"260"},1.2E-2]
["REP ABJ",4,"22154250220",null,"Entretien et aménagement du jardin","Equipements de plein air et leurs accessoires (hors bâches, filets, housses)","Panneaux de particules ou OSB >75%","Compris entre 1 kg et 2 kg exclus","€/unité",0.02,0.02,{"$f":"VLOOKUP(J3824,'Codes éco-part'!$C:$E,3,FALSE)","v":"047"},2.4E-2]
["REP ABJ",4,"22154250270",null,"Entretien et aménagement du jardin","Equipements de plein air et leurs accessoires (hors bâches, filets, housses)","Panneaux de particules ou OSB >75%","Compris entre 30 kg et 40 kg exclus","€/unité",0.4,0.4,{"$f":"VLOOKUP(J3825,'Codes éco-part'!$C:$E,3,FALSE)","v":"105"},0.48]
["REP ABJ",4,"22154250520",null,"Entretien et aménagement du jardin","Equipements de plein air et leurs accessoires (hors bâches, filets, housses)","Panneaux de particules ou OSB >75%","Compris entre 2 kg et 3 kg exclus","€/unité",0.03,0.03,{"$f":"VLOOKUP(J3826,'Codes éco-part'!$C:$E,3,FALSE)","v":"092"},3.5999999999999997E-2]
["REP ABJ",4,"22154250530",null,"Entretien et aménagement du jardin","Equipements de plein air et leurs accessoires (hors bâches, filets, housses)","Panneaux de particules ou OSB >75%","Compris entre 3 kg et 5 kg exclus","€/unité",0.04,0.04,{"$f":"VLOOKUP(J3827,'Codes éco-part'!$C:$E,3,FALSE)","v":"002"},4.8000000000000001E-2]
["REP ABJ",4,"22154250540",null,"Entretien et aménagement du jardin","Equipements de plein air et leurs accessoires (hors bâches, filets, housses)","Panneaux de particules ou OSB >75%","Compris entre 5 kg et 7 kg exclus","€/unité",7.0000000000000007E-2,7.0000000000000007E-2,{"$f":"VLOOKUP(J3828,'Codes éco-part'!$C:$E,3,FALSE)","v":"247"},8.4000000000000005E-2]
["REP ABJ",4,"22154250550",null,"Entretien et aménagement du jardin","Equipements de plein air et leurs accessoires (hors bâches, filets, housses)","Panneaux de particules ou OSB >75%","Compris entre 7 kg et 10 kg exclus","€/unité",0.1,0.1,{"$f":"VLOOKUP(J3829,'Codes éco-part'!$C:$E,3,FALSE)","v":"094"},0.12]
["REP ABJ",4,"22154250560",null,"Entretien et aménagement du jardin","Equipements de plein air et leurs accessoires (hors bâches, filets, housses)","Panneaux de particules ou OSB >75%","Compris entre 10 kg et 15 kg exclus","€/unité",0.15,0.15,{"$f":"VLOOKUP(J3830,'Codes éco-part'!$C:$E,3,FALSE)","v":"050"},0.18]
["REP ABJ",4,"22154250570",null,"Entretien et aménagement du jardin","Equipements de plein air et leurs accessoires (hors bâches, filets, housses)","Panneaux de particules ou OSB >75%","Compris entre 15 kg et 20 kg exclus","€/unité",0.2,0.2,{"$f":"VLOOKUP(J3831,'Codes éco-part'!$C:$E,3,FALSE)","v":"101"},0.24]
["REP ABJ",4,"22154250580",null,"Entretien et aménagement du jardin","Equipements de plein air et leurs accessoires (hors bâches, filets, housses)","Panneaux de particules ou OSB >75%","Compris entre 20 kg et 25 kg exclus","€/unité",0.25,0.25,{"$f":"VLOOKUP(J3832,'Codes éco-part'!$C:$E,3,FALSE)","v":"095"},0.3]
["REP ABJ",4,"22154250590",null,"Entretien et aménagement du jardin","Equipements de plein air et leurs accessoires (hors bâches, filets, housses)","Panneaux de particules ou OSB >75%","Compris entre 25 kg et 30 kg exclus","€/unité",0.3,0.3,{"$f":"VLOOKUP(J3833,'Codes éco-part'!$C:$E,3,FALSE)","v":"446"},0.36]
["REP ABJ",4,"22154250600",null,"Entretien et aménagement du jardin","Equipements de plein air et leurs accessoires (hors bâches, filets, housses)","Panneaux de particules ou OSB >75%","Compris entre 40 kg et 50 kg exclus","€/unité",0.5,0.5,{"$f":"VLOOKUP(J3834,'Codes éco-part'!$C:$E,3,FALSE)","v":"053"},0.6]
["REP ABJ",4,"22154280000",null,"Entretien et aménagement du jardin","Equipements de plein air et leurs accessoires (hors bâches, filets, housses)","Métal >90%","Eléments de toutes dimensions et poids","€ / Tonne",3,3,{"$f":"VLOOKUP(J3835,'Codes éco-part'!$C:$E,3,FALSE)","v":"474"},3.5999999999999996]
["REP ABJ",4,"22154280200",null,"Entretien et aménagement du jardin","Equipements de plein air et leurs accessoires (hors bâches, filets, housses)","Métal >90%","Inférieur strictement à 0,5 kg","€/unité",0.01,0.01,{"$f":"VLOOKUP(J3836,'Codes éco-part'!$C:$E,3,FALSE)","v":"260"},1.2E-2]
["REP ABJ",4,"22154280210",null,"Entretien et aménagement du jardin","Equipements de plein air et leurs accessoires (hors bâches, filets, housses)","Métal >90%","Compris entre 0,5 kg et 1 kg exclus","€/unité",0.01,0.01,{"$f":"VLOOKUP(J3837,'Codes éco-part'!$C:$E,3,FALSE)","v":"260"},1.2E-2]
["REP ABJ",4,"22154280220",null,"Entretien et aménagement du jardin","Equipements de plein air et leurs accessoires (hors bâches, filets, housses)","Métal >90%","Compris entre 1 kg et 2 kg exclus","€/unité",0.01,0.01,{"$f":"VLOOKUP(J3838,'Codes éco-part'!$C:$E,3,FALSE)","v":"260"},1.2E-2]
["REP ABJ",4,"22154280270",null,"Entretien et aménagement du jardin","Equipements de plein air et leurs accessoires (hors bâches, filets, housses)","Métal >90%","Compris entre 30 kg et 40 kg exclus","€/unité",0.12,0.12,{"$f":"VLOOKUP(J3839,'Codes éco-part'!$C:$E,3,FALSE)","v":"097"},0.14399999999999999]
["REP ABJ",4,"22154280520",null,"Entretien et aménagement du jardin","Equipements de plein air et leurs accessoires (hors bâches, filets, housses)","Métal >90%","Compris entre 2 kg et 3 kg exclus","€/unité",0.01,0.01,{"$f":"VLOOKUP(J3840,'Codes éco-part'!$C:$E,3,FALSE)","v":"260"},1.2E-2]
["REP ABJ",4,"22154280530",null,"Entretien et aménagement du jardin","Equipements de plein air et leurs accessoires (hors bâches, filets, housses)","Métal >90%","Compris entre 3 kg et 5 kg exclus","€/unité",0.01,0.01,{"$f":"VLOOKUP(J3841,'Codes éco-part'!$C:$E,3,FALSE)","v":"260"},1.2E-2]
["REP ABJ",4,"22154280540",null,"Entretien et aménagement du jardin","Equipements de plein air et leurs accessoires (hors bâches, filets, housses)","Métal >90%","Compris entre 5 kg et 7 kg exclus","€/unité",0.02,0.02,{"$f":"VLOOKUP(J3842,'Codes éco-part'!$C:$E,3,FALSE)","v":"047"},2.4E-2]
["REP ABJ",4,"22154280550",null,"Entretien et aménagement du jardin","Equipements de plein air et leurs accessoires (hors bâches, filets, housses)","Métal >90%","Compris entre 7 kg et 10 kg exclus","€/unité",0.03,0.03,{"$f":"VLOOKUP(J3843,'Codes éco-part'!$C:$E,3,FALSE)","v":"092"},3.5999999999999997E-2]
["REP ABJ",4,"22154280560",null,"Entretien et aménagement du jardin","Equipements de plein air et leurs accessoires (hors bâches, filets, housses)","Métal >90%","Compris entre 10 kg et 15 kg exclus","€/unité",0.05,0.05,{"$f":"VLOOKUP(J3844,'Codes éco-part'!$C:$E,3,FALSE)","v":"048"},0.06]
["REP ABJ",4,"22154280570",null,"Entretien et aménagement du jardin","Equipements de plein air et leurs accessoires (hors bâches, filets, housses)","Métal >90%","Compris entre 15 kg et 20 kg exclus","€/unité",0.06,0.06,{"$f":"VLOOKUP(J3845,'Codes éco-part'!$C:$E,3,FALSE)","v":"096"},7.1999999999999995E-2]
["REP ABJ",4,"22154280580",null,"Entretien et aménagement du jardin","Equipements de plein air et leurs accessoires (hors bâches, filets, housses)","Métal >90%","Compris entre 20 kg et 25 kg exclus","€/unité",0.08,0.08,{"$f":"VLOOKUP(J3846,'Codes éco-part'!$C:$E,3,FALSE)","v":"003"},9.6000000000000002E-2]
["REP ABJ",4,"22154280590",null,"Entretien et aménagement du jardin","Equipements de plein air et leurs accessoires (hors bâches, filets, housses)","Métal >90%","Compris entre 25 kg et 30 kg exclus","€/unité",0.09,0.09,{"$f":"VLOOKUP(J3847,'Codes éco-part'!$C:$E,3,FALSE)","v":"049"},0.108]
["REP ABJ",4,"22154280600",null,"Entretien et aménagement du jardin","Equipements de plein air et leurs accessoires (hors bâches, filets, housses)","Métal >90%","Compris entre 40 kg et 50 kg exclus","€/unité",0.15,0.15,{"$f":"VLOOKUP(J3848,'Codes éco-part'!$C:$E,3,FALSE)","v":"050"},0.18]
["REP ABJ",4,"22154400000",null,"Entretien et aménagement du jardin","Equipements de plein air et leurs accessoires (hors bâches, filets, housses)","Assemblage caoutchouc synthétique ou latex >50% avec d'autres matériaux","Eléments de toutes dimensions et poids","€ / Tonne",75,75,{"$f":"VLOOKUP(J3849,'Codes éco-part'!$C:$E,3,FALSE)","v":"192"},90]
["REP ABJ",4,"22154400200",null,"Entretien et aménagement du jardin","Equipements de plein air et leurs accessoires (hors bâches, filets, housses)","Assemblage caoutchouc synthétique ou latex >50% avec d'autres matériaux","Inférieur strictement à 0,5 kg","€/unité",0.02,0.02,{"$f":"VLOOKUP(J3850,'Codes éco-part'!$C:$E,3,FALSE)","v":"047"},2.4E-2]
["REP ABJ",4,"22154400210",null,"Entretien et aménagement du jardin","Equipements de plein air et leurs accessoires (hors bâches, filets, housses)","Assemblage caoutchouc synthétique ou latex >50% avec d'autres matériaux","Compris entre 0,5 kg et 1 kg exclus","€/unité",0.06,0.06,{"$f":"VLOOKUP(J3851,'Codes éco-part'!$C:$E,3,FALSE)","v":"096"},7.1999999999999995E-2]
["REP ABJ",4,"22154400220",null,"Entretien et aménagement du jardin","Equipements de plein air et leurs accessoires (hors bâches, filets, housses)","Assemblage caoutchouc synthétique ou latex >50% avec d'autres matériaux","Compris entre 1 kg et 2 kg exclus","€/unité",0.11,0.11,{"$f":"VLOOKUP(J3852,'Codes éco-part'!$C:$E,3,FALSE)","v":"262"},0.13200000000000001]
["REP ABJ",4,"22154400270",null,"Entretien et aménagement du jardin","Equipements de plein air et leurs accessoires (hors bâches, filets, housses)","Assemblage caoutchouc synthétique ou latex >50% avec d'autres matériaux","Compris entre 30 kg et 40 kg exclus","€/unité",3,3,{"$f":"VLOOKUP(J3853,'Codes éco-part'!$C:$E,3,FALSE)","v":"474"},3.5999999999999996]
["REP ABJ",4,"22154400520",null,"Entretien et aménagement du jardin","Equipements de plein air et leurs accessoires (hors bâches, filets, housses)","Assemblage caoutchouc synthétique ou latex >50% avec d'autres matériaux","Compris entre 2 kg et 3 kg exclus","€/unité",0.19,0.19,{"$f":"VLOOKUP(J3854,'Codes éco-part'!$C:$E,3,FALSE)","v":"291"},0.22799999999999998]
["REP ABJ",4,"22154400530",null,"Entretien et aménagement du jardin","Equipements de plein air et leurs accessoires (hors bâches, filets, housses)","Assemblage caoutchouc synthétique ou latex >50% avec d'autres matériaux","Compris entre 3 kg et 5 kg exclus","€/unité",0.3,0.3,{"$f":"VLOOKUP(J3855,'Codes éco-part'!$C:$E,3,FALSE)","v":"446"},0.36]
["REP ABJ",4,"22154400540",null,"Entretien et aménagement du jardin","Equipements de plein air et leurs accessoires (hors bâches, filets, housses)","Assemblage caoutchouc synthétique ou latex >50% avec d'autres matériaux","Compris entre 5 kg et 7 kg exclus","€/unité",0.53,0.53,{"$f":"VLOOKUP(J3856,'Codes éco-part'!$C:$E,3,FALSE)","v":"451"},0.63600000000000001]
["REP ABJ",4,"22154400550",null,"Entretien et aménagement du jardin","Equipements de plein air et leurs accessoires (hors bâches, filets, housses)","Assemblage caoutchouc synthétique ou latex >50% avec d'autres matériaux","Compris entre 7 kg et 10 kg exclus","€/unité",0.75,0.75,{"$f":"VLOOKUP(J3857,'Codes éco-part'!$C:$E,3,FALSE)","v":"328"},0.89999999999999991]
["REP ABJ",4,"22154400560",null,"Entretien et aménagement du jardin","Equipements de plein air et leurs accessoires (hors bâches, filets, housses)","Assemblage caoutchouc synthétique ou latex >50% avec d'autres matériaux","Compris entre 10 kg et 15 kg exclus","€/unité",1.1299999999999999,1.1299999999999999,{"$f":"VLOOKUP(J3858,'Codes éco-part'!$C:$E,3,FALSE)","v":"331"},1.3559999999999999]
["REP ABJ",4,"22154400570",null,"Entretien et aménagement du jardin","Equipements de plein air et leurs accessoires (hors bâches, filets, housses)","Assemblage caoutchouc synthétique ou latex >50% avec d'autres matériaux","Compris entre 15 kg et 20 kg exclus","€/unité",1.5,1.5,{"$f":"VLOOKUP(J3859,'Codes éco-part'!$C:$E,3,FALSE)","v":"059"},1.7999999999999998]
["REP ABJ",4,"22154400580",null,"Entretien et aménagement du jardin","Equipements de plein air et leurs accessoires (hors bâches, filets, housses)","Assemblage caoutchouc synthétique ou latex >50% avec d'autres matériaux","Compris entre 20 kg et 25 kg exclus","€/unité",1.88,1.88,{"$f":"VLOOKUP(J3860,'Codes éco-part'!$C:$E,3,FALSE)","v":"335"},2.2559999999999998]
["REP ABJ",4,"22154400590",null,"Entretien et aménagement du jardin","Equipements de plein air et leurs accessoires (hors bâches, filets, housses)","Assemblage caoutchouc synthétique ou latex >50% avec d'autres matériaux","Compris entre 25 kg et 30 kg exclus","€/unité",2.25,2.25,{"$f":"VLOOKUP(J3861,'Codes éco-part'!$C:$E,3,FALSE)","v":"118"},2.6999999999999997]
["REP ABJ",4,"22154400600",null,"Entretien et aménagement du jardin","Equipements de plein air et leurs accessoires (hors bâches, filets, housses)","Assemblage caoutchouc synthétique ou latex >50% avec d'autres matériaux","Compris entre 40 kg et 50 kg exclus","€/unité",3.75,3.75,{"$f":"VLOOKUP(J3862,'Codes éco-part'!$C:$E,3,FALSE)","v":"015"},4.5]
["REP ABJ",4,"22154410000",null,"Entretien et aménagement du jardin","Equipements de plein air et leurs accessoires (hors bâches, filets, housses)","Plastiques (mono résine) >90%","Eléments de toutes dimensions et poids","€ / Tonne",50,50,{"$f":"VLOOKUP(J3863,'Codes éco-part'!$C:$E,3,FALSE)","v":"173"},60]
["REP ABJ",4,"22154410200",null,"Entretien et aménagement du jardin","Equipements de plein air et leurs accessoires (hors bâches, filets, housses)","Plastiques (mono résine) >90%","Inférieur strictement à 0,5 kg","€/unité",0.01,0.01,{"$f":"VLOOKUP(J3864,'Codes éco-part'!$C:$E,3,FALSE)","v":"260"},1.2E-2]
["REP ABJ",4,"22154410210",null,"Entretien et aménagement du jardin","Equipements de plein air et leurs accessoires (hors bâches, filets, housses)","Plastiques (mono résine) >90%","Compris entre 0,5 kg et 1 kg exclus","€/unité",0.04,0.04,{"$f":"VLOOKUP(J3865,'Codes éco-part'!$C:$E,3,FALSE)","v":"002"},{"$f":"J3865*1.2","v":4.8000000000000001E-2}]
["REP ABJ",4,"22154410220",null,"Entretien et aménagement du jardin","Equipements de plein air et leurs accessoires (hors bâches, filets, housses)","Plastiques (mono résine) >90%","Compris entre 1 kg et 2 kg exclus","€/unité",0.08,0.08,{"$f":"VLOOKUP(J3866,'Codes éco-part'!$C:$E,3,FALSE)","v":"003"},9.6000000000000002E-2]
["REP ABJ",4,"22154410270",null,"Entretien et aménagement du jardin","Equipements de plein air et leurs accessoires (hors bâches, filets, housses)","Plastiques (mono résine) >90%","Compris entre 30 kg et 40 kg exclus","€/unité",2,2,{"$f":"VLOOKUP(J3867,'Codes éco-part'!$C:$E,3,FALSE)","v":"061"},2.4]
["REP ABJ",4,"22154410520",null,"Entretien et aménagement du jardin","Equipements de plein air et leurs accessoires (hors bâches, filets, housses)","Plastiques (mono résine) >90%","Compris entre 2 kg et 3 kg exclus","€/unité",0.13,0.13,{"$f":"VLOOKUP(J3868,'Codes éco-part'!$C:$E,3,FALSE)","v":"004"},0.156]
["REP ABJ",4,"22154410530",null,"Entretien et aménagement du jardin","Equipements de plein air et leurs accessoires (hors bâches, filets, housses)","Plastiques (mono résine) >90%","Compris entre 3 kg et 5 kg exclus","€/unité",0.2,0.2,{"$f":"VLOOKUP(J3869,'Codes éco-part'!$C:$E,3,FALSE)","v":"101"},0.24]
["REP ABJ",4,"22154410540",null,"Entretien et aménagement du jardin","Equipements de plein air et leurs accessoires (hors bâches, filets, housses)","Plastiques (mono résine) >90%","Compris entre 5 kg et 7 kg exclus","€/unité",0.35,0.35,{"$f":"VLOOKUP(J3870,'Codes éco-part'!$C:$E,3,FALSE)","v":"448"},0.42]
["REP ABJ",4,"22154410550",null,"Entretien et aménagement du jardin","Equipements de plein air et leurs accessoires (hors bâches, filets, housses)","Plastiques (mono résine) >90%","Compris entre 7 kg et 10 kg exclus","€/unité",0.5,0.5,{"$f":"VLOOKUP(J3871,'Codes éco-part'!$C:$E,3,FALSE)","v":"053"},0.6]
["REP ABJ",4,"22154410560",null,"Entretien et aménagement du jardin","Equipements de plein air et leurs accessoires (hors bâches, filets, housses)","Plastiques (mono résine) >90%","Compris entre 10 kg et 15 kg exclus","€/unité",0.75,0.75,{"$f":"VLOOKUP(J3872,'Codes éco-part'!$C:$E,3,FALSE)","v":"328"},0.89999999999999991]
["REP ABJ",4,"22154410570",null,"Entretien et aménagement du jardin","Equipements de plein air et leurs accessoires (hors bâches, filets, housses)","Plastiques (mono résine) >90%","Compris entre 15 kg et 20 kg exclus","€/unité",1,1,{"$f":"VLOOKUP(J3873,'Codes éco-part'!$C:$E,3,FALSE)","v":"056"},1.2]
["REP ABJ",4,"22154410580",null,"Entretien et aménagement du jardin","Equipements de plein air et leurs accessoires (hors bâches, filets, housses)","Plastiques (mono résine) >90%","Compris entre 20 kg et 25 kg exclus","€/unité",1.25,1.25,{"$f":"VLOOKUP(J3874,'Codes éco-part'!$C:$E,3,FALSE)","v":"009"},1.5]
["REP ABJ",4,"22154410590",null,"Entretien et aménagement du jardin","Equipements de plein air et leurs accessoires (hors bâches, filets, housses)","Plastiques (mono résine) >90%","Compris entre 25 kg et 30 kg exclus","€/unité",1.5,1.5,{"$f":"VLOOKUP(J3875,'Codes éco-part'!$C:$E,3,FALSE)","v":"059"},1.7999999999999998]
["REP ABJ",4,"22154410600",null,"Entretien et aménagement du jardin","Equipements de plein air et leurs accessoires (hors bâches, filets, housses)","Plastiques (mono résine) >90%","Compris entre 40 kg et 50 kg exclus","€/unité",2.5,2.5,{"$f":"VLOOKUP(J3876,'Codes éco-part'!$C:$E,3,FALSE)","v":"012"},3]
["REP ABJ",4,"22154420000",null,"Entretien et aménagement du jardin","Equipements de plein air et leurs accessoires (hors bâches, filets, housses)","Polyterephtalate d'Ethylène (PET) >90%","Eléments de toutes dimensions et poids","€ / Tonne",50,50,{"$f":"VLOOKUP(J3877,'Codes éco-part'!$C:$E,3,FALSE)","v":"173"},60]
["REP ABJ",4,"22154420200",null,"Entretien et aménagement du jardin","Equipements de plein air et leurs accessoires (hors bâches, filets, housses)","Polyterephtalate d'Ethylène (PET) >90%","Inférieur strictement à 0,5 kg","€/unité",0.01,0.01,{"$f":"VLOOKUP(J3878,'Codes éco-part'!$C:$E,3,FALSE)","v":"260"},1.2E-2]
["REP ABJ",4,"22154420210",null,"Entretien et aménagement du jardin","Equipements de plein air et leurs accessoires (hors bâches, filets, housses)","Polyterephtalate d'Ethylène (PET) >90%","Compris entre 0,5 kg et 1 kg exclus","€/unité",0.04,0.04,{"$f":"VLOOKUP(J3879,'Codes éco-part'!$C:$E,3,FALSE)","v":"002"},4.8000000000000001E-2]
["REP ABJ",4,"22154420220",null,"Entretien et aménagement du jardin","Equipements de plein air et leurs accessoires (hors bâches, filets, housses)","Polyterephtalate d'Ethylène (PET) >90%","Compris entre 1 kg et 2 kg exclus","€/unité",0.08,0.08,{"$f":"VLOOKUP(J3880,'Codes éco-part'!$C:$E,3,FALSE)","v":"003"},9.6000000000000002E-2]
["REP ABJ",4,"22154420270",null,"Entretien et aménagement du jardin","Equipements de plein air et leurs accessoires (hors bâches, filets, housses)","Polyterephtalate d'Ethylène (PET) >90%","Compris entre 30 kg et 40 kg exclus","€/unité",2,2,{"$f":"VLOOKUP(J3881,'Codes éco-part'!$C:$E,3,FALSE)","v":"061"},2.4]
["REP ABJ",4,"22154420520",null,"Entretien et aménagement du jardin","Equipements de plein air et leurs accessoires (hors bâches, filets, housses)","Polyterephtalate d'Ethylène (PET) >90%","Compris entre 2 kg et 3 kg exclus","€/unité",0.13,0.13,{"$f":"VLOOKUP(J3882,'Codes éco-part'!$C:$E,3,FALSE)","v":"004"},0.156]
["REP ABJ",4,"22154420530",null,"Entretien et aménagement du jardin","Equipements de plein air et leurs accessoires (hors bâches, filets, housses)","Polyterephtalate d'Ethylène (PET) >90%","Compris entre 3 kg et 5 kg exclus","€/unité",0.2,0.2,{"$f":"VLOOKUP(J3883,'Codes éco-part'!$C:$E,3,FALSE)","v":"101"},0.24]
["REP ABJ",4,"22154420540",null,"Entretien et aménagement du jardin","Equipements de plein air et leurs accessoires (hors bâches, filets, housses)","Polyterephtalate d'Ethylène (PET) >90%","Compris entre 5 kg et 7 kg exclus","€/unité",0.35,0.35,{"$f":"VLOOKUP(J3884,'Codes éco-part'!$C:$E,3,FALSE)","v":"448"},0.42]
["REP ABJ",4,"22154420550",null,"Entretien et aménagement du jardin","Equipements de plein air et leurs accessoires (hors bâches, filets, housses)","Polyterephtalate d'Ethylène (PET) >90%","Compris entre 7 kg et 10 kg exclus","€/unité",0.5,0.5,{"$f":"VLOOKUP(J3885,'Codes éco-part'!$C:$E,3,FALSE)","v":"053"},0.6]
["REP ABJ",4,"22154420560",null,"Entretien et aménagement du jardin","Equipements de plein air et leurs accessoires (hors bâches, filets, housses)","Polyterephtalate d'Ethylène (PET) >90%","Compris entre 10 kg et 15 kg exclus","€/unité",0.75,0.75,{"$f":"VLOOKUP(J3886,'Codes éco-part'!$C:$E,3,FALSE)","v":"328"},0.89999999999999991]
["REP ABJ",4,"22154420570",null,"Entretien et aménagement du jardin","Equipements de plein air et leurs accessoires (hors bâches, filets, housses)","Polyterephtalate d'Ethylène (PET) >90%","Compris entre 15 kg et 20 kg exclus","€/unité",1,1,{"$f":"VLOOKUP(J3887,'Codes éco-part'!$C:$E,3,FALSE)","v":"056"},1.2]
["REP ABJ",4,"22154420580",null,"Entretien et aménagement du jardin","Equipements de plein air et leurs accessoires (hors bâches, filets, housses)","Polyterephtalate d'Ethylène (PET) >90%","Compris entre 20 kg et 25 kg exclus","€/unité",1.25,1.25,{"$f":"VLOOKUP(J3888,'Codes éco-part'!$C:$E,3,FALSE)","v":"009"},1.5]
["REP ABJ",4,"22154420590",null,"Entretien et aménagement du jardin","Equipements de plein air et leurs accessoires (hors bâches, filets, housses)","Polyterephtalate d'Ethylène (PET) >90%","Compris entre 25 kg et 30 kg exclus","€/unité",1.5,1.5,{"$f":"VLOOKUP(J3889,'Codes éco-part'!$C:$E,3,FALSE)","v":"059"},1.7999999999999998]
["REP ABJ",4,"22154420600",null,"Entretien et aménagement du jardin","Equipements de plein air et leurs accessoires (hors bâches, filets, housses)","Polyterephtalate d'Ethylène (PET) >90%","Compris entre 40 kg et 50 kg exclus","€/unité",2.5,2.5,{"$f":"VLOOKUP(J3890,'Codes éco-part'!$C:$E,3,FALSE)","v":"012"},3]
["REP ABJ",4,"22154450000",null,"Entretien et aménagement du jardin","Equipements de plein air et leurs accessoires (hors bâches, filets, housses)","PE ou PP ou mélange PP/PE >90%","Eléments de toutes dimensions et poids","€ / Tonne",50,50,{"$f":"VLOOKUP(J3891,'Codes éco-part'!$C:$E,3,FALSE)","v":"173"},60]
["REP ABJ",4,"22154450200",null,"Entretien et aménagement du jardin","Equipements de plein air et leurs accessoires (hors bâches, filets, housses)","PE ou PP ou mélange PP/PE >90%","Inférieur strictement à 0,5 kg","€/unité",0.01,0.01,{"$f":"VLOOKUP(J3892,'Codes éco-part'!$C:$E,3,FALSE)","v":"260"},1.2E-2]
["REP ABJ",4,"22154450210",null,"Entretien et aménagement du jardin","Equipements de plein air et leurs accessoires (hors bâches, filets, housses)","PE ou PP ou mélange PP/PE >90%","Compris entre 0,5 kg et 1 kg exclus","€/unité",0.04,0.04,{"$f":"VLOOKUP(J3893,'Codes éco-part'!$C:$E,3,FALSE)","v":"002"},4.8000000000000001E-2]
["REP ABJ",4,"22154450220",null,"Entretien et aménagement du jardin","Equipements de plein air et leurs accessoires (hors bâches, filets, housses)","PE ou PP ou mélange PP/PE >90%","Compris entre 1 kg et 2 kg exclus","€/unité",0.08,0.08,{"$f":"VLOOKUP(J3894,'Codes éco-part'!$C:$E,3,FALSE)","v":"003"},9.6000000000000002E-2]
["REP ABJ",4,"22154450270",null,"Entretien et aménagement du jardin","Equipements de plein air et leurs accessoires (hors bâches, filets, housses)","PE ou PP ou mélange PP/PE >90%","Compris entre 30 kg et 40 kg exclus","€/unité",2,2,{"$f":"VLOOKUP(J3895,'Codes éco-part'!$C:$E,3,FALSE)","v":"061"},2.4]
["REP ABJ",4,"22154450520",null,"Entretien et aménagement du jardin","Equipements de plein air et leurs accessoires (hors bâches, filets, housses)","PE ou PP ou mélange PP/PE >90%","Compris entre 2 kg et 3 kg exclus","€/unité",0.13,0.13,{"$f":"VLOOKUP(J3896,'Codes éco-part'!$C:$E,3,FALSE)","v":"004"},0.156]
["REP ABJ",4,"22154450530",null,"Entretien et aménagement du jardin","Equipements de plein air et leurs accessoires (hors bâches, filets, housses)","PE ou PP ou mélange PP/PE >90%","Compris entre 3 kg et 5 kg exclus","€/unité",0.2,0.2,{"$f":"VLOOKUP(J3897,'Codes éco-part'!$C:$E,3,FALSE)","v":"101"},0.24]
["REP ABJ",4,"22154450540",null,"Entretien et aménagement du jardin","Equipements de plein air et leurs accessoires (hors bâches, filets, housses)","PE ou PP ou mélange PP/PE >90%","Compris entre 5 kg et 7 kg exclus","€/unité",0.35,0.35,{"$f":"VLOOKUP(J3898,'Codes éco-part'!$C:$E,3,FALSE)","v":"448"},0.42]
["REP ABJ",4,"22154450550",null,"Entretien et aménagement du jardin","Equipements de plein air et leurs accessoires (hors bâches, filets, housses)","PE ou PP ou mélange PP/PE >90%","Compris entre 7 kg et 10 kg exclus","€/unité",0.5,0.5,{"$f":"VLOOKUP(J3899,'Codes éco-part'!$C:$E,3,FALSE)","v":"053"},0.6]
["REP ABJ",4,"22154450560",null,"Entretien et aménagement du jardin","Equipements de plein air et leurs accessoires (hors bâches, filets, housses)","PE ou PP ou mélange PP/PE >90%","Compris entre 10 kg et 15 kg exclus","€/unité",0.75,0.75,{"$f":"VLOOKUP(J3900,'Codes éco-part'!$C:$E,3,FALSE)","v":"328"},0.89999999999999991]
["REP ABJ",4,"22154450570",null,"Entretien et aménagement du jardin","Equipements de plein air et leurs accessoires (hors bâches, filets, housses)","PE ou PP ou mélange PP/PE >90%","Compris entre 15 kg et 20 kg exclus","€/unité",1,1,{"$f":"VLOOKUP(J3901,'Codes éco-part'!$C:$E,3,FALSE)","v":"056"},1.2]
["REP ABJ",4,"22154450580",null,"Entretien et aménagement du jardin","Equipements de plein air et leurs accessoires (hors bâches, filets, housses)","PE ou PP ou mélange PP/PE >90%","Compris entre 20 kg et 25 kg exclus","€/unité",1.25,1.25,{"$f":"VLOOKUP(J3902,'Codes éco-part'!$C:$E,3,FALSE)","v":"009"},1.5]
["REP ABJ",4,"22154450590",null,"Entretien et aménagement du jardin","Equipements de plein air et leurs accessoires (hors bâches, filets, housses)","PE ou PP ou mélange PP/PE >90%","Compris entre 25 kg et 30 kg exclus","€/unité",1.5,1.5,{"$f":"VLOOKUP(J3903,'Codes éco-part'!$C:$E,3,FALSE)","v":"059"},1.7999999999999998]
["REP ABJ",4,"22154450600",null,"Entretien et aménagement du jardin","Equipements de plein air et leurs accessoires (hors bâches, filets, housses)","PE ou PP ou mélange PP/PE >90%","Compris entre 40 kg et 50 kg exclus","€/unité",2.5,2.5,{"$f":"VLOOKUP(J3904,'Codes éco-part'!$C:$E,3,FALSE)","v":"012"},3]
["REP ABJ",4,"22154460000",null,"Entretien et aménagement du jardin","Equipements de plein air et leurs accessoires (hors bâches, filets, housses)","ABS >90%","Eléments de toutes dimensions et poids","€ / Tonne",50,50,{"$f":"VLOOKUP(J3905,'Codes éco-part'!$C:$E,3,FALSE)","v":"173"},60]
["REP ABJ",4,"22154460200",null,"Entretien et aménagement du jardin","Equipements de plein air et leurs accessoires (hors bâches, filets, housses)","ABS >90%","Inférieur strictement à 0,5 kg","€/unité",0.01,0.01,{"$f":"VLOOKUP(J3906,'Codes éco-part'!$C:$E,3,FALSE)","v":"260"},1.2E-2]
["REP ABJ",4,"22154460210",null,"Entretien et aménagement du jardin","Equipements de plein air et leurs accessoires (hors bâches, filets, housses)","ABS >90%","Compris entre 0,5 kg et 1 kg exclus","€/unité",0.04,0.04,{"$f":"VLOOKUP(J3907,'Codes éco-part'!$C:$E,3,FALSE)","v":"002"},4.8000000000000001E-2]
["REP ABJ",4,"22154460220",null,"Entretien et aménagement du jardin","Equipements de plein air et leurs accessoires (hors bâches, filets, housses)","ABS >90%","Compris entre 1 kg et 2 kg exclus","€/unité",0.08,0.08,{"$f":"VLOOKUP(J3908,'Codes éco-part'!$C:$E,3,FALSE)","v":"003"},9.6000000000000002E-2]
["REP ABJ",4,"22154460270",null,"Entretien et aménagement du jardin","Equipements de plein air et leurs accessoires (hors bâches, filets, housses)","ABS >90%","Compris entre 30 kg et 40 kg exclus","€/unité",2,2,{"$f":"VLOOKUP(J3909,'Codes éco-part'!$C:$E,3,FALSE)","v":"061"},2.4]
["REP ABJ",4,"22154460520",null,"Entretien et aménagement du jardin","Equipements de plein air et leurs accessoires (hors bâches, filets, housses)","ABS >90%","Compris entre 2 kg et 3 kg exclus","€/unité",0.13,0.13,{"$f":"VLOOKUP(J3910,'Codes éco-part'!$C:$E,3,FALSE)","v":"004"},0.156]
["REP ABJ",4,"22154460530",null,"Entretien et aménagement du jardin","Equipements de plein air et leurs accessoires (hors bâches, filets, housses)","ABS >90%","Compris entre 3 kg et 5 kg exclus","€/unité",0.2,0.2,{"$f":"VLOOKUP(J3911,'Codes éco-part'!$C:$E,3,FALSE)","v":"101"},0.24]
["REP ABJ",4,"22154460540",null,"Entretien et aménagement du jardin","Equipements de plein air et leurs accessoires (hors bâches, filets, housses)","ABS >90%","Compris entre 5 kg et 7 kg exclus","€/unité",0.35,0.35,{"$f":"VLOOKUP(J3912,'Codes éco-part'!$C:$E,3,FALSE)","v":"448"},0.42]
["REP ABJ",4,"22154460550",null,"Entretien et aménagement du jardin","Equipements de plein air et leurs accessoires (hors bâches, filets, housses)","ABS >90%","Compris entre 7 kg et 10 kg exclus","€/unité",0.5,0.5,{"$f":"VLOOKUP(J3913,'Codes éco-part'!$C:$E,3,FALSE)","v":"053"},0.6]
["REP ABJ",4,"22154460560",null,"Entretien et aménagement du jardin","Equipements de plein air et leurs accessoires (hors bâches, filets, housses)","ABS >90%","Compris entre 10 kg et 15 kg exclus","€/unité",0.75,0.75,{"$f":"VLOOKUP(J3914,'Codes éco-part'!$C:$E,3,FALSE)","v":"328"},0.89999999999999991]
["REP ABJ",4,"22154460570",null,"Entretien et aménagement du jardin","Equipements de plein air et leurs accessoires (hors bâches, filets, housses)","ABS >90%","Compris entre 15 kg et 20 kg exclus","€/unité",1,1,{"$f":"VLOOKUP(J3915,'Codes éco-part'!$C:$E,3,FALSE)","v":"056"},1.2]
["REP ABJ",4,"22154460580",null,"Entretien et aménagement du jardin","Equipements de plein air et leurs accessoires (hors bâches, filets, housses)","ABS >90%","Compris entre 20 kg et 25 kg exclus","€/unité",1.25,1.25,{"$f":"VLOOKUP(J3916,'Codes éco-part'!$C:$E,3,FALSE)","v":"009"},1.5]
["REP ABJ",4,"22154460590",null,"Entretien et aménagement du jardin","Equipements de plein air et leurs accessoires (hors bâches, filets, housses)","ABS >90%","Compris entre 25 kg et 30 kg exclus","€/unité",1.5,1.5,{"$f":"VLOOKUP(J3917,'Codes éco-part'!$C:$E,3,FALSE)","v":"059"},1.7999999999999998]
["REP ABJ",4,"22154460600",null,"Entretien et aménagement du jardin","Equipements de plein air et leurs accessoires (hors bâches, filets, housses)","ABS >90%","Compris entre 40 kg et 50 kg exclus","€/unité",2.5,2.5,{"$f":"VLOOKUP(J3918,'Codes éco-part'!$C:$E,3,FALSE)","v":"012"},3]
["REP ABJ",4,"22154470000",null,"Entretien et aménagement du jardin","Equipements de plein air et leurs accessoires (hors bâches, filets, housses)","Polystyrène >90%","Eléments de toutes dimensions et poids","€ / Tonne",50,50,{"$f":"VLOOKUP(J3919,'Codes éco-part'!$C:$E,3,FALSE)","v":"173"},60]
["REP ABJ",4,"22154470200",null,"Entretien et aménagement du jardin","Equipements de plein air et leurs accessoires (hors bâches, filets, housses)","Polystyrène >90%","Inférieur strictement à 0,5 kg","€/unité",0.01,0.01,{"$f":"VLOOKUP(J3920,'Codes éco-part'!$C:$E,3,FALSE)","v":"260"},1.2E-2]
["REP ABJ",4,"22154470210",null,"Entretien et aménagement du jardin","Equipements de plein air et leurs accessoires (hors bâches, filets, housses)","Polystyrène >90%","Compris entre 0,5 kg et 1 kg exclus","€/unité",0.04,0.04,{"$f":"VLOOKUP(J3921,'Codes éco-part'!$C:$E,3,FALSE)","v":"002"},4.8000000000000001E-2]
["REP ABJ",4,"22154470220",null,"Entretien et aménagement du jardin","Equipements de plein air et leurs accessoires (hors bâches, filets, housses)","Polystyrène >90%","Compris entre 1 kg et 2 kg exclus","€/unité",0.08,0.08,{"$f":"VLOOKUP(J3922,'Codes éco-part'!$C:$E,3,FALSE)","v":"003"},9.6000000000000002E-2]
["REP ABJ",4,"22154470270",null,"Entretien et aménagement du jardin","Equipements de plein air et leurs accessoires (hors bâches, filets, housses)","Polystyrène >90%","Compris entre 30 kg et 40 kg exclus","€/unité",2,2,{"$f":"VLOOKUP(J3923,'Codes éco-part'!$C:$E,3,FALSE)","v":"061"},2.4]
["REP ABJ",4,"22154470520",null,"Entretien et aménagement du jardin","Equipements de plein air et leurs accessoires (hors bâches, filets, housses)","Polystyrène >90%","Compris entre 2 kg et 3 kg exclus","€/unité",0.13,0.13,{"$f":"VLOOKUP(J3924,'Codes éco-part'!$C:$E,3,FALSE)","v":"004"},0.156]
["REP ABJ",4,"22154470530",null,"Entretien et aménagement du jardin","Equipements de plein air et leurs accessoires (hors bâches, filets, housses)","Polystyrène >90%","Compris entre 3 kg et 5 kg exclus","€/unité",0.2,0.2,{"$f":"VLOOKUP(J3925,'Codes éco-part'!$C:$E,3,FALSE)","v":"101"},0.24]
["REP ABJ",4,"22154470540",null,"Entretien et aménagement du jardin","Equipements de plein air et leurs accessoires (hors bâches, filets, housses)","Polystyrène >90%","Compris entre 5 kg et 7 kg exclus","€/unité",0.35,0.35,{"$f":"VLOOKUP(J3926,'Codes éco-part'!$C:$E,3,FALSE)","v":"448"},0.42]
["REP ABJ",4,"22154470550",null,"Entretien et aménagement du jardin","Equipements de plein air et leurs accessoires (hors bâches, filets, housses)","Polystyrène >90%","Compris entre 7 kg et 10 kg exclus","€/unité",0.5,0.5,{"$f":"VLOOKUP(J3927,'Codes éco-part'!$C:$E,3,FALSE)","v":"053"},0.6]
["REP ABJ",4,"22154470560",null,"Entretien et aménagement du jardin","Equipements de plein air et leurs accessoires (hors bâches, filets, housses)","Polystyrène >90%","Compris entre 10 kg et 15 kg exclus","€/unité",0.75,0.75,{"$f":"VLOOKUP(J3928,'Codes éco-part'!$C:$E,3,FALSE)","v":"328"},0.89999999999999991]
["REP ABJ",4,"22154470570",null,"Entretien et aménagement du jardin","Equipements de plein air et leurs accessoires (hors bâches, filets, housses)","Polystyrène >90%","Compris entre 15 kg et 20 kg exclus","€/unité",1,1,{"$f":"VLOOKUP(J3929,'Codes éco-part'!$C:$E,3,FALSE)","v":"056"},{"$f":"J3929*1.2","v":1.2}]
["REP ABJ",4,"22154470580",null,"Entretien et aménagement du jardin","Equipements de plein air et leurs accessoires (hors bâches, filets, housses)","Polystyrène >90%","Compris entre 20 kg et 25 kg exclus","€/unité",1.25,1.25,{"$f":"VLOOKUP(J3930,'Codes éco-part'!$C:$E,3,FALSE)","v":"009"},1.5]
["REP ABJ",4,"22154470590",null,"Entretien et aménagement du jardin","Equipements de plein air et leurs accessoires (hors bâches, filets, housses)","Polystyrène >90%","Compris entre 25 kg et 30 kg exclus","€/unité",1.5,1.5,{"$f":"VLOOKUP(J3931,'Codes éco-part'!$C:$E,3,FALSE)","v":"059"},1.7999999999999998]
["REP ABJ",4,"22154470600",null,"Entretien et aménagement du jardin","Equipements de plein air et leurs accessoires (hors bâches, filets, housses)","Polystyrène >90%","Compris entre 40 kg et 50 kg exclus","€/unité",2.5,2.5,{"$f":"VLOOKUP(J3932,'Codes éco-part'!$C:$E,3,FALSE)","v":"012"},3]
["REP ABJ",4,"22154480000",null,"Entretien et aménagement du jardin","Equipements de plein air et leurs accessoires (hors bâches, filets, housses)","PVC >90%","Eléments de toutes dimensions et poids","€ / Tonne",50,50,{"$f":"VLOOKUP(J3933,'Codes éco-part'!$C:$E,3,FALSE)","v":"173"},60]
["REP ABJ",4,"22154480200",null,"Entretien et aménagement du jardin","Equipements de plein air et leurs accessoires (hors bâches, filets, housses)","PVC >90%","Inférieur strictement à 0,5 kg","€/unité",0.01,0.01,{"$f":"VLOOKUP(J3934,'Codes éco-part'!$C:$E,3,FALSE)","v":"260"},1.2E-2]
["REP ABJ",4,"22154480210",null,"Entretien et aménagement du jardin","Equipements de plein air et leurs accessoires (hors bâches, filets, housses)","PVC >90%","Compris entre 0,5 kg et 1 kg exclus","€/unité",0.04,0.04,{"$f":"VLOOKUP(J3935,'Codes éco-part'!$C:$E,3,FALSE)","v":"002"},4.8000000000000001E-2]
["REP ABJ",4,"22154480220",null,"Entretien et aménagement du jardin","Equipements de plein air et leurs accessoires (hors bâches, filets, housses)","PVC >90%","Compris entre 1 kg et 2 kg exclus","€/unité",0.08,0.08,{"$f":"VLOOKUP(J3936,'Codes éco-part'!$C:$E,3,FALSE)","v":"003"},9.6000000000000002E-2]
["REP ABJ",4,"22154480270",null,"Entretien et aménagement du jardin","Equipements de plein air et leurs accessoires (hors bâches, filets, housses)","PVC >90%","Compris entre 30 kg et 40 kg exclus","€/unité",2,2,{"$f":"VLOOKUP(J3937,'Codes éco-part'!$C:$E,3,FALSE)","v":"061"},2.4]
["REP ABJ",4,"22154480520",null,"Entretien et aménagement du jardin","Equipements de plein air et leurs accessoires (hors bâches, filets, housses)","PVC >90%","Compris entre 2 kg et 3 kg exclus","€/unité",0.13,0.13,{"$f":"VLOOKUP(J3938,'Codes éco-part'!$C:$E,3,FALSE)","v":"004"},0.156]
["REP ABJ",4,"22154480530",null,"Entretien et aménagement du jardin","Equipements de plein air et leurs accessoires (hors bâches, filets, housses)","PVC >90%","Compris entre 3 kg et 5 kg exclus","€/unité",0.2,0.2,{"$f":"VLOOKUP(J3939,'Codes éco-part'!$C:$E,3,FALSE)","v":"101"},0.24]
["REP ABJ",4,"22154480540",null,"Entretien et aménagement du jardin","Equipements de plein air et leurs accessoires (hors bâches, filets, housses)","PVC >90%","Compris entre 5 kg et 7 kg exclus","€/unité",0.35,0.35,{"$f":"VLOOKUP(J3940,'Codes éco-part'!$C:$E,3,FALSE)","v":"448"},0.42]
["REP ABJ",4,"22154480550",null,"Entretien et aménagement du jardin","Equipements de plein air et leurs accessoires (hors bâches, filets, housses)","PVC >90%","Compris entre 7 kg et 10 kg exclus","€/unité",0.5,0.5,{"$f":"VLOOKUP(J3941,'Codes éco-part'!$C:$E,3,FALSE)","v":"053"},0.6]
["REP ABJ",4,"22154480560",null,"Entretien et aménagement du jardin","Equipements de plein air et leurs accessoires (hors bâches, filets, housses)","PVC >90%","Compris entre 10 kg et 15 kg exclus","€/unité",0.75,0.75,{"$f":"VLOOKUP(J3942,'Codes éco-part'!$C:$E,3,FALSE)","v":"328"},0.89999999999999991]
["REP ABJ",4,"22154480570",null,"Entretien et aménagement du jardin","Equipements de plein air et leurs accessoires (hors bâches, filets, housses)","PVC >90%","Compris entre 15 kg et 20 kg exclus","€/unité",1,1,{"$f":"VLOOKUP(J3943,'Codes éco-part'!$C:$E,3,FALSE)","v":"056"},1.2]
["REP ABJ",4,"22154480580",null,"Entretien et aménagement du jardin","Equipements de plein air et leurs accessoires (hors bâches, filets, housses)","PVC >90%","Compris entre 20 kg et 25 kg exclus","€/unité",1.25,1.25,{"$f":"VLOOKUP(J3944,'Codes éco-part'!$C:$E,3,FALSE)","v":"009"},1.5]
["REP ABJ",4,"22154480590",null,"Entretien et aménagement du jardin","Equipements de plein air et leurs accessoires (hors bâches, filets, housses)","PVC >90%","Compris entre 25 kg et 30 kg exclus","€/unité",1.5,1.5,{"$f":"VLOOKUP(J3945,'Codes éco-part'!$C:$E,3,FALSE)","v":"059"},1.7999999999999998]
["REP ABJ",4,"22154480600",null,"Entretien et aménagement du jardin","Equipements de plein air et leurs accessoires (hors bâches, filets, housses)","PVC >90%","Compris entre 40 kg et 50 kg exclus","€/unité",2.5,2.5,{"$f":"VLOOKUP(J3946,'Codes éco-part'!$C:$E,3,FALSE)","v":"012"},3]
["REP ABJ",4,"22154490000",null,"Entretien et aménagement du jardin","Equipements de plein air et leurs accessoires (hors bâches, filets, housses)","Caoutchouc synthétique >90%","Eléments de toutes dimensions et poids","€ / Tonne",50,50,{"$f":"VLOOKUP(J3947,'Codes éco-part'!$C:$E,3,FALSE)","v":"173"},60]
["REP ABJ",4,"22154490200",null,"Entretien et aménagement du jardin","Equipements de plein air et leurs accessoires (hors bâches, filets, housses)","Caoutchouc synthétique >90%","Inférieur strictement à 0,5 kg","€/unité",0.01,0.01,{"$f":"VLOOKUP(J3948,'Codes éco-part'!$C:$E,3,FALSE)","v":"260"},1.2E-2]
["REP ABJ",4,"22154490210",null,"Entretien et aménagement du jardin","Equipements de plein air et leurs accessoires (hors bâches, filets, housses)","Caoutchouc synthétique >90%","Compris entre 0,5 kg et 1 kg exclus","€/unité",0.04,0.04,{"$f":"VLOOKUP(J3949,'Codes éco-part'!$C:$E,3,FALSE)","v":"002"},4.8000000000000001E-2]
["REP ABJ",4,"22154490220",null,"Entretien et aménagement du jardin","Equipements de plein air et leurs accessoires (hors bâches, filets, housses)","Caoutchouc synthétique >90%","Compris entre 1 kg et 2 kg exclus","€/unité",0.08,0.08,{"$f":"VLOOKUP(J3950,'Codes éco-part'!$C:$E,3,FALSE)","v":"003"},9.6000000000000002E-2]
["REP ABJ",4,"22154490270",null,"Entretien et aménagement du jardin","Equipements de plein air et leurs accessoires (hors bâches, filets, housses)","Caoutchouc synthétique >90%","Compris entre 30 kg et 40 kg exclus","€/unité",2,2,{"$f":"VLOOKUP(J3951,'Codes éco-part'!$C:$E,3,FALSE)","v":"061"},2.4]
["REP ABJ",4,"22154490520",null,"Entretien et aménagement du jardin","Equipements de plein air et leurs accessoires (hors bâches, filets, housses)","Caoutchouc synthétique >90%","Compris entre 2 kg et 3 kg exclus","€/unité",0.13,0.13,{"$f":"VLOOKUP(J3952,'Codes éco-part'!$C:$E,3,FALSE)","v":"004"},0.156]
["REP ABJ",4,"22154490530",null,"Entretien et aménagement du jardin","Equipements de plein air et leurs accessoires (hors bâches, filets, housses)","Caoutchouc synthétique >90%","Compris entre 3 kg et 5 kg exclus","€/unité",0.2,0.2,{"$f":"VLOOKUP(J3953,'Codes éco-part'!$C:$E,3,FALSE)","v":"101"},0.24]
["REP ABJ",4,"22154490540",null,"Entretien et aménagement du jardin","Equipements de plein air et leurs accessoires (hors bâches, filets, housses)","Caoutchouc synthétique >90%","Compris entre 5 kg et 7 kg exclus","€/unité",0.35,0.35,{"$f":"VLOOKUP(J3954,'Codes éco-part'!$C:$E,3,FALSE)","v":"448"},0.42]
["REP ABJ",4,"22154490550",null,"Entretien et aménagement du jardin","Equipements de plein air et leurs accessoires (hors bâches, filets, housses)","Caoutchouc synthétique >90%","Compris entre 7 kg et 10 kg exclus","€/unité",0.5,0.5,{"$f":"VLOOKUP(J3955,'Codes éco-part'!$C:$E,3,FALSE)","v":"053"},0.6]
["REP ABJ",4,"22154490560",null,"Entretien et aménagement du jardin","Equipements de plein air et leurs accessoires (hors bâches, filets, housses)","Caoutchouc synthétique >90%","Compris entre 10 kg et 15 kg exclus","€/unité",0.75,0.75,{"$f":"VLOOKUP(J3956,'Codes éco-part'!$C:$E,3,FALSE)","v":"328"},0.89999999999999991]
["REP ABJ",4,"22154490570",null,"Entretien et aménagement du jardin","Equipements de plein air et leurs accessoires (hors bâches, filets, housses)","Caoutchouc synthétique >90%","Compris entre 15 kg et 20 kg exclus","€/unité",1,1,{"$f":"VLOOKUP(J3957,'Codes éco-part'!$C:$E,3,FALSE)","v":"056"},1.2]
["REP ABJ",4,"22154490580",null,"Entretien et aménagement du jardin","Equipements de plein air et leurs accessoires (hors bâches, filets, housses)","Caoutchouc synthétique >90%","Compris entre 20 kg et 25 kg exclus","€/unité",1.25,1.25,{"$f":"VLOOKUP(J3958,'Codes éco-part'!$C:$E,3,FALSE)","v":"009"},1.5]
["REP ABJ",4,"22154490590",null,"Entretien et aménagement du jardin","Equipements de plein air et leurs accessoires (hors bâches, filets, housses)","Caoutchouc synthétique >90%","Compris entre 25 kg et 30 kg exclus","€/unité",1.5,1.5,{"$f":"VLOOKUP(J3959,'Codes éco-part'!$C:$E,3,FALSE)","v":"059"},1.7999999999999998]
["REP ABJ",4,"22154490600",null,"Entretien et aménagement du jardin","Equipements de plein air et leurs accessoires (hors bâches, filets, housses)","Caoutchouc synthétique >90%","Compris entre 40 kg et 50 kg exclus","€/unité",2.5,2.5,{"$f":"VLOOKUP(J3960,'Codes éco-part'!$C:$E,3,FALSE)","v":"012"},3]
["REP ABJ",4,"22154520000",null,"Entretien et aménagement du jardin","Equipements de plein air et leurs accessoires (hors bâches, filets, housses)","Massif et assimilés certifiés >90%","Eléments de toutes dimensions et poids","€ / Tonne",10,10,{"$f":"VLOOKUP(J3961,'Codes éco-part'!$C:$E,3,FALSE)","v":"138"},12]
["REP ABJ",4,"22154520200",null,"Entretien et aménagement du jardin","Equipements de plein air et leurs accessoires (hors bâches, filets, housses)","Massif et assimilés certifiés >90%","Inférieur strictement à 0,5 kg","€/unité",0.01,0.01,{"$f":"VLOOKUP(J3962,'Codes éco-part'!$C:$E,3,FALSE)","v":"260"},1.2E-2]
["REP ABJ",4,"22154520210",null,"Entretien et aménagement du jardin","Equipements de plein air et leurs accessoires (hors bâches, filets, housses)","Massif et assimilés certifiés >90%","Compris entre 0,5 kg et 1 kg exclus","€/unité",0.01,0.01,{"$f":"VLOOKUP(J3963,'Codes éco-part'!$C:$E,3,FALSE)","v":"260"},1.2E-2]
["REP ABJ",4,"22154520220",null,"Entretien et aménagement du jardin","Equipements de plein air et leurs accessoires (hors bâches, filets, housses)","Massif et assimilés certifiés >90%","Compris entre 1 kg et 2 kg exclus","€/unité",0.02,0.02,{"$f":"VLOOKUP(J3964,'Codes éco-part'!$C:$E,3,FALSE)","v":"047"},2.4E-2]
["REP ABJ",4,"22154520270",null,"Entretien et aménagement du jardin","Equipements de plein air et leurs accessoires (hors bâches, filets, housses)","Massif et assimilés certifiés >90%","Compris entre 30 kg et 40 kg exclus","€/unité",0.4,0.4,{"$f":"VLOOKUP(J3965,'Codes éco-part'!$C:$E,3,FALSE)","v":"105"},0.48]
["REP ABJ",4,"22154520520",null,"Entretien et aménagement du jardin","Equipements de plein air et leurs accessoires (hors bâches, filets, housses)","Massif et assimilés certifiés >90%","Compris entre 2 kg et 3 kg exclus","€/unité",0.03,0.03,{"$f":"VLOOKUP(J3966,'Codes éco-part'!$C:$E,3,FALSE)","v":"092"},3.5999999999999997E-2]
["REP ABJ",4,"22154520530",null,"Entretien et aménagement du jardin","Equipements de plein air et leurs accessoires (hors bâches, filets, housses)","Massif et assimilés certifiés >90%","Compris entre 3 kg et 5 kg exclus","€/unité",0.04,0.04,{"$f":"VLOOKUP(J3967,'Codes éco-part'!$C:$E,3,FALSE)","v":"002"},4.8000000000000001E-2]
["REP ABJ",4,"22154520540",null,"Entretien et aménagement du jardin","Equipements de plein air et leurs accessoires (hors bâches, filets, housses)","Massif et assimilés certifiés >90%","Compris entre 5 kg et 7 kg exclus","€/unité",7.0000000000000007E-2,7.0000000000000007E-2,{"$f":"VLOOKUP(J3968,'Codes éco-part'!$C:$E,3,FALSE)","v":"247"},8.4000000000000005E-2]
["REP ABJ",4,"22154520550",null,"Entretien et aménagement du jardin","Equipements de plein air et leurs accessoires (hors bâches, filets, housses)","Massif et assimilés certifiés >90%","Compris entre 7 kg et 10 kg exclus","€/unité",0.1,0.1,{"$f":"VLOOKUP(J3969,'Codes éco-part'!$C:$E,3,FALSE)","v":"094"},0.12]
["REP ABJ",4,"22154520560",null,"Entretien et aménagement du jardin","Equipements de plein air et leurs accessoires (hors bâches, filets, housses)","Massif et assimilés certifiés >90%","Compris entre 10 kg et 15 kg exclus","€/unité",0.15,0.15,{"$f":"VLOOKUP(J3970,'Codes éco-part'!$C:$E,3,FALSE)","v":"050"},0.18]
["REP ABJ",4,"22154520570",null,"Entretien et aménagement du jardin","Equipements de plein air et leurs accessoires (hors bâches, filets, housses)","Massif et assimilés certifiés >90%","Compris entre 15 kg et 20 kg exclus","€/unité",0.2,0.2,{"$f":"VLOOKUP(J3971,'Codes éco-part'!$C:$E,3,FALSE)","v":"101"},0.24]
["REP ABJ",4,"22154520580",null,"Entretien et aménagement du jardin","Equipements de plein air et leurs accessoires (hors bâches, filets, housses)","Massif et assimilés certifiés >90%","Compris entre 20 kg et 25 kg exclus","€/unité",0.25,0.25,{"$f":"VLOOKUP(J3972,'Codes éco-part'!$C:$E,3,FALSE)","v":"095"},0.3]
["REP ABJ",4,"22154520590",null,"Entretien et aménagement du jardin","Equipements de plein air et leurs accessoires (hors bâches, filets, housses)","Massif et assimilés certifiés >90%","Compris entre 25 kg et 30 kg exclus","€/unité",0.3,0.3,{"$f":"VLOOKUP(J3973,'Codes éco-part'!$C:$E,3,FALSE)","v":"446"},0.36]
["REP ABJ",4,"22154520600",null,"Entretien et aménagement du jardin","Equipements de plein air et leurs accessoires (hors bâches, filets, housses)","Massif et assimilés certifiés >90%","Compris entre 40 kg et 50 kg exclus","€/unité",0.5,0.5,{"$f":"VLOOKUP(J3974,'Codes éco-part'!$C:$E,3,FALSE)","v":"053"},0.6]
["REP ABJ",4,"22154530000",null,"Entretien et aménagement du jardin","Equipements de plein air et leurs accessoires (hors bâches, filets, housses)","Massif et assimilés >90%","Eléments de toutes dimensions et poids","€ / Tonne",10,10,{"$f":"VLOOKUP(J3975,'Codes éco-part'!$C:$E,3,FALSE)","v":"138"},12]
["REP ABJ",4,"22154530200",null,"Entretien et aménagement du jardin","Equipements de plein air et leurs accessoires (hors bâches, filets, housses)","Massif et assimilés >90%","Inférieur strictement à 0,5 kg","€/unité",0.01,0.01,{"$f":"VLOOKUP(J3976,'Codes éco-part'!$C:$E,3,FALSE)","v":"260"},1.2E-2]
["REP ABJ",4,"22154530210",null,"Entretien et aménagement du jardin","Equipements de plein air et leurs accessoires (hors bâches, filets, housses)","Massif et assimilés >90%","Compris entre 0,5 kg et 1 kg exclus","€/unité",0.01,0.01,{"$f":"VLOOKUP(J3977,'Codes éco-part'!$C:$E,3,FALSE)","v":"260"},1.2E-2]
["REP ABJ",4,"22154530220",null,"Entretien et aménagement du jardin","Equipements de plein air et leurs accessoires (hors bâches, filets, housses)","Massif et assimilés >90%","Compris entre 1 kg et 2 kg exclus","€/unité",0.02,0.02,{"$f":"VLOOKUP(J3978,'Codes éco-part'!$C:$E,3,FALSE)","v":"047"},2.4E-2]
["REP ABJ",4,"22154530270",null,"Entretien et aménagement du jardin","Equipements de plein air et leurs accessoires (hors bâches, filets, housses)","Massif et assimilés >90%","Compris entre 30 kg et 40 kg exclus","€/unité",0.4,0.4,{"$f":"VLOOKUP(J3979,'Codes éco-part'!$C:$E,3,FALSE)","v":"105"},0.48]
["REP ABJ",4,"22154530520",null,"Entretien et aménagement du jardin","Equipements de plein air et leurs accessoires (hors bâches, filets, housses)","Massif et assimilés >90%","Compris entre 2 kg et 3 kg exclus","€/unité",0.03,0.03,{"$f":"VLOOKUP(J3980,'Codes éco-part'!$C:$E,3,FALSE)","v":"092"},3.5999999999999997E-2]
["REP ABJ",4,"22154530530",null,"Entretien et aménagement du jardin","Equipements de plein air et leurs accessoires (hors bâches, filets, housses)","Massif et assimilés >90%","Compris entre 3 kg et 5 kg exclus","€/unité",0.04,0.04,{"$f":"VLOOKUP(J3981,'Codes éco-part'!$C:$E,3,FALSE)","v":"002"},4.8000000000000001E-2]
["REP ABJ",4,"22154530540",null,"Entretien et aménagement du jardin","Equipements de plein air et leurs accessoires (hors bâches, filets, housses)","Massif et assimilés >90%","Compris entre 5 kg et 7 kg exclus","€/unité",7.0000000000000007E-2,7.0000000000000007E-2,{"$f":"VLOOKUP(J3982,'Codes éco-part'!$C:$E,3,FALSE)","v":"247"},8.4000000000000005E-2]
["REP ABJ",4,"22154530550",null,"Entretien et aménagement du jardin","Equipements de plein air et leurs accessoires (hors bâches, filets, housses)","Massif et assimilés >90%","Compris entre 7 kg et 10 kg exclus","€/unité",0.1,0.1,{"$f":"VLOOKUP(J3983,'Codes éco-part'!$C:$E,3,FALSE)","v":"094"},0.12]
["REP ABJ",4,"22154530560",null,"Entretien et aménagement du jardin","Equipements de plein air et leurs accessoires (hors bâches, filets, housses)","Massif et assimilés >90%","Compris entre 10 kg et 15 kg exclus","€/unité",0.15,0.15,{"$f":"VLOOKUP(J3984,'Codes éco-part'!$C:$E,3,FALSE)","v":"050"},0.18]
["REP ABJ",4,"22154530570",null,"Entretien et aménagement du jardin","Equipements de plein air et leurs accessoires (hors bâches, filets, housses)","Massif et assimilés >90%","Compris entre 15 kg et 20 kg exclus","€/unité",0.2,0.2,{"$f":"VLOOKUP(J3985,'Codes éco-part'!$C:$E,3,FALSE)","v":"101"},0.24]
["REP ABJ",4,"22154530580",null,"Entretien et aménagement du jardin","Equipements de plein air et leurs accessoires (hors bâches, filets, housses)","Massif et assimilés >90%","Compris entre 20 kg et 25 kg exclus","€/unité",0.25,0.25,{"$f":"VLOOKUP(J3986,'Codes éco-part'!$C:$E,3,FALSE)","v":"095"},0.3]
["REP ABJ",4,"22154530590",null,"Entretien et aménagement du jardin","Equipements de plein air et leurs accessoires (hors bâches, filets, housses)","Massif et assimilés >90%","Compris entre 25 kg et 30 kg exclus","€/unité",0.3,0.3,{"$f":"VLOOKUP(J3987,'Codes éco-part'!$C:$E,3,FALSE)","v":"446"},0.36]
["REP ABJ",4,"22154530600",null,"Entretien et aménagement du jardin","Equipements de plein air et leurs accessoires (hors bâches, filets, housses)","Massif et assimilés >90%","Compris entre 40 kg et 50 kg exclus","€/unité",0.5,0.5,{"$f":"VLOOKUP(J3988,'Codes éco-part'!$C:$E,3,FALSE)","v":"053"},0.6]
["REP ABJ",4,"22154550000",null,"Entretien et aménagement du jardin","Equipements de plein air et leurs accessoires (hors bâches, filets, housses)","Matériaux bio sourcés ou textiles non synthétiques >90%","Eléments de toutes dimensions et poids","€ / Tonne",30,30,{"$f":"VLOOKUP(J3989,'Codes éco-part'!$C:$E,3,FALSE)","v":"153"},36]
["REP ABJ",4,"22154550200",null,"Entretien et aménagement du jardin","Equipements de plein air et leurs accessoires (hors bâches, filets, housses)","Matériaux bio sourcés ou textiles non synthétiques >90%","Inférieur strictement à 0,5 kg","€/unité",0.01,0.01,{"$f":"VLOOKUP(J3990,'Codes éco-part'!$C:$E,3,FALSE)","v":"260"},1.2E-2]
["REP ABJ",4,"22154550210",null,"Entretien et aménagement du jardin","Equipements de plein air et leurs accessoires (hors bâches, filets, housses)","Matériaux bio sourcés ou textiles non synthétiques >90%","Compris entre 0,5 kg et 1 kg exclus","€/unité",0.02,0.02,{"$f":"VLOOKUP(J3991,'Codes éco-part'!$C:$E,3,FALSE)","v":"047"},2.4E-2]
["REP ABJ",4,"22154550220",null,"Entretien et aménagement du jardin","Equipements de plein air et leurs accessoires (hors bâches, filets, housses)","Matériaux bio sourcés ou textiles non synthétiques >90%","Compris entre 1 kg et 2 kg exclus","€/unité",0.05,0.05,{"$f":"VLOOKUP(J3992,'Codes éco-part'!$C:$E,3,FALSE)","v":"048"},0.06]
["REP ABJ",4,"22154550270",null,"Entretien et aménagement du jardin","Equipements de plein air et leurs accessoires (hors bâches, filets, housses)","Matériaux bio sourcés ou textiles non synthétiques >90%","Compris entre 30 kg et 40 kg exclus","€/unité",1.2,1.2,{"$f":"VLOOKUP(J3993,'Codes éco-part'!$C:$E,3,FALSE)","v":"505"},{"$f":"J3993*1.2","v":1.44}]
["REP ABJ",4,"22154550520",null,"Entretien et aménagement du jardin","Equipements de plein air et leurs accessoires (hors bâches, filets, housses)","Matériaux bio sourcés ou textiles non synthétiques >90%","Compris entre 2 kg et 3 kg exclus","€/unité",0.08,0.08,{"$f":"VLOOKUP(J3994,'Codes éco-part'!$C:$E,3,FALSE)","v":"003"},9.6000000000000002E-2]
["REP ABJ",4,"22154550530",null,"Entretien et aménagement du jardin","Equipements de plein air et leurs accessoires (hors bâches, filets, housses)","Matériaux bio sourcés ou textiles non synthétiques >90%","Compris entre 3 kg et 5 kg exclus","€/unité",0.12,0.12,{"$f":"VLOOKUP(J3995,'Codes éco-part'!$C:$E,3,FALSE)","v":"097"},0.14399999999999999]
["REP ABJ",4,"22154550540",null,"Entretien et aménagement du jardin","Equipements de plein air et leurs accessoires (hors bâches, filets, housses)","Matériaux bio sourcés ou textiles non synthétiques >90%","Compris entre 5 kg et 7 kg exclus","€/unité",0.21,0.21,{"$f":"VLOOKUP(J3996,'Codes éco-part'!$C:$E,3,FALSE)","v":"051"},0.252]
["REP ABJ",4,"22154550550",null,"Entretien et aménagement du jardin","Equipements de plein air et leurs accessoires (hors bâches, filets, housses)","Matériaux bio sourcés ou textiles non synthétiques >90%","Compris entre 7 kg et 10 kg exclus","€/unité",0.3,0.3,{"$f":"VLOOKUP(J3997,'Codes éco-part'!$C:$E,3,FALSE)","v":"446"},0.36]
["REP ABJ",4,"22154550560",null,"Entretien et aménagement du jardin","Equipements de plein air et leurs accessoires (hors bâches, filets, housses)","Matériaux bio sourcés ou textiles non synthétiques >90%","Compris entre 10 kg et 15 kg exclus","€/unité",0.45,0.45,{"$f":"VLOOKUP(J3998,'Codes éco-part'!$C:$E,3,FALSE)","v":"325"},0.54]
["REP ABJ",4,"22154550570",null,"Entretien et aménagement du jardin","Equipements de plein air et leurs accessoires (hors bâches, filets, housses)","Matériaux bio sourcés ou textiles non synthétiques >90%","Compris entre 15 kg et 20 kg exclus","€/unité",0.6,0.6,{"$f":"VLOOKUP(J3999,'Codes éco-part'!$C:$E,3,FALSE)","v":"327"},0.72]
["REP ABJ",4,"22154550580",null,"Entretien et aménagement du jardin","Equipements de plein air et leurs accessoires (hors bâches, filets, housses)","Matériaux bio sourcés ou textiles non synthétiques >90%","Compris entre 20 kg et 25 kg exclus","€/unité",0.75,0.75,{"$f":"VLOOKUP(J4000,'Codes éco-part'!$C:$E,3,FALSE)","v":"328"},0.89999999999999991]
["REP ABJ",4,"22154550590",null,"Entretien et aménagement du jardin","Equipements de plein air et leurs accessoires (hors bâches, filets, housses)","Matériaux bio sourcés ou textiles non synthétiques >90%","Compris entre 25 kg et 30 kg exclus","€/unité",0.9,0.9,{"$f":"VLOOKUP(J4001,'Codes éco-part'!$C:$E,3,FALSE)","v":"330"},1.08]
["REP ABJ",4,"22154550600",null,"Entretien et aménagement du jardin","Equipements de plein air et leurs accessoires (hors bâches, filets, housses)","Matériaux bio sourcés ou textiles non synthétiques >90%","Compris entre 40 kg et 50 kg exclus","€/unité",1.5,1.5,{"$f":"VLOOKUP(J4002,'Codes éco-part'!$C:$E,3,FALSE)","v":"059"},1.7999999999999998]
["REP ABJ",4,"22154590000",null,"Entretien et aménagement du jardin","Equipements de plein air et leurs accessoires (hors bâches, filets, housses)","Panneaux de particules ou OSB certifiés >90%","Eléments de toutes dimensions et poids","€ / Tonne",10,10,{"$f":"VLOOKUP(J4003,'Codes éco-part'!$C:$E,3,FALSE)","v":"138"},12]
["REP ABJ",4,"22154590200",null,"Entretien et aménagement du jardin","Equipements de plein air et leurs accessoires (hors bâches, filets, housses)","Panneaux de particules ou OSB certifiés >90%","Inférieur strictement à 0,5 kg","€/unité",0.01,0.01,{"$f":"VLOOKUP(J4004,'Codes éco-part'!$C:$E,3,FALSE)","v":"260"},1.2E-2]
["REP ABJ",4,"22154590210",null,"Entretien et aménagement du jardin","Equipements de plein air et leurs accessoires (hors bâches, filets, housses)","Panneaux de particules ou OSB certifiés >90%","Compris entre 0,5 kg et 1 kg exclus","€/unité",0.01,0.01,{"$f":"VLOOKUP(J4005,'Codes éco-part'!$C:$E,3,FALSE)","v":"260"},1.2E-2]
["REP ABJ",4,"22154590220",null,"Entretien et aménagement du jardin","Equipements de plein air et leurs accessoires (hors bâches, filets, housses)","Panneaux de particules ou OSB certifiés >90%","Compris entre 1 kg et 2 kg exclus","€/unité",0.02,0.02,{"$f":"VLOOKUP(J4006,'Codes éco-part'!$C:$E,3,FALSE)","v":"047"},2.4E-2]
["REP ABJ",4,"22154590270",null,"Entretien et aménagement du jardin","Equipements de plein air et leurs accessoires (hors bâches, filets, housses)","Panneaux de particules ou OSB certifiés >90%","Compris entre 30 kg et 40 kg exclus","€/unité",0.4,0.4,{"$f":"VLOOKUP(J4007,'Codes éco-part'!$C:$E,3,FALSE)","v":"105"},0.48]
["REP ABJ",4,"22154590520",null,"Entretien et aménagement du jardin","Equipements de plein air et leurs accessoires (hors bâches, filets, housses)","Panneaux de particules ou OSB certifiés >90%","Compris entre 2 kg et 3 kg exclus","€/unité",0.03,0.03,{"$f":"VLOOKUP(J4008,'Codes éco-part'!$C:$E,3,FALSE)","v":"092"},3.5999999999999997E-2]
["REP ABJ",4,"22154590530",null,"Entretien et aménagement du jardin","Equipements de plein air et leurs accessoires (hors bâches, filets, housses)","Panneaux de particules ou OSB certifiés >90%","Compris entre 3 kg et 5 kg exclus","€/unité",0.04,0.04,{"$f":"VLOOKUP(J4009,'Codes éco-part'!$C:$E,3,FALSE)","v":"002"},4.8000000000000001E-2]
["REP ABJ",4,"22154590540",null,"Entretien et aménagement du jardin","Equipements de plein air et leurs accessoires (hors bâches, filets, housses)","Panneaux de particules ou OSB certifiés >90%","Compris entre 5 kg et 7 kg exclus","€/unité",7.0000000000000007E-2,7.0000000000000007E-2,{"$f":"VLOOKUP(J4010,'Codes éco-part'!$C:$E,3,FALSE)","v":"247"},8.4000000000000005E-2]
["REP ABJ",4,"22154590550",null,"Entretien et aménagement du jardin","Equipements de plein air et leurs accessoires (hors bâches, filets, housses)","Panneaux de particules ou OSB certifiés >90%","Compris entre 7 kg et 10 kg exclus","€/unité",0.1,0.1,{"$f":"VLOOKUP(J4011,'Codes éco-part'!$C:$E,3,FALSE)","v":"094"},0.12]
["REP ABJ",4,"22154590560",null,"Entretien et aménagement du jardin","Equipements de plein air et leurs accessoires (hors bâches, filets, housses)","Panneaux de particules ou OSB certifiés >90%","Compris entre 10 kg et 15 kg exclus","€/unité",0.15,0.15,{"$f":"VLOOKUP(J4012,'Codes éco-part'!$C:$E,3,FALSE)","v":"050"},0.18]
["REP ABJ",4,"22154590570",null,"Entretien et aménagement du jardin","Equipements de plein air et leurs accessoires (hors bâches, filets, housses)","Panneaux de particules ou OSB certifiés >90%","Compris entre 15 kg et 20 kg exclus","€/unité",0.2,0.2,{"$f":"VLOOKUP(J4013,'Codes éco-part'!$C:$E,3,FALSE)","v":"101"},0.24]
["REP ABJ",4,"22154590580",null,"Entretien et aménagement du jardin","Equipements de plein air et leurs accessoires (hors bâches, filets, housses)","Panneaux de particules ou OSB certifiés >90%","Compris entre 20 kg et 25 kg exclus","€/unité",0.25,0.25,{"$f":"VLOOKUP(J4014,'Codes éco-part'!$C:$E,3,FALSE)","v":"095"},0.3]
["REP ABJ",4,"22154590590",null,"Entretien et aménagement du jardin","Equipements de plein air et leurs accessoires (hors bâches, filets, housses)","Panneaux de particules ou OSB certifiés >90%","Compris entre 25 kg et 30 kg exclus","€/unité",0.3,0.3,{"$f":"VLOOKUP(J4015,'Codes éco-part'!$C:$E,3,FALSE)","v":"446"},0.36]
["REP ABJ",4,"22154590600",null,"Entretien et aménagement du jardin","Equipements de plein air et leurs accessoires (hors bâches, filets, housses)","Panneaux de particules ou OSB certifiés >90%","Compris entre 40 kg et 50 kg exclus","€/unité",0.5,0.5,{"$f":"VLOOKUP(J4016,'Codes éco-part'!$C:$E,3,FALSE)","v":"053"},0.6]
["REP ABJ",4,"22154600000",null,"Entretien et aménagement du jardin","Equipements de plein air et leurs accessoires (hors bâches, filets, housses)","Panneaux de particules ou OSB certifiés >75%","Eléments de toutes dimensions et poids","€ / Tonne",10,10,{"$f":"VLOOKUP(J4017,'Codes éco-part'!$C:$E,3,FALSE)","v":"138"},12]
["REP ABJ",4,"22154600200",null,"Entretien et aménagement du jardin","Equipements de plein air et leurs accessoires (hors bâches, filets, housses)","Panneaux de particules ou OSB certifiés >75%","Inférieur strictement à 0,5 kg","€/unité",0.01,0.01,{"$f":"VLOOKUP(J4018,'Codes éco-part'!$C:$E,3,FALSE)","v":"260"},1.2E-2]
["REP ABJ",4,"22154600210",null,"Entretien et aménagement du jardin","Equipements de plein air et leurs accessoires (hors bâches, filets, housses)","Panneaux de particules ou OSB certifiés >75%","Compris entre 0,5 kg et 1 kg exclus","€/unité",0.01,0.01,{"$f":"VLOOKUP(J4019,'Codes éco-part'!$C:$E,3,FALSE)","v":"260"},1.2E-2]
["REP ABJ",4,"22154600220",null,"Entretien et aménagement du jardin","Equipements de plein air et leurs accessoires (hors bâches, filets, housses)","Panneaux de particules ou OSB certifiés >75%","Compris entre 1 kg et 2 kg exclus","€/unité",0.02,0.02,{"$f":"VLOOKUP(J4020,'Codes éco-part'!$C:$E,3,FALSE)","v":"047"},2.4E-2]
["REP ABJ",4,"22154600270",null,"Entretien et aménagement du jardin","Equipements de plein air et leurs accessoires (hors bâches, filets, housses)","Panneaux de particules ou OSB certifiés >75%","Compris entre 30 kg et 40 kg exclus","€/unité",0.4,0.4,{"$f":"VLOOKUP(J4021,'Codes éco-part'!$C:$E,3,FALSE)","v":"105"},0.48]
["REP ABJ",4,"22154600520",null,"Entretien et aménagement du jardin","Equipements de plein air et leurs accessoires (hors bâches, filets, housses)","Panneaux de particules ou OSB certifiés >75%","Compris entre 2 kg et 3 kg exclus","€/unité",0.03,0.03,{"$f":"VLOOKUP(J4022,'Codes éco-part'!$C:$E,3,FALSE)","v":"092"},3.5999999999999997E-2]
["REP ABJ",4,"22154600530",null,"Entretien et aménagement du jardin","Equipements de plein air et leurs accessoires (hors bâches, filets, housses)","Panneaux de particules ou OSB certifiés >75%","Compris entre 3 kg et 5 kg exclus","€/unité",0.04,0.04,{"$f":"VLOOKUP(J4023,'Codes éco-part'!$C:$E,3,FALSE)","v":"002"},4.8000000000000001E-2]
["REP ABJ",4,"22154600540",null,"Entretien et aménagement du jardin","Equipements de plein air et leurs accessoires (hors bâches, filets, housses)","Panneaux de particules ou OSB certifiés >75%","Compris entre 5 kg et 7 kg exclus","€/unité",7.0000000000000007E-2,7.0000000000000007E-2,{"$f":"VLOOKUP(J4024,'Codes éco-part'!$C:$E,3,FALSE)","v":"247"},8.4000000000000005E-2]
["REP ABJ",4,"22154600550",null,"Entretien et aménagement du jardin","Equipements de plein air et leurs accessoires (hors bâches, filets, housses)","Panneaux de particules ou OSB certifiés >75%","Compris entre 7 kg et 10 kg exclus","€/unité",0.1,0.1,{"$f":"VLOOKUP(J4025,'Codes éco-part'!$C:$E,3,FALSE)","v":"094"},0.12]
["REP ABJ",4,"22154600560",null,"Entretien et aménagement du jardin","Equipements de plein air et leurs accessoires (hors bâches, filets, housses)","Panneaux de particules ou OSB certifiés >75%","Compris entre 10 kg et 15 kg exclus","€/unité",0.15,0.15,{"$f":"VLOOKUP(J4026,'Codes éco-part'!$C:$E,3,FALSE)","v":"050"},0.18]
["REP ABJ",4,"22154600570",null,"Entretien et aménagement du jardin","Equipements de plein air et leurs accessoires (hors bâches, filets, housses)","Panneaux de particules ou OSB certifiés >75%","Compris entre 15 kg et 20 kg exclus","€/unité",0.2,0.2,{"$f":"VLOOKUP(J4027,'Codes éco-part'!$C:$E,3,FALSE)","v":"101"},0.24]
["REP ABJ",4,"22154600580",null,"Entretien et aménagement du jardin","Equipements de plein air et leurs accessoires (hors bâches, filets, housses)","Panneaux de particules ou OSB certifiés >75%","Compris entre 20 kg et 25 kg exclus","€/unité",0.25,0.25,{"$f":"VLOOKUP(J4028,'Codes éco-part'!$C:$E,3,FALSE)","v":"095"},0.3]
["REP ABJ",4,"22154600590",null,"Entretien et aménagement du jardin","Equipements de plein air et leurs accessoires (hors bâches, filets, housses)","Panneaux de particules ou OSB certifiés >75%","Compris entre 25 kg et 30 kg exclus","€/unité",0.3,0.3,{"$f":"VLOOKUP(J4029,'Codes éco-part'!$C:$E,3,FALSE)","v":"446"},0.36]
["REP ABJ",4,"22154600600",null,"Entretien et aménagement du jardin","Equipements de plein air et leurs accessoires (hors bâches, filets, housses)","Panneaux de particules ou OSB certifiés >75%","Compris entre 40 kg et 50 kg exclus","€/unité",0.5,0.5,{"$f":"VLOOKUP(J4030,'Codes éco-part'!$C:$E,3,FALSE)","v":"053"},0.6]
["REP ABJ",4,"22154610000",null,"Entretien et aménagement du jardin","Equipements de plein air et leurs accessoires (hors bâches, filets, housses)","Panneaux de particules ou OSB >90%","Eléments de toutes dimensions et poids","€ / Tonne",10,10,{"$f":"VLOOKUP(J4031,'Codes éco-part'!$C:$E,3,FALSE)","v":"138"},12]
["REP ABJ",4,"22154610200",null,"Entretien et aménagement du jardin","Equipements de plein air et leurs accessoires (hors bâches, filets, housses)","Panneaux de particules ou OSB >90%","Inférieur strictement à 0,5 kg","€/unité",0.01,0.01,{"$f":"VLOOKUP(J4032,'Codes éco-part'!$C:$E,3,FALSE)","v":"260"},1.2E-2]
["REP ABJ",4,"22154610210",null,"Entretien et aménagement du jardin","Equipements de plein air et leurs accessoires (hors bâches, filets, housses)","Panneaux de particules ou OSB >90%","Compris entre 0,5 kg et 1 kg exclus","€/unité",0.01,0.01,{"$f":"VLOOKUP(J4033,'Codes éco-part'!$C:$E,3,FALSE)","v":"260"},1.2E-2]
["REP ABJ",4,"22154610220",null,"Entretien et aménagement du jardin","Equipements de plein air et leurs accessoires (hors bâches, filets, housses)","Panneaux de particules ou OSB >90%","Compris entre 1 kg et 2 kg exclus","€/unité",0.02,0.02,{"$f":"VLOOKUP(J4034,'Codes éco-part'!$C:$E,3,FALSE)","v":"047"},2.4E-2]
["REP ABJ",4,"22154610270",null,"Entretien et aménagement du jardin","Equipements de plein air et leurs accessoires (hors bâches, filets, housses)","Panneaux de particules ou OSB >90%","Compris entre 30 kg et 40 kg exclus","€/unité",0.4,0.4,{"$f":"VLOOKUP(J4035,'Codes éco-part'!$C:$E,3,FALSE)","v":"105"},0.48]
["REP ABJ",4,"22154610520",null,"Entretien et aménagement du jardin","Equipements de plein air et leurs accessoires (hors bâches, filets, housses)","Panneaux de particules ou OSB >90%","Compris entre 2 kg et 3 kg exclus","€/unité",0.03,0.03,{"$f":"VLOOKUP(J4036,'Codes éco-part'!$C:$E,3,FALSE)","v":"092"},3.5999999999999997E-2]
["REP ABJ",4,"22154610530",null,"Entretien et aménagement du jardin","Equipements de plein air et leurs accessoires (hors bâches, filets, housses)","Panneaux de particules ou OSB >90%","Compris entre 3 kg et 5 kg exclus","€/unité",0.04,0.04,{"$f":"VLOOKUP(J4037,'Codes éco-part'!$C:$E,3,FALSE)","v":"002"},4.8000000000000001E-2]
["REP ABJ",4,"22154610540",null,"Entretien et aménagement du jardin","Equipements de plein air et leurs accessoires (hors bâches, filets, housses)","Panneaux de particules ou OSB >90%","Compris entre 5 kg et 7 kg exclus","€/unité",7.0000000000000007E-2,7.0000000000000007E-2,{"$f":"VLOOKUP(J4038,'Codes éco-part'!$C:$E,3,FALSE)","v":"247"},8.4000000000000005E-2]
["REP ABJ",4,"22154610550",null,"Entretien et aménagement du jardin","Equipements de plein air et leurs accessoires (hors bâches, filets, housses)","Panneaux de particules ou OSB >90%","Compris entre 7 kg et 10 kg exclus","€/unité",0.1,0.1,{"$f":"VLOOKUP(J4039,'Codes éco-part'!$C:$E,3,FALSE)","v":"094"},0.12]
["REP ABJ",4,"22154610560",null,"Entretien et aménagement du jardin","Equipements de plein air et leurs accessoires (hors bâches, filets, housses)","Panneaux de particules ou OSB >90%","Compris entre 10 kg et 15 kg exclus","€/unité",0.15,0.15,{"$f":"VLOOKUP(J4040,'Codes éco-part'!$C:$E,3,FALSE)","v":"050"},0.18]
["REP ABJ",4,"22154610570",null,"Entretien et aménagement du jardin","Equipements de plein air et leurs accessoires (hors bâches, filets, housses)","Panneaux de particules ou OSB >90%","Compris entre 15 kg et 20 kg exclus","€/unité",0.2,0.2,{"$f":"VLOOKUP(J4041,'Codes éco-part'!$C:$E,3,FALSE)","v":"101"},0.24]
["REP ABJ",4,"22154610580",null,"Entretien et aménagement du jardin","Equipements de plein air et leurs accessoires (hors bâches, filets, housses)","Panneaux de particules ou OSB >90%","Compris entre 20 kg et 25 kg exclus","€/unité",0.25,0.25,{"$f":"VLOOKUP(J4042,'Codes éco-part'!$C:$E,3,FALSE)","v":"095"},0.3]
["REP ABJ",4,"22154610590",null,"Entretien et aménagement du jardin","Equipements de plein air et leurs accessoires (hors bâches, filets, housses)","Panneaux de particules ou OSB >90%","Compris entre 25 kg et 30 kg exclus","€/unité",0.3,0.3,{"$f":"VLOOKUP(J4043,'Codes éco-part'!$C:$E,3,FALSE)","v":"446"},0.36]
["REP ABJ",4,"22154610600",null,"Entretien et aménagement du jardin","Equipements de plein air et leurs accessoires (hors bâches, filets, housses)","Panneaux de particules ou OSB >90%","Compris entre 40 kg et 50 kg exclus","€/unité",0.5,0.5,{"$f":"VLOOKUP(J4044,'Codes éco-part'!$C:$E,3,FALSE)","v":"053"},0.6]
["REP ABJ",4,"22154620000",null,"Entretien et aménagement du jardin","Equipements de plein air et leurs accessoires (hors bâches, filets, housses)","Dérivés de bois >90%","Eléments de toutes dimensions et poids","€ / Tonne",10,10,{"$f":"VLOOKUP(J4045,'Codes éco-part'!$C:$E,3,FALSE)","v":"138"},12]
["REP ABJ",4,"22154620200",null,"Entretien et aménagement du jardin","Equipements de plein air et leurs accessoires (hors bâches, filets, housses)","Dérivés de bois >90%","Inférieur strictement à 0,5 kg","€/unité",0.01,0.01,{"$f":"VLOOKUP(J4046,'Codes éco-part'!$C:$E,3,FALSE)","v":"260"},1.2E-2]
["REP ABJ",4,"22154620210",null,"Entretien et aménagement du jardin","Equipements de plein air et leurs accessoires (hors bâches, filets, housses)","Dérivés de bois >90%","Compris entre 0,5 kg et 1 kg exclus","€/unité",0.01,0.01,{"$f":"VLOOKUP(J4047,'Codes éco-part'!$C:$E,3,FALSE)","v":"260"},1.2E-2]
["REP ABJ",4,"22154620220",null,"Entretien et aménagement du jardin","Equipements de plein air et leurs accessoires (hors bâches, filets, housses)","Dérivés de bois >90%","Compris entre 1 kg et 2 kg exclus","€/unité",0.02,0.02,{"$f":"VLOOKUP(J4048,'Codes éco-part'!$C:$E,3,FALSE)","v":"047"},2.4E-2]
["REP ABJ",4,"22154620270",null,"Entretien et aménagement du jardin","Equipements de plein air et leurs accessoires (hors bâches, filets, housses)","Dérivés de bois >90%","Compris entre 30 kg et 40 kg exclus","€/unité",0.4,0.4,{"$f":"VLOOKUP(J4049,'Codes éco-part'!$C:$E,3,FALSE)","v":"105"},0.48]
["REP ABJ",4,"22154620520",null,"Entretien et aménagement du jardin","Equipements de plein air et leurs accessoires (hors bâches, filets, housses)","Dérivés de bois >90%","Compris entre 2 kg et 3 kg exclus","€/unité",0.03,0.03,{"$f":"VLOOKUP(J4050,'Codes éco-part'!$C:$E,3,FALSE)","v":"092"},3.5999999999999997E-2]
["REP ABJ",4,"22154620530",null,"Entretien et aménagement du jardin","Equipements de plein air et leurs accessoires (hors bâches, filets, housses)","Dérivés de bois >90%","Compris entre 3 kg et 5 kg exclus","€/unité",0.04,0.04,{"$f":"VLOOKUP(J4051,'Codes éco-part'!$C:$E,3,FALSE)","v":"002"},4.8000000000000001E-2]
["REP ABJ",4,"22154620540",null,"Entretien et aménagement du jardin","Equipements de plein air et leurs accessoires (hors bâches, filets, housses)","Dérivés de bois >90%","Compris entre 5 kg et 7 kg exclus","€/unité",7.0000000000000007E-2,7.0000000000000007E-2,{"$f":"VLOOKUP(J4052,'Codes éco-part'!$C:$E,3,FALSE)","v":"247"},8.4000000000000005E-2]
["REP ABJ",4,"22154620550",null,"Entretien et aménagement du jardin","Equipements de plein air et leurs accessoires (hors bâches, filets, housses)","Dérivés de bois >90%","Compris entre 7 kg et 10 kg exclus","€/unité",0.1,0.1,{"$f":"VLOOKUP(J4053,'Codes éco-part'!$C:$E,3,FALSE)","v":"094"},0.12]
["REP ABJ",4,"22154620560",null,"Entretien et aménagement du jardin","Equipements de plein air et leurs accessoires (hors bâches, filets, housses)","Dérivés de bois >90%","Compris entre 10 kg et 15 kg exclus","€/unité",0.15,0.15,{"$f":"VLOOKUP(J4054,'Codes éco-part'!$C:$E,3,FALSE)","v":"050"},0.18]
["REP ABJ",4,"22154620570",null,"Entretien et aménagement du jardin","Equipements de plein air et leurs accessoires (hors bâches, filets, housses)","Dérivés de bois >90%","Compris entre 15 kg et 20 kg exclus","€/unité",0.2,0.2,{"$f":"VLOOKUP(J4055,'Codes éco-part'!$C:$E,3,FALSE)","v":"101"},0.24]
["REP ABJ",4,"22154620580",null,"Entretien et aménagement du jardin","Equipements de plein air et leurs accessoires (hors bâches, filets, housses)","Dérivés de bois >90%","Compris entre 20 kg et 25 kg exclus","€/unité",0.25,0.25,{"$f":"VLOOKUP(J4056,'Codes éco-part'!$C:$E,3,FALSE)","v":"095"},0.3]
["REP ABJ",4,"22154620590",null,"Entretien et aménagement du jardin","Equipements de plein air et leurs accessoires (hors bâches, filets, housses)","Dérivés de bois >90%","Compris entre 25 kg et 30 kg exclus","€/unité",0.3,0.3,{"$f":"VLOOKUP(J4057,'Codes éco-part'!$C:$E,3,FALSE)","v":"446"},{"$f":"J4057*1.2","v":0.36}]
["REP ABJ",4,"22154620600",null,"Entretien et aménagement du jardin","Equipements de plein air et leurs accessoires (hors bâches, filets, housses)","Dérivés de bois >90%","Compris entre 40 kg et 50 kg exclus","€/unité",0.5,0.5,{"$f":"VLOOKUP(J4058,'Codes éco-part'!$C:$E,3,FALSE)","v":"053"},0.6]
["REP ABJ",4,"22154630000",null,"Entretien et aménagement du jardin","Equipements de plein air et leurs accessoires (hors bâches, filets, housses)","Caoutchouc naturel >90%","Eléments de toutes dimensions et poids","€ / Tonne",30,30,{"$f":"VLOOKUP(J4059,'Codes éco-part'!$C:$E,3,FALSE)","v":"153"},36]
["REP ABJ",4,"22154630200",null,"Entretien et aménagement du jardin","Equipements de plein air et leurs accessoires (hors bâches, filets, housses)","Caoutchouc naturel >90%","Inférieur strictement à 0,5 kg","€/unité",0.01,0.01,{"$f":"VLOOKUP(J4060,'Codes éco-part'!$C:$E,3,FALSE)","v":"260"},1.2E-2]
["REP ABJ",4,"22154630210",null,"Entretien et aménagement du jardin","Equipements de plein air et leurs accessoires (hors bâches, filets, housses)","Caoutchouc naturel >90%","Compris entre 0,5 kg et 1 kg exclus","€/unité",0.02,0.02,{"$f":"VLOOKUP(J4061,'Codes éco-part'!$C:$E,3,FALSE)","v":"047"},2.4E-2]
["REP ABJ",4,"22154630220",null,"Entretien et aménagement du jardin","Equipements de plein air et leurs accessoires (hors bâches, filets, housses)","Caoutchouc naturel >90%","Compris entre 1 kg et 2 kg exclus","€/unité",0.05,0.05,{"$f":"VLOOKUP(J4062,'Codes éco-part'!$C:$E,3,FALSE)","v":"048"},0.06]
["REP ABJ",4,"22154630270",null,"Entretien et aménagement du jardin","Equipements de plein air et leurs accessoires (hors bâches, filets, housses)","Caoutchouc naturel >90%","Compris entre 30 kg et 40 kg exclus","€/unité",1.2,1.2,{"$f":"VLOOKUP(J4063,'Codes éco-part'!$C:$E,3,FALSE)","v":"505"},1.44]
["REP ABJ",4,"22154630520",null,"Entretien et aménagement du jardin","Equipements de plein air et leurs accessoires (hors bâches, filets, housses)","Caoutchouc naturel >90%","Compris entre 2 kg et 3 kg exclus","€/unité",0.08,0.08,{"$f":"VLOOKUP(J4064,'Codes éco-part'!$C:$E,3,FALSE)","v":"003"},9.6000000000000002E-2]
["REP ABJ",4,"22154630530",null,"Entretien et aménagement du jardin","Equipements de plein air et leurs accessoires (hors bâches, filets, housses)","Caoutchouc naturel >90%","Compris entre 3 kg et 5 kg exclus","€/unité",0.12,0.12,{"$f":"VLOOKUP(J4065,'Codes éco-part'!$C:$E,3,FALSE)","v":"097"},0.14399999999999999]
["REP ABJ",4,"22154630540",null,"Entretien et aménagement du jardin","Equipements de plein air et leurs accessoires (hors bâches, filets, housses)","Caoutchouc naturel >90%","Compris entre 5 kg et 7 kg exclus","€/unité",0.21,0.21,{"$f":"VLOOKUP(J4066,'Codes éco-part'!$C:$E,3,FALSE)","v":"051"},0.252]
["REP ABJ",4,"22154630550",null,"Entretien et aménagement du jardin","Equipements de plein air et leurs accessoires (hors bâches, filets, housses)","Caoutchouc naturel >90%","Compris entre 7 kg et 10 kg exclus","€/unité",0.3,0.3,{"$f":"VLOOKUP(J4067,'Codes éco-part'!$C:$E,3,FALSE)","v":"446"},0.36]
["REP ABJ",4,"22154630560",null,"Entretien et aménagement du jardin","Equipements de plein air et leurs accessoires (hors bâches, filets, housses)","Caoutchouc naturel >90%","Compris entre 10 kg et 15 kg exclus","€/unité",0.45,0.45,{"$f":"VLOOKUP(J4068,'Codes éco-part'!$C:$E,3,FALSE)","v":"325"},0.54]
["REP ABJ",4,"22154630570",null,"Entretien et aménagement du jardin","Equipements de plein air et leurs accessoires (hors bâches, filets, housses)","Caoutchouc naturel >90%","Compris entre 15 kg et 20 kg exclus","€/unité",0.6,0.6,{"$f":"VLOOKUP(J4069,'Codes éco-part'!$C:$E,3,FALSE)","v":"327"},0.72]
["REP ABJ",4,"22154630580",null,"Entretien et aménagement du jardin","Equipements de plein air et leurs accessoires (hors bâches, filets, housses)","Caoutchouc naturel >90%","Compris entre 20 kg et 25 kg exclus","€/unité",0.75,0.75,{"$f":"VLOOKUP(J4070,'Codes éco-part'!$C:$E,3,FALSE)","v":"328"},0.89999999999999991]
["REP ABJ",4,"22154630590",null,"Entretien et aménagement du jardin","Equipements de plein air et leurs accessoires (hors bâches, filets, housses)","Caoutchouc naturel >90%","Compris entre 25 kg et 30 kg exclus","€/unité",0.9,0.9,{"$f":"VLOOKUP(J4071,'Codes éco-part'!$C:$E,3,FALSE)","v":"330"},1.08]
["REP ABJ",4,"22154630600",null,"Entretien et aménagement du jardin","Equipements de plein air et leurs accessoires (hors bâches, filets, housses)","Caoutchouc naturel >90%","Compris entre 40 kg et 50 kg exclus","€/unité",1.5,1.5,{"$f":"VLOOKUP(J4072,'Codes éco-part'!$C:$E,3,FALSE)","v":"059"},1.7999999999999998]
["REP ABJ",4,"22154640000",null,"Entretien et aménagement du jardin","Equipements de plein air et leurs accessoires (hors bâches, filets, housses)","Caoutchouc naturel >50%","Eléments de toutes dimensions et poids","€ / Tonne",75,75,{"$f":"VLOOKUP(J4073,'Codes éco-part'!$C:$E,3,FALSE)","v":"192"},90]
["REP ABJ",4,"22154640200",null,"Entretien et aménagement du jardin","Equipements de plein air et leurs accessoires (hors bâches, filets, housses)","Caoutchouc naturel >50%","Inférieur strictement à 0,5 kg","€/unité",0.02,0.02,{"$f":"VLOOKUP(J4074,'Codes éco-part'!$C:$E,3,FALSE)","v":"047"},2.4E-2]
["REP ABJ",4,"22154640210",null,"Entretien et aménagement du jardin","Equipements de plein air et leurs accessoires (hors bâches, filets, housses)","Caoutchouc naturel >50%","Compris entre 0,5 kg et 1 kg exclus","€/unité",0.06,0.06,{"$f":"VLOOKUP(J4075,'Codes éco-part'!$C:$E,3,FALSE)","v":"096"},7.1999999999999995E-2]
["REP ABJ",4,"22154640220",null,"Entretien et aménagement du jardin","Equipements de plein air et leurs accessoires (hors bâches, filets, housses)","Caoutchouc naturel >50%","Compris entre 1 kg et 2 kg exclus","€/unité",0.11,0.11,{"$f":"VLOOKUP(J4076,'Codes éco-part'!$C:$E,3,FALSE)","v":"262"},0.13200000000000001]
["REP ABJ",4,"22154640270",null,"Entretien et aménagement du jardin","Equipements de plein air et leurs accessoires (hors bâches, filets, housses)","Caoutchouc naturel >50%","Compris entre 30 kg et 40 kg exclus","€/unité",3,3,{"$f":"VLOOKUP(J4077,'Codes éco-part'!$C:$E,3,FALSE)","v":"474"},3.5999999999999996]
["REP ABJ",4,"22154640520",null,"Entretien et aménagement du jardin","Equipements de plein air et leurs accessoires (hors bâches, filets, housses)","Caoutchouc naturel >50%","Compris entre 2 kg et 3 kg exclus","€/unité",0.19,0.19,{"$f":"VLOOKUP(J4078,'Codes éco-part'!$C:$E,3,FALSE)","v":"291"},0.22799999999999998]
["REP ABJ",4,"22154640530",null,"Entretien et aménagement du jardin","Equipements de plein air et leurs accessoires (hors bâches, filets, housses)","Caoutchouc naturel >50%","Compris entre 3 kg et 5 kg exclus","€/unité",0.3,0.3,{"$f":"VLOOKUP(J4079,'Codes éco-part'!$C:$E,3,FALSE)","v":"446"},0.36]
["REP ABJ",4,"22154640540",null,"Entretien et aménagement du jardin","Equipements de plein air et leurs accessoires (hors bâches, filets, housses)","Caoutchouc naturel >50%","Compris entre 5 kg et 7 kg exclus","€/unité",0.53,0.53,{"$f":"VLOOKUP(J4080,'Codes éco-part'!$C:$E,3,FALSE)","v":"451"},0.63600000000000001]
["REP ABJ",4,"22154640550",null,"Entretien et aménagement du jardin","Equipements de plein air et leurs accessoires (hors bâches, filets, housses)","Caoutchouc naturel >50%","Compris entre 7 kg et 10 kg exclus","€/unité",0.75,0.75,{"$f":"VLOOKUP(J4081,'Codes éco-part'!$C:$E,3,FALSE)","v":"328"},0.89999999999999991]
["REP ABJ",4,"22154640560",null,"Entretien et aménagement du jardin","Equipements de plein air et leurs accessoires (hors bâches, filets, housses)","Caoutchouc naturel >50%","Compris entre 10 kg et 15 kg exclus","€/unité",1.1299999999999999,1.1299999999999999,{"$f":"VLOOKUP(J4082,'Codes éco-part'!$C:$E,3,FALSE)","v":"331"},1.3559999999999999]
["REP ABJ",4,"22154640570",null,"Entretien et aménagement du jardin","Equipements de plein air et leurs accessoires (hors bâches, filets, housses)","Caoutchouc naturel >50%","Compris entre 15 kg et 20 kg exclus","€/unité",1.5,1.5,{"$f":"VLOOKUP(J4083,'Codes éco-part'!$C:$E,3,FALSE)","v":"059"},1.7999999999999998]
["REP ABJ",4,"22154640580",null,"Entretien et aménagement du jardin","Equipements de plein air et leurs accessoires (hors bâches, filets, housses)","Caoutchouc naturel >50%","Compris entre 20 kg et 25 kg exclus","€/unité",1.88,1.88,{"$f":"VLOOKUP(J4084,'Codes éco-part'!$C:$E,3,FALSE)","v":"335"},2.2559999999999998]
["REP ABJ",4,"22154640590",null,"Entretien et aménagement du jardin","Equipements de plein air et leurs accessoires (hors bâches, filets, housses)","Caoutchouc naturel >50%","Compris entre 25 kg et 30 kg exclus","€/unité",2.25,2.25,{"$f":"VLOOKUP(J4085,'Codes éco-part'!$C:$E,3,FALSE)","v":"118"},2.6999999999999997]
["REP ABJ",4,"22154640600",null,"Entretien et aménagement du jardin","Equipements de plein air et leurs accessoires (hors bâches, filets, housses)","Caoutchouc naturel >50%","Compris entre 40 kg et 50 kg exclus","€/unité",3.75,3.75,{"$f":"VLOOKUP(J4086,'Codes éco-part'!$C:$E,3,FALSE)","v":"015"},4.5]
["REP ABJ",4,"22154650000",null,"Entretien et aménagement du jardin","Equipements de plein air et leurs accessoires (hors bâches, filets, housses)","Matériaux ou fibres synthétiques >90%","Eléments de toutes dimensions et poids","€ / Tonne",50,50,{"$f":"VLOOKUP(J4087,'Codes éco-part'!$C:$E,3,FALSE)","v":"173"},60]
["REP ABJ",4,"22154650200",null,"Entretien et aménagement du jardin","Equipements de plein air et leurs accessoires (hors bâches, filets, housses)","Matériaux ou fibres synthétiques >90%","Inférieur strictement à 0,5 kg","€/unité",0.01,0.01,{"$f":"VLOOKUP(J4088,'Codes éco-part'!$C:$E,3,FALSE)","v":"260"},1.2E-2]
["REP ABJ",4,"22154650210",null,"Entretien et aménagement du jardin","Equipements de plein air et leurs accessoires (hors bâches, filets, housses)","Matériaux ou fibres synthétiques >90%","Compris entre 0,5 kg et 1 kg exclus","€/unité",0.04,0.04,{"$f":"VLOOKUP(J4089,'Codes éco-part'!$C:$E,3,FALSE)","v":"002"},4.8000000000000001E-2]
["REP ABJ",4,"22154650220",null,"Entretien et aménagement du jardin","Equipements de plein air et leurs accessoires (hors bâches, filets, housses)","Matériaux ou fibres synthétiques >90%","Compris entre 1 kg et 2 kg exclus","€/unité",0.08,0.08,{"$f":"VLOOKUP(J4090,'Codes éco-part'!$C:$E,3,FALSE)","v":"003"},9.6000000000000002E-2]
["REP ABJ",4,"22154650270",null,"Entretien et aménagement du jardin","Equipements de plein air et leurs accessoires (hors bâches, filets, housses)","Matériaux ou fibres synthétiques >90%","Compris entre 30 kg et 40 kg exclus","€/unité",2,2,{"$f":"VLOOKUP(J4091,'Codes éco-part'!$C:$E,3,FALSE)","v":"061"},2.4]
["REP ABJ",4,"22154650520",null,"Entretien et aménagement du jardin","Equipements de plein air et leurs accessoires (hors bâches, filets, housses)","Matériaux ou fibres synthétiques >90%","Compris entre 2 kg et 3 kg exclus","€/unité",0.13,0.13,{"$f":"VLOOKUP(J4092,'Codes éco-part'!$C:$E,3,FALSE)","v":"004"},0.156]
["REP ABJ",4,"22154650530",null,"Entretien et aménagement du jardin","Equipements de plein air et leurs accessoires (hors bâches, filets, housses)","Matériaux ou fibres synthétiques >90%","Compris entre 3 kg et 5 kg exclus","€/unité",0.2,0.2,{"$f":"VLOOKUP(J4093,'Codes éco-part'!$C:$E,3,FALSE)","v":"101"},0.24]
["REP ABJ",4,"22154650540",null,"Entretien et aménagement du jardin","Equipements de plein air et leurs accessoires (hors bâches, filets, housses)","Matériaux ou fibres synthétiques >90%","Compris entre 5 kg et 7 kg exclus","€/unité",0.35,0.35,{"$f":"VLOOKUP(J4094,'Codes éco-part'!$C:$E,3,FALSE)","v":"448"},0.42]
["REP ABJ",4,"22154650550",null,"Entretien et aménagement du jardin","Equipements de plein air et leurs accessoires (hors bâches, filets, housses)","Matériaux ou fibres synthétiques >90%","Compris entre 7 kg et 10 kg exclus","€/unité",0.5,0.5,{"$f":"VLOOKUP(J4095,'Codes éco-part'!$C:$E,3,FALSE)","v":"053"},0.6]
["REP ABJ",4,"22154650560",null,"Entretien et aménagement du jardin","Equipements de plein air et leurs accessoires (hors bâches, filets, housses)","Matériaux ou fibres synthétiques >90%","Compris entre 10 kg et 15 kg exclus","€/unité",0.75,0.75,{"$f":"VLOOKUP(J4096,'Codes éco-part'!$C:$E,3,FALSE)","v":"328"},0.89999999999999991]
["REP ABJ",4,"22154650570",null,"Entretien et aménagement du jardin","Equipements de plein air et leurs accessoires (hors bâches, filets, housses)","Matériaux ou fibres synthétiques >90%","Compris entre 15 kg et 20 kg exclus","€/unité",1,1,{"$f":"VLOOKUP(J4097,'Codes éco-part'!$C:$E,3,FALSE)","v":"056"},1.2]
["REP ABJ",4,"22154650580",null,"Entretien et aménagement du jardin","Equipements de plein air et leurs accessoires (hors bâches, filets, housses)","Matériaux ou fibres synthétiques >90%","Compris entre 20 kg et 25 kg exclus","€/unité",1.25,1.25,{"$f":"VLOOKUP(J4098,'Codes éco-part'!$C:$E,3,FALSE)","v":"009"},1.5]
["REP ABJ",4,"22154650590",null,"Entretien et aménagement du jardin","Equipements de plein air et leurs accessoires (hors bâches, filets, housses)","Matériaux ou fibres synthétiques >90%","Compris entre 25 kg et 30 kg exclus","€/unité",1.5,1.5,{"$f":"VLOOKUP(J4099,'Codes éco-part'!$C:$E,3,FALSE)","v":"059"},1.7999999999999998]
["REP ABJ",4,"22154650600",null,"Entretien et aménagement du jardin","Equipements de plein air et leurs accessoires (hors bâches, filets, housses)","Matériaux ou fibres synthétiques >90%","Compris entre 40 kg et 50 kg exclus","€/unité",2.5,2.5,{"$f":"VLOOKUP(J4100,'Codes éco-part'!$C:$E,3,FALSE)","v":"012"},3]
["REP ABJ",4,"22154670000",null,"Entretien et aménagement du jardin","Equipements de plein air et leurs accessoires (hors bâches, filets, housses)","Assemblage matériaux ou fibres synthétiques >50% avec d'autres matériaux","Eléments de toutes dimensions et poids","€ / Tonne",75,75,{"$f":"VLOOKUP(J4101,'Codes éco-part'!$C:$E,3,FALSE)","v":"192"},90]
["REP ABJ",4,"22154670200",null,"Entretien et aménagement du jardin","Equipements de plein air et leurs accessoires (hors bâches, filets, housses)","Assemblage matériaux ou fibres synthétiques >50% avec d'autres matériaux","Inférieur strictement à 0,5 kg","€/unité",0.02,0.02,{"$f":"VLOOKUP(J4102,'Codes éco-part'!$C:$E,3,FALSE)","v":"047"},2.4E-2]
["REP ABJ",4,"22154670210",null,"Entretien et aménagement du jardin","Equipements de plein air et leurs accessoires (hors bâches, filets, housses)","Assemblage matériaux ou fibres synthétiques >50% avec d'autres matériaux","Compris entre 0,5 kg et 1 kg exclus","€/unité",0.06,0.06,{"$f":"VLOOKUP(J4103,'Codes éco-part'!$C:$E,3,FALSE)","v":"096"},7.1999999999999995E-2]
["REP ABJ",4,"22154670220",null,"Entretien et aménagement du jardin","Equipements de plein air et leurs accessoires (hors bâches, filets, housses)","Assemblage matériaux ou fibres synthétiques >50% avec d'autres matériaux","Compris entre 1 kg et 2 kg exclus","€/unité",0.11,0.11,{"$f":"VLOOKUP(J4104,'Codes éco-part'!$C:$E,3,FALSE)","v":"262"},0.13200000000000001]
["REP ABJ",4,"22154670270",null,"Entretien et aménagement du jardin","Equipements de plein air et leurs accessoires (hors bâches, filets, housses)","Assemblage matériaux ou fibres synthétiques >50% avec d'autres matériaux","Compris entre 30 kg et 40 kg exclus","€/unité",3,3,{"$f":"VLOOKUP(J4105,'Codes éco-part'!$C:$E,3,FALSE)","v":"474"},3.5999999999999996]
["REP ABJ",4,"22154670520",null,"Entretien et aménagement du jardin","Equipements de plein air et leurs accessoires (hors bâches, filets, housses)","Assemblage matériaux ou fibres synthétiques >50% avec d'autres matériaux","Compris entre 2 kg et 3 kg exclus","€/unité",0.19,0.19,{"$f":"VLOOKUP(J4106,'Codes éco-part'!$C:$E,3,FALSE)","v":"291"},0.22799999999999998]
["REP ABJ",4,"22154670530",null,"Entretien et aménagement du jardin","Equipements de plein air et leurs accessoires (hors bâches, filets, housses)","Assemblage matériaux ou fibres synthétiques >50% avec d'autres matériaux","Compris entre 3 kg et 5 kg exclus","€/unité",0.3,0.3,{"$f":"VLOOKUP(J4107,'Codes éco-part'!$C:$E,3,FALSE)","v":"446"},0.36]
["REP ABJ",4,"22154670540",null,"Entretien et aménagement du jardin","Equipements de plein air et leurs accessoires (hors bâches, filets, housses)","Assemblage matériaux ou fibres synthétiques >50% avec d'autres matériaux","Compris entre 5 kg et 7 kg exclus","€/unité",0.53,0.53,{"$f":"VLOOKUP(J4108,'Codes éco-part'!$C:$E,3,FALSE)","v":"451"},0.63600000000000001]
["REP ABJ",4,"22154670550",null,"Entretien et aménagement du jardin","Equipements de plein air et leurs accessoires (hors bâches, filets, housses)","Assemblage matériaux ou fibres synthétiques >50% avec d'autres matériaux","Compris entre 7 kg et 10 kg exclus","€/unité",0.75,0.75,{"$f":"VLOOKUP(J4109,'Codes éco-part'!$C:$E,3,FALSE)","v":"328"},0.89999999999999991]
["REP ABJ",4,"22154670560",null,"Entretien et aménagement du jardin","Equipements de plein air et leurs accessoires (hors bâches, filets, housses)","Assemblage matériaux ou fibres synthétiques >50% avec d'autres matériaux","Compris entre 10 kg et 15 kg exclus","€/unité",1.1299999999999999,1.1299999999999999,{"$f":"VLOOKUP(J4110,'Codes éco-part'!$C:$E,3,FALSE)","v":"331"},1.3559999999999999]
["REP ABJ",4,"22154670570",null,"Entretien et aménagement du jardin","Equipements de plein air et leurs accessoires (hors bâches, filets, housses)","Assemblage matériaux ou fibres synthétiques >50% avec d'autres matériaux","Compris entre 15 kg et 20 kg exclus","€/unité",1.5,1.5,{"$f":"VLOOKUP(J4111,'Codes éco-part'!$C:$E,3,FALSE)","v":"059"},1.7999999999999998]
["REP ABJ",4,"22154670580",null,"Entretien et aménagement du jardin","Equipements de plein air et leurs accessoires (hors bâches, filets, housses)","Assemblage matériaux ou fibres synthétiques >50% avec d'autres matériaux","Compris entre 20 kg et 25 kg exclus","€/unité",1.88,1.88,{"$f":"VLOOKUP(J4112,'Codes éco-part'!$C:$E,3,FALSE)","v":"335"},2.2559999999999998]
["REP ABJ",4,"22154670590",null,"Entretien et aménagement du jardin","Equipements de plein air et leurs accessoires (hors bâches, filets, housses)","Assemblage matériaux ou fibres synthétiques >50% avec d'autres matériaux","Compris entre 25 kg et 30 kg exclus","€/unité",2.25,2.25,{"$f":"VLOOKUP(J4113,'Codes éco-part'!$C:$E,3,FALSE)","v":"118"},2.6999999999999997]
["REP ABJ",4,"22154670600",null,"Entretien et aménagement du jardin","Equipements de plein air et leurs accessoires (hors bâches, filets, housses)","Assemblage matériaux ou fibres synthétiques >50% avec d'autres matériaux","Compris entre 40 kg et 50 kg exclus","€/unité",3.75,3.75,{"$f":"VLOOKUP(J4114,'Codes éco-part'!$C:$E,3,FALSE)","v":"015"},4.5]
["REP ABJ",4,"22154680000",null,"Entretien et aménagement du jardin","Equipements de plein air et leurs accessoires (hors bâches, filets, housses)","Verre >90%","Eléments de toutes dimensions et poids","€ / Tonne",5,5,{"$f":"VLOOKUP(J4115,'Codes éco-part'!$C:$E,3,FALSE)","v":"042"},6]
["REP ABJ",4,"22154680200",null,"Entretien et aménagement du jardin","Equipements de plein air et leurs accessoires (hors bâches, filets, housses)","Verre >90%","Inférieur strictement à 0,5 kg","€/unité",0.01,0.01,{"$f":"VLOOKUP(J4116,'Codes éco-part'!$C:$E,3,FALSE)","v":"260"},1.2E-2]
["REP ABJ",4,"22154680210",null,"Entretien et aménagement du jardin","Equipements de plein air et leurs accessoires (hors bâches, filets, housses)","Verre >90%","Compris entre 0,5 kg et 1 kg exclus","€/unité",0.01,0.01,{"$f":"VLOOKUP(J4117,'Codes éco-part'!$C:$E,3,FALSE)","v":"260"},1.2E-2]
["REP ABJ",4,"22154680220",null,"Entretien et aménagement du jardin","Equipements de plein air et leurs accessoires (hors bâches, filets, housses)","Verre >90%","Compris entre 1 kg et 2 kg exclus","€/unité",0.01,0.01,{"$f":"VLOOKUP(J4118,'Codes éco-part'!$C:$E,3,FALSE)","v":"260"},1.2E-2]
["REP ABJ",4,"22154680270",null,"Entretien et aménagement du jardin","Equipements de plein air et leurs accessoires (hors bâches, filets, housses)","Verre >90%","Compris entre 30 kg et 40 kg exclus","€/unité",0.2,0.2,{"$f":"VLOOKUP(J4119,'Codes éco-part'!$C:$E,3,FALSE)","v":"101"},0.24]
["REP ABJ",4,"22154680520",null,"Entretien et aménagement du jardin","Equipements de plein air et leurs accessoires (hors bâches, filets, housses)","Verre >90%","Compris entre 2 kg et 3 kg exclus","€/unité",0.01,0.01,{"$f":"VLOOKUP(J4120,'Codes éco-part'!$C:$E,3,FALSE)","v":"260"},1.2E-2]
["REP ABJ",4,"22154680530",null,"Entretien et aménagement du jardin","Equipements de plein air et leurs accessoires (hors bâches, filets, housses)","Verre >90%","Compris entre 3 kg et 5 kg exclus","€/unité",0.02,0.02,{"$f":"VLOOKUP(J4121,'Codes éco-part'!$C:$E,3,FALSE)","v":"047"},{"$f":"J4121*1.2","v":2.4E-2}]
["REP ABJ",4,"22154680540",null,"Entretien et aménagement du jardin","Equipements de plein air et leurs accessoires (hors bâches, filets, housses)","Verre >90%","Compris entre 5 kg et 7 kg exclus","€/unité",0.04,0.04,{"$f":"VLOOKUP(J4122,'Codes éco-part'!$C:$E,3,FALSE)","v":"002"},4.8000000000000001E-2]
["REP ABJ",4,"22154680550",null,"Entretien et aménagement du jardin","Equipements de plein air et leurs accessoires (hors bâches, filets, housses)","Verre >90%","Compris entre 7 kg et 10 kg exclus","€/unité",0.05,0.05,{"$f":"VLOOKUP(J4123,'Codes éco-part'!$C:$E,3,FALSE)","v":"048"},0.06]
["REP ABJ",4,"22154680560",null,"Entretien et aménagement du jardin","Equipements de plein air et leurs accessoires (hors bâches, filets, housses)","Verre >90%","Compris entre 10 kg et 15 kg exclus","€/unité",0.08,0.08,{"$f":"VLOOKUP(J4124,'Codes éco-part'!$C:$E,3,FALSE)","v":"003"},9.6000000000000002E-2]
["REP ABJ",4,"22154680570",null,"Entretien et aménagement du jardin","Equipements de plein air et leurs accessoires (hors bâches, filets, housses)","Verre >90%","Compris entre 15 kg et 20 kg exclus","€/unité",0.1,0.1,{"$f":"VLOOKUP(J4125,'Codes éco-part'!$C:$E,3,FALSE)","v":"094"},0.12]
["REP ABJ",4,"22154680580",null,"Entretien et aménagement du jardin","Equipements de plein air et leurs accessoires (hors bâches, filets, housses)","Verre >90%","Compris entre 20 kg et 25 kg exclus","€/unité",0.13,0.13,{"$f":"VLOOKUP(J4126,'Codes éco-part'!$C:$E,3,FALSE)","v":"004"},0.156]
["REP ABJ",4,"22154680590",null,"Entretien et aménagement du jardin","Equipements de plein air et leurs accessoires (hors bâches, filets, housses)","Verre >90%","Compris entre 25 kg et 30 kg exclus","€/unité",0.15,0.15,{"$f":"VLOOKUP(J4127,'Codes éco-part'!$C:$E,3,FALSE)","v":"050"},0.18]
["REP ABJ",4,"22154680600",null,"Entretien et aménagement du jardin","Equipements de plein air et leurs accessoires (hors bâches, filets, housses)","Verre >90%","Compris entre 40 kg et 50 kg exclus","€/unité",0.25,0.25,{"$f":"VLOOKUP(J4128,'Codes éco-part'!$C:$E,3,FALSE)","v":"095"},0.3]
["REP ABJ",4,"22154700000",null,"Entretien et aménagement du jardin","Equipements de plein air et leurs accessoires (hors bâches, filets, housses)","Assemblage verre à plus de 50% avec métal","Eléments de toutes dimensions et poids","€ / Tonne",75,75,{"$f":"VLOOKUP(J4129,'Codes éco-part'!$C:$E,3,FALSE)","v":"192"},90]
["REP ABJ",4,"22154700200",null,"Entretien et aménagement du jardin","Equipements de plein air et leurs accessoires (hors bâches, filets, housses)","Assemblage verre à plus de 50% avec métal","Inférieur strictement à 0,5 kg","€/unité",0.02,0.02,{"$f":"VLOOKUP(J4130,'Codes éco-part'!$C:$E,3,FALSE)","v":"047"},2.4E-2]
["REP ABJ",4,"22154700210",null,"Entretien et aménagement du jardin","Equipements de plein air et leurs accessoires (hors bâches, filets, housses)","Assemblage verre à plus de 50% avec métal","Compris entre 0,5 kg et 1 kg exclus","€/unité",0.06,0.06,{"$f":"VLOOKUP(J4131,'Codes éco-part'!$C:$E,3,FALSE)","v":"096"},7.1999999999999995E-2]
["REP ABJ",4,"22154700220",null,"Entretien et aménagement du jardin","Equipements de plein air et leurs accessoires (hors bâches, filets, housses)","Assemblage verre à plus de 50% avec métal","Compris entre 1 kg et 2 kg exclus","€/unité",0.11,0.11,{"$f":"VLOOKUP(J4132,'Codes éco-part'!$C:$E,3,FALSE)","v":"262"},0.13200000000000001]
["REP ABJ",4,"22154700270",null,"Entretien et aménagement du jardin","Equipements de plein air et leurs accessoires (hors bâches, filets, housses)","Assemblage verre à plus de 50% avec métal","Compris entre 30 kg et 40 kg exclus","€/unité",3,3,{"$f":"VLOOKUP(J4133,'Codes éco-part'!$C:$E,3,FALSE)","v":"474"},3.5999999999999996]
["REP ABJ",4,"22154700520",null,"Entretien et aménagement du jardin","Equipements de plein air et leurs accessoires (hors bâches, filets, housses)","Assemblage verre à plus de 50% avec métal","Compris entre 2 kg et 3 kg exclus","€/unité",0.19,0.19,{"$f":"VLOOKUP(J4134,'Codes éco-part'!$C:$E,3,FALSE)","v":"291"},0.22799999999999998]
["REP ABJ",4,"22154700530",null,"Entretien et aménagement du jardin","Equipements de plein air et leurs accessoires (hors bâches, filets, housses)","Assemblage verre à plus de 50% avec métal","Compris entre 3 kg et 5 kg exclus","€/unité",0.3,0.3,{"$f":"VLOOKUP(J4135,'Codes éco-part'!$C:$E,3,FALSE)","v":"446"},0.36]
["REP ABJ",4,"22154700540",null,"Entretien et aménagement du jardin","Equipements de plein air et leurs accessoires (hors bâches, filets, housses)","Assemblage verre à plus de 50% avec métal","Compris entre 5 kg et 7 kg exclus","€/unité",0.53,0.53,{"$f":"VLOOKUP(J4136,'Codes éco-part'!$C:$E,3,FALSE)","v":"451"},0.63600000000000001]
["REP ABJ",4,"22154700550",null,"Entretien et aménagement du jardin","Equipements de plein air et leurs accessoires (hors bâches, filets, housses)","Assemblage verre à plus de 50% avec métal","Compris entre 7 kg et 10 kg exclus","€/unité",0.75,0.75,{"$f":"VLOOKUP(J4137,'Codes éco-part'!$C:$E,3,FALSE)","v":"328"},0.89999999999999991]
["REP ABJ",4,"22154700560",null,"Entretien et aménagement du jardin","Equipements de plein air et leurs accessoires (hors bâches, filets, housses)","Assemblage verre à plus de 50% avec métal","Compris entre 10 kg et 15 kg exclus","€/unité",1.1299999999999999,1.1299999999999999,{"$f":"VLOOKUP(J4138,'Codes éco-part'!$C:$E,3,FALSE)","v":"331"},1.3559999999999999]
["REP ABJ",4,"22154700570",null,"Entretien et aménagement du jardin","Equipements de plein air et leurs accessoires (hors bâches, filets, housses)","Assemblage verre à plus de 50% avec métal","Compris entre 15 kg et 20 kg exclus","€/unité",1.5,1.5,{"$f":"VLOOKUP(J4139,'Codes éco-part'!$C:$E,3,FALSE)","v":"059"},1.7999999999999998]
["REP ABJ",4,"22154700580",null,"Entretien et aménagement du jardin","Equipements de plein air et leurs accessoires (hors bâches, filets, housses)","Assemblage verre à plus de 50% avec métal","Compris entre 20 kg et 25 kg exclus","€/unité",1.88,1.88,{"$f":"VLOOKUP(J4140,'Codes éco-part'!$C:$E,3,FALSE)","v":"335"},2.2559999999999998]
["REP ABJ",4,"22154700590",null,"Entretien et aménagement du jardin","Equipements de plein air et leurs accessoires (hors bâches, filets, housses)","Assemblage verre à plus de 50% avec métal","Compris entre 25 kg et 30 kg exclus","€/unité",2.25,2.25,{"$f":"VLOOKUP(J4141,'Codes éco-part'!$C:$E,3,FALSE)","v":"118"},2.6999999999999997]
["REP ABJ",4,"22154700600",null,"Entretien et aménagement du jardin","Equipements de plein air et leurs accessoires (hors bâches, filets, housses)","Assemblage verre à plus de 50% avec métal","Compris entre 40 kg et 50 kg exclus","€/unité",3.75,3.75,{"$f":"VLOOKUP(J4142,'Codes éco-part'!$C:$E,3,FALSE)","v":"015"},4.5]
["REP ABJ",4,"22154710000",null,"Entretien et aménagement du jardin","Equipements de plein air et leurs accessoires (hors bâches, filets, housses)","Assemblage verre à plus de 50% avec Inerte","Eléments de toutes dimensions et poids","€ / Tonne",75,75,{"$f":"VLOOKUP(J4143,'Codes éco-part'!$C:$E,3,FALSE)","v":"192"},90]
["REP ABJ",4,"22154710200",null,"Entretien et aménagement du jardin","Equipements de plein air et leurs accessoires (hors bâches, filets, housses)","Assemblage verre à plus de 50% avec Inerte","Inférieur strictement à 0,5 kg","€/unité",0.02,0.02,{"$f":"VLOOKUP(J4144,'Codes éco-part'!$C:$E,3,FALSE)","v":"047"},2.4E-2]
["REP ABJ",4,"22154710210",null,"Entretien et aménagement du jardin","Equipements de plein air et leurs accessoires (hors bâches, filets, housses)","Assemblage verre à plus de 50% avec Inerte","Compris entre 0,5 kg et 1 kg exclus","€/unité",0.06,0.06,{"$f":"VLOOKUP(J4145,'Codes éco-part'!$C:$E,3,FALSE)","v":"096"},7.1999999999999995E-2]
["REP ABJ",4,"22154710220",null,"Entretien et aménagement du jardin","Equipements de plein air et leurs accessoires (hors bâches, filets, housses)","Assemblage verre à plus de 50% avec Inerte","Compris entre 1 kg et 2 kg exclus","€/unité",0.11,0.11,{"$f":"VLOOKUP(J4146,'Codes éco-part'!$C:$E,3,FALSE)","v":"262"},0.13200000000000001]
["REP ABJ",4,"22154710270",null,"Entretien et aménagement du jardin","Equipements de plein air et leurs accessoires (hors bâches, filets, housses)","Assemblage verre à plus de 50% avec Inerte","Compris entre 30 kg et 40 kg exclus","€/unité",3,3,{"$f":"VLOOKUP(J4147,'Codes éco-part'!$C:$E,3,FALSE)","v":"474"},3.5999999999999996]
["REP ABJ",4,"22154710520",null,"Entretien et aménagement du jardin","Equipements de plein air et leurs accessoires (hors bâches, filets, housses)","Assemblage verre à plus de 50% avec Inerte","Compris entre 2 kg et 3 kg exclus","€/unité",0.19,0.19,{"$f":"VLOOKUP(J4148,'Codes éco-part'!$C:$E,3,FALSE)","v":"291"},0.22799999999999998]
["REP ABJ",4,"22154710530",null,"Entretien et aménagement du jardin","Equipements de plein air et leurs accessoires (hors bâches, filets, housses)","Assemblage verre à plus de 50% avec Inerte","Compris entre 3 kg et 5 kg exclus","€/unité",0.3,0.3,{"$f":"VLOOKUP(J4149,'Codes éco-part'!$C:$E,3,FALSE)","v":"446"},0.36]
["REP ABJ",4,"22154710540",null,"Entretien et aménagement du jardin","Equipements de plein air et leurs accessoires (hors bâches, filets, housses)","Assemblage verre à plus de 50% avec Inerte","Compris entre 5 kg et 7 kg exclus","€/unité",0.53,0.53,{"$f":"VLOOKUP(J4150,'Codes éco-part'!$C:$E,3,FALSE)","v":"451"},0.63600000000000001]
["REP ABJ",4,"22154710550",null,"Entretien et aménagement du jardin","Equipements de plein air et leurs accessoires (hors bâches, filets, housses)","Assemblage verre à plus de 50% avec Inerte","Compris entre 7 kg et 10 kg exclus","€/unité",0.75,0.75,{"$f":"VLOOKUP(J4151,'Codes éco-part'!$C:$E,3,FALSE)","v":"328"},0.89999999999999991]
["REP ABJ",4,"22154710560",null,"Entretien et aménagement du jardin","Equipements de plein air et leurs accessoires (hors bâches, filets, housses)","Assemblage verre à plus de 50% avec Inerte","Compris entre 10 kg et 15 kg exclus","€/unité",1.1299999999999999,1.1299999999999999,{"$f":"VLOOKUP(J4152,'Codes éco-part'!$C:$E,3,FALSE)","v":"331"},1.3559999999999999]
["REP ABJ",4,"22154710570",null,"Entretien et aménagement du jardin","Equipements de plein air et leurs accessoires (hors bâches, filets, housses)","Assemblage verre à plus de 50% avec Inerte","Compris entre 15 kg et 20 kg exclus","€/unité",1.5,1.5,{"$f":"VLOOKUP(J4153,'Codes éco-part'!$C:$E,3,FALSE)","v":"059"},1.7999999999999998]
["REP ABJ",4,"22154710580",null,"Entretien et aménagement du jardin","Equipements de plein air et leurs accessoires (hors bâches, filets, housses)","Assemblage verre à plus de 50% avec Inerte","Compris entre 20 kg et 25 kg exclus","€/unité",1.88,1.88,{"$f":"VLOOKUP(J4154,'Codes éco-part'!$C:$E,3,FALSE)","v":"335"},2.2559999999999998]
["REP ABJ",4,"22154710590",null,"Entretien et aménagement du jardin","Equipements de plein air et leurs accessoires (hors bâches, filets, housses)","Assemblage verre à plus de 50% avec Inerte","Compris entre 25 kg et 30 kg exclus","€/unité",2.25,2.25,{"$f":"VLOOKUP(J4155,'Codes éco-part'!$C:$E,3,FALSE)","v":"118"},2.6999999999999997]
["REP ABJ",4,"22154710600",null,"Entretien et aménagement du jardin","Equipements de plein air et leurs accessoires (hors bâches, filets, housses)","Assemblage verre à plus de 50% avec Inerte","Compris entre 40 kg et 50 kg exclus","€/unité",3.75,3.75,{"$f":"VLOOKUP(J4156,'Codes éco-part'!$C:$E,3,FALSE)","v":"015"},4.5]
["REP ABJ",4,"22154720000",null,"Entretien et aménagement du jardin","Equipements de plein air et leurs accessoires (hors bâches, filets, housses)","Assemblage verre à plus de 50% avec bois ou dérivés de bois","Eléments de toutes dimensions et poids","€ / Tonne",75,75,{"$f":"VLOOKUP(J4157,'Codes éco-part'!$C:$E,3,FALSE)","v":"192"},90]
["REP ABJ",4,"22154720200",null,"Entretien et aménagement du jardin","Equipements de plein air et leurs accessoires (hors bâches, filets, housses)","Assemblage verre à plus de 50% avec bois ou dérivés de bois","Inférieur strictement à 0,5 kg","€/unité",0.02,0.02,{"$f":"VLOOKUP(J4158,'Codes éco-part'!$C:$E,3,FALSE)","v":"047"},2.4E-2]
["REP ABJ",4,"22154720210",null,"Entretien et aménagement du jardin","Equipements de plein air et leurs accessoires (hors bâches, filets, housses)","Assemblage verre à plus de 50% avec bois ou dérivés de bois","Compris entre 0,5 kg et 1 kg exclus","€/unité",0.06,0.06,{"$f":"VLOOKUP(J4159,'Codes éco-part'!$C:$E,3,FALSE)","v":"096"},7.1999999999999995E-2]
["REP ABJ",4,"22154720220",null,"Entretien et aménagement du jardin","Equipements de plein air et leurs accessoires (hors bâches, filets, housses)","Assemblage verre à plus de 50% avec bois ou dérivés de bois","Compris entre 1 kg et 2 kg exclus","€/unité",0.11,0.11,{"$f":"VLOOKUP(J4160,'Codes éco-part'!$C:$E,3,FALSE)","v":"262"},0.13200000000000001]
["REP ABJ",4,"22154720270",null,"Entretien et aménagement du jardin","Equipements de plein air et leurs accessoires (hors bâches, filets, housses)","Assemblage verre à plus de 50% avec bois ou dérivés de bois","Compris entre 30 kg et 40 kg exclus","€/unité",3,3,{"$f":"VLOOKUP(J4161,'Codes éco-part'!$C:$E,3,FALSE)","v":"474"},3.5999999999999996]
["REP ABJ",4,"22154720520",null,"Entretien et aménagement du jardin","Equipements de plein air et leurs accessoires (hors bâches, filets, housses)","Assemblage verre à plus de 50% avec bois ou dérivés de bois","Compris entre 2 kg et 3 kg exclus","€/unité",0.19,0.19,{"$f":"VLOOKUP(J4162,'Codes éco-part'!$C:$E,3,FALSE)","v":"291"},0.22799999999999998]
["REP ABJ",4,"22154720530",null,"Entretien et aménagement du jardin","Equipements de plein air et leurs accessoires (hors bâches, filets, housses)","Assemblage verre à plus de 50% avec bois ou dérivés de bois","Compris entre 3 kg et 5 kg exclus","€/unité",0.3,0.3,{"$f":"VLOOKUP(J4163,'Codes éco-part'!$C:$E,3,FALSE)","v":"446"},0.36]
["REP ABJ",4,"22154720540",null,"Entretien et aménagement du jardin","Equipements de plein air et leurs accessoires (hors bâches, filets, housses)","Assemblage verre à plus de 50% avec bois ou dérivés de bois","Compris entre 5 kg et 7 kg exclus","€/unité",0.53,0.53,{"$f":"VLOOKUP(J4164,'Codes éco-part'!$C:$E,3,FALSE)","v":"451"},0.63600000000000001]
["REP ABJ",4,"22154720550",null,"Entretien et aménagement du jardin","Equipements de plein air et leurs accessoires (hors bâches, filets, housses)","Assemblage verre à plus de 50% avec bois ou dérivés de bois","Compris entre 7 kg et 10 kg exclus","€/unité",0.75,0.75,{"$f":"VLOOKUP(J4165,'Codes éco-part'!$C:$E,3,FALSE)","v":"328"},0.89999999999999991]
["REP ABJ",4,"22154720560",null,"Entretien et aménagement du jardin","Equipements de plein air et leurs accessoires (hors bâches, filets, housses)","Assemblage verre à plus de 50% avec bois ou dérivés de bois","Compris entre 10 kg et 15 kg exclus","€/unité",1.1299999999999999,1.1299999999999999,{"$f":"VLOOKUP(J4166,'Codes éco-part'!$C:$E,3,FALSE)","v":"331"},1.3559999999999999]
["REP ABJ",4,"22154720570",null,"Entretien et aménagement du jardin","Equipements de plein air et leurs accessoires (hors bâches, filets, housses)","Assemblage verre à plus de 50% avec bois ou dérivés de bois","Compris entre 15 kg et 20 kg exclus","€/unité",1.5,1.5,{"$f":"VLOOKUP(J4167,'Codes éco-part'!$C:$E,3,FALSE)","v":"059"},1.7999999999999998]
["REP ABJ",4,"22154720580",null,"Entretien et aménagement du jardin","Equipements de plein air et leurs accessoires (hors bâches, filets, housses)","Assemblage verre à plus de 50% avec bois ou dérivés de bois","Compris entre 20 kg et 25 kg exclus","€/unité",1.88,1.88,{"$f":"VLOOKUP(J4168,'Codes éco-part'!$C:$E,3,FALSE)","v":"335"},2.2559999999999998]
["REP ABJ",4,"22154720590",null,"Entretien et aménagement du jardin","Equipements de plein air et leurs accessoires (hors bâches, filets, housses)","Assemblage verre à plus de 50% avec bois ou dérivés de bois","Compris entre 25 kg et 30 kg exclus","€/unité",2.25,2.25,{"$f":"VLOOKUP(J4169,'Codes éco-part'!$C:$E,3,FALSE)","v":"118"},2.6999999999999997]
["REP ABJ",4,"22154720600",null,"Entretien et aménagement du jardin","Equipements de plein air et leurs accessoires (hors bâches, filets, housses)","Assemblage verre à plus de 50% avec bois ou dérivés de bois","Compris entre 40 kg et 50 kg exclus","€/unité",3.75,3.75,{"$f":"VLOOKUP(J4170,'Codes éco-part'!$C:$E,3,FALSE)","v":"015"},4.5]
["REP ABJ",4,"22154730000",null,"Entretien et aménagement du jardin","Equipements de plein air et leurs accessoires (hors bâches, filets, housses)","Assemblage verre à plus de 50% avec plastique","Eléments de toutes dimensions et poids","€ / Tonne",75,75,{"$f":"VLOOKUP(J4171,'Codes éco-part'!$C:$E,3,FALSE)","v":"192"},90]
["REP ABJ",4,"22154730200",null,"Entretien et aménagement du jardin","Equipements de plein air et leurs accessoires (hors bâches, filets, housses)","Assemblage verre à plus de 50% avec plastique","Inférieur strictement à 0,5 kg","€/unité",0.02,0.02,{"$f":"VLOOKUP(J4172,'Codes éco-part'!$C:$E,3,FALSE)","v":"047"},2.4E-2]
["REP ABJ",4,"22154730210",null,"Entretien et aménagement du jardin","Equipements de plein air et leurs accessoires (hors bâches, filets, housses)","Assemblage verre à plus de 50% avec plastique","Compris entre 0,5 kg et 1 kg exclus","€/unité",0.06,0.06,{"$f":"VLOOKUP(J4173,'Codes éco-part'!$C:$E,3,FALSE)","v":"096"},7.1999999999999995E-2]
["REP ABJ",4,"22154730220",null,"Entretien et aménagement du jardin","Equipements de plein air et leurs accessoires (hors bâches, filets, housses)","Assemblage verre à plus de 50% avec plastique","Compris entre 1 kg et 2 kg exclus","€/unité",0.11,0.11,{"$f":"VLOOKUP(J4174,'Codes éco-part'!$C:$E,3,FALSE)","v":"262"},0.13200000000000001]
["REP ABJ",4,"22154730270",null,"Entretien et aménagement du jardin","Equipements de plein air et leurs accessoires (hors bâches, filets, housses)","Assemblage verre à plus de 50% avec plastique","Compris entre 30 kg et 40 kg exclus","€/unité",3,3,{"$f":"VLOOKUP(J4175,'Codes éco-part'!$C:$E,3,FALSE)","v":"474"},3.5999999999999996]
["REP ABJ",4,"22154730520",null,"Entretien et aménagement du jardin","Equipements de plein air et leurs accessoires (hors bâches, filets, housses)","Assemblage verre à plus de 50% avec plastique","Compris entre 2 kg et 3 kg exclus","€/unité",0.19,0.19,{"$f":"VLOOKUP(J4176,'Codes éco-part'!$C:$E,3,FALSE)","v":"291"},0.22799999999999998]
["REP ABJ",4,"22154730530",null,"Entretien et aménagement du jardin","Equipements de plein air et leurs accessoires (hors bâches, filets, housses)","Assemblage verre à plus de 50% avec plastique","Compris entre 3 kg et 5 kg exclus","€/unité",0.3,0.3,{"$f":"VLOOKUP(J4177,'Codes éco-part'!$C:$E,3,FALSE)","v":"446"},0.36]
["REP ABJ",4,"22154730540",null,"Entretien et aménagement du jardin","Equipements de plein air et leurs accessoires (hors bâches, filets, housses)","Assemblage verre à plus de 50% avec plastique","Compris entre 5 kg et 7 kg exclus","€/unité",0.53,0.53,{"$f":"VLOOKUP(J4178,'Codes éco-part'!$C:$E,3,FALSE)","v":"451"},0.63600000000000001]
["REP ABJ",4,"22154730550",null,"Entretien et aménagement du jardin","Equipements de plein air et leurs accessoires (hors bâches, filets, housses)","Assemblage verre à plus de 50% avec plastique","Compris entre 7 kg et 10 kg exclus","€/unité",0.75,0.75,{"$f":"VLOOKUP(J4179,'Codes éco-part'!$C:$E,3,FALSE)","v":"328"},0.89999999999999991]
["REP ABJ",4,"22154730560",null,"Entretien et aménagement du jardin","Equipements de plein air et leurs accessoires (hors bâches, filets, housses)","Assemblage verre à plus de 50% avec plastique","Compris entre 10 kg et 15 kg exclus","€/unité",1.1299999999999999,1.1299999999999999,{"$f":"VLOOKUP(J4180,'Codes éco-part'!$C:$E,3,FALSE)","v":"331"},1.3559999999999999]
["REP ABJ",4,"22154730570",null,"Entretien et aménagement du jardin","Equipements de plein air et leurs accessoires (hors bâches, filets, housses)","Assemblage verre à plus de 50% avec plastique","Compris entre 15 kg et 20 kg exclus","€/unité",1.5,1.5,{"$f":"VLOOKUP(J4181,'Codes éco-part'!$C:$E,3,FALSE)","v":"059"},1.7999999999999998]
["REP ABJ",4,"22154730580",null,"Entretien et aménagement du jardin","Equipements de plein air et leurs accessoires (hors bâches, filets, housses)","Assemblage verre à plus de 50% avec plastique","Compris entre 20 kg et 25 kg exclus","€/unité",1.88,1.88,{"$f":"VLOOKUP(J4182,'Codes éco-part'!$C:$E,3,FALSE)","v":"335"},2.2559999999999998]
["REP ABJ",4,"22154730590",null,"Entretien et aménagement du jardin","Equipements de plein air et leurs accessoires (hors bâches, filets, housses)","Assemblage verre à plus de 50% avec plastique","Compris entre 25 kg et 30 kg exclus","€/unité",2.25,2.25,{"$f":"VLOOKUP(J4183,'Codes éco-part'!$C:$E,3,FALSE)","v":"118"},2.6999999999999997]
["REP ABJ",4,"22154730600",null,"Entretien et aménagement du jardin","Equipements de plein air et leurs accessoires (hors bâches, filets, housses)","Assemblage verre à plus de 50% avec plastique","Compris entre 40 kg et 50 kg exclus","€/unité",3.75,3.75,{"$f":"VLOOKUP(J4184,'Codes éco-part'!$C:$E,3,FALSE)","v":"015"},4.5]
["REP ABJ",4,"22154740000",null,"Entretien et aménagement du jardin","Equipements de plein air et leurs accessoires (hors bâches, filets, housses)","Béton >90%","Eléments de toutes dimensions et poids","€ / Tonne",5,5,{"$f":"VLOOKUP(J4185,'Codes éco-part'!$C:$E,3,FALSE)","v":"042"},{"$f":"J4185*1.2","v":6}]
["REP ABJ",4,"22154740200",null,"Entretien et aménagement du jardin","Equipements de plein air et leurs accessoires (hors bâches, filets, housses)","Béton >90%","Inférieur strictement à 0,5 kg","€/unité",0.01,0.01,{"$f":"VLOOKUP(J4186,'Codes éco-part'!$C:$E,3,FALSE)","v":"260"},1.2E-2]
["REP ABJ",4,"22154740210",null,"Entretien et aménagement du jardin","Equipements de plein air et leurs accessoires (hors bâches, filets, housses)","Béton >90%","Compris entre 0,5 kg et 1 kg exclus","€/unité",0.01,0.01,{"$f":"VLOOKUP(J4187,'Codes éco-part'!$C:$E,3,FALSE)","v":"260"},1.2E-2]
["REP ABJ",4,"22154740220",null,"Entretien et aménagement du jardin","Equipements de plein air et leurs accessoires (hors bâches, filets, housses)","Béton >90%","Compris entre 1 kg et 2 kg exclus","€/unité",0.01,0.01,{"$f":"VLOOKUP(J4188,'Codes éco-part'!$C:$E,3,FALSE)","v":"260"},1.2E-2]
["REP ABJ",4,"22154740270",null,"Entretien et aménagement du jardin","Equipements de plein air et leurs accessoires (hors bâches, filets, housses)","Béton >90%","Compris entre 30 kg et 40 kg exclus","€/unité",0.2,0.2,{"$f":"VLOOKUP(J4189,'Codes éco-part'!$C:$E,3,FALSE)","v":"101"},0.24]
["REP ABJ",4,"22154740520",null,"Entretien et aménagement du jardin","Equipements de plein air et leurs accessoires (hors bâches, filets, housses)","Béton >90%","Compris entre 2 kg et 3 kg exclus","€/unité",0.01,0.01,{"$f":"VLOOKUP(J4190,'Codes éco-part'!$C:$E,3,FALSE)","v":"260"},1.2E-2]
["REP ABJ",4,"22154740530",null,"Entretien et aménagement du jardin","Equipements de plein air et leurs accessoires (hors bâches, filets, housses)","Béton >90%","Compris entre 3 kg et 5 kg exclus","€/unité",0.02,0.02,{"$f":"VLOOKUP(J4191,'Codes éco-part'!$C:$E,3,FALSE)","v":"047"},2.4E-2]
["REP ABJ",4,"22154740540",null,"Entretien et aménagement du jardin","Equipements de plein air et leurs accessoires (hors bâches, filets, housses)","Béton >90%","Compris entre 5 kg et 7 kg exclus","€/unité",0.04,0.04,{"$f":"VLOOKUP(J4192,'Codes éco-part'!$C:$E,3,FALSE)","v":"002"},4.8000000000000001E-2]
["REP ABJ",4,"22154740550",null,"Entretien et aménagement du jardin","Equipements de plein air et leurs accessoires (hors bâches, filets, housses)","Béton >90%","Compris entre 7 kg et 10 kg exclus","€/unité",0.05,0.05,{"$f":"VLOOKUP(J4193,'Codes éco-part'!$C:$E,3,FALSE)","v":"048"},0.06]
["REP ABJ",4,"22154740560",null,"Entretien et aménagement du jardin","Equipements de plein air et leurs accessoires (hors bâches, filets, housses)","Béton >90%","Compris entre 10 kg et 15 kg exclus","€/unité",0.08,0.08,{"$f":"VLOOKUP(J4194,'Codes éco-part'!$C:$E,3,FALSE)","v":"003"},9.6000000000000002E-2]
["REP ABJ",4,"22154740570",null,"Entretien et aménagement du jardin","Equipements de plein air et leurs accessoires (hors bâches, filets, housses)","Béton >90%","Compris entre 15 kg et 20 kg exclus","€/unité",0.1,0.1,{"$f":"VLOOKUP(J4195,'Codes éco-part'!$C:$E,3,FALSE)","v":"094"},0.12]
["REP ABJ",4,"22154740580",null,"Entretien et aménagement du jardin","Equipements de plein air et leurs accessoires (hors bâches, filets, housses)","Béton >90%","Compris entre 20 kg et 25 kg exclus","€/unité",0.13,0.13,{"$f":"VLOOKUP(J4196,'Codes éco-part'!$C:$E,3,FALSE)","v":"004"},0.156]
["REP ABJ",4,"22154740590",null,"Entretien et aménagement du jardin","Equipements de plein air et leurs accessoires (hors bâches, filets, housses)","Béton >90%","Compris entre 25 kg et 30 kg exclus","€/unité",0.15,0.15,{"$f":"VLOOKUP(J4197,'Codes éco-part'!$C:$E,3,FALSE)","v":"050"},0.18]
["REP ABJ",4,"22154740600",null,"Entretien et aménagement du jardin","Equipements de plein air et leurs accessoires (hors bâches, filets, housses)","Béton >90%","Compris entre 40 kg et 50 kg exclus","€/unité",0.25,0.25,{"$f":"VLOOKUP(J4198,'Codes éco-part'!$C:$E,3,FALSE)","v":"095"},0.3]
["REP ABJ",4,"22154810000",null,"Entretien et aménagement du jardin","Equipements de plein air et leurs accessoires (hors bâches, filets, housses)","Assemblage dont la composition conjointe en bois, dérivés de bois et en métal dépasse 90%","Eléments de toutes dimensions et poids","€ / Tonne",10,10,{"$f":"VLOOKUP(J4199,'Codes éco-part'!$C:$E,3,FALSE)","v":"138"},12]
["REP ABJ",4,"22154810200",null,"Entretien et aménagement du jardin","Equipements de plein air et leurs accessoires (hors bâches, filets, housses)","Assemblage dont la composition conjointe en bois, dérivés de bois et en métal dépasse 90%","Inférieur strictement à 0,5 kg","€/unité",0.01,0.01,{"$f":"VLOOKUP(J4200,'Codes éco-part'!$C:$E,3,FALSE)","v":"260"},1.2E-2]
["REP ABJ",4,"22154810210",null,"Entretien et aménagement du jardin","Equipements de plein air et leurs accessoires (hors bâches, filets, housses)","Assemblage dont la composition conjointe en bois, dérivés de bois et en métal dépasse 90%","Compris entre 0,5 kg et 1 kg exclus","€/unité",0.01,0.01,{"$f":"VLOOKUP(J4201,'Codes éco-part'!$C:$E,3,FALSE)","v":"260"},1.2E-2]
["REP ABJ",4,"22154810220",null,"Entretien et aménagement du jardin","Equipements de plein air et leurs accessoires (hors bâches, filets, housses)","Assemblage dont la composition conjointe en bois, dérivés de bois et en métal dépasse 90%","Compris entre 1 kg et 2 kg exclus","€/unité",0.02,0.02,{"$f":"VLOOKUP(J4202,'Codes éco-part'!$C:$E,3,FALSE)","v":"047"},2.4E-2]
["REP ABJ",4,"22154810270",null,"Entretien et aménagement du jardin","Equipements de plein air et leurs accessoires (hors bâches, filets, housses)","Assemblage dont la composition conjointe en bois, dérivés de bois et en métal dépasse 90%","Compris entre 30 kg et 40 kg exclus","€/unité",0.4,0.4,{"$f":"VLOOKUP(J4203,'Codes éco-part'!$C:$E,3,FALSE)","v":"105"},0.48]
["REP ABJ",4,"22154810520",null,"Entretien et aménagement du jardin","Equipements de plein air et leurs accessoires (hors bâches, filets, housses)","Assemblage dont la composition conjointe en bois, dérivés de bois et en métal dépasse 90%","Compris entre 2 kg et 3 kg exclus","€/unité",0.03,0.03,{"$f":"VLOOKUP(J4204,'Codes éco-part'!$C:$E,3,FALSE)","v":"092"},3.5999999999999997E-2]
["REP ABJ",4,"22154810530",null,"Entretien et aménagement du jardin","Equipements de plein air et leurs accessoires (hors bâches, filets, housses)","Assemblage dont la composition conjointe en bois, dérivés de bois et en métal dépasse 90%","Compris entre 3 kg et 5 kg exclus","€/unité",0.04,0.04,{"$f":"VLOOKUP(J4205,'Codes éco-part'!$C:$E,3,FALSE)","v":"002"},4.8000000000000001E-2]
["REP ABJ",4,"22154810540",null,"Entretien et aménagement du jardin","Equipements de plein air et leurs accessoires (hors bâches, filets, housses)","Assemblage dont la composition conjointe en bois, dérivés de bois et en métal dépasse 90%","Compris entre 5 kg et 7 kg exclus","€/unité",7.0000000000000007E-2,7.0000000000000007E-2,{"$f":"VLOOKUP(J4206,'Codes éco-part'!$C:$E,3,FALSE)","v":"247"},8.4000000000000005E-2]
["REP ABJ",4,"22154810550",null,"Entretien et aménagement du jardin","Equipements de plein air et leurs accessoires (hors bâches, filets, housses)","Assemblage dont la composition conjointe en bois, dérivés de bois et en métal dépasse 90%","Compris entre 7 kg et 10 kg exclus","€/unité",0.1,0.1,{"$f":"VLOOKUP(J4207,'Codes éco-part'!$C:$E,3,FALSE)","v":"094"},0.12]
["REP ABJ",4,"22154810560",null,"Entretien et aménagement du jardin","Equipements de plein air et leurs accessoires (hors bâches, filets, housses)","Assemblage dont la composition conjointe en bois, dérivés de bois et en métal dépasse 90%","Compris entre 10 kg et 15 kg exclus","€/unité",0.15,0.15,{"$f":"VLOOKUP(J4208,'Codes éco-part'!$C:$E,3,FALSE)","v":"050"},0.18]
["REP ABJ",4,"22154810570",null,"Entretien et aménagement du jardin","Equipements de plein air et leurs accessoires (hors bâches, filets, housses)","Assemblage dont la composition conjointe en bois, dérivés de bois et en métal dépasse 90%","Compris entre 15 kg et 20 kg exclus","€/unité",0.2,0.2,{"$f":"VLOOKUP(J4209,'Codes éco-part'!$C:$E,3,FALSE)","v":"101"},0.24]
["REP ABJ",4,"22154810580",null,"Entretien et aménagement du jardin","Equipements de plein air et leurs accessoires (hors bâches, filets, housses)","Assemblage dont la composition conjointe en bois, dérivés de bois et en métal dépasse 90%","Compris entre 20 kg et 25 kg exclus","€/unité",0.25,0.25,{"$f":"VLOOKUP(J4210,'Codes éco-part'!$C:$E,3,FALSE)","v":"095"},0.3]
["REP ABJ",4,"22154810590",null,"Entretien et aménagement du jardin","Equipements de plein air et leurs accessoires (hors bâches, filets, housses)","Assemblage dont la composition conjointe en bois, dérivés de bois et en métal dépasse 90%","Compris entre 25 kg et 30 kg exclus","€/unité",0.3,0.3,{"$f":"VLOOKUP(J4211,'Codes éco-part'!$C:$E,3,FALSE)","v":"446"},0.36]
["REP ABJ",4,"22154810600",null,"Entretien et aménagement du jardin","Equipements de plein air et leurs accessoires (hors bâches, filets, housses)","Assemblage dont la composition conjointe en bois, dérivés de bois et en métal dépasse 90%","Compris entre 40 kg et 50 kg exclus","€/unité",0.5,0.5,{"$f":"VLOOKUP(J4212,'Codes éco-part'!$C:$E,3,FALSE)","v":"053"},0.6]
["REP ABJ",4,"22154820000",null,"Entretien et aménagement du jardin","Equipements de plein air et leurs accessoires (hors bâches, filets, housses)","Assemblage de 3 matériaux ou plus sans un matériau à plus de 50%","Eléments de toutes dimensions et poids","€ / Tonne",75,75,{"$f":"VLOOKUP(J4213,'Codes éco-part'!$C:$E,3,FALSE)","v":"192"},90]
["REP ABJ",4,"22154820200",null,"Entretien et aménagement du jardin","Equipements de plein air et leurs accessoires (hors bâches, filets, housses)","Assemblage de 3 matériaux ou plus sans un matériau à plus de 50%","Inférieur strictement à 0,5 kg","€/unité",0.02,0.02,{"$f":"VLOOKUP(J4214,'Codes éco-part'!$C:$E,3,FALSE)","v":"047"},2.4E-2]
["REP ABJ",4,"22154820210",null,"Entretien et aménagement du jardin","Equipements de plein air et leurs accessoires (hors bâches, filets, housses)","Assemblage de 3 matériaux ou plus sans un matériau à plus de 50%","Compris entre 0,5 kg et 1 kg exclus","€/unité",0.06,0.06,{"$f":"VLOOKUP(J4215,'Codes éco-part'!$C:$E,3,FALSE)","v":"096"},7.1999999999999995E-2]
["REP ABJ",4,"22154820220",null,"Entretien et aménagement du jardin","Equipements de plein air et leurs accessoires (hors bâches, filets, housses)","Assemblage de 3 matériaux ou plus sans un matériau à plus de 50%","Compris entre 1 kg et 2 kg exclus","€/unité",0.11,0.11,{"$f":"VLOOKUP(J4216,'Codes éco-part'!$C:$E,3,FALSE)","v":"262"},0.13200000000000001]
["REP ABJ",4,"22154820270",null,"Entretien et aménagement du jardin","Equipements de plein air et leurs accessoires (hors bâches, filets, housses)","Assemblage de 3 matériaux ou plus sans un matériau à plus de 50%","Compris entre 30 kg et 40 kg exclus","€/unité",3,3,{"$f":"VLOOKUP(J4217,'Codes éco-part'!$C:$E,3,FALSE)","v":"474"},3.5999999999999996]
["REP ABJ",4,"22154820520",null,"Entretien et aménagement du jardin","Equipements de plein air et leurs accessoires (hors bâches, filets, housses)","Assemblage de 3 matériaux ou plus sans un matériau à plus de 50%","Compris entre 2 kg et 3 kg exclus","€/unité",0.19,0.19,{"$f":"VLOOKUP(J4218,'Codes éco-part'!$C:$E,3,FALSE)","v":"291"},0.22799999999999998]
["REP ABJ",4,"22154820530",null,"Entretien et aménagement du jardin","Equipements de plein air et leurs accessoires (hors bâches, filets, housses)","Assemblage de 3 matériaux ou plus sans un matériau à plus de 50%","Compris entre 3 kg et 5 kg exclus","€/unité",0.3,0.3,{"$f":"VLOOKUP(J4219,'Codes éco-part'!$C:$E,3,FALSE)","v":"446"},0.36]
["REP ABJ",4,"22154820540",null,"Entretien et aménagement du jardin","Equipements de plein air et leurs accessoires (hors bâches, filets, housses)","Assemblage de 3 matériaux ou plus sans un matériau à plus de 50%","Compris entre 5 kg et 7 kg exclus","€/unité",0.53,0.53,{"$f":"VLOOKUP(J4220,'Codes éco-part'!$C:$E,3,FALSE)","v":"451"},0.63600000000000001]
["REP ABJ",4,"22154820550",null,"Entretien et aménagement du jardin","Equipements de plein air et leurs accessoires (hors bâches, filets, housses)","Assemblage de 3 matériaux ou plus sans un matériau à plus de 50%","Compris entre 7 kg et 10 kg exclus","€/unité",0.75,0.75,{"$f":"VLOOKUP(J4221,'Codes éco-part'!$C:$E,3,FALSE)","v":"328"},0.89999999999999991]
["REP ABJ",4,"22154820560",null,"Entretien et aménagement du jardin","Equipements de plein air et leurs accessoires (hors bâches, filets, housses)","Assemblage de 3 matériaux ou plus sans un matériau à plus de 50%","Compris entre 10 kg et 15 kg exclus","€/unité",1.1299999999999999,1.1299999999999999,{"$f":"VLOOKUP(J4222,'Codes éco-part'!$C:$E,3,FALSE)","v":"331"},1.3559999999999999]
["REP ABJ",4,"22154820570",null,"Entretien et aménagement du jardin","Equipements de plein air et leurs accessoires (hors bâches, filets, housses)","Assemblage de 3 matériaux ou plus sans un matériau à plus de 50%","Compris entre 15 kg et 20 kg exclus","€/unité",1.5,1.5,{"$f":"VLOOKUP(J4223,'Codes éco-part'!$C:$E,3,FALSE)","v":"059"},1.7999999999999998]
["REP ABJ",4,"22154820580",null,"Entretien et aménagement du jardin","Equipements de plein air et leurs accessoires (hors bâches, filets, housses)","Assemblage de 3 matériaux ou plus sans un matériau à plus de 50%","Compris entre 20 kg et 25 kg exclus","€/unité",1.88,1.88,{"$f":"VLOOKUP(J4224,'Codes éco-part'!$C:$E,3,FALSE)","v":"335"},2.2559999999999998]
["REP ABJ",4,"22154820590",null,"Entretien et aménagement du jardin","Equipements de plein air et leurs accessoires (hors bâches, filets, housses)","Assemblage de 3 matériaux ou plus sans un matériau à plus de 50%","Compris entre 25 kg et 30 kg exclus","€/unité",2.25,2.25,{"$f":"VLOOKUP(J4225,'Codes éco-part'!$C:$E,3,FALSE)","v":"118"},2.6999999999999997]
["REP ABJ",4,"22154820600",null,"Entretien et aménagement du jardin","Equipements de plein air et leurs accessoires (hors bâches, filets, housses)","Assemblage de 3 matériaux ou plus sans un matériau à plus de 50%","Compris entre 40 kg et 50 kg exclus","€/unité",3.75,3.75,{"$f":"VLOOKUP(J4226,'Codes éco-part'!$C:$E,3,FALSE)","v":"015"},4.5]
["REP ABJ",4,"22154840000",null,"Entretien et aménagement du jardin","Equipements de plein air et leurs accessoires (hors bâches, filets, housses)","Ardoise >90%","Eléments de toutes dimensions et poids","€ / Tonne",5,5,{"$f":"VLOOKUP(J4227,'Codes éco-part'!$C:$E,3,FALSE)","v":"042"},6]
["REP ABJ",4,"22154840200",null,"Entretien et aménagement du jardin","Equipements de plein air et leurs accessoires (hors bâches, filets, housses)","Ardoise >90%","Inférieur strictement à 0,5 kg","€/unité",0.01,0.01,{"$f":"VLOOKUP(J4228,'Codes éco-part'!$C:$E,3,FALSE)","v":"260"},1.2E-2]
["REP ABJ",4,"22154840210",null,"Entretien et aménagement du jardin","Equipements de plein air et leurs accessoires (hors bâches, filets, housses)","Ardoise >90%","Compris entre 0,5 kg et 1 kg exclus","€/unité",0.01,0.01,{"$f":"VLOOKUP(J4229,'Codes éco-part'!$C:$E,3,FALSE)","v":"260"},1.2E-2]
["REP ABJ",4,"22154840220",null,"Entretien et aménagement du jardin","Equipements de plein air et leurs accessoires (hors bâches, filets, housses)","Ardoise >90%","Compris entre 1 kg et 2 kg exclus","€/unité",0.01,0.01,{"$f":"VLOOKUP(J4230,'Codes éco-part'!$C:$E,3,FALSE)","v":"260"},1.2E-2]
["REP ABJ",4,"22154840270",null,"Entretien et aménagement du jardin","Equipements de plein air et leurs accessoires (hors bâches, filets, housses)","Ardoise >90%","Compris entre 30 kg et 40 kg exclus","€/unité",0.2,0.2,{"$f":"VLOOKUP(J4231,'Codes éco-part'!$C:$E,3,FALSE)","v":"101"},0.24]
["REP ABJ",4,"22154840520",null,"Entretien et aménagement du jardin","Equipements de plein air et leurs accessoires (hors bâches, filets, housses)","Ardoise >90%","Compris entre 2 kg et 3 kg exclus","€/unité",0.01,0.01,{"$f":"VLOOKUP(J4232,'Codes éco-part'!$C:$E,3,FALSE)","v":"260"},1.2E-2]
["REP ABJ",4,"22154840530",null,"Entretien et aménagement du jardin","Equipements de plein air et leurs accessoires (hors bâches, filets, housses)","Ardoise >90%","Compris entre 3 kg et 5 kg exclus","€/unité",0.02,0.02,{"$f":"VLOOKUP(J4233,'Codes éco-part'!$C:$E,3,FALSE)","v":"047"},2.4E-2]
["REP ABJ",4,"22154840540",null,"Entretien et aménagement du jardin","Equipements de plein air et leurs accessoires (hors bâches, filets, housses)","Ardoise >90%","Compris entre 5 kg et 7 kg exclus","€/unité",0.04,0.04,{"$f":"VLOOKUP(J4234,'Codes éco-part'!$C:$E,3,FALSE)","v":"002"},4.8000000000000001E-2]
["REP ABJ",4,"22154840550",null,"Entretien et aménagement du jardin","Equipements de plein air et leurs accessoires (hors bâches, filets, housses)","Ardoise >90%","Compris entre 7 kg et 10 kg exclus","€/unité",0.05,0.05,{"$f":"VLOOKUP(J4235,'Codes éco-part'!$C:$E,3,FALSE)","v":"048"},0.06]
["REP ABJ",4,"22154840560",null,"Entretien et aménagement du jardin","Equipements de plein air et leurs accessoires (hors bâches, filets, housses)","Ardoise >90%","Compris entre 10 kg et 15 kg exclus","€/unité",0.08,0.08,{"$f":"VLOOKUP(J4236,'Codes éco-part'!$C:$E,3,FALSE)","v":"003"},9.6000000000000002E-2]
["REP ABJ",4,"22154840570",null,"Entretien et aménagement du jardin","Equipements de plein air et leurs accessoires (hors bâches, filets, housses)","Ardoise >90%","Compris entre 15 kg et 20 kg exclus","€/unité",0.1,0.1,{"$f":"VLOOKUP(J4237,'Codes éco-part'!$C:$E,3,FALSE)","v":"094"},0.12]
["REP ABJ",4,"22154840580",null,"Entretien et aménagement du jardin","Equipements de plein air et leurs accessoires (hors bâches, filets, housses)","Ardoise >90%","Compris entre 20 kg et 25 kg exclus","€/unité",0.13,0.13,{"$f":"VLOOKUP(J4238,'Codes éco-part'!$C:$E,3,FALSE)","v":"004"},0.156]
["REP ABJ",4,"22154840590",null,"Entretien et aménagement du jardin","Equipements de plein air et leurs accessoires (hors bâches, filets, housses)","Ardoise >90%","Compris entre 25 kg et 30 kg exclus","€/unité",0.15,0.15,{"$f":"VLOOKUP(J4239,'Codes éco-part'!$C:$E,3,FALSE)","v":"050"},0.18]
["REP ABJ",4,"22154840600",null,"Entretien et aménagement du jardin","Equipements de plein air et leurs accessoires (hors bâches, filets, housses)","Ardoise >90%","Compris entre 40 kg et 50 kg exclus","€/unité",0.25,0.25,{"$f":"VLOOKUP(J4240,'Codes éco-part'!$C:$E,3,FALSE)","v":"095"},0.3]
["REP ABJ",4,"22154860000",null,"Entretien et aménagement du jardin","Equipements de plein air et leurs accessoires (hors bâches, filets, housses)","Pierre calcaire >90%","Eléments de toutes dimensions et poids","€ / Tonne",5,5,{"$f":"VLOOKUP(J4241,'Codes éco-part'!$C:$E,3,FALSE)","v":"042"},6]
["REP ABJ",4,"22154860200",null,"Entretien et aménagement du jardin","Equipements de plein air et leurs accessoires (hors bâches, filets, housses)","Pierre calcaire >90%","Inférieur strictement à 0,5 kg","€/unité",0.01,0.01,{"$f":"VLOOKUP(J4242,'Codes éco-part'!$C:$E,3,FALSE)","v":"260"},1.2E-2]
["REP ABJ",4,"22154860210",null,"Entretien et aménagement du jardin","Equipements de plein air et leurs accessoires (hors bâches, filets, housses)","Pierre calcaire >90%","Compris entre 0,5 kg et 1 kg exclus","€/unité",0.01,0.01,{"$f":"VLOOKUP(J4243,'Codes éco-part'!$C:$E,3,FALSE)","v":"260"},1.2E-2]
["REP ABJ",4,"22154860220",null,"Entretien et aménagement du jardin","Equipements de plein air et leurs accessoires (hors bâches, filets, housses)","Pierre calcaire >90%","Compris entre 1 kg et 2 kg exclus","€/unité",0.01,0.01,{"$f":"VLOOKUP(J4244,'Codes éco-part'!$C:$E,3,FALSE)","v":"260"},1.2E-2]
["REP ABJ",4,"22154860270",null,"Entretien et aménagement du jardin","Equipements de plein air et leurs accessoires (hors bâches, filets, housses)","Pierre calcaire >90%","Compris entre 30 kg et 40 kg exclus","€/unité",0.2,0.2,{"$f":"VLOOKUP(J4245,'Codes éco-part'!$C:$E,3,FALSE)","v":"101"},0.24]
["REP ABJ",4,"22154860520",null,"Entretien et aménagement du jardin","Equipements de plein air et leurs accessoires (hors bâches, filets, housses)","Pierre calcaire >90%","Compris entre 2 kg et 3 kg exclus","€/unité",0.01,0.01,{"$f":"VLOOKUP(J4246,'Codes éco-part'!$C:$E,3,FALSE)","v":"260"},1.2E-2]
["REP ABJ",4,"22154860530",null,"Entretien et aménagement du jardin","Equipements de plein air et leurs accessoires (hors bâches, filets, housses)","Pierre calcaire >90%","Compris entre 3 kg et 5 kg exclus","€/unité",0.02,0.02,{"$f":"VLOOKUP(J4247,'Codes éco-part'!$C:$E,3,FALSE)","v":"047"},2.4E-2]
["REP ABJ",4,"22154860540",null,"Entretien et aménagement du jardin","Equipements de plein air et leurs accessoires (hors bâches, filets, housses)","Pierre calcaire >90%","Compris entre 5 kg et 7 kg exclus","€/unité",0.04,0.04,{"$f":"VLOOKUP(J4248,'Codes éco-part'!$C:$E,3,FALSE)","v":"002"},4.8000000000000001E-2]
["REP ABJ",4,"22154860550",null,"Entretien et aménagement du jardin","Equipements de plein air et leurs accessoires (hors bâches, filets, housses)","Pierre calcaire >90%","Compris entre 7 kg et 10 kg exclus","€/unité",0.05,0.05,{"$f":"VLOOKUP(J4249,'Codes éco-part'!$C:$E,3,FALSE)","v":"048"},{"$f":"J4249*1.2","v":0.06}]
["REP ABJ",4,"22154860560",null,"Entretien et aménagement du jardin","Equipements de plein air et leurs accessoires (hors bâches, filets, housses)","Pierre calcaire >90%","Compris entre 10 kg et 15 kg exclus","€/unité",0.08,0.08,{"$f":"VLOOKUP(J4250,'Codes éco-part'!$C:$E,3,FALSE)","v":"003"},9.6000000000000002E-2]
["REP ABJ",4,"22154860570",null,"Entretien et aménagement du jardin","Equipements de plein air et leurs accessoires (hors bâches, filets, housses)","Pierre calcaire >90%","Compris entre 15 kg et 20 kg exclus","€/unité",0.1,0.1,{"$f":"VLOOKUP(J4251,'Codes éco-part'!$C:$E,3,FALSE)","v":"094"},0.12]
["REP ABJ",4,"22154860580",null,"Entretien et aménagement du jardin","Equipements de plein air et leurs accessoires (hors bâches, filets, housses)","Pierre calcaire >90%","Compris entre 20 kg et 25 kg exclus","€/unité",0.13,0.13,{"$f":"VLOOKUP(J4252,'Codes éco-part'!$C:$E,3,FALSE)","v":"004"},0.156]
["REP ABJ",4,"22154860590",null,"Entretien et aménagement du jardin","Equipements de plein air et leurs accessoires (hors bâches, filets, housses)","Pierre calcaire >90%","Compris entre 25 kg et 30 kg exclus","€/unité",0.15,0.15,{"$f":"VLOOKUP(J4253,'Codes éco-part'!$C:$E,3,FALSE)","v":"050"},0.18]
["REP ABJ",4,"22154860600",null,"Entretien et aménagement du jardin","Equipements de plein air et leurs accessoires (hors bâches, filets, housses)","Pierre calcaire >90%","Compris entre 40 kg et 50 kg exclus","€/unité",0.25,0.25,{"$f":"VLOOKUP(J4254,'Codes éco-part'!$C:$E,3,FALSE)","v":"095"},0.3]
["REP ABJ",4,"22154870000",null,"Entretien et aménagement du jardin","Equipements de plein air et leurs accessoires (hors bâches, filets, housses)","Lave >90%","Eléments de toutes dimensions et poids","€ / Tonne",5,5,{"$f":"VLOOKUP(J4255,'Codes éco-part'!$C:$E,3,FALSE)","v":"042"},6]
["REP ABJ",4,"22154870200",null,"Entretien et aménagement du jardin","Equipements de plein air et leurs accessoires (hors bâches, filets, housses)","Lave >90%","Inférieur strictement à 0,5 kg","€/unité",0.01,0.01,{"$f":"VLOOKUP(J4256,'Codes éco-part'!$C:$E,3,FALSE)","v":"260"},1.2E-2]
["REP ABJ",4,"22154870210",null,"Entretien et aménagement du jardin","Equipements de plein air et leurs accessoires (hors bâches, filets, housses)","Lave >90%","Compris entre 0,5 kg et 1 kg exclus","€/unité",0.01,0.01,{"$f":"VLOOKUP(J4257,'Codes éco-part'!$C:$E,3,FALSE)","v":"260"},1.2E-2]
["REP ABJ",4,"22154870220",null,"Entretien et aménagement du jardin","Equipements de plein air et leurs accessoires (hors bâches, filets, housses)","Lave >90%","Compris entre 1 kg et 2 kg exclus","€/unité",0.01,0.01,{"$f":"VLOOKUP(J4258,'Codes éco-part'!$C:$E,3,FALSE)","v":"260"},1.2E-2]
["REP ABJ",4,"22154870270",null,"Entretien et aménagement du jardin","Equipements de plein air et leurs accessoires (hors bâches, filets, housses)","Lave >90%","Compris entre 30 kg et 40 kg exclus","€/unité",0.2,0.2,{"$f":"VLOOKUP(J4259,'Codes éco-part'!$C:$E,3,FALSE)","v":"101"},0.24]
["REP ABJ",4,"22154870520",null,"Entretien et aménagement du jardin","Equipements de plein air et leurs accessoires (hors bâches, filets, housses)","Lave >90%","Compris entre 2 kg et 3 kg exclus","€/unité",0.01,0.01,{"$f":"VLOOKUP(J4260,'Codes éco-part'!$C:$E,3,FALSE)","v":"260"},1.2E-2]
["REP ABJ",4,"22154870530",null,"Entretien et aménagement du jardin","Equipements de plein air et leurs accessoires (hors bâches, filets, housses)","Lave >90%","Compris entre 3 kg et 5 kg exclus","€/unité",0.02,0.02,{"$f":"VLOOKUP(J4261,'Codes éco-part'!$C:$E,3,FALSE)","v":"047"},2.4E-2]
["REP ABJ",4,"22154870540",null,"Entretien et aménagement du jardin","Equipements de plein air et leurs accessoires (hors bâches, filets, housses)","Lave >90%","Compris entre 5 kg et 7 kg exclus","€/unité",0.04,0.04,{"$f":"VLOOKUP(J4262,'Codes éco-part'!$C:$E,3,FALSE)","v":"002"},4.8000000000000001E-2]
["REP ABJ",4,"22154870550",null,"Entretien et aménagement du jardin","Equipements de plein air et leurs accessoires (hors bâches, filets, housses)","Lave >90%","Compris entre 7 kg et 10 kg exclus","€/unité",0.05,0.05,{"$f":"VLOOKUP(J4263,'Codes éco-part'!$C:$E,3,FALSE)","v":"048"},0.06]
["REP ABJ",4,"22154870560",null,"Entretien et aménagement du jardin","Equipements de plein air et leurs accessoires (hors bâches, filets, housses)","Lave >90%","Compris entre 10 kg et 15 kg exclus","€/unité",0.08,0.08,{"$f":"VLOOKUP(J4264,'Codes éco-part'!$C:$E,3,FALSE)","v":"003"},9.6000000000000002E-2]
["REP ABJ",4,"22154870570",null,"Entretien et aménagement du jardin","Equipements de plein air et leurs accessoires (hors bâches, filets, housses)","Lave >90%","Compris entre 15 kg et 20 kg exclus","€/unité",0.1,0.1,{"$f":"VLOOKUP(J4265,'Codes éco-part'!$C:$E,3,FALSE)","v":"094"},0.12]
["REP ABJ",4,"22154870580",null,"Entretien et aménagement du jardin","Equipements de plein air et leurs accessoires (hors bâches, filets, housses)","Lave >90%","Compris entre 20 kg et 25 kg exclus","€/unité",0.13,0.13,{"$f":"VLOOKUP(J4266,'Codes éco-part'!$C:$E,3,FALSE)","v":"004"},0.156]
["REP ABJ",4,"22154870590",null,"Entretien et aménagement du jardin","Equipements de plein air et leurs accessoires (hors bâches, filets, housses)","Lave >90%","Compris entre 25 kg et 30 kg exclus","€/unité",0.15,0.15,{"$f":"VLOOKUP(J4267,'Codes éco-part'!$C:$E,3,FALSE)","v":"050"},0.18]
["REP ABJ",4,"22154870600",null,"Entretien et aménagement du jardin","Equipements de plein air et leurs accessoires (hors bâches, filets, housses)","Lave >90%","Compris entre 40 kg et 50 kg exclus","€/unité",0.25,0.25,{"$f":"VLOOKUP(J4268,'Codes éco-part'!$C:$E,3,FALSE)","v":"095"},0.3]
["REP ABJ",4,"22154890000",null,"Entretien et aménagement du jardin","Equipements de plein air et leurs accessoires (hors bâches, filets, housses)","Terre cuite ou crue >90%","Eléments de toutes dimensions et poids","€ / Tonne",5,5,{"$f":"VLOOKUP(J4269,'Codes éco-part'!$C:$E,3,FALSE)","v":"042"},6]
["REP ABJ",4,"22154890200",null,"Entretien et aménagement du jardin","Equipements de plein air et leurs accessoires (hors bâches, filets, housses)","Terre cuite ou crue >90%","Inférieur strictement à 0,5 kg","€/unité",0.01,0.01,{"$f":"VLOOKUP(J4270,'Codes éco-part'!$C:$E,3,FALSE)","v":"260"},1.2E-2]
["REP ABJ",4,"22154890210",null,"Entretien et aménagement du jardin","Equipements de plein air et leurs accessoires (hors bâches, filets, housses)","Terre cuite ou crue >90%","Compris entre 0,5 kg et 1 kg exclus","€/unité",0.01,0.01,{"$f":"VLOOKUP(J4271,'Codes éco-part'!$C:$E,3,FALSE)","v":"260"},1.2E-2]
["REP ABJ",4,"22154890220",null,"Entretien et aménagement du jardin","Equipements de plein air et leurs accessoires (hors bâches, filets, housses)","Terre cuite ou crue >90%","Compris entre 1 kg et 2 kg exclus","€/unité",0.01,0.01,{"$f":"VLOOKUP(J4272,'Codes éco-part'!$C:$E,3,FALSE)","v":"260"},1.2E-2]
["REP ABJ",4,"22154890270",null,"Entretien et aménagement du jardin","Equipements de plein air et leurs accessoires (hors bâches, filets, housses)","Terre cuite ou crue >90%","Compris entre 30 kg et 40 kg exclus","€/unité",0.2,0.2,{"$f":"VLOOKUP(J4273,'Codes éco-part'!$C:$E,3,FALSE)","v":"101"},0.24]
["REP ABJ",4,"22154890520",null,"Entretien et aménagement du jardin","Equipements de plein air et leurs accessoires (hors bâches, filets, housses)","Terre cuite ou crue >90%","Compris entre 2 kg et 3 kg exclus","€/unité",0.01,0.01,{"$f":"VLOOKUP(J4274,'Codes éco-part'!$C:$E,3,FALSE)","v":"260"},1.2E-2]
["REP ABJ",4,"22154890530",null,"Entretien et aménagement du jardin","Equipements de plein air et leurs accessoires (hors bâches, filets, housses)","Terre cuite ou crue >90%","Compris entre 3 kg et 5 kg exclus","€/unité",0.02,0.02,{"$f":"VLOOKUP(J4275,'Codes éco-part'!$C:$E,3,FALSE)","v":"047"},2.4E-2]
["REP ABJ",4,"22154890540",null,"Entretien et aménagement du jardin","Equipements de plein air et leurs accessoires (hors bâches, filets, housses)","Terre cuite ou crue >90%","Compris entre 5 kg et 7 kg exclus","€/unité",0.04,0.04,{"$f":"VLOOKUP(J4276,'Codes éco-part'!$C:$E,3,FALSE)","v":"002"},4.8000000000000001E-2]
["REP ABJ",4,"22154890550",null,"Entretien et aménagement du jardin","Equipements de plein air et leurs accessoires (hors bâches, filets, housses)","Terre cuite ou crue >90%","Compris entre 7 kg et 10 kg exclus","€/unité",0.05,0.05,{"$f":"VLOOKUP(J4277,'Codes éco-part'!$C:$E,3,FALSE)","v":"048"},0.06]
["REP ABJ",4,"22154890560",null,"Entretien et aménagement du jardin","Equipements de plein air et leurs accessoires (hors bâches, filets, housses)","Terre cuite ou crue >90%","Compris entre 10 kg et 15 kg exclus","€/unité",0.08,0.08,{"$f":"VLOOKUP(J4278,'Codes éco-part'!$C:$E,3,FALSE)","v":"003"},9.6000000000000002E-2]
["REP ABJ",4,"22154890570",null,"Entretien et aménagement du jardin","Equipements de plein air et leurs accessoires (hors bâches, filets, housses)","Terre cuite ou crue >90%","Compris entre 15 kg et 20 kg exclus","€/unité",0.1,0.1,{"$f":"VLOOKUP(J4279,'Codes éco-part'!$C:$E,3,FALSE)","v":"094"},0.12]
["REP ABJ",4,"22154890580",null,"Entretien et aménagement du jardin","Equipements de plein air et leurs accessoires (hors bâches, filets, housses)","Terre cuite ou crue >90%","Compris entre 20 kg et 25 kg exclus","€/unité",0.13,0.13,{"$f":"VLOOKUP(J4280,'Codes éco-part'!$C:$E,3,FALSE)","v":"004"},0.156]
["REP ABJ",4,"22154890590",null,"Entretien et aménagement du jardin","Equipements de plein air et leurs accessoires (hors bâches, filets, housses)","Terre cuite ou crue >90%","Compris entre 25 kg et 30 kg exclus","€/unité",0.15,0.15,{"$f":"VLOOKUP(J4281,'Codes éco-part'!$C:$E,3,FALSE)","v":"050"},0.18]
["REP ABJ",4,"22154890600",null,"Entretien et aménagement du jardin","Equipements de plein air et leurs accessoires (hors bâches, filets, housses)","Terre cuite ou crue >90%","Compris entre 40 kg et 50 kg exclus","€/unité",0.25,0.25,{"$f":"VLOOKUP(J4282,'Codes éco-part'!$C:$E,3,FALSE)","v":"095"},0.3]
["REP ABJ",4,"22154900000",null,"Entretien et aménagement du jardin","Equipements de plein air et leurs accessoires (hors bâches, filets, housses)","Ciment >90%","Eléments de toutes dimensions et poids","€ / Tonne",5,5,{"$f":"VLOOKUP(J4283,'Codes éco-part'!$C:$E,3,FALSE)","v":"042"},6]
["REP ABJ",4,"22154900200",null,"Entretien et aménagement du jardin","Equipements de plein air et leurs accessoires (hors bâches, filets, housses)","Ciment >90%","Inférieur strictement à 0,5 kg","€/unité",0.01,0.01,{"$f":"VLOOKUP(J4284,'Codes éco-part'!$C:$E,3,FALSE)","v":"260"},1.2E-2]
["REP ABJ",4,"22154900210",null,"Entretien et aménagement du jardin","Equipements de plein air et leurs accessoires (hors bâches, filets, housses)","Ciment >90%","Compris entre 0,5 kg et 1 kg exclus","€/unité",0.01,0.01,{"$f":"VLOOKUP(J4285,'Codes éco-part'!$C:$E,3,FALSE)","v":"260"},1.2E-2]
["REP ABJ",4,"22154900220",null,"Entretien et aménagement du jardin","Equipements de plein air et leurs accessoires (hors bâches, filets, housses)","Ciment >90%","Compris entre 1 kg et 2 kg exclus","€/unité",0.01,0.01,{"$f":"VLOOKUP(J4286,'Codes éco-part'!$C:$E,3,FALSE)","v":"260"},1.2E-2]
["REP ABJ",4,"22154900270",null,"Entretien et aménagement du jardin","Equipements de plein air et leurs accessoires (hors bâches, filets, housses)","Ciment >90%","Compris entre 30 kg et 40 kg exclus","€/unité",0.2,0.2,{"$f":"VLOOKUP(J4287,'Codes éco-part'!$C:$E,3,FALSE)","v":"101"},0.24]
["REP ABJ",4,"22154900520",null,"Entretien et aménagement du jardin","Equipements de plein air et leurs accessoires (hors bâches, filets, housses)","Ciment >90%","Compris entre 2 kg et 3 kg exclus","€/unité",0.01,0.01,{"$f":"VLOOKUP(J4288,'Codes éco-part'!$C:$E,3,FALSE)","v":"260"},1.2E-2]
["REP ABJ",4,"22154900530",null,"Entretien et aménagement du jardin","Equipements de plein air et leurs accessoires (hors bâches, filets, housses)","Ciment >90%","Compris entre 3 kg et 5 kg exclus","€/unité",0.02,0.02,{"$f":"VLOOKUP(J4289,'Codes éco-part'!$C:$E,3,FALSE)","v":"047"},2.4E-2]
["REP ABJ",4,"22154900540",null,"Entretien et aménagement du jardin","Equipements de plein air et leurs accessoires (hors bâches, filets, housses)","Ciment >90%","Compris entre 5 kg et 7 kg exclus","€/unité",0.04,0.04,{"$f":"VLOOKUP(J4290,'Codes éco-part'!$C:$E,3,FALSE)","v":"002"},4.8000000000000001E-2]
["REP ABJ",4,"22154900550",null,"Entretien et aménagement du jardin","Equipements de plein air et leurs accessoires (hors bâches, filets, housses)","Ciment >90%","Compris entre 7 kg et 10 kg exclus","€/unité",0.05,0.05,{"$f":"VLOOKUP(J4291,'Codes éco-part'!$C:$E,3,FALSE)","v":"048"},0.06]
["REP ABJ",4,"22154900560",null,"Entretien et aménagement du jardin","Equipements de plein air et leurs accessoires (hors bâches, filets, housses)","Ciment >90%","Compris entre 10 kg et 15 kg exclus","€/unité",0.08,0.08,{"$f":"VLOOKUP(J4292,'Codes éco-part'!$C:$E,3,FALSE)","v":"003"},9.6000000000000002E-2]
["REP ABJ",4,"22154900570",null,"Entretien et aménagement du jardin","Equipements de plein air et leurs accessoires (hors bâches, filets, housses)","Ciment >90%","Compris entre 15 kg et 20 kg exclus","€/unité",0.1,0.1,{"$f":"VLOOKUP(J4293,'Codes éco-part'!$C:$E,3,FALSE)","v":"094"},0.12]
["REP ABJ",4,"22154900580",null,"Entretien et aménagement du jardin","Equipements de plein air et leurs accessoires (hors bâches, filets, housses)","Ciment >90%","Compris entre 20 kg et 25 kg exclus","€/unité",0.13,0.13,{"$f":"VLOOKUP(J4294,'Codes éco-part'!$C:$E,3,FALSE)","v":"004"},0.156]
["REP ABJ",4,"22154900590",null,"Entretien et aménagement du jardin","Equipements de plein air et leurs accessoires (hors bâches, filets, housses)","Ciment >90%","Compris entre 25 kg et 30 kg exclus","€/unité",0.15,0.15,{"$f":"VLOOKUP(J4295,'Codes éco-part'!$C:$E,3,FALSE)","v":"050"},0.18]
["REP ABJ",4,"22154900600",null,"Entretien et aménagement du jardin","Equipements de plein air et leurs accessoires (hors bâches, filets, housses)","Ciment >90%","Compris entre 40 kg et 50 kg exclus","€/unité",0.25,0.25,{"$f":"VLOOKUP(J4296,'Codes éco-part'!$C:$E,3,FALSE)","v":"095"},0.3]
["REP ABJ",4,"22154910000",null,"Entretien et aménagement du jardin","Equipements de plein air et leurs accessoires (hors bâches, filets, housses)","Granit >90%","Eléments de toutes dimensions et poids","€ / Tonne",5,5,{"$f":"VLOOKUP(J4297,'Codes éco-part'!$C:$E,3,FALSE)","v":"042"},6]
["REP ABJ",4,"22154910200",null,"Entretien et aménagement du jardin","Equipements de plein air et leurs accessoires (hors bâches, filets, housses)","Granit >90%","Inférieur strictement à 0,5 kg","€/unité",0.01,0.01,{"$f":"VLOOKUP(J4298,'Codes éco-part'!$C:$E,3,FALSE)","v":"260"},1.2E-2]
["REP ABJ",4,"22154910210",null,"Entretien et aménagement du jardin","Equipements de plein air et leurs accessoires (hors bâches, filets, housses)","Granit >90%","Compris entre 0,5 kg et 1 kg exclus","€/unité",0.01,0.01,{"$f":"VLOOKUP(J4299,'Codes éco-part'!$C:$E,3,FALSE)","v":"260"},1.2E-2]
["REP ABJ",4,"22154910220",null,"Entretien et aménagement du jardin","Equipements de plein air et leurs accessoires (hors bâches, filets, housses)","Granit >90%","Compris entre 1 kg et 2 kg exclus","€/unité",0.01,0.01,{"$f":"VLOOKUP(J4300,'Codes éco-part'!$C:$E,3,FALSE)","v":"260"},1.2E-2]
["REP ABJ",4,"22154910270",null,"Entretien et aménagement du jardin","Equipements de plein air et leurs accessoires (hors bâches, filets, housses)","Granit >90%","Compris entre 30 kg et 40 kg exclus","€/unité",0.2,0.2,{"$f":"VLOOKUP(J4301,'Codes éco-part'!$C:$E,3,FALSE)","v":"101"},0.24]
["REP ABJ",4,"22154910520",null,"Entretien et aménagement du jardin","Equipements de plein air et leurs accessoires (hors bâches, filets, housses)","Granit >90%","Compris entre 2 kg et 3 kg exclus","€/unité",0.01,0.01,{"$f":"VLOOKUP(J4302,'Codes éco-part'!$C:$E,3,FALSE)","v":"260"},1.2E-2]
["REP ABJ",4,"22154910530",null,"Entretien et aménagement du jardin","Equipements de plein air et leurs accessoires (hors bâches, filets, housses)","Granit >90%","Compris entre 3 kg et 5 kg exclus","€/unité",0.02,0.02,{"$f":"VLOOKUP(J4303,'Codes éco-part'!$C:$E,3,FALSE)","v":"047"},2.4E-2]
["REP ABJ",4,"22154910540",null,"Entretien et aménagement du jardin","Equipements de plein air et leurs accessoires (hors bâches, filets, housses)","Granit >90%","Compris entre 5 kg et 7 kg exclus","€/unité",0.04,0.04,{"$f":"VLOOKUP(J4304,'Codes éco-part'!$C:$E,3,FALSE)","v":"002"},4.8000000000000001E-2]
["REP ABJ",4,"22154910550",null,"Entretien et aménagement du jardin","Equipements de plein air et leurs accessoires (hors bâches, filets, housses)","Granit >90%","Compris entre 7 kg et 10 kg exclus","€/unité",0.05,0.05,{"$f":"VLOOKUP(J4305,'Codes éco-part'!$C:$E,3,FALSE)","v":"048"},0.06]
["REP ABJ",4,"22154910560",null,"Entretien et aménagement du jardin","Equipements de plein air et leurs accessoires (hors bâches, filets, housses)","Granit >90%","Compris entre 10 kg et 15 kg exclus","€/unité",0.08,0.08,{"$f":"VLOOKUP(J4306,'Codes éco-part'!$C:$E,3,FALSE)","v":"003"},9.6000000000000002E-2]
["REP ABJ",4,"22154910570",null,"Entretien et aménagement du jardin","Equipements de plein air et leurs accessoires (hors bâches, filets, housses)","Granit >90%","Compris entre 15 kg et 20 kg exclus","€/unité",0.1,0.1,{"$f":"VLOOKUP(J4307,'Codes éco-part'!$C:$E,3,FALSE)","v":"094"},0.12]
["REP ABJ",4,"22154910580",null,"Entretien et aménagement du jardin","Equipements de plein air et leurs accessoires (hors bâches, filets, housses)","Granit >90%","Compris entre 20 kg et 25 kg exclus","€/unité",0.13,0.13,{"$f":"VLOOKUP(J4308,'Codes éco-part'!$C:$E,3,FALSE)","v":"004"},0.156]
["REP ABJ",4,"22154910590",null,"Entretien et aménagement du jardin","Equipements de plein air et leurs accessoires (hors bâches, filets, housses)","Granit >90%","Compris entre 25 kg et 30 kg exclus","€/unité",0.15,0.15,{"$f":"VLOOKUP(J4309,'Codes éco-part'!$C:$E,3,FALSE)","v":"050"},0.18]
["REP ABJ",4,"22154910600",null,"Entretien et aménagement du jardin","Equipements de plein air et leurs accessoires (hors bâches, filets, housses)","Granit >90%","Compris entre 40 kg et 50 kg exclus","€/unité",0.25,0.25,{"$f":"VLOOKUP(J4310,'Codes éco-part'!$C:$E,3,FALSE)","v":"095"},0.3]
["REP ABJ",4,"22154940000",null,"Entretien et aménagement du jardin","Equipements de plein air et leurs accessoires (hors bâches, filets, housses)","Grès >90%","Eléments de toutes dimensions et poids","€ / Tonne",5,5,{"$f":"VLOOKUP(J4311,'Codes éco-part'!$C:$E,3,FALSE)","v":"042"},6]
["REP ABJ",4,"22154940200",null,"Entretien et aménagement du jardin","Equipements de plein air et leurs accessoires (hors bâches, filets, housses)","Grès >90%","Inférieur strictement à 0,5 kg","€/unité",0.01,0.01,{"$f":"VLOOKUP(J4312,'Codes éco-part'!$C:$E,3,FALSE)","v":"260"},1.2E-2]
["REP ABJ",4,"22154940210",null,"Entretien et aménagement du jardin","Equipements de plein air et leurs accessoires (hors bâches, filets, housses)","Grès >90%","Compris entre 0,5 kg et 1 kg exclus","€/unité",0.01,0.01,{"$f":"VLOOKUP(J4313,'Codes éco-part'!$C:$E,3,FALSE)","v":"260"},{"$f":"J4313*1.2","v":1.2E-2}]
["REP ABJ",4,"22154940220",null,"Entretien et aménagement du jardin","Equipements de plein air et leurs accessoires (hors bâches, filets, housses)","Grès >90%","Compris entre 1 kg et 2 kg exclus","€/unité",0.01,0.01,{"$f":"VLOOKUP(J4314,'Codes éco-part'!$C:$E,3,FALSE)","v":"260"},1.2E-2]
["REP ABJ",4,"22154940270",null,"Entretien et aménagement du jardin","Equipements de plein air et leurs accessoires (hors bâches, filets, housses)","Grès >90%","Compris entre 30 kg et 40 kg exclus","€/unité",0.2,0.2,{"$f":"VLOOKUP(J4315,'Codes éco-part'!$C:$E,3,FALSE)","v":"101"},0.24]
["REP ABJ",4,"22154940520",null,"Entretien et aménagement du jardin","Equipements de plein air et leurs accessoires (hors bâches, filets, housses)","Grès >90%","Compris entre 2 kg et 3 kg exclus","€/unité",0.01,0.01,{"$f":"VLOOKUP(J4316,'Codes éco-part'!$C:$E,3,FALSE)","v":"260"},1.2E-2]
["REP ABJ",4,"22154940530",null,"Entretien et aménagement du jardin","Equipements de plein air et leurs accessoires (hors bâches, filets, housses)","Grès >90%","Compris entre 3 kg et 5 kg exclus","€/unité",0.02,0.02,{"$f":"VLOOKUP(J4317,'Codes éco-part'!$C:$E,3,FALSE)","v":"047"},2.4E-2]
["REP ABJ",4,"22154940540",null,"Entretien et aménagement du jardin","Equipements de plein air et leurs accessoires (hors bâches, filets, housses)","Grès >90%","Compris entre 5 kg et 7 kg exclus","€/unité",0.04,0.04,{"$f":"VLOOKUP(J4318,'Codes éco-part'!$C:$E,3,FALSE)","v":"002"},4.8000000000000001E-2]
["REP ABJ",4,"22154940550",null,"Entretien et aménagement du jardin","Equipements de plein air et leurs accessoires (hors bâches, filets, housses)","Grès >90%","Compris entre 7 kg et 10 kg exclus","€/unité",0.05,0.05,{"$f":"VLOOKUP(J4319,'Codes éco-part'!$C:$E,3,FALSE)","v":"048"},0.06]
["REP ABJ",4,"22154940560",null,"Entretien et aménagement du jardin","Equipements de plein air et leurs accessoires (hors bâches, filets, housses)","Grès >90%","Compris entre 10 kg et 15 kg exclus","€/unité",0.08,0.08,{"$f":"VLOOKUP(J4320,'Codes éco-part'!$C:$E,3,FALSE)","v":"003"},9.6000000000000002E-2]
["REP ABJ",4,"22154940570",null,"Entretien et aménagement du jardin","Equipements de plein air et leurs accessoires (hors bâches, filets, housses)","Grès >90%","Compris entre 15 kg et 20 kg exclus","€/unité",0.1,0.1,{"$f":"VLOOKUP(J4321,'Codes éco-part'!$C:$E,3,FALSE)","v":"094"},0.12]
["REP ABJ",4,"22154940580",null,"Entretien et aménagement du jardin","Equipements de plein air et leurs accessoires (hors bâches, filets, housses)","Grès >90%","Compris entre 20 kg et 25 kg exclus","€/unité",0.13,0.13,{"$f":"VLOOKUP(J4322,'Codes éco-part'!$C:$E,3,FALSE)","v":"004"},0.156]
["REP ABJ",4,"22154940590",null,"Entretien et aménagement du jardin","Equipements de plein air et leurs accessoires (hors bâches, filets, housses)","Grès >90%","Compris entre 25 kg et 30 kg exclus","€/unité",0.15,0.15,{"$f":"VLOOKUP(J4323,'Codes éco-part'!$C:$E,3,FALSE)","v":"050"},0.18]
["REP ABJ",4,"22154940600",null,"Entretien et aménagement du jardin","Equipements de plein air et leurs accessoires (hors bâches, filets, housses)","Grès >90%","Compris entre 40 kg et 50 kg exclus","€/unité",0.25,0.25,{"$f":"VLOOKUP(J4324,'Codes éco-part'!$C:$E,3,FALSE)","v":"095"},0.3]
["REP ABJ",4,"22154970000",null,"Entretien et aménagement du jardin","Equipements de plein air et leurs accessoires (hors bâches, filets, housses)","Céramique >90%","Eléments de toutes dimensions et poids","€ / Tonne",10,10,{"$f":"VLOOKUP(J4325,'Codes éco-part'!$C:$E,3,FALSE)","v":"138"},12]
["REP ABJ",4,"22154970200",null,"Entretien et aménagement du jardin","Equipements de plein air et leurs accessoires (hors bâches, filets, housses)","Céramique >90%","Inférieur strictement à 0,5 kg","€/unité",0.01,0.01,{"$f":"VLOOKUP(J4326,'Codes éco-part'!$C:$E,3,FALSE)","v":"260"},1.2E-2]
["REP ABJ",4,"22154970210",null,"Entretien et aménagement du jardin","Equipements de plein air et leurs accessoires (hors bâches, filets, housses)","Céramique >90%","Compris entre 0,5 kg et 1 kg exclus","€/unité",0.01,0.01,{"$f":"VLOOKUP(J4327,'Codes éco-part'!$C:$E,3,FALSE)","v":"260"},1.2E-2]
["REP ABJ",4,"22154970220",null,"Entretien et aménagement du jardin","Equipements de plein air et leurs accessoires (hors bâches, filets, housses)","Céramique >90%","Compris entre 1 kg et 2 kg exclus","€/unité",0.02,0.02,{"$f":"VLOOKUP(J4328,'Codes éco-part'!$C:$E,3,FALSE)","v":"047"},2.4E-2]
["REP ABJ",4,"22154970270",null,"Entretien et aménagement du jardin","Equipements de plein air et leurs accessoires (hors bâches, filets, housses)","Céramique >90%","Compris entre 30 kg et 40 kg exclus","€/unité",0.4,0.4,{"$f":"VLOOKUP(J4329,'Codes éco-part'!$C:$E,3,FALSE)","v":"105"},0.48]
["REP ABJ",4,"22154970520",null,"Entretien et aménagement du jardin","Equipements de plein air et leurs accessoires (hors bâches, filets, housses)","Céramique >90%","Compris entre 2 kg et 3 kg exclus","€/unité",0.03,0.03,{"$f":"VLOOKUP(J4330,'Codes éco-part'!$C:$E,3,FALSE)","v":"092"},3.5999999999999997E-2]
["REP ABJ",4,"22154970530",null,"Entretien et aménagement du jardin","Equipements de plein air et leurs accessoires (hors bâches, filets, housses)","Céramique >90%","Compris entre 3 kg et 5 kg exclus","€/unité",0.04,0.04,{"$f":"VLOOKUP(J4331,'Codes éco-part'!$C:$E,3,FALSE)","v":"002"},4.8000000000000001E-2]
["REP ABJ",4,"22154970540",null,"Entretien et aménagement du jardin","Equipements de plein air et leurs accessoires (hors bâches, filets, housses)","Céramique >90%","Compris entre 5 kg et 7 kg exclus","€/unité",7.0000000000000007E-2,7.0000000000000007E-2,{"$f":"VLOOKUP(J4332,'Codes éco-part'!$C:$E,3,FALSE)","v":"247"},8.4000000000000005E-2]
["REP ABJ",4,"22154970550",null,"Entretien et aménagement du jardin","Equipements de plein air et leurs accessoires (hors bâches, filets, housses)","Céramique >90%","Compris entre 7 kg et 10 kg exclus","€/unité",0.1,0.1,{"$f":"VLOOKUP(J4333,'Codes éco-part'!$C:$E,3,FALSE)","v":"094"},0.12]
["REP ABJ",4,"22154970560",null,"Entretien et aménagement du jardin","Equipements de plein air et leurs accessoires (hors bâches, filets, housses)","Céramique >90%","Compris entre 10 kg et 15 kg exclus","€/unité",0.15,0.15,{"$f":"VLOOKUP(J4334,'Codes éco-part'!$C:$E,3,FALSE)","v":"050"},0.18]
["REP ABJ",4,"22154970570",null,"Entretien et aménagement du jardin","Equipements de plein air et leurs accessoires (hors bâches, filets, housses)","Céramique >90%","Compris entre 15 kg et 20 kg exclus","€/unité",0.2,0.2,{"$f":"VLOOKUP(J4335,'Codes éco-part'!$C:$E,3,FALSE)","v":"101"},0.24]
["REP ABJ",4,"22154970580",null,"Entretien et aménagement du jardin","Equipements de plein air et leurs accessoires (hors bâches, filets, housses)","Céramique >90%","Compris entre 20 kg et 25 kg exclus","€/unité",0.25,0.25,{"$f":"VLOOKUP(J4336,'Codes éco-part'!$C:$E,3,FALSE)","v":"095"},0.3]
["REP ABJ",4,"22154970590",null,"Entretien et aménagement du jardin","Equipements de plein air et leurs accessoires (hors bâches, filets, housses)","Céramique >90%","Compris entre 25 kg et 30 kg exclus","€/unité",0.3,0.3,{"$f":"VLOOKUP(J4337,'Codes éco-part'!$C:$E,3,FALSE)","v":"446"},0.36]
["REP ABJ",4,"22154970600",null,"Entretien et aménagement du jardin","Equipements de plein air et leurs accessoires (hors bâches, filets, housses)","Céramique >90%","Compris entre 40 kg et 50 kg exclus","€/unité",0.5,0.5,{"$f":"VLOOKUP(J4338,'Codes éco-part'!$C:$E,3,FALSE)","v":"053"},0.6]
["REP ABJ",4,"22154980000",null,"Entretien et aménagement du jardin","Equipements de plein air et leurs accessoires (hors bâches, filets, housses)","Pierre artificielle >90%","Eléments de toutes dimensions et poids","€ / Tonne",5,5,{"$f":"VLOOKUP(J4339,'Codes éco-part'!$C:$E,3,FALSE)","v":"042"},6]
["REP ABJ",4,"22154980200",null,"Entretien et aménagement du jardin","Equipements de plein air et leurs accessoires (hors bâches, filets, housses)","Pierre artificielle >90%","Inférieur strictement à 0,5 kg","€/unité",0.01,0.01,{"$f":"VLOOKUP(J4340,'Codes éco-part'!$C:$E,3,FALSE)","v":"260"},1.2E-2]
["REP ABJ",4,"22154980210",null,"Entretien et aménagement du jardin","Equipements de plein air et leurs accessoires (hors bâches, filets, housses)","Pierre artificielle >90%","Compris entre 0,5 kg et 1 kg exclus","€/unité",0.01,0.01,{"$f":"VLOOKUP(J4341,'Codes éco-part'!$C:$E,3,FALSE)","v":"260"},1.2E-2]
["REP ABJ",4,"22154980220",null,"Entretien et aménagement du jardin","Equipements de plein air et leurs accessoires (hors bâches, filets, housses)","Pierre artificielle >90%","Compris entre 1 kg et 2 kg exclus","€/unité",0.01,0.01,{"$f":"VLOOKUP(J4342,'Codes éco-part'!$C:$E,3,FALSE)","v":"260"},1.2E-2]
["REP ABJ",4,"22154980270",null,"Entretien et aménagement du jardin","Equipements de plein air et leurs accessoires (hors bâches, filets, housses)","Pierre artificielle >90%","Compris entre 30 kg et 40 kg exclus","€/unité",0.2,0.2,{"$f":"VLOOKUP(J4343,'Codes éco-part'!$C:$E,3,FALSE)","v":"101"},0.24]
["REP ABJ",4,"22154980520",null,"Entretien et aménagement du jardin","Equipements de plein air et leurs accessoires (hors bâches, filets, housses)","Pierre artificielle >90%","Compris entre 2 kg et 3 kg exclus","€/unité",0.01,0.01,{"$f":"VLOOKUP(J4344,'Codes éco-part'!$C:$E,3,FALSE)","v":"260"},1.2E-2]
["REP ABJ",4,"22154980530",null,"Entretien et aménagement du jardin","Equipements de plein air et leurs accessoires (hors bâches, filets, housses)","Pierre artificielle >90%","Compris entre 3 kg et 5 kg exclus","€/unité",0.02,0.02,{"$f":"VLOOKUP(J4345,'Codes éco-part'!$C:$E,3,FALSE)","v":"047"},2.4E-2]
["REP ABJ",4,"22154980540",null,"Entretien et aménagement du jardin","Equipements de plein air et leurs accessoires (hors bâches, filets, housses)","Pierre artificielle >90%","Compris entre 5 kg et 7 kg exclus","€/unité",0.04,0.04,{"$f":"VLOOKUP(J4346,'Codes éco-part'!$C:$E,3,FALSE)","v":"002"},4.8000000000000001E-2]
["REP ABJ",4,"22154980550",null,"Entretien et aménagement du jardin","Equipements de plein air et leurs accessoires (hors bâches, filets, housses)","Pierre artificielle >90%","Compris entre 7 kg et 10 kg exclus","€/unité",0.05,0.05,{"$f":"VLOOKUP(J4347,'Codes éco-part'!$C:$E,3,FALSE)","v":"048"},0.06]
["REP ABJ",4,"22154980560",null,"Entretien et aménagement du jardin","Equipements de plein air et leurs accessoires (hors bâches, filets, housses)","Pierre artificielle >90%","Compris entre 10 kg et 15 kg exclus","€/unité",0.08,0.08,{"$f":"VLOOKUP(J4348,'Codes éco-part'!$C:$E,3,FALSE)","v":"003"},9.6000000000000002E-2]
["REP ABJ",4,"22154980570",null,"Entretien et aménagement du jardin","Equipements de plein air et leurs accessoires (hors bâches, filets, housses)","Pierre artificielle >90%","Compris entre 15 kg et 20 kg exclus","€/unité",0.1,0.1,{"$f":"VLOOKUP(J4349,'Codes éco-part'!$C:$E,3,FALSE)","v":"094"},0.12]
["REP ABJ",4,"22154980580",null,"Entretien et aménagement du jardin","Equipements de plein air et leurs accessoires (hors bâches, filets, housses)","Pierre artificielle >90%","Compris entre 20 kg et 25 kg exclus","€/unité",0.13,0.13,{"$f":"VLOOKUP(J4350,'Codes éco-part'!$C:$E,3,FALSE)","v":"004"},0.156]
["REP ABJ",4,"22154980590",null,"Entretien et aménagement du jardin","Equipements de plein air et leurs accessoires (hors bâches, filets, housses)","Pierre artificielle >90%","Compris entre 25 kg et 30 kg exclus","€/unité",0.15,0.15,{"$f":"VLOOKUP(J4351,'Codes éco-part'!$C:$E,3,FALSE)","v":"050"},0.18]
["REP ABJ",4,"22154980600",null,"Entretien et aménagement du jardin","Equipements de plein air et leurs accessoires (hors bâches, filets, housses)","Pierre artificielle >90%","Compris entre 40 kg et 50 kg exclus","€/unité",0.25,0.25,{"$f":"VLOOKUP(J4352,'Codes éco-part'!$C:$E,3,FALSE)","v":"095"},0.3]
["REP ABJ",4,"22155000000",null,"Entretien et aménagement du jardin","Structures extérieures non-maçonnées","Non connu ou non spécifié par l'entreprise","Eléments de toutes dimensions et poids","€ / Tonne",75,75,{"$f":"VLOOKUP(J4353,'Codes éco-part'!$C:$E,3,FALSE)","v":"192"},90]
["REP ABJ",4,"22155000200",null,"Entretien et aménagement du jardin","Structures extérieures non-maçonnées","Non connu ou non spécifié par l'entreprise","Inférieur strictement à 0,5 kg","€/unité",0.02,0.02,{"$f":"VLOOKUP(J4354,'Codes éco-part'!$C:$E,3,FALSE)","v":"047"},2.4E-2]
["REP ABJ",4,"22155000210",null,"Entretien et aménagement du jardin","Structures extérieures non-maçonnées","Non connu ou non spécifié par l'entreprise","Compris entre 0,5 kg et 1 kg exclus","€/unité",0.06,0.06,{"$f":"VLOOKUP(J4355,'Codes éco-part'!$C:$E,3,FALSE)","v":"096"},7.1999999999999995E-2]
["REP ABJ",4,"22155000220",null,"Entretien et aménagement du jardin","Structures extérieures non-maçonnées","Non connu ou non spécifié par l'entreprise","Compris entre 1 kg et 2 kg exclus","€/unité",0.11,0.11,{"$f":"VLOOKUP(J4356,'Codes éco-part'!$C:$E,3,FALSE)","v":"262"},0.13200000000000001]
["REP ABJ",4,"22155000270",null,"Entretien et aménagement du jardin","Structures extérieures non-maçonnées","Non connu ou non spécifié par l'entreprise","Compris entre 30 kg et 40 kg exclus","€/unité",3,3,{"$f":"VLOOKUP(J4357,'Codes éco-part'!$C:$E,3,FALSE)","v":"474"},3.5999999999999996]
["REP ABJ",4,"22155000520",null,"Entretien et aménagement du jardin","Structures extérieures non-maçonnées","Non connu ou non spécifié par l'entreprise","Compris entre 2 kg et 3 kg exclus","€/unité",0.19,0.19,{"$f":"VLOOKUP(J4358,'Codes éco-part'!$C:$E,3,FALSE)","v":"291"},0.22799999999999998]
["REP ABJ",4,"22155000530",null,"Entretien et aménagement du jardin","Structures extérieures non-maçonnées","Non connu ou non spécifié par l'entreprise","Compris entre 3 kg et 5 kg exclus","€/unité",0.3,0.3,{"$f":"VLOOKUP(J4359,'Codes éco-part'!$C:$E,3,FALSE)","v":"446"},0.36]
["REP ABJ",4,"22155000540",null,"Entretien et aménagement du jardin","Structures extérieures non-maçonnées","Non connu ou non spécifié par l'entreprise","Compris entre 5 kg et 7 kg exclus","€/unité",0.53,0.53,{"$f":"VLOOKUP(J4360,'Codes éco-part'!$C:$E,3,FALSE)","v":"451"},0.63600000000000001]
["REP ABJ",4,"22155000550",null,"Entretien et aménagement du jardin","Structures extérieures non-maçonnées","Non connu ou non spécifié par l'entreprise","Compris entre 7 kg et 10 kg exclus","€/unité",0.75,0.75,{"$f":"VLOOKUP(J4361,'Codes éco-part'!$C:$E,3,FALSE)","v":"328"},0.89999999999999991]
["REP ABJ",4,"22155000560",null,"Entretien et aménagement du jardin","Structures extérieures non-maçonnées","Non connu ou non spécifié par l'entreprise","Compris entre 10 kg et 15 kg exclus","€/unité",1.1299999999999999,1.1299999999999999,{"$f":"VLOOKUP(J4362,'Codes éco-part'!$C:$E,3,FALSE)","v":"331"},1.3559999999999999]
["REP ABJ",4,"22155000570",null,"Entretien et aménagement du jardin","Structures extérieures non-maçonnées","Non connu ou non spécifié par l'entreprise","Compris entre 15 kg et 20 kg exclus","€/unité",1.5,1.5,{"$f":"VLOOKUP(J4363,'Codes éco-part'!$C:$E,3,FALSE)","v":"059"},1.7999999999999998]
["REP ABJ",4,"22155000580",null,"Entretien et aménagement du jardin","Structures extérieures non-maçonnées","Non connu ou non spécifié par l'entreprise","Compris entre 20 kg et 25 kg exclus","€/unité",1.88,1.88,{"$f":"VLOOKUP(J4364,'Codes éco-part'!$C:$E,3,FALSE)","v":"335"},2.2559999999999998]
["REP ABJ",4,"22155000590",null,"Entretien et aménagement du jardin","Structures extérieures non-maçonnées","Non connu ou non spécifié par l'entreprise","Compris entre 25 kg et 30 kg exclus","€/unité",2.25,2.25,{"$f":"VLOOKUP(J4365,'Codes éco-part'!$C:$E,3,FALSE)","v":"118"},2.6999999999999997]
["REP ABJ",4,"22155000600",null,"Entretien et aménagement du jardin","Structures extérieures non-maçonnées","Non connu ou non spécifié par l'entreprise","Compris entre 40 kg et 50 kg exclus","€/unité",3.75,3.75,{"$f":"VLOOKUP(J4366,'Codes éco-part'!$C:$E,3,FALSE)","v":"015"},4.5]
["REP ABJ",4,"22155000900",null,"Entretien et aménagement du jardin","Structures extérieures non-maçonnées","Non connu ou non spécifié par l'entreprise","Lot de 10","€/Lot",150,150,{"$f":"VLOOKUP(J4367,'Codes éco-part'!$C:$E,3,FALSE)","v":"518"},180]
["REP ABJ",4,"22155010000",null,"Entretien et aménagement du jardin","Structures extérieures non-maçonnées","Assemblage de bois, dérivés de bois à plus de 50% avec d'autres matériaux ou bois composite (hors verre)","Eléments de toutes dimensions et poids","€ / Tonne",10,10,{"$f":"VLOOKUP(J4368,'Codes éco-part'!$C:$E,3,FALSE)","v":"138"},12]
["REP ABJ",4,"22155010200",null,"Entretien et aménagement du jardin","Structures extérieures non-maçonnées","Assemblage de bois, dérivés de bois à plus de 50% avec d'autres matériaux ou bois composite (hors verre)","Inférieur strictement à 0,5 kg","€/unité",0.01,0.01,{"$f":"VLOOKUP(J4369,'Codes éco-part'!$C:$E,3,FALSE)","v":"260"},1.2E-2]
["REP ABJ",4,"22155010210",null,"Entretien et aménagement du jardin","Structures extérieures non-maçonnées","Assemblage de bois, dérivés de bois à plus de 50% avec d'autres matériaux ou bois composite (hors verre)","Compris entre 0,5 kg et 1 kg exclus","€/unité",0.01,0.01,{"$f":"VLOOKUP(J4370,'Codes éco-part'!$C:$E,3,FALSE)","v":"260"},1.2E-2]
["REP ABJ",4,"22155010220",null,"Entretien et aménagement du jardin","Structures extérieures non-maçonnées","Assemblage de bois, dérivés de bois à plus de 50% avec d'autres matériaux ou bois composite (hors verre)","Compris entre 1 kg et 2 kg exclus","€/unité",0.02,0.02,{"$f":"VLOOKUP(J4371,'Codes éco-part'!$C:$E,3,FALSE)","v":"047"},2.4E-2]
["REP ABJ",4,"22155010270",null,"Entretien et aménagement du jardin","Structures extérieures non-maçonnées","Assemblage de bois, dérivés de bois à plus de 50% avec d'autres matériaux ou bois composite (hors verre)","Compris entre 30 kg et 40 kg exclus","€/unité",0.4,0.4,{"$f":"VLOOKUP(J4372,'Codes éco-part'!$C:$E,3,FALSE)","v":"105"},0.48]
["REP ABJ",4,"22155010520",null,"Entretien et aménagement du jardin","Structures extérieures non-maçonnées","Assemblage de bois, dérivés de bois à plus de 50% avec d'autres matériaux ou bois composite (hors verre)","Compris entre 2 kg et 3 kg exclus","€/unité",0.03,0.03,{"$f":"VLOOKUP(J4373,'Codes éco-part'!$C:$E,3,FALSE)","v":"092"},3.5999999999999997E-2]
["REP ABJ",4,"22155010530",null,"Entretien et aménagement du jardin","Structures extérieures non-maçonnées","Assemblage de bois, dérivés de bois à plus de 50% avec d'autres matériaux ou bois composite (hors verre)","Compris entre 3 kg et 5 kg exclus","€/unité",0.04,0.04,{"$f":"VLOOKUP(J4374,'Codes éco-part'!$C:$E,3,FALSE)","v":"002"},4.8000000000000001E-2]
["REP ABJ",4,"22155010540",null,"Entretien et aménagement du jardin","Structures extérieures non-maçonnées","Assemblage de bois, dérivés de bois à plus de 50% avec d'autres matériaux ou bois composite (hors verre)","Compris entre 5 kg et 7 kg exclus","€/unité",7.0000000000000007E-2,7.0000000000000007E-2,{"$f":"VLOOKUP(J4375,'Codes éco-part'!$C:$E,3,FALSE)","v":"247"},8.4000000000000005E-2]
["REP ABJ",4,"22155010550",null,"Entretien et aménagement du jardin","Structures extérieures non-maçonnées","Assemblage de bois, dérivés de bois à plus de 50% avec d'autres matériaux ou bois composite (hors verre)","Compris entre 7 kg et 10 kg exclus","€/unité",0.1,0.1,{"$f":"VLOOKUP(J4376,'Codes éco-part'!$C:$E,3,FALSE)","v":"094"},0.12]
["REP ABJ",4,"22155010560",null,"Entretien et aménagement du jardin","Structures extérieures non-maçonnées","Assemblage de bois, dérivés de bois à plus de 50% avec d'autres matériaux ou bois composite (hors verre)","Compris entre 10 kg et 15 kg exclus","€/unité",0.15,0.15,{"$f":"VLOOKUP(J4377,'Codes éco-part'!$C:$E,3,FALSE)","v":"050"},{"$f":"J4377*1.2","v":0.18}]
["REP ABJ",4,"22155010570",null,"Entretien et aménagement du jardin","Structures extérieures non-maçonnées","Assemblage de bois, dérivés de bois à plus de 50% avec d'autres matériaux ou bois composite (hors verre)","Compris entre 15 kg et 20 kg exclus","€/unité",0.2,0.2,{"$f":"VLOOKUP(J4378,'Codes éco-part'!$C:$E,3,FALSE)","v":"101"},0.24]
["REP ABJ",4,"22155010580",null,"Entretien et aménagement du jardin","Structures extérieures non-maçonnées","Assemblage de bois, dérivés de bois à plus de 50% avec d'autres matériaux ou bois composite (hors verre)","Compris entre 20 kg et 25 kg exclus","€/unité",0.25,0.25,{"$f":"VLOOKUP(J4379,'Codes éco-part'!$C:$E,3,FALSE)","v":"095"},0.3]
["REP ABJ",4,"22155010590",null,"Entretien et aménagement du jardin","Structures extérieures non-maçonnées","Assemblage de bois, dérivés de bois à plus de 50% avec d'autres matériaux ou bois composite (hors verre)","Compris entre 25 kg et 30 kg exclus","€/unité",0.3,0.3,{"$f":"VLOOKUP(J4380,'Codes éco-part'!$C:$E,3,FALSE)","v":"446"},0.36]
["REP ABJ",4,"22155010600",null,"Entretien et aménagement du jardin","Structures extérieures non-maçonnées","Assemblage de bois, dérivés de bois à plus de 50% avec d'autres matériaux ou bois composite (hors verre)","Compris entre 40 kg et 50 kg exclus","€/unité",0.5,0.5,{"$f":"VLOOKUP(J4381,'Codes éco-part'!$C:$E,3,FALSE)","v":"053"},0.6]
["REP ABJ",4,"22155020000",null,"Entretien et aménagement du jardin","Structures extérieures non-maçonnées","Assemblage avec métal >50% et autres matériaux","Eléments de toutes dimensions et poids","€ / Tonne",3,3,{"$f":"VLOOKUP(J4382,'Codes éco-part'!$C:$E,3,FALSE)","v":"474"},3.5999999999999996]
["REP ABJ",4,"22155020200",null,"Entretien et aménagement du jardin","Structures extérieures non-maçonnées","Assemblage avec métal >50% et autres matériaux","Inférieur strictement à 0,5 kg","€/unité",0.01,0.01,{"$f":"VLOOKUP(J4383,'Codes éco-part'!$C:$E,3,FALSE)","v":"260"},1.2E-2]
["REP ABJ",4,"22155020210",null,"Entretien et aménagement du jardin","Structures extérieures non-maçonnées","Assemblage avec métal >50% et autres matériaux","Compris entre 0,5 kg et 1 kg exclus","€/unité",0.01,0.01,{"$f":"VLOOKUP(J4384,'Codes éco-part'!$C:$E,3,FALSE)","v":"260"},1.2E-2]
["REP ABJ",4,"22155020220",null,"Entretien et aménagement du jardin","Structures extérieures non-maçonnées","Assemblage avec métal >50% et autres matériaux","Compris entre 1 kg et 2 kg exclus","€/unité",0.01,0.01,{"$f":"VLOOKUP(J4385,'Codes éco-part'!$C:$E,3,FALSE)","v":"260"},1.2E-2]
["REP ABJ",4,"22155020270",null,"Entretien et aménagement du jardin","Structures extérieures non-maçonnées","Assemblage avec métal >50% et autres matériaux","Compris entre 30 kg et 40 kg exclus","€/unité",0.12,0.12,{"$f":"VLOOKUP(J4386,'Codes éco-part'!$C:$E,3,FALSE)","v":"097"},0.14399999999999999]
["REP ABJ",4,"22155020520",null,"Entretien et aménagement du jardin","Structures extérieures non-maçonnées","Assemblage avec métal >50% et autres matériaux","Compris entre 2 kg et 3 kg exclus","€/unité",0.01,0.01,{"$f":"VLOOKUP(J4387,'Codes éco-part'!$C:$E,3,FALSE)","v":"260"},1.2E-2]
["REP ABJ",4,"22155020530",null,"Entretien et aménagement du jardin","Structures extérieures non-maçonnées","Assemblage avec métal >50% et autres matériaux","Compris entre 3 kg et 5 kg exclus","€/unité",0.01,0.01,{"$f":"VLOOKUP(J4388,'Codes éco-part'!$C:$E,3,FALSE)","v":"260"},1.2E-2]
["REP ABJ",4,"22155020540",null,"Entretien et aménagement du jardin","Structures extérieures non-maçonnées","Assemblage avec métal >50% et autres matériaux","Compris entre 5 kg et 7 kg exclus","€/unité",0.02,0.02,{"$f":"VLOOKUP(J4389,'Codes éco-part'!$C:$E,3,FALSE)","v":"047"},2.4E-2]
["REP ABJ",4,"22155020550",null,"Entretien et aménagement du jardin","Structures extérieures non-maçonnées","Assemblage avec métal >50% et autres matériaux","Compris entre 7 kg et 10 kg exclus","€/unité",0.03,0.03,{"$f":"VLOOKUP(J4390,'Codes éco-part'!$C:$E,3,FALSE)","v":"092"},3.5999999999999997E-2]
["REP ABJ",4,"22155020560",null,"Entretien et aménagement du jardin","Structures extérieures non-maçonnées","Assemblage avec métal >50% et autres matériaux","Compris entre 10 kg et 15 kg exclus","€/unité",0.05,0.05,{"$f":"VLOOKUP(J4391,'Codes éco-part'!$C:$E,3,FALSE)","v":"048"},0.06]
["REP ABJ",4,"22155020570",null,"Entretien et aménagement du jardin","Structures extérieures non-maçonnées","Assemblage avec métal >50% et autres matériaux","Compris entre 15 kg et 20 kg exclus","€/unité",0.06,0.06,{"$f":"VLOOKUP(J4392,'Codes éco-part'!$C:$E,3,FALSE)","v":"096"},7.1999999999999995E-2]
["REP ABJ",4,"22155020580",null,"Entretien et aménagement du jardin","Structures extérieures non-maçonnées","Assemblage avec métal >50% et autres matériaux","Compris entre 20 kg et 25 kg exclus","€/unité",0.08,0.08,{"$f":"VLOOKUP(J4393,'Codes éco-part'!$C:$E,3,FALSE)","v":"003"},9.6000000000000002E-2]
["REP ABJ",4,"22155020590",null,"Entretien et aménagement du jardin","Structures extérieures non-maçonnées","Assemblage avec métal >50% et autres matériaux","Compris entre 25 kg et 30 kg exclus","€/unité",0.09,0.09,{"$f":"VLOOKUP(J4394,'Codes éco-part'!$C:$E,3,FALSE)","v":"049"},0.108]
["REP ABJ",4,"22155020600",null,"Entretien et aménagement du jardin","Structures extérieures non-maçonnées","Assemblage avec métal >50% et autres matériaux","Compris entre 40 kg et 50 kg exclus","€/unité",0.15,0.15,{"$f":"VLOOKUP(J4395,'Codes éco-part'!$C:$E,3,FALSE)","v":"050"},0.18]
["REP ABJ",4,"22155040000",null,"Entretien et aménagement du jardin","Structures extérieures non-maçonnées","Matériaux bio sourcés ou textiles non synthétiques >50%","Eléments de toutes dimensions et poids","€ / Tonne",75,30,{"$f":"VLOOKUP(J4396,'Codes éco-part'!$C:$E,3,FALSE)","v":"192"},90]
["REP ABJ",4,"22155040200",null,"Entretien et aménagement du jardin","Structures extérieures non-maçonnées","Matériaux bio sourcés ou textiles non synthétiques >50%","Inférieur strictement à 0,5 kg","€/unité",0.02,0.02,{"$f":"VLOOKUP(J4397,'Codes éco-part'!$C:$E,3,FALSE)","v":"047"},2.4E-2]
["REP ABJ",4,"22155040210",null,"Entretien et aménagement du jardin","Structures extérieures non-maçonnées","Matériaux bio sourcés ou textiles non synthétiques >50%","Compris entre 0,5 kg et 1 kg exclus","€/unité",0.06,0.06,{"$f":"VLOOKUP(J4398,'Codes éco-part'!$C:$E,3,FALSE)","v":"096"},7.1999999999999995E-2]
["REP ABJ",4,"22155040220",null,"Entretien et aménagement du jardin","Structures extérieures non-maçonnées","Matériaux bio sourcés ou textiles non synthétiques >50%","Compris entre 1 kg et 2 kg exclus","€/unité",0.11,0.11,{"$f":"VLOOKUP(J4399,'Codes éco-part'!$C:$E,3,FALSE)","v":"262"},0.13200000000000001]
["REP ABJ",4,"22155040270",null,"Entretien et aménagement du jardin","Structures extérieures non-maçonnées","Matériaux bio sourcés ou textiles non synthétiques >50%","Compris entre 30 kg et 40 kg exclus","€/unité",3,3,{"$f":"VLOOKUP(J4400,'Codes éco-part'!$C:$E,3,FALSE)","v":"474"},3.5999999999999996]
["REP ABJ",4,"22155040520",null,"Entretien et aménagement du jardin","Structures extérieures non-maçonnées","Matériaux bio sourcés ou textiles non synthétiques >50%","Compris entre 2 kg et 3 kg exclus","€/unité",0.19,0.19,{"$f":"VLOOKUP(J4401,'Codes éco-part'!$C:$E,3,FALSE)","v":"291"},0.22799999999999998]
["REP ABJ",4,"22155040530",null,"Entretien et aménagement du jardin","Structures extérieures non-maçonnées","Matériaux bio sourcés ou textiles non synthétiques >50%","Compris entre 3 kg et 5 kg exclus","€/unité",0.3,0.3,{"$f":"VLOOKUP(J4402,'Codes éco-part'!$C:$E,3,FALSE)","v":"446"},0.36]
["REP ABJ",4,"22155040540",null,"Entretien et aménagement du jardin","Structures extérieures non-maçonnées","Matériaux bio sourcés ou textiles non synthétiques >50%","Compris entre 5 kg et 7 kg exclus","€/unité",0.53,0.53,{"$f":"VLOOKUP(J4403,'Codes éco-part'!$C:$E,3,FALSE)","v":"451"},0.63600000000000001]
["REP ABJ",4,"22155040550",null,"Entretien et aménagement du jardin","Structures extérieures non-maçonnées","Matériaux bio sourcés ou textiles non synthétiques >50%","Compris entre 7 kg et 10 kg exclus","€/unité",0.75,0.75,{"$f":"VLOOKUP(J4404,'Codes éco-part'!$C:$E,3,FALSE)","v":"328"},0.89999999999999991]
["REP ABJ",4,"22155040560",null,"Entretien et aménagement du jardin","Structures extérieures non-maçonnées","Matériaux bio sourcés ou textiles non synthétiques >50%","Compris entre 10 kg et 15 kg exclus","€/unité",1.1299999999999999,1.1299999999999999,{"$f":"VLOOKUP(J4405,'Codes éco-part'!$C:$E,3,FALSE)","v":"331"},1.3559999999999999]
["REP ABJ",4,"22155040570",null,"Entretien et aménagement du jardin","Structures extérieures non-maçonnées","Matériaux bio sourcés ou textiles non synthétiques >50%","Compris entre 15 kg et 20 kg exclus","€/unité",1.5,1.5,{"$f":"VLOOKUP(J4406,'Codes éco-part'!$C:$E,3,FALSE)","v":"059"},1.7999999999999998]
["REP ABJ",4,"22155040580",null,"Entretien et aménagement du jardin","Structures extérieures non-maçonnées","Matériaux bio sourcés ou textiles non synthétiques >50%","Compris entre 20 kg et 25 kg exclus","€/unité",1.88,1.88,{"$f":"VLOOKUP(J4407,'Codes éco-part'!$C:$E,3,FALSE)","v":"335"},2.2559999999999998]
["REP ABJ",4,"22155040590",null,"Entretien et aménagement du jardin","Structures extérieures non-maçonnées","Matériaux bio sourcés ou textiles non synthétiques >50%","Compris entre 25 kg et 30 kg exclus","€/unité",2.25,2.25,{"$f":"VLOOKUP(J4408,'Codes éco-part'!$C:$E,3,FALSE)","v":"118"},2.6999999999999997]
["REP ABJ",4,"22155040600",null,"Entretien et aménagement du jardin","Structures extérieures non-maçonnées","Matériaux bio sourcés ou textiles non synthétiques >50%","Compris entre 40 kg et 50 kg exclus","€/unité",3.75,3.75,{"$f":"VLOOKUP(J4409,'Codes éco-part'!$C:$E,3,FALSE)","v":"015"},4.5]
["REP ABJ",4,"22155050000",null,"Entretien et aménagement du jardin","Structures extérieures non-maçonnées","Plastiques ou autres matériaux synthétiques >50%","Eléments de toutes dimensions et poids","€ / Tonne",75,75,{"$f":"VLOOKUP(J4410,'Codes éco-part'!$C:$E,3,FALSE)","v":"192"},90]
["REP ABJ",4,"22155050200",null,"Entretien et aménagement du jardin","Structures extérieures non-maçonnées","Plastiques ou autres matériaux synthétiques >50%","Inférieur strictement à 0,5 kg","€/unité",0.02,0.02,{"$f":"VLOOKUP(J4411,'Codes éco-part'!$C:$E,3,FALSE)","v":"047"},2.4E-2]
["REP ABJ",4,"22155050210",null,"Entretien et aménagement du jardin","Structures extérieures non-maçonnées","Plastiques ou autres matériaux synthétiques >50%","Compris entre 0,5 kg et 1 kg exclus","€/unité",0.06,0.06,{"$f":"VLOOKUP(J4412,'Codes éco-part'!$C:$E,3,FALSE)","v":"096"},7.1999999999999995E-2]
["REP ABJ",4,"22155050220",null,"Entretien et aménagement du jardin","Structures extérieures non-maçonnées","Plastiques ou autres matériaux synthétiques >50%","Compris entre 1 kg et 2 kg exclus","€/unité",0.11,0.11,{"$f":"VLOOKUP(J4413,'Codes éco-part'!$C:$E,3,FALSE)","v":"262"},0.13200000000000001]
["REP ABJ",4,"22155050270",null,"Entretien et aménagement du jardin","Structures extérieures non-maçonnées","Plastiques ou autres matériaux synthétiques >50%","Compris entre 30 kg et 40 kg exclus","€/unité",3,3,{"$f":"VLOOKUP(J4414,'Codes éco-part'!$C:$E,3,FALSE)","v":"474"},3.5999999999999996]
["REP ABJ",4,"22155050520",null,"Entretien et aménagement du jardin","Structures extérieures non-maçonnées","Plastiques ou autres matériaux synthétiques >50%","Compris entre 2 kg et 3 kg exclus","€/unité",0.19,0.19,{"$f":"VLOOKUP(J4415,'Codes éco-part'!$C:$E,3,FALSE)","v":"291"},0.22799999999999998]
["REP ABJ",4,"22155050530",null,"Entretien et aménagement du jardin","Structures extérieures non-maçonnées","Plastiques ou autres matériaux synthétiques >50%","Compris entre 3 kg et 5 kg exclus","€/unité",0.3,0.3,{"$f":"VLOOKUP(J4416,'Codes éco-part'!$C:$E,3,FALSE)","v":"446"},0.36]
["REP ABJ",4,"22155050540",null,"Entretien et aménagement du jardin","Structures extérieures non-maçonnées","Plastiques ou autres matériaux synthétiques >50%","Compris entre 5 kg et 7 kg exclus","€/unité",0.53,0.53,{"$f":"VLOOKUP(J4417,'Codes éco-part'!$C:$E,3,FALSE)","v":"451"},0.63600000000000001]
["REP ABJ",4,"22155050550",null,"Entretien et aménagement du jardin","Structures extérieures non-maçonnées","Plastiques ou autres matériaux synthétiques >50%","Compris entre 7 kg et 10 kg exclus","€/unité",0.75,0.75,{"$f":"VLOOKUP(J4418,'Codes éco-part'!$C:$E,3,FALSE)","v":"328"},0.89999999999999991]
["REP ABJ",4,"22155050560",null,"Entretien et aménagement du jardin","Structures extérieures non-maçonnées","Plastiques ou autres matériaux synthétiques >50%","Compris entre 10 kg et 15 kg exclus","€/unité",1.1299999999999999,1.1299999999999999,{"$f":"VLOOKUP(J4419,'Codes éco-part'!$C:$E,3,FALSE)","v":"331"},1.3559999999999999]
["REP ABJ",4,"22155050570",null,"Entretien et aménagement du jardin","Structures extérieures non-maçonnées","Plastiques ou autres matériaux synthétiques >50%","Compris entre 15 kg et 20 kg exclus","€/unité",1.5,1.5,{"$f":"VLOOKUP(J4420,'Codes éco-part'!$C:$E,3,FALSE)","v":"059"},1.7999999999999998]
["REP ABJ",4,"22155050580",null,"Entretien et aménagement du jardin","Structures extérieures non-maçonnées","Plastiques ou autres matériaux synthétiques >50%","Compris entre 20 kg et 25 kg exclus","€/unité",1.88,1.88,{"$f":"VLOOKUP(J4421,'Codes éco-part'!$C:$E,3,FALSE)","v":"335"},2.2559999999999998]
["REP ABJ",4,"22155050590",null,"Entretien et aménagement du jardin","Structures extérieures non-maçonnées","Plastiques ou autres matériaux synthétiques >50%","Compris entre 25 kg et 30 kg exclus","€/unité",2.25,2.25,{"$f":"VLOOKUP(J4422,'Codes éco-part'!$C:$E,3,FALSE)","v":"118"},2.6999999999999997]
["REP ABJ",4,"22155050600",null,"Entretien et aménagement du jardin","Structures extérieures non-maçonnées","Plastiques ou autres matériaux synthétiques >50%","Compris entre 40 kg et 50 kg exclus","€/unité",3.75,3.75,{"$f":"VLOOKUP(J4423,'Codes éco-part'!$C:$E,3,FALSE)","v":"015"},4.5]
["REP ABJ",4,"22155060000",null,"Entretien et aménagement du jardin","Structures extérieures non-maçonnées","Matériaux d'origine animale >50%","Eléments de toutes dimensions et poids","€ / Tonne",30,30,{"$f":"VLOOKUP(J4424,'Codes éco-part'!$C:$E,3,FALSE)","v":"153"},36]
["REP ABJ",4,"22155060200",null,"Entretien et aménagement du jardin","Structures extérieures non-maçonnées","Matériaux d'origine animale >50%","Inférieur strictement à 0,5 kg","€/unité",0.02,0.02,{"$f":"VLOOKUP(J4425,'Codes éco-part'!$C:$E,3,FALSE)","v":"047"},2.4E-2]
["REP ABJ",4,"22155060210",null,"Entretien et aménagement du jardin","Structures extérieures non-maçonnées","Matériaux d'origine animale >50%","Compris entre 0,5 kg et 1 kg exclus","€/unité",0.06,0.06,{"$f":"VLOOKUP(J4426,'Codes éco-part'!$C:$E,3,FALSE)","v":"096"},7.1999999999999995E-2]
["REP ABJ",4,"22155060220",null,"Entretien et aménagement du jardin","Structures extérieures non-maçonnées","Matériaux d'origine animale >50%","Compris entre 1 kg et 2 kg exclus","€/unité",0.11,0.11,{"$f":"VLOOKUP(J4427,'Codes éco-part'!$C:$E,3,FALSE)","v":"262"},0.13200000000000001]
["REP ABJ",4,"22155060270",null,"Entretien et aménagement du jardin","Structures extérieures non-maçonnées","Matériaux d'origine animale >50%","Compris entre 30 kg et 40 kg exclus","€/unité",3,3,{"$f":"VLOOKUP(J4428,'Codes éco-part'!$C:$E,3,FALSE)","v":"474"},3.5999999999999996]
["REP ABJ",4,"22155060520",null,"Entretien et aménagement du jardin","Structures extérieures non-maçonnées","Matériaux d'origine animale >50%","Compris entre 2 kg et 3 kg exclus","€/unité",0.19,0.19,{"$f":"VLOOKUP(J4429,'Codes éco-part'!$C:$E,3,FALSE)","v":"291"},0.22799999999999998]
["REP ABJ",4,"22155060530",null,"Entretien et aménagement du jardin","Structures extérieures non-maçonnées","Matériaux d'origine animale >50%","Compris entre 3 kg et 5 kg exclus","€/unité",0.3,0.3,{"$f":"VLOOKUP(J4430,'Codes éco-part'!$C:$E,3,FALSE)","v":"446"},0.36]
["REP ABJ",4,"22155060540",null,"Entretien et aménagement du jardin","Structures extérieures non-maçonnées","Matériaux d'origine animale >50%","Compris entre 5 kg et 7 kg exclus","€/unité",0.53,0.53,{"$f":"VLOOKUP(J4431,'Codes éco-part'!$C:$E,3,FALSE)","v":"451"},0.63600000000000001]
["REP ABJ",4,"22155060550",null,"Entretien et aménagement du jardin","Structures extérieures non-maçonnées","Matériaux d'origine animale >50%","Compris entre 7 kg et 10 kg exclus","€/unité",0.75,0.75,{"$f":"VLOOKUP(J4432,'Codes éco-part'!$C:$E,3,FALSE)","v":"328"},0.89999999999999991]
["REP ABJ",4,"22155060560",null,"Entretien et aménagement du jardin","Structures extérieures non-maçonnées","Matériaux d'origine animale >50%","Compris entre 10 kg et 15 kg exclus","€/unité",1.1299999999999999,1.1299999999999999,{"$f":"VLOOKUP(J4433,'Codes éco-part'!$C:$E,3,FALSE)","v":"331"},1.3559999999999999]
["REP ABJ",4,"22155060570",null,"Entretien et aménagement du jardin","Structures extérieures non-maçonnées","Matériaux d'origine animale >50%","Compris entre 15 kg et 20 kg exclus","€/unité",1.5,1.5,{"$f":"VLOOKUP(J4434,'Codes éco-part'!$C:$E,3,FALSE)","v":"059"},1.7999999999999998]
["REP ABJ",4,"22155060580",null,"Entretien et aménagement du jardin","Structures extérieures non-maçonnées","Matériaux d'origine animale >50%","Compris entre 20 kg et 25 kg exclus","€/unité",1.88,1.88,{"$f":"VLOOKUP(J4435,'Codes éco-part'!$C:$E,3,FALSE)","v":"335"},2.2559999999999998]
["REP ABJ",4,"22155060590",null,"Entretien et aménagement du jardin","Structures extérieures non-maçonnées","Matériaux d'origine animale >50%","Compris entre 25 kg et 30 kg exclus","€/unité",2.25,2.25,{"$f":"VLOOKUP(J4436,'Codes éco-part'!$C:$E,3,FALSE)","v":"118"},2.6999999999999997]
["REP ABJ",4,"22155060600",null,"Entretien et aménagement du jardin","Structures extérieures non-maçonnées","Matériaux d'origine animale >50%","Compris entre 40 kg et 50 kg exclus","€/unité",3.75,3.75,{"$f":"VLOOKUP(J4437,'Codes éco-part'!$C:$E,3,FALSE)","v":"015"},4.5]
["REP ABJ",4,"22155080000",null,"Entretien et aménagement du jardin","Structures extérieures non-maçonnées","Assemblage de matériaux avec de l'inerte >50%","Eléments de toutes dimensions et poids","€ / Tonne",75,75,{"$f":"VLOOKUP(J4438,'Codes éco-part'!$C:$E,3,FALSE)","v":"192"},90]
["REP ABJ",4,"22155080200",null,"Entretien et aménagement du jardin","Structures extérieures non-maçonnées","Assemblage de matériaux avec de l'inerte >50%","Inférieur strictement à 0,5 kg","€/unité",0.02,0.02,{"$f":"VLOOKUP(J4439,'Codes éco-part'!$C:$E,3,FALSE)","v":"047"},2.4E-2]
["REP ABJ",4,"22155080210",null,"Entretien et aménagement du jardin","Structures extérieures non-maçonnées","Assemblage de matériaux avec de l'inerte >50%","Compris entre 0,5 kg et 1 kg exclus","€/unité",0.06,0.06,{"$f":"VLOOKUP(J4440,'Codes éco-part'!$C:$E,3,FALSE)","v":"096"},7.1999999999999995E-2]
["REP ABJ",4,"22155080220",null,"Entretien et aménagement du jardin","Structures extérieures non-maçonnées","Assemblage de matériaux avec de l'inerte >50%","Compris entre 1 kg et 2 kg exclus","€/unité",0.11,0.11,{"$f":"VLOOKUP(J4441,'Codes éco-part'!$C:$E,3,FALSE)","v":"262"},{"$f":"J4441*1.2","v":0.13200000000000001}]
["REP ABJ",4,"22155080270",null,"Entretien et aménagement du jardin","Structures extérieures non-maçonnées","Assemblage de matériaux avec de l'inerte >50%","Compris entre 30 kg et 40 kg exclus","€/unité",3,3,{"$f":"VLOOKUP(J4442,'Codes éco-part'!$C:$E,3,FALSE)","v":"474"},3.5999999999999996]
["REP ABJ",4,"22155080520",null,"Entretien et aménagement du jardin","Structures extérieures non-maçonnées","Assemblage de matériaux avec de l'inerte >50%","Compris entre 2 kg et 3 kg exclus","€/unité",0.19,0.19,{"$f":"VLOOKUP(J4443,'Codes éco-part'!$C:$E,3,FALSE)","v":"291"},0.22799999999999998]
["REP ABJ",4,"22155080530",null,"Entretien et aménagement du jardin","Structures extérieures non-maçonnées","Assemblage de matériaux avec de l'inerte >50%","Compris entre 3 kg et 5 kg exclus","€/unité",0.3,0.3,{"$f":"VLOOKUP(J4444,'Codes éco-part'!$C:$E,3,FALSE)","v":"446"},0.36]
["REP ABJ",4,"22155080540",null,"Entretien et aménagement du jardin","Structures extérieures non-maçonnées","Assemblage de matériaux avec de l'inerte >50%","Compris entre 5 kg et 7 kg exclus","€/unité",0.53,0.53,{"$f":"VLOOKUP(J4445,'Codes éco-part'!$C:$E,3,FALSE)","v":"451"},0.63600000000000001]
["REP ABJ",4,"22155080550",null,"Entretien et aménagement du jardin","Structures extérieures non-maçonnées","Assemblage de matériaux avec de l'inerte >50%","Compris entre 7 kg et 10 kg exclus","€/unité",0.75,0.75,{"$f":"VLOOKUP(J4446,'Codes éco-part'!$C:$E,3,FALSE)","v":"328"},0.89999999999999991]
["REP ABJ",4,"22155080560",null,"Entretien et aménagement du jardin","Structures extérieures non-maçonnées","Assemblage de matériaux avec de l'inerte >50%","Compris entre 10 kg et 15 kg exclus","€/unité",1.1299999999999999,1.1299999999999999,{"$f":"VLOOKUP(J4447,'Codes éco-part'!$C:$E,3,FALSE)","v":"331"},1.3559999999999999]
["REP ABJ",4,"22155080570",null,"Entretien et aménagement du jardin","Structures extérieures non-maçonnées","Assemblage de matériaux avec de l'inerte >50%","Compris entre 15 kg et 20 kg exclus","€/unité",1.5,1.5,{"$f":"VLOOKUP(J4448,'Codes éco-part'!$C:$E,3,FALSE)","v":"059"},1.7999999999999998]
["REP ABJ",4,"22155080580",null,"Entretien et aménagement du jardin","Structures extérieures non-maçonnées","Assemblage de matériaux avec de l'inerte >50%","Compris entre 20 kg et 25 kg exclus","€/unité",1.88,1.88,{"$f":"VLOOKUP(J4449,'Codes éco-part'!$C:$E,3,FALSE)","v":"335"},2.2559999999999998]
["REP ABJ",4,"22155080590",null,"Entretien et aménagement du jardin","Structures extérieures non-maçonnées","Assemblage de matériaux avec de l'inerte >50%","Compris entre 25 kg et 30 kg exclus","€/unité",2.25,2.25,{"$f":"VLOOKUP(J4450,'Codes éco-part'!$C:$E,3,FALSE)","v":"118"},2.6999999999999997]
["REP ABJ",4,"22155080600",null,"Entretien et aménagement du jardin","Structures extérieures non-maçonnées","Assemblage de matériaux avec de l'inerte >50%","Compris entre 40 kg et 50 kg exclus","€/unité",3.75,3.75,{"$f":"VLOOKUP(J4451,'Codes éco-part'!$C:$E,3,FALSE)","v":"015"},4.5]
["REP ABJ",4,"22155150000",null,"Entretien et aménagement du jardin","Structures extérieures non-maçonnées","Composites et autres matériaux minéraux reconstitués >50%","Eléments de toutes dimensions et poids","€ / Tonne",75,75,{"$f":"VLOOKUP(J4452,'Codes éco-part'!$C:$E,3,FALSE)","v":"192"},90]
["REP ABJ",4,"22155150200",null,"Entretien et aménagement du jardin","Structures extérieures non-maçonnées","Composites et autres matériaux minéraux reconstitués >50%","Inférieur strictement à 0,5 kg","€/unité",0.02,0.02,{"$f":"VLOOKUP(J4453,'Codes éco-part'!$C:$E,3,FALSE)","v":"047"},2.4E-2]
["REP ABJ",4,"22155150210",null,"Entretien et aménagement du jardin","Structures extérieures non-maçonnées","Composites et autres matériaux minéraux reconstitués >50%","Compris entre 0,5 kg et 1 kg exclus","€/unité",0.06,0.06,{"$f":"VLOOKUP(J4454,'Codes éco-part'!$C:$E,3,FALSE)","v":"096"},7.1999999999999995E-2]
["REP ABJ",4,"22155150220",null,"Entretien et aménagement du jardin","Structures extérieures non-maçonnées","Composites et autres matériaux minéraux reconstitués >50%","Compris entre 1 kg et 2 kg exclus","€/unité",0.11,0.11,{"$f":"VLOOKUP(J4455,'Codes éco-part'!$C:$E,3,FALSE)","v":"262"},0.13200000000000001]
["REP ABJ",4,"22155150270",null,"Entretien et aménagement du jardin","Structures extérieures non-maçonnées","Composites et autres matériaux minéraux reconstitués >50%","Compris entre 30 kg et 40 kg exclus","€/unité",3,3,{"$f":"VLOOKUP(J4456,'Codes éco-part'!$C:$E,3,FALSE)","v":"474"},3.5999999999999996]
["REP ABJ",4,"22155150520",null,"Entretien et aménagement du jardin","Structures extérieures non-maçonnées","Composites et autres matériaux minéraux reconstitués >50%","Compris entre 2 kg et 3 kg exclus","€/unité",0.19,0.19,{"$f":"VLOOKUP(J4457,'Codes éco-part'!$C:$E,3,FALSE)","v":"291"},0.22799999999999998]
["REP ABJ",4,"22155150530",null,"Entretien et aménagement du jardin","Structures extérieures non-maçonnées","Composites et autres matériaux minéraux reconstitués >50%","Compris entre 3 kg et 5 kg exclus","€/unité",0.3,0.3,{"$f":"VLOOKUP(J4458,'Codes éco-part'!$C:$E,3,FALSE)","v":"446"},0.36]
["REP ABJ",4,"22155150540",null,"Entretien et aménagement du jardin","Structures extérieures non-maçonnées","Composites et autres matériaux minéraux reconstitués >50%","Compris entre 5 kg et 7 kg exclus","€/unité",0.53,0.53,{"$f":"VLOOKUP(J4459,'Codes éco-part'!$C:$E,3,FALSE)","v":"451"},0.63600000000000001]
["REP ABJ",4,"22155150550",null,"Entretien et aménagement du jardin","Structures extérieures non-maçonnées","Composites et autres matériaux minéraux reconstitués >50%","Compris entre 7 kg et 10 kg exclus","€/unité",0.75,0.75,{"$f":"VLOOKUP(J4460,'Codes éco-part'!$C:$E,3,FALSE)","v":"328"},0.89999999999999991]
["REP ABJ",4,"22155150560",null,"Entretien et aménagement du jardin","Structures extérieures non-maçonnées","Composites et autres matériaux minéraux reconstitués >50%","Compris entre 10 kg et 15 kg exclus","€/unité",1.1299999999999999,1.1299999999999999,{"$f":"VLOOKUP(J4461,'Codes éco-part'!$C:$E,3,FALSE)","v":"331"},1.3559999999999999]
["REP ABJ",4,"22155150570",null,"Entretien et aménagement du jardin","Structures extérieures non-maçonnées","Composites et autres matériaux minéraux reconstitués >50%","Compris entre 15 kg et 20 kg exclus","€/unité",1.5,1.5,{"$f":"VLOOKUP(J4462,'Codes éco-part'!$C:$E,3,FALSE)","v":"059"},1.7999999999999998]
["REP ABJ",4,"22155150580",null,"Entretien et aménagement du jardin","Structures extérieures non-maçonnées","Composites et autres matériaux minéraux reconstitués >50%","Compris entre 20 kg et 25 kg exclus","€/unité",1.88,1.88,{"$f":"VLOOKUP(J4463,'Codes éco-part'!$C:$E,3,FALSE)","v":"335"},2.2559999999999998]
["REP ABJ",4,"22155150590",null,"Entretien et aménagement du jardin","Structures extérieures non-maçonnées","Composites et autres matériaux minéraux reconstitués >50%","Compris entre 25 kg et 30 kg exclus","€/unité",2.25,2.25,{"$f":"VLOOKUP(J4464,'Codes éco-part'!$C:$E,3,FALSE)","v":"118"},2.6999999999999997]
["REP ABJ",4,"22155150600",null,"Entretien et aménagement du jardin","Structures extérieures non-maçonnées","Composites et autres matériaux minéraux reconstitués >50%","Compris entre 40 kg et 50 kg exclus","€/unité",3.75,3.75,{"$f":"VLOOKUP(J4465,'Codes éco-part'!$C:$E,3,FALSE)","v":"015"},4.5]
["REP ABJ",4,"22155190000",null,"Entretien et aménagement du jardin","Structures extérieures non-maçonnées","Papier carton >50% avec d'autres matériaux (hors verre)","Eléments de toutes dimensions et poids","€ / Tonne",75,30,{"$f":"VLOOKUP(J4466,'Codes éco-part'!$C:$E,3,FALSE)","v":"192"},90]
["REP ABJ",4,"22155190200",null,"Entretien et aménagement du jardin","Structures extérieures non-maçonnées","Papier carton >50% avec d'autres matériaux (hors verre)","Inférieur strictement à 0,5 kg","€/unité",0.02,0.02,{"$f":"VLOOKUP(J4467,'Codes éco-part'!$C:$E,3,FALSE)","v":"047"},2.4E-2]
["REP ABJ",4,"22155190210",null,"Entretien et aménagement du jardin","Structures extérieures non-maçonnées","Papier carton >50% avec d'autres matériaux (hors verre)","Compris entre 0,5 kg et 1 kg exclus","€/unité",0.06,0.06,{"$f":"VLOOKUP(J4468,'Codes éco-part'!$C:$E,3,FALSE)","v":"096"},7.1999999999999995E-2]
["REP ABJ",4,"22155190220",null,"Entretien et aménagement du jardin","Structures extérieures non-maçonnées","Papier carton >50% avec d'autres matériaux (hors verre)","Compris entre 1 kg et 2 kg exclus","€/unité",0.11,0.11,{"$f":"VLOOKUP(J4469,'Codes éco-part'!$C:$E,3,FALSE)","v":"262"},0.13200000000000001]
["REP ABJ",4,"22155190270",null,"Entretien et aménagement du jardin","Structures extérieures non-maçonnées","Papier carton >50% avec d'autres matériaux (hors verre)","Compris entre 30 kg et 40 kg exclus","€/unité",3,3,{"$f":"VLOOKUP(J4470,'Codes éco-part'!$C:$E,3,FALSE)","v":"474"},3.5999999999999996]
["REP ABJ",4,"22155190520",null,"Entretien et aménagement du jardin","Structures extérieures non-maçonnées","Papier carton >50% avec d'autres matériaux (hors verre)","Compris entre 2 kg et 3 kg exclus","€/unité",0.19,0.19,{"$f":"VLOOKUP(J4471,'Codes éco-part'!$C:$E,3,FALSE)","v":"291"},0.22799999999999998]
["REP ABJ",4,"22155190530",null,"Entretien et aménagement du jardin","Structures extérieures non-maçonnées","Papier carton >50% avec d'autres matériaux (hors verre)","Compris entre 3 kg et 5 kg exclus","€/unité",0.3,0.3,{"$f":"VLOOKUP(J4472,'Codes éco-part'!$C:$E,3,FALSE)","v":"446"},0.36]
["REP ABJ",4,"22155190540",null,"Entretien et aménagement du jardin","Structures extérieures non-maçonnées","Papier carton >50% avec d'autres matériaux (hors verre)","Compris entre 5 kg et 7 kg exclus","€/unité",0.53,0.53,{"$f":"VLOOKUP(J4473,'Codes éco-part'!$C:$E,3,FALSE)","v":"451"},0.63600000000000001]
["REP ABJ",4,"22155190550",null,"Entretien et aménagement du jardin","Structures extérieures non-maçonnées","Papier carton >50% avec d'autres matériaux (hors verre)","Compris entre 7 kg et 10 kg exclus","€/unité",0.75,0.75,{"$f":"VLOOKUP(J4474,'Codes éco-part'!$C:$E,3,FALSE)","v":"328"},0.89999999999999991]
["REP ABJ",4,"22155190560",null,"Entretien et aménagement du jardin","Structures extérieures non-maçonnées","Papier carton >50% avec d'autres matériaux (hors verre)","Compris entre 10 kg et 15 kg exclus","€/unité",1.1299999999999999,1.1299999999999999,{"$f":"VLOOKUP(J4475,'Codes éco-part'!$C:$E,3,FALSE)","v":"331"},1.3559999999999999]
["REP ABJ",4,"22155190570",null,"Entretien et aménagement du jardin","Structures extérieures non-maçonnées","Papier carton >50% avec d'autres matériaux (hors verre)","Compris entre 15 kg et 20 kg exclus","€/unité",1.5,1.5,{"$f":"VLOOKUP(J4476,'Codes éco-part'!$C:$E,3,FALSE)","v":"059"},1.7999999999999998]
["REP ABJ",4,"22155190580",null,"Entretien et aménagement du jardin","Structures extérieures non-maçonnées","Papier carton >50% avec d'autres matériaux (hors verre)","Compris entre 20 kg et 25 kg exclus","€/unité",1.88,1.88,{"$f":"VLOOKUP(J4477,'Codes éco-part'!$C:$E,3,FALSE)","v":"335"},2.2559999999999998]
["REP ABJ",4,"22155190590",null,"Entretien et aménagement du jardin","Structures extérieures non-maçonnées","Papier carton >50% avec d'autres matériaux (hors verre)","Compris entre 25 kg et 30 kg exclus","€/unité",2.25,2.25,{"$f":"VLOOKUP(J4478,'Codes éco-part'!$C:$E,3,FALSE)","v":"118"},2.6999999999999997]
["REP ABJ",4,"22155190600",null,"Entretien et aménagement du jardin","Structures extérieures non-maçonnées","Papier carton >50% avec d'autres matériaux (hors verre)","Compris entre 40 kg et 50 kg exclus","€/unité",3.75,3.75,{"$f":"VLOOKUP(J4479,'Codes éco-part'!$C:$E,3,FALSE)","v":"015"},4.5]
["REP ABJ",4,"22155200000",null,"Entretien et aménagement du jardin","Structures extérieures non-maçonnées","Massif et assimilés certifiés >75%","Eléments de toutes dimensions et poids","€ / Tonne",10,10,{"$f":"VLOOKUP(J4480,'Codes éco-part'!$C:$E,3,FALSE)","v":"138"},12]
["REP ABJ",4,"22155200200",null,"Entretien et aménagement du jardin","Structures extérieures non-maçonnées","Massif et assimilés certifiés >75%","Inférieur strictement à 0,5 kg","€/unité",0.01,0.01,{"$f":"VLOOKUP(J4481,'Codes éco-part'!$C:$E,3,FALSE)","v":"260"},1.2E-2]
["REP ABJ",4,"22155200210",null,"Entretien et aménagement du jardin","Structures extérieures non-maçonnées","Massif et assimilés certifiés >75%","Compris entre 0,5 kg et 1 kg exclus","€/unité",0.01,0.01,{"$f":"VLOOKUP(J4482,'Codes éco-part'!$C:$E,3,FALSE)","v":"260"},1.2E-2]
["REP ABJ",4,"22155200220",null,"Entretien et aménagement du jardin","Structures extérieures non-maçonnées","Massif et assimilés certifiés >75%","Compris entre 1 kg et 2 kg exclus","€/unité",0.02,0.02,{"$f":"VLOOKUP(J4483,'Codes éco-part'!$C:$E,3,FALSE)","v":"047"},2.4E-2]
["REP ABJ",4,"22155200270",null,"Entretien et aménagement du jardin","Structures extérieures non-maçonnées","Massif et assimilés certifiés >75%","Compris entre 30 kg et 40 kg exclus","€/unité",0.4,0.4,{"$f":"VLOOKUP(J4484,'Codes éco-part'!$C:$E,3,FALSE)","v":"105"},0.48]
["REP ABJ",4,"22155200520",null,"Entretien et aménagement du jardin","Structures extérieures non-maçonnées","Massif et assimilés certifiés >75%","Compris entre 2 kg et 3 kg exclus","€/unité",0.03,0.03,{"$f":"VLOOKUP(J4485,'Codes éco-part'!$C:$E,3,FALSE)","v":"092"},3.5999999999999997E-2]
["REP ABJ",4,"22155200530",null,"Entretien et aménagement du jardin","Structures extérieures non-maçonnées","Massif et assimilés certifiés >75%","Compris entre 3 kg et 5 kg exclus","€/unité",0.04,0.04,{"$f":"VLOOKUP(J4486,'Codes éco-part'!$C:$E,3,FALSE)","v":"002"},4.8000000000000001E-2]
["REP ABJ",4,"22155200540",null,"Entretien et aménagement du jardin","Structures extérieures non-maçonnées","Massif et assimilés certifiés >75%","Compris entre 5 kg et 7 kg exclus","€/unité",7.0000000000000007E-2,7.0000000000000007E-2,{"$f":"VLOOKUP(J4487,'Codes éco-part'!$C:$E,3,FALSE)","v":"247"},8.4000000000000005E-2]
["REP ABJ",4,"22155200550",null,"Entretien et aménagement du jardin","Structures extérieures non-maçonnées","Massif et assimilés certifiés >75%","Compris entre 7 kg et 10 kg exclus","€/unité",0.1,0.1,{"$f":"VLOOKUP(J4488,'Codes éco-part'!$C:$E,3,FALSE)","v":"094"},0.12]
["REP ABJ",4,"22155200560",null,"Entretien et aménagement du jardin","Structures extérieures non-maçonnées","Massif et assimilés certifiés >75%","Compris entre 10 kg et 15 kg exclus","€/unité",0.15,0.15,{"$f":"VLOOKUP(J4489,'Codes éco-part'!$C:$E,3,FALSE)","v":"050"},0.18]
["REP ABJ",4,"22155200570",null,"Entretien et aménagement du jardin","Structures extérieures non-maçonnées","Massif et assimilés certifiés >75%","Compris entre 15 kg et 20 kg exclus","€/unité",0.2,0.2,{"$f":"VLOOKUP(J4490,'Codes éco-part'!$C:$E,3,FALSE)","v":"101"},0.24]
["REP ABJ",4,"22155200580",null,"Entretien et aménagement du jardin","Structures extérieures non-maçonnées","Massif et assimilés certifiés >75%","Compris entre 20 kg et 25 kg exclus","€/unité",0.25,0.25,{"$f":"VLOOKUP(J4491,'Codes éco-part'!$C:$E,3,FALSE)","v":"095"},0.3]
["REP ABJ",4,"22155200590",null,"Entretien et aménagement du jardin","Structures extérieures non-maçonnées","Massif et assimilés certifiés >75%","Compris entre 25 kg et 30 kg exclus","€/unité",0.3,0.3,{"$f":"VLOOKUP(J4492,'Codes éco-part'!$C:$E,3,FALSE)","v":"446"},0.36]
["REP ABJ",4,"22155200600",null,"Entretien et aménagement du jardin","Structures extérieures non-maçonnées","Massif et assimilés certifiés >75%","Compris entre 40 kg et 50 kg exclus","€/unité",0.5,0.5,{"$f":"VLOOKUP(J4493,'Codes éco-part'!$C:$E,3,FALSE)","v":"053"},0.6]
["REP ABJ",4,"22155210000",null,"Entretien et aménagement du jardin","Structures extérieures non-maçonnées","Massif et assimilés >75%","Eléments de toutes dimensions et poids","€ / Tonne",10,10,{"$f":"VLOOKUP(J4494,'Codes éco-part'!$C:$E,3,FALSE)","v":"138"},12]
["REP ABJ",4,"22155210200",null,"Entretien et aménagement du jardin","Structures extérieures non-maçonnées","Massif et assimilés >75%","Inférieur strictement à 0,5 kg","€/unité",0.01,0.01,{"$f":"VLOOKUP(J4495,'Codes éco-part'!$C:$E,3,FALSE)","v":"260"},1.2E-2]
["REP ABJ",4,"22155210210",null,"Entretien et aménagement du jardin","Structures extérieures non-maçonnées","Massif et assimilés >75%","Compris entre 0,5 kg et 1 kg exclus","€/unité",0.01,0.01,{"$f":"VLOOKUP(J4496,'Codes éco-part'!$C:$E,3,FALSE)","v":"260"},1.2E-2]
["REP ABJ",4,"22155210220",null,"Entretien et aménagement du jardin","Structures extérieures non-maçonnées","Massif et assimilés >75%","Compris entre 1 kg et 2 kg exclus","€/unité",0.02,0.02,{"$f":"VLOOKUP(J4497,'Codes éco-part'!$C:$E,3,FALSE)","v":"047"},2.4E-2]
["REP ABJ",4,"22155210270",null,"Entretien et aménagement du jardin","Structures extérieures non-maçonnées","Massif et assimilés >75%","Compris entre 30 kg et 40 kg exclus","€/unité",0.4,0.4,{"$f":"VLOOKUP(J4498,'Codes éco-part'!$C:$E,3,FALSE)","v":"105"},0.48]
["REP ABJ",4,"22155210520",null,"Entretien et aménagement du jardin","Structures extérieures non-maçonnées","Massif et assimilés >75%","Compris entre 2 kg et 3 kg exclus","€/unité",0.03,0.03,{"$f":"VLOOKUP(J4499,'Codes éco-part'!$C:$E,3,FALSE)","v":"092"},3.5999999999999997E-2]
["REP ABJ",4,"22155210530",null,"Entretien et aménagement du jardin","Structures extérieures non-maçonnées","Massif et assimilés >75%","Compris entre 3 kg et 5 kg exclus","€/unité",0.04,0.04,{"$f":"VLOOKUP(J4500,'Codes éco-part'!$C:$E,3,FALSE)","v":"002"},4.8000000000000001E-2]
["REP ABJ",4,"22155210540",null,"Entretien et aménagement du jardin","Structures extérieures non-maçonnées","Massif et assimilés >75%","Compris entre 5 kg et 7 kg exclus","€/unité",7.0000000000000007E-2,7.0000000000000007E-2,{"$f":"VLOOKUP(J4501,'Codes éco-part'!$C:$E,3,FALSE)","v":"247"},8.4000000000000005E-2]
["REP ABJ",4,"22155210550",null,"Entretien et aménagement du jardin","Structures extérieures non-maçonnées","Massif et assimilés >75%","Compris entre 7 kg et 10 kg exclus","€/unité",0.1,0.1,{"$f":"VLOOKUP(J4502,'Codes éco-part'!$C:$E,3,FALSE)","v":"094"},0.12]
["REP ABJ",4,"22155210560",null,"Entretien et aménagement du jardin","Structures extérieures non-maçonnées","Massif et assimilés >75%","Compris entre 10 kg et 15 kg exclus","€/unité",0.15,0.15,{"$f":"VLOOKUP(J4503,'Codes éco-part'!$C:$E,3,FALSE)","v":"050"},0.18]
["REP ABJ",4,"22155210570",null,"Entretien et aménagement du jardin","Structures extérieures non-maçonnées","Massif et assimilés >75%","Compris entre 15 kg et 20 kg exclus","€/unité",0.2,0.2,{"$f":"VLOOKUP(J4504,'Codes éco-part'!$C:$E,3,FALSE)","v":"101"},0.24]
["REP ABJ",4,"22155210580",null,"Entretien et aménagement du jardin","Structures extérieures non-maçonnées","Massif et assimilés >75%","Compris entre 20 kg et 25 kg exclus","€/unité",0.25,0.25,{"$f":"VLOOKUP(J4505,'Codes éco-part'!$C:$E,3,FALSE)","v":"095"},{"$f":"J4505*1.2","v":0.3}]
["REP ABJ",4,"22155210590",null,"Entretien et aménagement du jardin","Structures extérieures non-maçonnées","Massif et assimilés >75%","Compris entre 25 kg et 30 kg exclus","€/unité",0.3,0.3,{"$f":"VLOOKUP(J4506,'Codes éco-part'!$C:$E,3,FALSE)","v":"446"},0.36]
["REP ABJ",4,"22155210600",null,"Entretien et aménagement du jardin","Structures extérieures non-maçonnées","Massif et assimilés >75%","Compris entre 40 kg et 50 kg exclus","€/unité",0.5,0.5,{"$f":"VLOOKUP(J4507,'Codes éco-part'!$C:$E,3,FALSE)","v":"053"},0.6]
["REP ABJ",4,"22155250000",null,"Entretien et aménagement du jardin","Structures extérieures non-maçonnées","Panneaux de particules ou OSB >75%","Eléments de toutes dimensions et poids","€ / Tonne",10,10,{"$f":"VLOOKUP(J4508,'Codes éco-part'!$C:$E,3,FALSE)","v":"138"},12]
["REP ABJ",4,"22155250200",null,"Entretien et aménagement du jardin","Structures extérieures non-maçonnées","Panneaux de particules ou OSB >75%","Inférieur strictement à 0,5 kg","€/unité",0.01,0.01,{"$f":"VLOOKUP(J4509,'Codes éco-part'!$C:$E,3,FALSE)","v":"260"},1.2E-2]
["REP ABJ",4,"22155250210",null,"Entretien et aménagement du jardin","Structures extérieures non-maçonnées","Panneaux de particules ou OSB >75%","Compris entre 0,5 kg et 1 kg exclus","€/unité",0.01,0.01,{"$f":"VLOOKUP(J4510,'Codes éco-part'!$C:$E,3,FALSE)","v":"260"},1.2E-2]
["REP ABJ",4,"22155250220",null,"Entretien et aménagement du jardin","Structures extérieures non-maçonnées","Panneaux de particules ou OSB >75%","Compris entre 1 kg et 2 kg exclus","€/unité",0.02,0.02,{"$f":"VLOOKUP(J4511,'Codes éco-part'!$C:$E,3,FALSE)","v":"047"},2.4E-2]
["REP ABJ",4,"22155250270",null,"Entretien et aménagement du jardin","Structures extérieures non-maçonnées","Panneaux de particules ou OSB >75%","Compris entre 30 kg et 40 kg exclus","€/unité",0.4,0.4,{"$f":"VLOOKUP(J4512,'Codes éco-part'!$C:$E,3,FALSE)","v":"105"},0.48]
["REP ABJ",4,"22155250520",null,"Entretien et aménagement du jardin","Structures extérieures non-maçonnées","Panneaux de particules ou OSB >75%","Compris entre 2 kg et 3 kg exclus","€/unité",0.03,0.03,{"$f":"VLOOKUP(J4513,'Codes éco-part'!$C:$E,3,FALSE)","v":"092"},3.5999999999999997E-2]
["REP ABJ",4,"22155250530",null,"Entretien et aménagement du jardin","Structures extérieures non-maçonnées","Panneaux de particules ou OSB >75%","Compris entre 3 kg et 5 kg exclus","€/unité",0.04,0.04,{"$f":"VLOOKUP(J4514,'Codes éco-part'!$C:$E,3,FALSE)","v":"002"},4.8000000000000001E-2]
["REP ABJ",4,"22155250540",null,"Entretien et aménagement du jardin","Structures extérieures non-maçonnées","Panneaux de particules ou OSB >75%","Compris entre 5 kg et 7 kg exclus","€/unité",7.0000000000000007E-2,7.0000000000000007E-2,{"$f":"VLOOKUP(J4515,'Codes éco-part'!$C:$E,3,FALSE)","v":"247"},8.4000000000000005E-2]
["REP ABJ",4,"22155250550",null,"Entretien et aménagement du jardin","Structures extérieures non-maçonnées","Panneaux de particules ou OSB >75%","Compris entre 7 kg et 10 kg exclus","€/unité",0.1,0.1,{"$f":"VLOOKUP(J4516,'Codes éco-part'!$C:$E,3,FALSE)","v":"094"},0.12]
["REP ABJ",4,"22155250560",null,"Entretien et aménagement du jardin","Structures extérieures non-maçonnées","Panneaux de particules ou OSB >75%","Compris entre 10 kg et 15 kg exclus","€/unité",0.15,0.15,{"$f":"VLOOKUP(J4517,'Codes éco-part'!$C:$E,3,FALSE)","v":"050"},0.18]
["REP ABJ",4,"22155250570",null,"Entretien et aménagement du jardin","Structures extérieures non-maçonnées","Panneaux de particules ou OSB >75%","Compris entre 15 kg et 20 kg exclus","€/unité",0.2,0.2,{"$f":"VLOOKUP(J4518,'Codes éco-part'!$C:$E,3,FALSE)","v":"101"},0.24]
["REP ABJ",4,"22155250580",null,"Entretien et aménagement du jardin","Structures extérieures non-maçonnées","Panneaux de particules ou OSB >75%","Compris entre 20 kg et 25 kg exclus","€/unité",0.25,0.25,{"$f":"VLOOKUP(J4519,'Codes éco-part'!$C:$E,3,FALSE)","v":"095"},0.3]
["REP ABJ",4,"22155250590",null,"Entretien et aménagement du jardin","Structures extérieures non-maçonnées","Panneaux de particules ou OSB >75%","Compris entre 25 kg et 30 kg exclus","€/unité",0.3,0.3,{"$f":"VLOOKUP(J4520,'Codes éco-part'!$C:$E,3,FALSE)","v":"446"},0.36]
["REP ABJ",4,"22155250600",null,"Entretien et aménagement du jardin","Structures extérieures non-maçonnées","Panneaux de particules ou OSB >75%","Compris entre 40 kg et 50 kg exclus","€/unité",0.5,0.5,{"$f":"VLOOKUP(J4521,'Codes éco-part'!$C:$E,3,FALSE)","v":"053"},0.6]
["REP ABJ",4,"22155280000",null,"Entretien et aménagement du jardin","Structures extérieures non-maçonnées","Métal >90%","Eléments de toutes dimensions et poids","€ / Tonne",3,3,{"$f":"VLOOKUP(J4522,'Codes éco-part'!$C:$E,3,FALSE)","v":"474"},3.5999999999999996]
["REP ABJ",4,"22155280200",null,"Entretien et aménagement du jardin","Structures extérieures non-maçonnées","Métal >90%","Inférieur strictement à 0,5 kg","€/unité",0.01,0.01,{"$f":"VLOOKUP(J4523,'Codes éco-part'!$C:$E,3,FALSE)","v":"260"},1.2E-2]
["REP ABJ",4,"22155280210",null,"Entretien et aménagement du jardin","Structures extérieures non-maçonnées","Métal >90%","Compris entre 0,5 kg et 1 kg exclus","€/unité",0.01,0.01,{"$f":"VLOOKUP(J4524,'Codes éco-part'!$C:$E,3,FALSE)","v":"260"},1.2E-2]
["REP ABJ",4,"22155280220",null,"Entretien et aménagement du jardin","Structures extérieures non-maçonnées","Métal >90%","Compris entre 1 kg et 2 kg exclus","€/unité",0.01,0.01,{"$f":"VLOOKUP(J4525,'Codes éco-part'!$C:$E,3,FALSE)","v":"260"},1.2E-2]
["REP ABJ",4,"22155280270",null,"Entretien et aménagement du jardin","Structures extérieures non-maçonnées","Métal >90%","Compris entre 30 kg et 40 kg exclus","€/unité",0.12,0.12,{"$f":"VLOOKUP(J4526,'Codes éco-part'!$C:$E,3,FALSE)","v":"097"},0.14399999999999999]
["REP ABJ",4,"22155280520",null,"Entretien et aménagement du jardin","Structures extérieures non-maçonnées","Métal >90%","Compris entre 2 kg et 3 kg exclus","€/unité",0.01,0.01,{"$f":"VLOOKUP(J4527,'Codes éco-part'!$C:$E,3,FALSE)","v":"260"},1.2E-2]
["REP ABJ",4,"22155280530",null,"Entretien et aménagement du jardin","Structures extérieures non-maçonnées","Métal >90%","Compris entre 3 kg et 5 kg exclus","€/unité",0.01,0.01,{"$f":"VLOOKUP(J4528,'Codes éco-part'!$C:$E,3,FALSE)","v":"260"},1.2E-2]
["REP ABJ",4,"22155280540",null,"Entretien et aménagement du jardin","Structures extérieures non-maçonnées","Métal >90%","Compris entre 5 kg et 7 kg exclus","€/unité",0.02,0.02,{"$f":"VLOOKUP(J4529,'Codes éco-part'!$C:$E,3,FALSE)","v":"047"},2.4E-2]
["REP ABJ",4,"22155280550",null,"Entretien et aménagement du jardin","Structures extérieures non-maçonnées","Métal >90%","Compris entre 7 kg et 10 kg exclus","€/unité",0.03,0.03,{"$f":"VLOOKUP(J4530,'Codes éco-part'!$C:$E,3,FALSE)","v":"092"},3.5999999999999997E-2]
["REP ABJ",4,"22155280560",null,"Entretien et aménagement du jardin","Structures extérieures non-maçonnées","Métal >90%","Compris entre 10 kg et 15 kg exclus","€/unité",0.05,0.05,{"$f":"VLOOKUP(J4531,'Codes éco-part'!$C:$E,3,FALSE)","v":"048"},0.06]
["REP ABJ",4,"22155280570",null,"Entretien et aménagement du jardin","Structures extérieures non-maçonnées","Métal >90%","Compris entre 15 kg et 20 kg exclus","€/unité",0.06,0.06,{"$f":"VLOOKUP(J4532,'Codes éco-part'!$C:$E,3,FALSE)","v":"096"},7.1999999999999995E-2]
["REP ABJ",4,"22155280580",null,"Entretien et aménagement du jardin","Structures extérieures non-maçonnées","Métal >90%","Compris entre 20 kg et 25 kg exclus","€/unité",0.08,0.08,{"$f":"VLOOKUP(J4533,'Codes éco-part'!$C:$E,3,FALSE)","v":"003"},9.6000000000000002E-2]
["REP ABJ",4,"22155280590",null,"Entretien et aménagement du jardin","Structures extérieures non-maçonnées","Métal >90%","Compris entre 25 kg et 30 kg exclus","€/unité",0.09,0.09,{"$f":"VLOOKUP(J4534,'Codes éco-part'!$C:$E,3,FALSE)","v":"049"},0.108]
["REP ABJ",4,"22155280600",null,"Entretien et aménagement du jardin","Structures extérieures non-maçonnées","Métal >90%","Compris entre 40 kg et 50 kg exclus","€/unité",0.15,0.15,{"$f":"VLOOKUP(J4535,'Codes éco-part'!$C:$E,3,FALSE)","v":"050"},0.18]
["REP ABJ",4,"22155400000",null,"Entretien et aménagement du jardin","Structures extérieures non-maçonnées","Assemblage caoutchouc synthétique ou latex >50% avec d'autres matériaux","Eléments de toutes dimensions et poids","€ / Tonne",75,75,{"$f":"VLOOKUP(J4536,'Codes éco-part'!$C:$E,3,FALSE)","v":"192"},90]
["REP ABJ",4,"22155400200",null,"Entretien et aménagement du jardin","Structures extérieures non-maçonnées","Assemblage caoutchouc synthétique ou latex >50% avec d'autres matériaux","Inférieur strictement à 0,5 kg","€/unité",0.02,0.02,{"$f":"VLOOKUP(J4537,'Codes éco-part'!$C:$E,3,FALSE)","v":"047"},2.4E-2]
["REP ABJ",4,"22155400210",null,"Entretien et aménagement du jardin","Structures extérieures non-maçonnées","Assemblage caoutchouc synthétique ou latex >50% avec d'autres matériaux","Compris entre 0,5 kg et 1 kg exclus","€/unité",0.06,0.06,{"$f":"VLOOKUP(J4538,'Codes éco-part'!$C:$E,3,FALSE)","v":"096"},7.1999999999999995E-2]
["REP ABJ",4,"22155400220",null,"Entretien et aménagement du jardin","Structures extérieures non-maçonnées","Assemblage caoutchouc synthétique ou latex >50% avec d'autres matériaux","Compris entre 1 kg et 2 kg exclus","€/unité",0.11,0.11,{"$f":"VLOOKUP(J4539,'Codes éco-part'!$C:$E,3,FALSE)","v":"262"},0.13200000000000001]
["REP ABJ",4,"22155400270",null,"Entretien et aménagement du jardin","Structures extérieures non-maçonnées","Assemblage caoutchouc synthétique ou latex >50% avec d'autres matériaux","Compris entre 30 kg et 40 kg exclus","€/unité",3,3,{"$f":"VLOOKUP(J4540,'Codes éco-part'!$C:$E,3,FALSE)","v":"474"},3.5999999999999996]
["REP ABJ",4,"22155400520",null,"Entretien et aménagement du jardin","Structures extérieures non-maçonnées","Assemblage caoutchouc synthétique ou latex >50% avec d'autres matériaux","Compris entre 2 kg et 3 kg exclus","€/unité",0.19,0.19,{"$f":"VLOOKUP(J4541,'Codes éco-part'!$C:$E,3,FALSE)","v":"291"},0.22799999999999998]
["REP ABJ",4,"22155400530",null,"Entretien et aménagement du jardin","Structures extérieures non-maçonnées","Assemblage caoutchouc synthétique ou latex >50% avec d'autres matériaux","Compris entre 3 kg et 5 kg exclus","€/unité",0.3,0.3,{"$f":"VLOOKUP(J4542,'Codes éco-part'!$C:$E,3,FALSE)","v":"446"},0.36]
["REP ABJ",4,"22155400540",null,"Entretien et aménagement du jardin","Structures extérieures non-maçonnées","Assemblage caoutchouc synthétique ou latex >50% avec d'autres matériaux","Compris entre 5 kg et 7 kg exclus","€/unité",0.53,0.53,{"$f":"VLOOKUP(J4543,'Codes éco-part'!$C:$E,3,FALSE)","v":"451"},0.63600000000000001]
["REP ABJ",4,"22155400550",null,"Entretien et aménagement du jardin","Structures extérieures non-maçonnées","Assemblage caoutchouc synthétique ou latex >50% avec d'autres matériaux","Compris entre 7 kg et 10 kg exclus","€/unité",0.75,0.75,{"$f":"VLOOKUP(J4544,'Codes éco-part'!$C:$E,3,FALSE)","v":"328"},0.89999999999999991]
["REP ABJ",4,"22155400560",null,"Entretien et aménagement du jardin","Structures extérieures non-maçonnées","Assemblage caoutchouc synthétique ou latex >50% avec d'autres matériaux","Compris entre 10 kg et 15 kg exclus","€/unité",1.1299999999999999,1.1299999999999999,{"$f":"VLOOKUP(J4545,'Codes éco-part'!$C:$E,3,FALSE)","v":"331"},1.3559999999999999]
["REP ABJ",4,"22155400570",null,"Entretien et aménagement du jardin","Structures extérieures non-maçonnées","Assemblage caoutchouc synthétique ou latex >50% avec d'autres matériaux","Compris entre 15 kg et 20 kg exclus","€/unité",1.5,1.5,{"$f":"VLOOKUP(J4546,'Codes éco-part'!$C:$E,3,FALSE)","v":"059"},1.7999999999999998]
["REP ABJ",4,"22155400580",null,"Entretien et aménagement du jardin","Structures extérieures non-maçonnées","Assemblage caoutchouc synthétique ou latex >50% avec d'autres matériaux","Compris entre 20 kg et 25 kg exclus","€/unité",1.88,1.88,{"$f":"VLOOKUP(J4547,'Codes éco-part'!$C:$E,3,FALSE)","v":"335"},2.2559999999999998]
["REP ABJ",4,"22155400590",null,"Entretien et aménagement du jardin","Structures extérieures non-maçonnées","Assemblage caoutchouc synthétique ou latex >50% avec d'autres matériaux","Compris entre 25 kg et 30 kg exclus","€/unité",2.25,2.25,{"$f":"VLOOKUP(J4548,'Codes éco-part'!$C:$E,3,FALSE)","v":"118"},2.6999999999999997]
["REP ABJ",4,"22155400600",null,"Entretien et aménagement du jardin","Structures extérieures non-maçonnées","Assemblage caoutchouc synthétique ou latex >50% avec d'autres matériaux","Compris entre 40 kg et 50 kg exclus","€/unité",3.75,3.75,{"$f":"VLOOKUP(J4549,'Codes éco-part'!$C:$E,3,FALSE)","v":"015"},4.5]
["REP ABJ",4,"22155410000",null,"Entretien et aménagement du jardin","Structures extérieures non-maçonnées","Plastiques (mono résine) >90%","Eléments de toutes dimensions et poids","€ / Tonne",50,50,{"$f":"VLOOKUP(J4550,'Codes éco-part'!$C:$E,3,FALSE)","v":"173"},60]
["REP ABJ",4,"22155410200",null,"Entretien et aménagement du jardin","Structures extérieures non-maçonnées","Plastiques (mono résine) >90%","Inférieur strictement à 0,5 kg","€/unité",0.01,0.01,{"$f":"VLOOKUP(J4551,'Codes éco-part'!$C:$E,3,FALSE)","v":"260"},1.2E-2]
["REP ABJ",4,"22155410210",null,"Entretien et aménagement du jardin","Structures extérieures non-maçonnées","Plastiques (mono résine) >90%","Compris entre 0,5 kg et 1 kg exclus","€/unité",0.04,0.04,{"$f":"VLOOKUP(J4552,'Codes éco-part'!$C:$E,3,FALSE)","v":"002"},4.8000000000000001E-2]
["REP ABJ",4,"22155410220",null,"Entretien et aménagement du jardin","Structures extérieures non-maçonnées","Plastiques (mono résine) >90%","Compris entre 1 kg et 2 kg exclus","€/unité",0.08,0.08,{"$f":"VLOOKUP(J4553,'Codes éco-part'!$C:$E,3,FALSE)","v":"003"},9.6000000000000002E-2]
["REP ABJ",4,"22155410270",null,"Entretien et aménagement du jardin","Structures extérieures non-maçonnées","Plastiques (mono résine) >90%","Compris entre 30 kg et 40 kg exclus","€/unité",2,2,{"$f":"VLOOKUP(J4554,'Codes éco-part'!$C:$E,3,FALSE)","v":"061"},2.4]
["REP ABJ",4,"22155410520",null,"Entretien et aménagement du jardin","Structures extérieures non-maçonnées","Plastiques (mono résine) >90%","Compris entre 2 kg et 3 kg exclus","€/unité",0.13,0.13,{"$f":"VLOOKUP(J4555,'Codes éco-part'!$C:$E,3,FALSE)","v":"004"},0.156]
["REP ABJ",4,"22155410530",null,"Entretien et aménagement du jardin","Structures extérieures non-maçonnées","Plastiques (mono résine) >90%","Compris entre 3 kg et 5 kg exclus","€/unité",0.2,0.2,{"$f":"VLOOKUP(J4556,'Codes éco-part'!$C:$E,3,FALSE)","v":"101"},0.24]
["REP ABJ",4,"22155410540",null,"Entretien et aménagement du jardin","Structures extérieures non-maçonnées","Plastiques (mono résine) >90%","Compris entre 5 kg et 7 kg exclus","€/unité",0.35,0.35,{"$f":"VLOOKUP(J4557,'Codes éco-part'!$C:$E,3,FALSE)","v":"448"},0.42]
["REP ABJ",4,"22155410550",null,"Entretien et aménagement du jardin","Structures extérieures non-maçonnées","Plastiques (mono résine) >90%","Compris entre 7 kg et 10 kg exclus","€/unité",0.5,0.5,{"$f":"VLOOKUP(J4558,'Codes éco-part'!$C:$E,3,FALSE)","v":"053"},0.6]
["REP ABJ",4,"22155410560",null,"Entretien et aménagement du jardin","Structures extérieures non-maçonnées","Plastiques (mono résine) >90%","Compris entre 10 kg et 15 kg exclus","€/unité",0.75,0.75,{"$f":"VLOOKUP(J4559,'Codes éco-part'!$C:$E,3,FALSE)","v":"328"},0.89999999999999991]
["REP ABJ",4,"22155410570",null,"Entretien et aménagement du jardin","Structures extérieures non-maçonnées","Plastiques (mono résine) >90%","Compris entre 15 kg et 20 kg exclus","€/unité",1,1,{"$f":"VLOOKUP(J4560,'Codes éco-part'!$C:$E,3,FALSE)","v":"056"},1.2]
["REP ABJ",4,"22155410580",null,"Entretien et aménagement du jardin","Structures extérieures non-maçonnées","Plastiques (mono résine) >90%","Compris entre 20 kg et 25 kg exclus","€/unité",1.25,1.25,{"$f":"VLOOKUP(J4561,'Codes éco-part'!$C:$E,3,FALSE)","v":"009"},1.5]
["REP ABJ",4,"22155410590",null,"Entretien et aménagement du jardin","Structures extérieures non-maçonnées","Plastiques (mono résine) >90%","Compris entre 25 kg et 30 kg exclus","€/unité",1.5,1.5,{"$f":"VLOOKUP(J4562,'Codes éco-part'!$C:$E,3,FALSE)","v":"059"},1.7999999999999998]
["REP ABJ",4,"22155410600",null,"Entretien et aménagement du jardin","Structures extérieures non-maçonnées","Plastiques (mono résine) >90%","Compris entre 40 kg et 50 kg exclus","€/unité",2.5,2.5,{"$f":"VLOOKUP(J4563,'Codes éco-part'!$C:$E,3,FALSE)","v":"012"},3]
["REP ABJ",4,"22155420000",null,"Entretien et aménagement du jardin","Structures extérieures non-maçonnées","Polyterephtalate d'Ethylène (PET) >90%","Eléments de toutes dimensions et poids","€ / Tonne",50,50,{"$f":"VLOOKUP(J4564,'Codes éco-part'!$C:$E,3,FALSE)","v":"173"},60]
["REP ABJ",4,"22155420200",null,"Entretien et aménagement du jardin","Structures extérieures non-maçonnées","Polyterephtalate d'Ethylène (PET) >90%","Inférieur strictement à 0,5 kg","€/unité",0.01,0.01,{"$f":"VLOOKUP(J4565,'Codes éco-part'!$C:$E,3,FALSE)","v":"260"},1.2E-2]
["REP ABJ",4,"22155420210",null,"Entretien et aménagement du jardin","Structures extérieures non-maçonnées","Polyterephtalate d'Ethylène (PET) >90%","Compris entre 0,5 kg et 1 kg exclus","€/unité",0.04,0.04,{"$f":"VLOOKUP(J4566,'Codes éco-part'!$C:$E,3,FALSE)","v":"002"},4.8000000000000001E-2]
["REP ABJ",4,"22155420220",null,"Entretien et aménagement du jardin","Structures extérieures non-maçonnées","Polyterephtalate d'Ethylène (PET) >90%","Compris entre 1 kg et 2 kg exclus","€/unité",0.08,0.08,{"$f":"VLOOKUP(J4567,'Codes éco-part'!$C:$E,3,FALSE)","v":"003"},9.6000000000000002E-2]
["REP ABJ",4,"22155420270",null,"Entretien et aménagement du jardin","Structures extérieures non-maçonnées","Polyterephtalate d'Ethylène (PET) >90%","Compris entre 30 kg et 40 kg exclus","€/unité",2,2,{"$f":"VLOOKUP(J4568,'Codes éco-part'!$C:$E,3,FALSE)","v":"061"},2.4]
["REP ABJ",4,"22155420520",null,"Entretien et aménagement du jardin","Structures extérieures non-maçonnées","Polyterephtalate d'Ethylène (PET) >90%","Compris entre 2 kg et 3 kg exclus","€/unité",0.13,0.13,{"$f":"VLOOKUP(J4569,'Codes éco-part'!$C:$E,3,FALSE)","v":"004"},{"$f":"J4569*1.2","v":0.156}]
["REP ABJ",4,"22155420530",null,"Entretien et aménagement du jardin","Structures extérieures non-maçonnées","Polyterephtalate d'Ethylène (PET) >90%","Compris entre 3 kg et 5 kg exclus","€/unité",0.2,0.2,{"$f":"VLOOKUP(J4570,'Codes éco-part'!$C:$E,3,FALSE)","v":"101"},0.24]
["REP ABJ",4,"22155420540",null,"Entretien et aménagement du jardin","Structures extérieures non-maçonnées","Polyterephtalate d'Ethylène (PET) >90%","Compris entre 5 kg et 7 kg exclus","€/unité",0.35,0.35,{"$f":"VLOOKUP(J4571,'Codes éco-part'!$C:$E,3,FALSE)","v":"448"},0.42]
["REP ABJ",4,"22155420550",null,"Entretien et aménagement du jardin","Structures extérieures non-maçonnées","Polyterephtalate d'Ethylène (PET) >90%","Compris entre 7 kg et 10 kg exclus","€/unité",0.5,0.5,{"$f":"VLOOKUP(J4572,'Codes éco-part'!$C:$E,3,FALSE)","v":"053"},0.6]
["REP ABJ",4,"22155420560",null,"Entretien et aménagement du jardin","Structures extérieures non-maçonnées","Polyterephtalate d'Ethylène (PET) >90%","Compris entre 10 kg et 15 kg exclus","€/unité",0.75,0.75,{"$f":"VLOOKUP(J4573,'Codes éco-part'!$C:$E,3,FALSE)","v":"328"},0.89999999999999991]
["REP ABJ",4,"22155420570",null,"Entretien et aménagement du jardin","Structures extérieures non-maçonnées","Polyterephtalate d'Ethylène (PET) >90%","Compris entre 15 kg et 20 kg exclus","€/unité",1,1,{"$f":"VLOOKUP(J4574,'Codes éco-part'!$C:$E,3,FALSE)","v":"056"},1.2]
["REP ABJ",4,"22155420580",null,"Entretien et aménagement du jardin","Structures extérieures non-maçonnées","Polyterephtalate d'Ethylène (PET) >90%","Compris entre 20 kg et 25 kg exclus","€/unité",1.25,1.25,{"$f":"VLOOKUP(J4575,'Codes éco-part'!$C:$E,3,FALSE)","v":"009"},1.5]
["REP ABJ",4,"22155420590",null,"Entretien et aménagement du jardin","Structures extérieures non-maçonnées","Polyterephtalate d'Ethylène (PET) >90%","Compris entre 25 kg et 30 kg exclus","€/unité",1.5,1.5,{"$f":"VLOOKUP(J4576,'Codes éco-part'!$C:$E,3,FALSE)","v":"059"},1.7999999999999998]
["REP ABJ",4,"22155420600",null,"Entretien et aménagement du jardin","Structures extérieures non-maçonnées","Polyterephtalate d'Ethylène (PET) >90%","Compris entre 40 kg et 50 kg exclus","€/unité",2.5,2.5,{"$f":"VLOOKUP(J4577,'Codes éco-part'!$C:$E,3,FALSE)","v":"012"},3]
["REP ABJ",4,"22155450000",null,"Entretien et aménagement du jardin","Structures extérieures non-maçonnées","PE ou PP ou mélange PP/PE >90%","Eléments de toutes dimensions et poids","€ / Tonne",50,50,{"$f":"VLOOKUP(J4578,'Codes éco-part'!$C:$E,3,FALSE)","v":"173"},60]
["REP ABJ",4,"22155450200",null,"Entretien et aménagement du jardin","Structures extérieures non-maçonnées","PE ou PP ou mélange PP/PE >90%","Inférieur strictement à 0,5 kg","€/unité",0.01,0.01,{"$f":"VLOOKUP(J4579,'Codes éco-part'!$C:$E,3,FALSE)","v":"260"},1.2E-2]
["REP ABJ",4,"22155450210",null,"Entretien et aménagement du jardin","Structures extérieures non-maçonnées","PE ou PP ou mélange PP/PE >90%","Compris entre 0,5 kg et 1 kg exclus","€/unité",0.04,0.04,{"$f":"VLOOKUP(J4580,'Codes éco-part'!$C:$E,3,FALSE)","v":"002"},4.8000000000000001E-2]
["REP ABJ",4,"22155450220",null,"Entretien et aménagement du jardin","Structures extérieures non-maçonnées","PE ou PP ou mélange PP/PE >90%","Compris entre 1 kg et 2 kg exclus","€/unité",0.08,0.08,{"$f":"VLOOKUP(J4581,'Codes éco-part'!$C:$E,3,FALSE)","v":"003"},9.6000000000000002E-2]
["REP ABJ",4,"22155450270",null,"Entretien et aménagement du jardin","Structures extérieures non-maçonnées","PE ou PP ou mélange PP/PE >90%","Compris entre 30 kg et 40 kg exclus","€/unité",2,2,{"$f":"VLOOKUP(J4582,'Codes éco-part'!$C:$E,3,FALSE)","v":"061"},2.4]
["REP ABJ",4,"22155450520",null,"Entretien et aménagement du jardin","Structures extérieures non-maçonnées","PE ou PP ou mélange PP/PE >90%","Compris entre 2 kg et 3 kg exclus","€/unité",0.13,0.13,{"$f":"VLOOKUP(J4583,'Codes éco-part'!$C:$E,3,FALSE)","v":"004"},0.156]
["REP ABJ",4,"22155450530",null,"Entretien et aménagement du jardin","Structures extérieures non-maçonnées","PE ou PP ou mélange PP/PE >90%","Compris entre 3 kg et 5 kg exclus","€/unité",0.2,0.2,{"$f":"VLOOKUP(J4584,'Codes éco-part'!$C:$E,3,FALSE)","v":"101"},0.24]
["REP ABJ",4,"22155450540",null,"Entretien et aménagement du jardin","Structures extérieures non-maçonnées","PE ou PP ou mélange PP/PE >90%","Compris entre 5 kg et 7 kg exclus","€/unité",0.35,0.35,{"$f":"VLOOKUP(J4585,'Codes éco-part'!$C:$E,3,FALSE)","v":"448"},0.42]
["REP ABJ",4,"22155450550",null,"Entretien et aménagement du jardin","Structures extérieures non-maçonnées","PE ou PP ou mélange PP/PE >90%","Compris entre 7 kg et 10 kg exclus","€/unité",0.5,0.5,{"$f":"VLOOKUP(J4586,'Codes éco-part'!$C:$E,3,FALSE)","v":"053"},0.6]
["REP ABJ",4,"22155450560",null,"Entretien et aménagement du jardin","Structures extérieures non-maçonnées","PE ou PP ou mélange PP/PE >90%","Compris entre 10 kg et 15 kg exclus","€/unité",0.75,0.75,{"$f":"VLOOKUP(J4587,'Codes éco-part'!$C:$E,3,FALSE)","v":"328"},0.89999999999999991]
["REP ABJ",4,"22155450570",null,"Entretien et aménagement du jardin","Structures extérieures non-maçonnées","PE ou PP ou mélange PP/PE >90%","Compris entre 15 kg et 20 kg exclus","€/unité",1,1,{"$f":"VLOOKUP(J4588,'Codes éco-part'!$C:$E,3,FALSE)","v":"056"},1.2]
["REP ABJ",4,"22155450580",null,"Entretien et aménagement du jardin","Structures extérieures non-maçonnées","PE ou PP ou mélange PP/PE >90%","Compris entre 20 kg et 25 kg exclus","€/unité",1.25,1.25,{"$f":"VLOOKUP(J4589,'Codes éco-part'!$C:$E,3,FALSE)","v":"009"},1.5]
["REP ABJ",4,"22155450590",null,"Entretien et aménagement du jardin","Structures extérieures non-maçonnées","PE ou PP ou mélange PP/PE >90%","Compris entre 25 kg et 30 kg exclus","€/unité",1.5,1.5,{"$f":"VLOOKUP(J4590,'Codes éco-part'!$C:$E,3,FALSE)","v":"059"},1.7999999999999998]
["REP ABJ",4,"22155450600",null,"Entretien et aménagement du jardin","Structures extérieures non-maçonnées","PE ou PP ou mélange PP/PE >90%","Compris entre 40 kg et 50 kg exclus","€/unité",2.5,2.5,{"$f":"VLOOKUP(J4591,'Codes éco-part'!$C:$E,3,FALSE)","v":"012"},3]
["REP ABJ",4,"22155460000",null,"Entretien et aménagement du jardin","Structures extérieures non-maçonnées","ABS >90%","Eléments de toutes dimensions et poids","€ / Tonne",50,50,{"$f":"VLOOKUP(J4592,'Codes éco-part'!$C:$E,3,FALSE)","v":"173"},60]
["REP ABJ",4,"22155460200",null,"Entretien et aménagement du jardin","Structures extérieures non-maçonnées","ABS >90%","Inférieur strictement à 0,5 kg","€/unité",0.01,0.01,{"$f":"VLOOKUP(J4593,'Codes éco-part'!$C:$E,3,FALSE)","v":"260"},1.2E-2]
["REP ABJ",4,"22155460210",null,"Entretien et aménagement du jardin","Structures extérieures non-maçonnées","ABS >90%","Compris entre 0,5 kg et 1 kg exclus","€/unité",0.04,0.04,{"$f":"VLOOKUP(J4594,'Codes éco-part'!$C:$E,3,FALSE)","v":"002"},4.8000000000000001E-2]
["REP ABJ",4,"22155460220",null,"Entretien et aménagement du jardin","Structures extérieures non-maçonnées","ABS >90%","Compris entre 1 kg et 2 kg exclus","€/unité",0.08,0.08,{"$f":"VLOOKUP(J4595,'Codes éco-part'!$C:$E,3,FALSE)","v":"003"},9.6000000000000002E-2]
["REP ABJ",4,"22155460270",null,"Entretien et aménagement du jardin","Structures extérieures non-maçonnées","ABS >90%","Compris entre 30 kg et 40 kg exclus","€/unité",2,2,{"$f":"VLOOKUP(J4596,'Codes éco-part'!$C:$E,3,FALSE)","v":"061"},2.4]
["REP ABJ",4,"22155460520",null,"Entretien et aménagement du jardin","Structures extérieures non-maçonnées","ABS >90%","Compris entre 2 kg et 3 kg exclus","€/unité",0.13,0.13,{"$f":"VLOOKUP(J4597,'Codes éco-part'!$C:$E,3,FALSE)","v":"004"},0.156]
["REP ABJ",4,"22155460530",null,"Entretien et aménagement du jardin","Structures extérieures non-maçonnées","ABS >90%","Compris entre 3 kg et 5 kg exclus","€/unité",0.2,0.2,{"$f":"VLOOKUP(J4598,'Codes éco-part'!$C:$E,3,FALSE)","v":"101"},0.24]
["REP ABJ",4,"22155460540",null,"Entretien et aménagement du jardin","Structures extérieures non-maçonnées","ABS >90%","Compris entre 5 kg et 7 kg exclus","€/unité",0.35,0.35,{"$f":"VLOOKUP(J4599,'Codes éco-part'!$C:$E,3,FALSE)","v":"448"},0.42]
["REP ABJ",4,"22155460550",null,"Entretien et aménagement du jardin","Structures extérieures non-maçonnées","ABS >90%","Compris entre 7 kg et 10 kg exclus","€/unité",0.5,0.5,{"$f":"VLOOKUP(J4600,'Codes éco-part'!$C:$E,3,FALSE)","v":"053"},0.6]
["REP ABJ",4,"22155460560",null,"Entretien et aménagement du jardin","Structures extérieures non-maçonnées","ABS >90%","Compris entre 10 kg et 15 kg exclus","€/unité",0.75,0.75,{"$f":"VLOOKUP(J4601,'Codes éco-part'!$C:$E,3,FALSE)","v":"328"},0.89999999999999991]
["REP ABJ",4,"22155460570",null,"Entretien et aménagement du jardin","Structures extérieures non-maçonnées","ABS >90%","Compris entre 15 kg et 20 kg exclus","€/unité",1,1,{"$f":"VLOOKUP(J4602,'Codes éco-part'!$C:$E,3,FALSE)","v":"056"},1.2]
["REP ABJ",4,"22155460580",null,"Entretien et aménagement du jardin","Structures extérieures non-maçonnées","ABS >90%","Compris entre 20 kg et 25 kg exclus","€/unité",1.25,1.25,{"$f":"VLOOKUP(J4603,'Codes éco-part'!$C:$E,3,FALSE)","v":"009"},1.5]
["REP ABJ",4,"22155460590",null,"Entretien et aménagement du jardin","Structures extérieures non-maçonnées","ABS >90%","Compris entre 25 kg et 30 kg exclus","€/unité",1.5,1.5,{"$f":"VLOOKUP(J4604,'Codes éco-part'!$C:$E,3,FALSE)","v":"059"},1.7999999999999998]
["REP ABJ",4,"22155460600",null,"Entretien et aménagement du jardin","Structures extérieures non-maçonnées","ABS >90%","Compris entre 40 kg et 50 kg exclus","€/unité",2.5,2.5,{"$f":"VLOOKUP(J4605,'Codes éco-part'!$C:$E,3,FALSE)","v":"012"},3]
["REP ABJ",4,"22155470000",null,"Entretien et aménagement du jardin","Structures extérieures non-maçonnées","Polystyrène >90%","Eléments de toutes dimensions et poids","€ / Tonne",50,50,{"$f":"VLOOKUP(J4606,'Codes éco-part'!$C:$E,3,FALSE)","v":"173"},60]
["REP ABJ",4,"22155470200",null,"Entretien et aménagement du jardin","Structures extérieures non-maçonnées","Polystyrène >90%","Inférieur strictement à 0,5 kg","€/unité",0.01,0.01,{"$f":"VLOOKUP(J4607,'Codes éco-part'!$C:$E,3,FALSE)","v":"260"},1.2E-2]
["REP ABJ",4,"22155470210",null,"Entretien et aménagement du jardin","Structures extérieures non-maçonnées","Polystyrène >90%","Compris entre 0,5 kg et 1 kg exclus","€/unité",0.04,0.04,{"$f":"VLOOKUP(J4608,'Codes éco-part'!$C:$E,3,FALSE)","v":"002"},4.8000000000000001E-2]
["REP ABJ",4,"22155470220",null,"Entretien et aménagement du jardin","Structures extérieures non-maçonnées","Polystyrène >90%","Compris entre 1 kg et 2 kg exclus","€/unité",0.08,0.08,{"$f":"VLOOKUP(J4609,'Codes éco-part'!$C:$E,3,FALSE)","v":"003"},9.6000000000000002E-2]
["REP ABJ",4,"22155470270",null,"Entretien et aménagement du jardin","Structures extérieures non-maçonnées","Polystyrène >90%","Compris entre 30 kg et 40 kg exclus","€/unité",2,2,{"$f":"VLOOKUP(J4610,'Codes éco-part'!$C:$E,3,FALSE)","v":"061"},2.4]
["REP ABJ",4,"22155470520",null,"Entretien et aménagement du jardin","Structures extérieures non-maçonnées","Polystyrène >90%","Compris entre 2 kg et 3 kg exclus","€/unité",0.13,0.13,{"$f":"VLOOKUP(J4611,'Codes éco-part'!$C:$E,3,FALSE)","v":"004"},0.156]
["REP ABJ",4,"22155470530",null,"Entretien et aménagement du jardin","Structures extérieures non-maçonnées","Polystyrène >90%","Compris entre 3 kg et 5 kg exclus","€/unité",0.2,0.2,{"$f":"VLOOKUP(J4612,'Codes éco-part'!$C:$E,3,FALSE)","v":"101"},0.24]
["REP ABJ",4,"22155470540",null,"Entretien et aménagement du jardin","Structures extérieures non-maçonnées","Polystyrène >90%","Compris entre 5 kg et 7 kg exclus","€/unité",0.35,0.35,{"$f":"VLOOKUP(J4613,'Codes éco-part'!$C:$E,3,FALSE)","v":"448"},0.42]
["REP ABJ",4,"22155470550",null,"Entretien et aménagement du jardin","Structures extérieures non-maçonnées","Polystyrène >90%","Compris entre 7 kg et 10 kg exclus","€/unité",0.5,0.5,{"$f":"VLOOKUP(J4614,'Codes éco-part'!$C:$E,3,FALSE)","v":"053"},0.6]
["REP ABJ",4,"22155470560",null,"Entretien et aménagement du jardin","Structures extérieures non-maçonnées","Polystyrène >90%","Compris entre 10 kg et 15 kg exclus","€/unité",0.75,0.75,{"$f":"VLOOKUP(J4615,'Codes éco-part'!$C:$E,3,FALSE)","v":"328"},0.89999999999999991]
["REP ABJ",4,"22155470570",null,"Entretien et aménagement du jardin","Structures extérieures non-maçonnées","Polystyrène >90%","Compris entre 15 kg et 20 kg exclus","€/unité",1,1,{"$f":"VLOOKUP(J4616,'Codes éco-part'!$C:$E,3,FALSE)","v":"056"},1.2]
["REP ABJ",4,"22155470580",null,"Entretien et aménagement du jardin","Structures extérieures non-maçonnées","Polystyrène >90%","Compris entre 20 kg et 25 kg exclus","€/unité",1.25,1.25,{"$f":"VLOOKUP(J4617,'Codes éco-part'!$C:$E,3,FALSE)","v":"009"},1.5]
["REP ABJ",4,"22155470590",null,"Entretien et aménagement du jardin","Structures extérieures non-maçonnées","Polystyrène >90%","Compris entre 25 kg et 30 kg exclus","€/unité",1.5,1.5,{"$f":"VLOOKUP(J4618,'Codes éco-part'!$C:$E,3,FALSE)","v":"059"},1.7999999999999998]
["REP ABJ",4,"22155470600",null,"Entretien et aménagement du jardin","Structures extérieures non-maçonnées","Polystyrène >90%","Compris entre 40 kg et 50 kg exclus","€/unité",2.5,2.5,{"$f":"VLOOKUP(J4619,'Codes éco-part'!$C:$E,3,FALSE)","v":"012"},3]
["REP ABJ",4,"22155480000",null,"Entretien et aménagement du jardin","Structures extérieures non-maçonnées","PVC >90%","Eléments de toutes dimensions et poids","€ / Tonne",50,50,{"$f":"VLOOKUP(J4620,'Codes éco-part'!$C:$E,3,FALSE)","v":"173"},60]
["REP ABJ",4,"22155480200",null,"Entretien et aménagement du jardin","Structures extérieures non-maçonnées","PVC >90%","Inférieur strictement à 0,5 kg","€/unité",0.01,0.01,{"$f":"VLOOKUP(J4621,'Codes éco-part'!$C:$E,3,FALSE)","v":"260"},1.2E-2]
["REP ABJ",4,"22155480210",null,"Entretien et aménagement du jardin","Structures extérieures non-maçonnées","PVC >90%","Compris entre 0,5 kg et 1 kg exclus","€/unité",0.04,0.04,{"$f":"VLOOKUP(J4622,'Codes éco-part'!$C:$E,3,FALSE)","v":"002"},4.8000000000000001E-2]
["REP ABJ",4,"22155480220",null,"Entretien et aménagement du jardin","Structures extérieures non-maçonnées","PVC >90%","Compris entre 1 kg et 2 kg exclus","€/unité",0.08,0.08,{"$f":"VLOOKUP(J4623,'Codes éco-part'!$C:$E,3,FALSE)","v":"003"},9.6000000000000002E-2]
["REP ABJ",4,"22155480270",null,"Entretien et aménagement du jardin","Structures extérieures non-maçonnées","PVC >90%","Compris entre 30 kg et 40 kg exclus","€/unité",2,2,{"$f":"VLOOKUP(J4624,'Codes éco-part'!$C:$E,3,FALSE)","v":"061"},2.4]
["REP ABJ",4,"22155480520",null,"Entretien et aménagement du jardin","Structures extérieures non-maçonnées","PVC >90%","Compris entre 2 kg et 3 kg exclus","€/unité",0.13,0.13,{"$f":"VLOOKUP(J4625,'Codes éco-part'!$C:$E,3,FALSE)","v":"004"},0.156]
["REP ABJ",4,"22155480530",null,"Entretien et aménagement du jardin","Structures extérieures non-maçonnées","PVC >90%","Compris entre 3 kg et 5 kg exclus","€/unité",0.2,0.2,{"$f":"VLOOKUP(J4626,'Codes éco-part'!$C:$E,3,FALSE)","v":"101"},0.24]
["REP ABJ",4,"22155480540",null,"Entretien et aménagement du jardin","Structures extérieures non-maçonnées","PVC >90%","Compris entre 5 kg et 7 kg exclus","€/unité",0.35,0.35,{"$f":"VLOOKUP(J4627,'Codes éco-part'!$C:$E,3,FALSE)","v":"448"},0.42]
["REP ABJ",4,"22155480550",null,"Entretien et aménagement du jardin","Structures extérieures non-maçonnées","PVC >90%","Compris entre 7 kg et 10 kg exclus","€/unité",0.5,0.5,{"$f":"VLOOKUP(J4628,'Codes éco-part'!$C:$E,3,FALSE)","v":"053"},0.6]
["REP ABJ",4,"22155480560",null,"Entretien et aménagement du jardin","Structures extérieures non-maçonnées","PVC >90%","Compris entre 10 kg et 15 kg exclus","€/unité",0.75,0.75,{"$f":"VLOOKUP(J4629,'Codes éco-part'!$C:$E,3,FALSE)","v":"328"},0.89999999999999991]
["REP ABJ",4,"22155480570",null,"Entretien et aménagement du jardin","Structures extérieures non-maçonnées","PVC >90%","Compris entre 15 kg et 20 kg exclus","€/unité",1,1,{"$f":"VLOOKUP(J4630,'Codes éco-part'!$C:$E,3,FALSE)","v":"056"},1.2]
["REP ABJ",4,"22155480580",null,"Entretien et aménagement du jardin","Structures extérieures non-maçonnées","PVC >90%","Compris entre 20 kg et 25 kg exclus","€/unité",1.25,1.25,{"$f":"VLOOKUP(J4631,'Codes éco-part'!$C:$E,3,FALSE)","v":"009"},1.5]
["REP ABJ",4,"22155480590",null,"Entretien et aménagement du jardin","Structures extérieures non-maçonnées","PVC >90%","Compris entre 25 kg et 30 kg exclus","€/unité",1.5,1.5,{"$f":"VLOOKUP(J4632,'Codes éco-part'!$C:$E,3,FALSE)","v":"059"},1.7999999999999998]
["REP ABJ",4,"22155480600",null,"Entretien et aménagement du jardin","Structures extérieures non-maçonnées","PVC >90%","Compris entre 40 kg et 50 kg exclus","€/unité",2.5,2.5,{"$f":"VLOOKUP(J4633,'Codes éco-part'!$C:$E,3,FALSE)","v":"012"},{"$f":"J4633*1.2","v":3}]
["REP ABJ",4,"22155490000",null,"Entretien et aménagement du jardin","Structures extérieures non-maçonnées","Caoutchouc synthétique >90%","Eléments de toutes dimensions et poids","€ / Tonne",50,50,{"$f":"VLOOKUP(J4634,'Codes éco-part'!$C:$E,3,FALSE)","v":"173"},60]
["REP ABJ",4,"22155490200",null,"Entretien et aménagement du jardin","Structures extérieures non-maçonnées","Caoutchouc synthétique >90%","Inférieur strictement à 0,5 kg","€/unité",0.01,0.01,{"$f":"VLOOKUP(J4635,'Codes éco-part'!$C:$E,3,FALSE)","v":"260"},1.2E-2]
["REP ABJ",4,"22155490210",null,"Entretien et aménagement du jardin","Structures extérieures non-maçonnées","Caoutchouc synthétique >90%","Compris entre 0,5 kg et 1 kg exclus","€/unité",0.04,0.04,{"$f":"VLOOKUP(J4636,'Codes éco-part'!$C:$E,3,FALSE)","v":"002"},4.8000000000000001E-2]
["REP ABJ",4,"22155490220",null,"Entretien et aménagement du jardin","Structures extérieures non-maçonnées","Caoutchouc synthétique >90%","Compris entre 1 kg et 2 kg exclus","€/unité",0.08,0.08,{"$f":"VLOOKUP(J4637,'Codes éco-part'!$C:$E,3,FALSE)","v":"003"},9.6000000000000002E-2]
["REP ABJ",4,"22155490270",null,"Entretien et aménagement du jardin","Structures extérieures non-maçonnées","Caoutchouc synthétique >90%","Compris entre 30 kg et 40 kg exclus","€/unité",2,2,{"$f":"VLOOKUP(J4638,'Codes éco-part'!$C:$E,3,FALSE)","v":"061"},2.4]
["REP ABJ",4,"22155490520",null,"Entretien et aménagement du jardin","Structures extérieures non-maçonnées","Caoutchouc synthétique >90%","Compris entre 2 kg et 3 kg exclus","€/unité",0.13,0.13,{"$f":"VLOOKUP(J4639,'Codes éco-part'!$C:$E,3,FALSE)","v":"004"},0.156]
["REP ABJ",4,"22155490530",null,"Entretien et aménagement du jardin","Structures extérieures non-maçonnées","Caoutchouc synthétique >90%","Compris entre 3 kg et 5 kg exclus","€/unité",0.2,0.2,{"$f":"VLOOKUP(J4640,'Codes éco-part'!$C:$E,3,FALSE)","v":"101"},0.24]
["REP ABJ",4,"22155490540",null,"Entretien et aménagement du jardin","Structures extérieures non-maçonnées","Caoutchouc synthétique >90%","Compris entre 5 kg et 7 kg exclus","€/unité",0.35,0.35,{"$f":"VLOOKUP(J4641,'Codes éco-part'!$C:$E,3,FALSE)","v":"448"},0.42]
["REP ABJ",4,"22155490550",null,"Entretien et aménagement du jardin","Structures extérieures non-maçonnées","Caoutchouc synthétique >90%","Compris entre 7 kg et 10 kg exclus","€/unité",0.5,0.5,{"$f":"VLOOKUP(J4642,'Codes éco-part'!$C:$E,3,FALSE)","v":"053"},0.6]
["REP ABJ",4,"22155490560",null,"Entretien et aménagement du jardin","Structures extérieures non-maçonnées","Caoutchouc synthétique >90%","Compris entre 10 kg et 15 kg exclus","€/unité",0.75,0.75,{"$f":"VLOOKUP(J4643,'Codes éco-part'!$C:$E,3,FALSE)","v":"328"},0.89999999999999991]
["REP ABJ",4,"22155490570",null,"Entretien et aménagement du jardin","Structures extérieures non-maçonnées","Caoutchouc synthétique >90%","Compris entre 15 kg et 20 kg exclus","€/unité",1,1,{"$f":"VLOOKUP(J4644,'Codes éco-part'!$C:$E,3,FALSE)","v":"056"},1.2]
["REP ABJ",4,"22155490580",null,"Entretien et aménagement du jardin","Structures extérieures non-maçonnées","Caoutchouc synthétique >90%","Compris entre 20 kg et 25 kg exclus","€/unité",1.25,1.25,{"$f":"VLOOKUP(J4645,'Codes éco-part'!$C:$E,3,FALSE)","v":"009"},1.5]
["REP ABJ",4,"22155490590",null,"Entretien et aménagement du jardin","Structures extérieures non-maçonnées","Caoutchouc synthétique >90%","Compris entre 25 kg et 30 kg exclus","€/unité",1.5,1.5,{"$f":"VLOOKUP(J4646,'Codes éco-part'!$C:$E,3,FALSE)","v":"059"},1.7999999999999998]
["REP ABJ",4,"22155490600",null,"Entretien et aménagement du jardin","Structures extérieures non-maçonnées","Caoutchouc synthétique >90%","Compris entre 40 kg et 50 kg exclus","€/unité",2.5,2.5,{"$f":"VLOOKUP(J4647,'Codes éco-part'!$C:$E,3,FALSE)","v":"012"},3]
["REP ABJ",4,"22155520000",null,"Entretien et aménagement du jardin","Structures extérieures non-maçonnées","Massif et assimilés certifiés >90%","Eléments de toutes dimensions et poids","€ / Tonne",10,10,{"$f":"VLOOKUP(J4648,'Codes éco-part'!$C:$E,3,FALSE)","v":"138"},12]
["REP ABJ",4,"22155520200",null,"Entretien et aménagement du jardin","Structures extérieures non-maçonnées","Massif et assimilés certifiés >90%","Inférieur strictement à 0,5 kg","€/unité",0.01,0.01,{"$f":"VLOOKUP(J4649,'Codes éco-part'!$C:$E,3,FALSE)","v":"260"},1.2E-2]
["REP ABJ",4,"22155520210",null,"Entretien et aménagement du jardin","Structures extérieures non-maçonnées","Massif et assimilés certifiés >90%","Compris entre 0,5 kg et 1 kg exclus","€/unité",0.01,0.01,{"$f":"VLOOKUP(J4650,'Codes éco-part'!$C:$E,3,FALSE)","v":"260"},1.2E-2]
["REP ABJ",4,"22155520220",null,"Entretien et aménagement du jardin","Structures extérieures non-maçonnées","Massif et assimilés certifiés >90%","Compris entre 1 kg et 2 kg exclus","€/unité",0.02,0.02,{"$f":"VLOOKUP(J4651,'Codes éco-part'!$C:$E,3,FALSE)","v":"047"},2.4E-2]
["REP ABJ",4,"22155520270",null,"Entretien et aménagement du jardin","Structures extérieures non-maçonnées","Massif et assimilés certifiés >90%","Compris entre 30 kg et 40 kg exclus","€/unité",0.4,0.4,{"$f":"VLOOKUP(J4652,'Codes éco-part'!$C:$E,3,FALSE)","v":"105"},0.48]
["REP ABJ",4,"22155520520",null,"Entretien et aménagement du jardin","Structures extérieures non-maçonnées","Massif et assimilés certifiés >90%","Compris entre 2 kg et 3 kg exclus","€/unité",0.03,0.03,{"$f":"VLOOKUP(J4653,'Codes éco-part'!$C:$E,3,FALSE)","v":"092"},3.5999999999999997E-2]
["REP ABJ",4,"22155520530",null,"Entretien et aménagement du jardin","Structures extérieures non-maçonnées","Massif et assimilés certifiés >90%","Compris entre 3 kg et 5 kg exclus","€/unité",0.04,0.04,{"$f":"VLOOKUP(J4654,'Codes éco-part'!$C:$E,3,FALSE)","v":"002"},4.8000000000000001E-2]
["REP ABJ",4,"22155520540",null,"Entretien et aménagement du jardin","Structures extérieures non-maçonnées","Massif et assimilés certifiés >90%","Compris entre 5 kg et 7 kg exclus","€/unité",7.0000000000000007E-2,7.0000000000000007E-2,{"$f":"VLOOKUP(J4655,'Codes éco-part'!$C:$E,3,FALSE)","v":"247"},8.4000000000000005E-2]
["REP ABJ",4,"22155520550",null,"Entretien et aménagement du jardin","Structures extérieures non-maçonnées","Massif et assimilés certifiés >90%","Compris entre 7 kg et 10 kg exclus","€/unité",0.1,0.1,{"$f":"VLOOKUP(J4656,'Codes éco-part'!$C:$E,3,FALSE)","v":"094"},0.12]
["REP ABJ",4,"22155520560",null,"Entretien et aménagement du jardin","Structures extérieures non-maçonnées","Massif et assimilés certifiés >90%","Compris entre 10 kg et 15 kg exclus","€/unité",0.15,0.15,{"$f":"VLOOKUP(J4657,'Codes éco-part'!$C:$E,3,FALSE)","v":"050"},0.18]
["REP ABJ",4,"22155520570",null,"Entretien et aménagement du jardin","Structures extérieures non-maçonnées","Massif et assimilés certifiés >90%","Compris entre 15 kg et 20 kg exclus","€/unité",0.2,0.2,{"$f":"VLOOKUP(J4658,'Codes éco-part'!$C:$E,3,FALSE)","v":"101"},0.24]
["REP ABJ",4,"22155520580",null,"Entretien et aménagement du jardin","Structures extérieures non-maçonnées","Massif et assimilés certifiés >90%","Compris entre 20 kg et 25 kg exclus","€/unité",0.25,0.25,{"$f":"VLOOKUP(J4659,'Codes éco-part'!$C:$E,3,FALSE)","v":"095"},0.3]
["REP ABJ",4,"22155520590",null,"Entretien et aménagement du jardin","Structures extérieures non-maçonnées","Massif et assimilés certifiés >90%","Compris entre 25 kg et 30 kg exclus","€/unité",0.3,0.3,{"$f":"VLOOKUP(J4660,'Codes éco-part'!$C:$E,3,FALSE)","v":"446"},0.36]
["REP ABJ",4,"22155520600",null,"Entretien et aménagement du jardin","Structures extérieures non-maçonnées","Massif et assimilés certifiés >90%","Compris entre 40 kg et 50 kg exclus","€/unité",0.5,0.5,{"$f":"VLOOKUP(J4661,'Codes éco-part'!$C:$E,3,FALSE)","v":"053"},0.6]
["REP ABJ",4,"22155530000",null,"Entretien et aménagement du jardin","Structures extérieures non-maçonnées","Massif et assimilés >90%","Eléments de toutes dimensions et poids","€ / Tonne",10,10,{"$f":"VLOOKUP(J4662,'Codes éco-part'!$C:$E,3,FALSE)","v":"138"},12]
["REP ABJ",4,"22155530200",null,"Entretien et aménagement du jardin","Structures extérieures non-maçonnées","Massif et assimilés >90%","Inférieur strictement à 0,5 kg","€/unité",0.01,0.01,{"$f":"VLOOKUP(J4663,'Codes éco-part'!$C:$E,3,FALSE)","v":"260"},1.2E-2]
["REP ABJ",4,"22155530210",null,"Entretien et aménagement du jardin","Structures extérieures non-maçonnées","Massif et assimilés >90%","Compris entre 0,5 kg et 1 kg exclus","€/unité",0.01,0.01,{"$f":"VLOOKUP(J4664,'Codes éco-part'!$C:$E,3,FALSE)","v":"260"},1.2E-2]
["REP ABJ",4,"22155530220",null,"Entretien et aménagement du jardin","Structures extérieures non-maçonnées","Massif et assimilés >90%","Compris entre 1 kg et 2 kg exclus","€/unité",0.02,0.02,{"$f":"VLOOKUP(J4665,'Codes éco-part'!$C:$E,3,FALSE)","v":"047"},2.4E-2]
["REP ABJ",4,"22155530270",null,"Entretien et aménagement du jardin","Structures extérieures non-maçonnées","Massif et assimilés >90%","Compris entre 30 kg et 40 kg exclus","€/unité",0.4,0.4,{"$f":"VLOOKUP(J4666,'Codes éco-part'!$C:$E,3,FALSE)","v":"105"},0.48]
["REP ABJ",4,"22155530520",null,"Entretien et aménagement du jardin","Structures extérieures non-maçonnées","Massif et assimilés >90%","Compris entre 2 kg et 3 kg exclus","€/unité",0.03,0.03,{"$f":"VLOOKUP(J4667,'Codes éco-part'!$C:$E,3,FALSE)","v":"092"},3.5999999999999997E-2]
["REP ABJ",4,"22155530530",null,"Entretien et aménagement du jardin","Structures extérieures non-maçonnées","Massif et assimilés >90%","Compris entre 3 kg et 5 kg exclus","€/unité",0.04,0.04,{"$f":"VLOOKUP(J4668,'Codes éco-part'!$C:$E,3,FALSE)","v":"002"},4.8000000000000001E-2]
["REP ABJ",4,"22155530540",null,"Entretien et aménagement du jardin","Structures extérieures non-maçonnées","Massif et assimilés >90%","Compris entre 5 kg et 7 kg exclus","€/unité",7.0000000000000007E-2,7.0000000000000007E-2,{"$f":"VLOOKUP(J4669,'Codes éco-part'!$C:$E,3,FALSE)","v":"247"},8.4000000000000005E-2]
["REP ABJ",4,"22155530550",null,"Entretien et aménagement du jardin","Structures extérieures non-maçonnées","Massif et assimilés >90%","Compris entre 7 kg et 10 kg exclus","€/unité",0.1,0.1,{"$f":"VLOOKUP(J4670,'Codes éco-part'!$C:$E,3,FALSE)","v":"094"},0.12]
["REP ABJ",4,"22155530560",null,"Entretien et aménagement du jardin","Structures extérieures non-maçonnées","Massif et assimilés >90%","Compris entre 10 kg et 15 kg exclus","€/unité",0.15,0.15,{"$f":"VLOOKUP(J4671,'Codes éco-part'!$C:$E,3,FALSE)","v":"050"},0.18]
["REP ABJ",4,"22155530570",null,"Entretien et aménagement du jardin","Structures extérieures non-maçonnées","Massif et assimilés >90%","Compris entre 15 kg et 20 kg exclus","€/unité",0.2,0.2,{"$f":"VLOOKUP(J4672,'Codes éco-part'!$C:$E,3,FALSE)","v":"101"},0.24]
["REP ABJ",4,"22155530580",null,"Entretien et aménagement du jardin","Structures extérieures non-maçonnées","Massif et assimilés >90%","Compris entre 20 kg et 25 kg exclus","€/unité",0.25,0.25,{"$f":"VLOOKUP(J4673,'Codes éco-part'!$C:$E,3,FALSE)","v":"095"},0.3]
["REP ABJ",4,"22155530590",null,"Entretien et aménagement du jardin","Structures extérieures non-maçonnées","Massif et assimilés >90%","Compris entre 25 kg et 30 kg exclus","€/unité",0.3,0.3,{"$f":"VLOOKUP(J4674,'Codes éco-part'!$C:$E,3,FALSE)","v":"446"},0.36]
["REP ABJ",4,"22155530600",null,"Entretien et aménagement du jardin","Structures extérieures non-maçonnées","Massif et assimilés >90%","Compris entre 40 kg et 50 kg exclus","€/unité",0.5,0.5,{"$f":"VLOOKUP(J4675,'Codes éco-part'!$C:$E,3,FALSE)","v":"053"},0.6]
["REP ABJ",4,"22155550000",null,"Entretien et aménagement du jardin","Structures extérieures non-maçonnées","Matériaux bio sourcés ou textiles non synthétiques >90%","Eléments de toutes dimensions et poids","€ / Tonne",30,30,{"$f":"VLOOKUP(J4676,'Codes éco-part'!$C:$E,3,FALSE)","v":"153"},36]
["REP ABJ",4,"22155550200",null,"Entretien et aménagement du jardin","Structures extérieures non-maçonnées","Matériaux bio sourcés ou textiles non synthétiques >90%","Inférieur strictement à 0,5 kg","€/unité",0.01,0.01,{"$f":"VLOOKUP(J4677,'Codes éco-part'!$C:$E,3,FALSE)","v":"260"},1.2E-2]
["REP ABJ",4,"22155550210",null,"Entretien et aménagement du jardin","Structures extérieures non-maçonnées","Matériaux bio sourcés ou textiles non synthétiques >90%","Compris entre 0,5 kg et 1 kg exclus","€/unité",0.02,0.02,{"$f":"VLOOKUP(J4678,'Codes éco-part'!$C:$E,3,FALSE)","v":"047"},2.4E-2]
["REP ABJ",4,"22155550220",null,"Entretien et aménagement du jardin","Structures extérieures non-maçonnées","Matériaux bio sourcés ou textiles non synthétiques >90%","Compris entre 1 kg et 2 kg exclus","€/unité",0.05,0.05,{"$f":"VLOOKUP(J4679,'Codes éco-part'!$C:$E,3,FALSE)","v":"048"},0.06]
["REP ABJ",4,"22155550270",null,"Entretien et aménagement du jardin","Structures extérieures non-maçonnées","Matériaux bio sourcés ou textiles non synthétiques >90%","Compris entre 30 kg et 40 kg exclus","€/unité",1.2,1.2,{"$f":"VLOOKUP(J4680,'Codes éco-part'!$C:$E,3,FALSE)","v":"505"},1.44]
["REP ABJ",4,"22155550520",null,"Entretien et aménagement du jardin","Structures extérieures non-maçonnées","Matériaux bio sourcés ou textiles non synthétiques >90%","Compris entre 2 kg et 3 kg exclus","€/unité",0.08,0.08,{"$f":"VLOOKUP(J4681,'Codes éco-part'!$C:$E,3,FALSE)","v":"003"},9.6000000000000002E-2]
["REP ABJ",4,"22155550530",null,"Entretien et aménagement du jardin","Structures extérieures non-maçonnées","Matériaux bio sourcés ou textiles non synthétiques >90%","Compris entre 3 kg et 5 kg exclus","€/unité",0.12,0.12,{"$f":"VLOOKUP(J4682,'Codes éco-part'!$C:$E,3,FALSE)","v":"097"},0.14399999999999999]
["REP ABJ",4,"22155550540",null,"Entretien et aménagement du jardin","Structures extérieures non-maçonnées","Matériaux bio sourcés ou textiles non synthétiques >90%","Compris entre 5 kg et 7 kg exclus","€/unité",0.21,0.21,{"$f":"VLOOKUP(J4683,'Codes éco-part'!$C:$E,3,FALSE)","v":"051"},0.252]
["REP ABJ",4,"22155550550",null,"Entretien et aménagement du jardin","Structures extérieures non-maçonnées","Matériaux bio sourcés ou textiles non synthétiques >90%","Compris entre 7 kg et 10 kg exclus","€/unité",0.3,0.3,{"$f":"VLOOKUP(J4684,'Codes éco-part'!$C:$E,3,FALSE)","v":"446"},0.36]
["REP ABJ",4,"22155550560",null,"Entretien et aménagement du jardin","Structures extérieures non-maçonnées","Matériaux bio sourcés ou textiles non synthétiques >90%","Compris entre 10 kg et 15 kg exclus","€/unité",0.45,0.45,{"$f":"VLOOKUP(J4685,'Codes éco-part'!$C:$E,3,FALSE)","v":"325"},0.54]
["REP ABJ",4,"22155550570",null,"Entretien et aménagement du jardin","Structures extérieures non-maçonnées","Matériaux bio sourcés ou textiles non synthétiques >90%","Compris entre 15 kg et 20 kg exclus","€/unité",0.6,0.6,{"$f":"VLOOKUP(J4686,'Codes éco-part'!$C:$E,3,FALSE)","v":"327"},0.72]
["REP ABJ",4,"22155550580",null,"Entretien et aménagement du jardin","Structures extérieures non-maçonnées","Matériaux bio sourcés ou textiles non synthétiques >90%","Compris entre 20 kg et 25 kg exclus","€/unité",0.75,0.75,{"$f":"VLOOKUP(J4687,'Codes éco-part'!$C:$E,3,FALSE)","v":"328"},0.89999999999999991]
["REP ABJ",4,"22155550590",null,"Entretien et aménagement du jardin","Structures extérieures non-maçonnées","Matériaux bio sourcés ou textiles non synthétiques >90%","Compris entre 25 kg et 30 kg exclus","€/unité",0.9,0.9,{"$f":"VLOOKUP(J4688,'Codes éco-part'!$C:$E,3,FALSE)","v":"330"},1.08]
["REP ABJ",4,"22155550600",null,"Entretien et aménagement du jardin","Structures extérieures non-maçonnées","Matériaux bio sourcés ou textiles non synthétiques >90%","Compris entre 40 kg et 50 kg exclus","€/unité",1.5,1.5,{"$f":"VLOOKUP(J4689,'Codes éco-part'!$C:$E,3,FALSE)","v":"059"},1.7999999999999998]
["REP ABJ",4,"22155590000",null,"Entretien et aménagement du jardin","Structures extérieures non-maçonnées","Panneaux de particules ou OSB certifiés >90%","Eléments de toutes dimensions et poids","€ / Tonne",10,10,{"$f":"VLOOKUP(J4690,'Codes éco-part'!$C:$E,3,FALSE)","v":"138"},12]
["REP ABJ",4,"22155590200",null,"Entretien et aménagement du jardin","Structures extérieures non-maçonnées","Panneaux de particules ou OSB certifiés >90%","Inférieur strictement à 0,5 kg","€/unité",0.01,0.01,{"$f":"VLOOKUP(J4691,'Codes éco-part'!$C:$E,3,FALSE)","v":"260"},1.2E-2]
["REP ABJ",4,"22155590210",null,"Entretien et aménagement du jardin","Structures extérieures non-maçonnées","Panneaux de particules ou OSB certifiés >90%","Compris entre 0,5 kg et 1 kg exclus","€/unité",0.01,0.01,{"$f":"VLOOKUP(J4692,'Codes éco-part'!$C:$E,3,FALSE)","v":"260"},1.2E-2]
["REP ABJ",4,"22155590220",null,"Entretien et aménagement du jardin","Structures extérieures non-maçonnées","Panneaux de particules ou OSB certifiés >90%","Compris entre 1 kg et 2 kg exclus","€/unité",0.02,0.02,{"$f":"VLOOKUP(J4693,'Codes éco-part'!$C:$E,3,FALSE)","v":"047"},2.4E-2]
["REP ABJ",4,"22155590270",null,"Entretien et aménagement du jardin","Structures extérieures non-maçonnées","Panneaux de particules ou OSB certifiés >90%","Compris entre 30 kg et 40 kg exclus","€/unité",0.4,0.4,{"$f":"VLOOKUP(J4694,'Codes éco-part'!$C:$E,3,FALSE)","v":"105"},0.48]
["REP ABJ",4,"22155590520",null,"Entretien et aménagement du jardin","Structures extérieures non-maçonnées","Panneaux de particules ou OSB certifiés >90%","Compris entre 2 kg et 3 kg exclus","€/unité",0.03,0.03,{"$f":"VLOOKUP(J4695,'Codes éco-part'!$C:$E,3,FALSE)","v":"092"},3.5999999999999997E-2]
["REP ABJ",4,"22155590530",null,"Entretien et aménagement du jardin","Structures extérieures non-maçonnées","Panneaux de particules ou OSB certifiés >90%","Compris entre 3 kg et 5 kg exclus","€/unité",0.04,0.04,{"$f":"VLOOKUP(J4696,'Codes éco-part'!$C:$E,3,FALSE)","v":"002"},4.8000000000000001E-2]
["REP ABJ",4,"22155590540",null,"Entretien et aménagement du jardin","Structures extérieures non-maçonnées","Panneaux de particules ou OSB certifiés >90%","Compris entre 5 kg et 7 kg exclus","€/unité",7.0000000000000007E-2,7.0000000000000007E-2,{"$f":"VLOOKUP(J4697,'Codes éco-part'!$C:$E,3,FALSE)","v":"247"},{"$f":"J4697*1.2","v":8.4000000000000005E-2}]
["REP ABJ",4,"22155590550",null,"Entretien et aménagement du jardin","Structures extérieures non-maçonnées","Panneaux de particules ou OSB certifiés >90%","Compris entre 7 kg et 10 kg exclus","€/unité",0.1,0.1,{"$f":"VLOOKUP(J4698,'Codes éco-part'!$C:$E,3,FALSE)","v":"094"},0.12]
["REP ABJ",4,"22155590560",null,"Entretien et aménagement du jardin","Structures extérieures non-maçonnées","Panneaux de particules ou OSB certifiés >90%","Compris entre 10 kg et 15 kg exclus","€/unité",0.15,0.15,{"$f":"VLOOKUP(J4699,'Codes éco-part'!$C:$E,3,FALSE)","v":"050"},0.18]
["REP ABJ",4,"22155590570",null,"Entretien et aménagement du jardin","Structures extérieures non-maçonnées","Panneaux de particules ou OSB certifiés >90%","Compris entre 15 kg et 20 kg exclus","€/unité",0.2,0.2,{"$f":"VLOOKUP(J4700,'Codes éco-part'!$C:$E,3,FALSE)","v":"101"},0.24]
["REP ABJ",4,"22155590580",null,"Entretien et aménagement du jardin","Structures extérieures non-maçonnées","Panneaux de particules ou OSB certifiés >90%","Compris entre 20 kg et 25 kg exclus","€/unité",0.25,0.25,{"$f":"VLOOKUP(J4701,'Codes éco-part'!$C:$E,3,FALSE)","v":"095"},0.3]
["REP ABJ",4,"22155590590",null,"Entretien et aménagement du jardin","Structures extérieures non-maçonnées","Panneaux de particules ou OSB certifiés >90%","Compris entre 25 kg et 30 kg exclus","€/unité",0.3,0.3,{"$f":"VLOOKUP(J4702,'Codes éco-part'!$C:$E,3,FALSE)","v":"446"},0.36]
["REP ABJ",4,"22155590600",null,"Entretien et aménagement du jardin","Structures extérieures non-maçonnées","Panneaux de particules ou OSB certifiés >90%","Compris entre 40 kg et 50 kg exclus","€/unité",0.5,0.5,{"$f":"VLOOKUP(J4703,'Codes éco-part'!$C:$E,3,FALSE)","v":"053"},0.6]
["REP ABJ",4,"22155600000",null,"Entretien et aménagement du jardin","Structures extérieures non-maçonnées","Panneaux de particules ou OSB certifiés >75%","Eléments de toutes dimensions et poids","€ / Tonne",10,10,{"$f":"VLOOKUP(J4704,'Codes éco-part'!$C:$E,3,FALSE)","v":"138"},12]
["REP ABJ",4,"22155600200",null,"Entretien et aménagement du jardin","Structures extérieures non-maçonnées","Panneaux de particules ou OSB certifiés >75%","Inférieur strictement à 0,5 kg","€/unité",0.01,0.01,{"$f":"VLOOKUP(J4705,'Codes éco-part'!$C:$E,3,FALSE)","v":"260"},1.2E-2]
["REP ABJ",4,"22155600210",null,"Entretien et aménagement du jardin","Structures extérieures non-maçonnées","Panneaux de particules ou OSB certifiés >75%","Compris entre 0,5 kg et 1 kg exclus","€/unité",0.01,0.01,{"$f":"VLOOKUP(J4706,'Codes éco-part'!$C:$E,3,FALSE)","v":"260"},1.2E-2]
["REP ABJ",4,"22155600220",null,"Entretien et aménagement du jardin","Structures extérieures non-maçonnées","Panneaux de particules ou OSB certifiés >75%","Compris entre 1 kg et 2 kg exclus","€/unité",0.02,0.02,{"$f":"VLOOKUP(J4707,'Codes éco-part'!$C:$E,3,FALSE)","v":"047"},2.4E-2]
["REP ABJ",4,"22155600270",null,"Entretien et aménagement du jardin","Structures extérieures non-maçonnées","Panneaux de particules ou OSB certifiés >75%","Compris entre 30 kg et 40 kg exclus","€/unité",0.4,0.4,{"$f":"VLOOKUP(J4708,'Codes éco-part'!$C:$E,3,FALSE)","v":"105"},0.48]
["REP ABJ",4,"22155600520",null,"Entretien et aménagement du jardin","Structures extérieures non-maçonnées","Panneaux de particules ou OSB certifiés >75%","Compris entre 2 kg et 3 kg exclus","€/unité",0.03,0.03,{"$f":"VLOOKUP(J4709,'Codes éco-part'!$C:$E,3,FALSE)","v":"092"},3.5999999999999997E-2]
["REP ABJ",4,"22155600530",null,"Entretien et aménagement du jardin","Structures extérieures non-maçonnées","Panneaux de particules ou OSB certifiés >75%","Compris entre 3 kg et 5 kg exclus","€/unité",0.04,0.04,{"$f":"VLOOKUP(J4710,'Codes éco-part'!$C:$E,3,FALSE)","v":"002"},4.8000000000000001E-2]
["REP ABJ",4,"22155600540",null,"Entretien et aménagement du jardin","Structures extérieures non-maçonnées","Panneaux de particules ou OSB certifiés >75%","Compris entre 5 kg et 7 kg exclus","€/unité",7.0000000000000007E-2,7.0000000000000007E-2,{"$f":"VLOOKUP(J4711,'Codes éco-part'!$C:$E,3,FALSE)","v":"247"},8.4000000000000005E-2]
["REP ABJ",4,"22155600550",null,"Entretien et aménagement du jardin","Structures extérieures non-maçonnées","Panneaux de particules ou OSB certifiés >75%","Compris entre 7 kg et 10 kg exclus","€/unité",0.1,0.1,{"$f":"VLOOKUP(J4712,'Codes éco-part'!$C:$E,3,FALSE)","v":"094"},0.12]
["REP ABJ",4,"22155600560",null,"Entretien et aménagement du jardin","Structures extérieures non-maçonnées","Panneaux de particules ou OSB certifiés >75%","Compris entre 10 kg et 15 kg exclus","€/unité",0.15,0.15,{"$f":"VLOOKUP(J4713,'Codes éco-part'!$C:$E,3,FALSE)","v":"050"},0.18]
["REP ABJ",4,"22155600570",null,"Entretien et aménagement du jardin","Structures extérieures non-maçonnées","Panneaux de particules ou OSB certifiés >75%","Compris entre 15 kg et 20 kg exclus","€/unité",0.2,0.2,{"$f":"VLOOKUP(J4714,'Codes éco-part'!$C:$E,3,FALSE)","v":"101"},0.24]
["REP ABJ",4,"22155600580",null,"Entretien et aménagement du jardin","Structures extérieures non-maçonnées","Panneaux de particules ou OSB certifiés >75%","Compris entre 20 kg et 25 kg exclus","€/unité",0.25,0.25,{"$f":"VLOOKUP(J4715,'Codes éco-part'!$C:$E,3,FALSE)","v":"095"},0.3]
["REP ABJ",4,"22155600590",null,"Entretien et aménagement du jardin","Structures extérieures non-maçonnées","Panneaux de particules ou OSB certifiés >75%","Compris entre 25 kg et 30 kg exclus","€/unité",0.3,0.3,{"$f":"VLOOKUP(J4716,'Codes éco-part'!$C:$E,3,FALSE)","v":"446"},0.36]
["REP ABJ",4,"22155600600",null,"Entretien et aménagement du jardin","Structures extérieures non-maçonnées","Panneaux de particules ou OSB certifiés >75%","Compris entre 40 kg et 50 kg exclus","€/unité",0.5,0.5,{"$f":"VLOOKUP(J4717,'Codes éco-part'!$C:$E,3,FALSE)","v":"053"},0.6]
["REP ABJ",4,"22155610000",null,"Entretien et aménagement du jardin","Structures extérieures non-maçonnées","Panneaux de particules ou OSB >90%","Eléments de toutes dimensions et poids","€ / Tonne",10,10,{"$f":"VLOOKUP(J4718,'Codes éco-part'!$C:$E,3,FALSE)","v":"138"},12]
["REP ABJ",4,"22155610200",null,"Entretien et aménagement du jardin","Structures extérieures non-maçonnées","Panneaux de particules ou OSB >90%","Inférieur strictement à 0,5 kg","€/unité",0.01,0.01,{"$f":"VLOOKUP(J4719,'Codes éco-part'!$C:$E,3,FALSE)","v":"260"},1.2E-2]
["REP ABJ",4,"22155610210",null,"Entretien et aménagement du jardin","Structures extérieures non-maçonnées","Panneaux de particules ou OSB >90%","Compris entre 0,5 kg et 1 kg exclus","€/unité",0.01,0.01,{"$f":"VLOOKUP(J4720,'Codes éco-part'!$C:$E,3,FALSE)","v":"260"},1.2E-2]
["REP ABJ",4,"22155610220",null,"Entretien et aménagement du jardin","Structures extérieures non-maçonnées","Panneaux de particules ou OSB >90%","Compris entre 1 kg et 2 kg exclus","€/unité",0.02,0.02,{"$f":"VLOOKUP(J4721,'Codes éco-part'!$C:$E,3,FALSE)","v":"047"},2.4E-2]
["REP ABJ",4,"22155610270",null,"Entretien et aménagement du jardin","Structures extérieures non-maçonnées","Panneaux de particules ou OSB >90%","Compris entre 30 kg et 40 kg exclus","€/unité",0.4,0.4,{"$f":"VLOOKUP(J4722,'Codes éco-part'!$C:$E,3,FALSE)","v":"105"},0.48]
["REP ABJ",4,"22155610520",null,"Entretien et aménagement du jardin","Structures extérieures non-maçonnées","Panneaux de particules ou OSB >90%","Compris entre 2 kg et 3 kg exclus","€/unité",0.03,0.03,{"$f":"VLOOKUP(J4723,'Codes éco-part'!$C:$E,3,FALSE)","v":"092"},3.5999999999999997E-2]
["REP ABJ",4,"22155610530",null,"Entretien et aménagement du jardin","Structures extérieures non-maçonnées","Panneaux de particules ou OSB >90%","Compris entre 3 kg et 5 kg exclus","€/unité",0.04,0.04,{"$f":"VLOOKUP(J4724,'Codes éco-part'!$C:$E,3,FALSE)","v":"002"},4.8000000000000001E-2]
["REP ABJ",4,"22155610540",null,"Entretien et aménagement du jardin","Structures extérieures non-maçonnées","Panneaux de particules ou OSB >90%","Compris entre 5 kg et 7 kg exclus","€/unité",7.0000000000000007E-2,7.0000000000000007E-2,{"$f":"VLOOKUP(J4725,'Codes éco-part'!$C:$E,3,FALSE)","v":"247"},8.4000000000000005E-2]
["REP ABJ",4,"22155610550",null,"Entretien et aménagement du jardin","Structures extérieures non-maçonnées","Panneaux de particules ou OSB >90%","Compris entre 7 kg et 10 kg exclus","€/unité",0.1,0.1,{"$f":"VLOOKUP(J4726,'Codes éco-part'!$C:$E,3,FALSE)","v":"094"},0.12]
["REP ABJ",4,"22155610560",null,"Entretien et aménagement du jardin","Structures extérieures non-maçonnées","Panneaux de particules ou OSB >90%","Compris entre 10 kg et 15 kg exclus","€/unité",0.15,0.15,{"$f":"VLOOKUP(J4727,'Codes éco-part'!$C:$E,3,FALSE)","v":"050"},0.18]
["REP ABJ",4,"22155610570",null,"Entretien et aménagement du jardin","Structures extérieures non-maçonnées","Panneaux de particules ou OSB >90%","Compris entre 15 kg et 20 kg exclus","€/unité",0.2,0.2,{"$f":"VLOOKUP(J4728,'Codes éco-part'!$C:$E,3,FALSE)","v":"101"},0.24]
["REP ABJ",4,"22155610580",null,"Entretien et aménagement du jardin","Structures extérieures non-maçonnées","Panneaux de particules ou OSB >90%","Compris entre 20 kg et 25 kg exclus","€/unité",0.25,0.25,{"$f":"VLOOKUP(J4729,'Codes éco-part'!$C:$E,3,FALSE)","v":"095"},0.3]
["REP ABJ",4,"22155610590",null,"Entretien et aménagement du jardin","Structures extérieures non-maçonnées","Panneaux de particules ou OSB >90%","Compris entre 25 kg et 30 kg exclus","€/unité",0.3,0.3,{"$f":"VLOOKUP(J4730,'Codes éco-part'!$C:$E,3,FALSE)","v":"446"},0.36]
["REP ABJ",4,"22155610600",null,"Entretien et aménagement du jardin","Structures extérieures non-maçonnées","Panneaux de particules ou OSB >90%","Compris entre 40 kg et 50 kg exclus","€/unité",0.5,0.5,{"$f":"VLOOKUP(J4731,'Codes éco-part'!$C:$E,3,FALSE)","v":"053"},0.6]
["REP ABJ",4,"22155620000",null,"Entretien et aménagement du jardin","Structures extérieures non-maçonnées","Dérivés de bois >90%","Eléments de toutes dimensions et poids","€ / Tonne",10,10,{"$f":"VLOOKUP(J4732,'Codes éco-part'!$C:$E,3,FALSE)","v":"138"},12]
["REP ABJ",4,"22155620200",null,"Entretien et aménagement du jardin","Structures extérieures non-maçonnées","Dérivés de bois >90%","Inférieur strictement à 0,5 kg","€/unité",0.01,0.01,{"$f":"VLOOKUP(J4733,'Codes éco-part'!$C:$E,3,FALSE)","v":"260"},1.2E-2]
["REP ABJ",4,"22155620210",null,"Entretien et aménagement du jardin","Structures extérieures non-maçonnées","Dérivés de bois >90%","Compris entre 0,5 kg et 1 kg exclus","€/unité",0.01,0.01,{"$f":"VLOOKUP(J4734,'Codes éco-part'!$C:$E,3,FALSE)","v":"260"},1.2E-2]
["REP ABJ",4,"22155620220",null,"Entretien et aménagement du jardin","Structures extérieures non-maçonnées","Dérivés de bois >90%","Compris entre 1 kg et 2 kg exclus","€/unité",0.02,0.02,{"$f":"VLOOKUP(J4735,'Codes éco-part'!$C:$E,3,FALSE)","v":"047"},2.4E-2]
["REP ABJ",4,"22155620270",null,"Entretien et aménagement du jardin","Structures extérieures non-maçonnées","Dérivés de bois >90%","Compris entre 30 kg et 40 kg exclus","€/unité",0.4,0.4,{"$f":"VLOOKUP(J4736,'Codes éco-part'!$C:$E,3,FALSE)","v":"105"},0.48]
["REP ABJ",4,"22155620520",null,"Entretien et aménagement du jardin","Structures extérieures non-maçonnées","Dérivés de bois >90%","Compris entre 2 kg et 3 kg exclus","€/unité",0.03,0.03,{"$f":"VLOOKUP(J4737,'Codes éco-part'!$C:$E,3,FALSE)","v":"092"},3.5999999999999997E-2]
["REP ABJ",4,"22155620530",null,"Entretien et aménagement du jardin","Structures extérieures non-maçonnées","Dérivés de bois >90%","Compris entre 3 kg et 5 kg exclus","€/unité",0.04,0.04,{"$f":"VLOOKUP(J4738,'Codes éco-part'!$C:$E,3,FALSE)","v":"002"},4.8000000000000001E-2]
["REP ABJ",4,"22155620540",null,"Entretien et aménagement du jardin","Structures extérieures non-maçonnées","Dérivés de bois >90%","Compris entre 5 kg et 7 kg exclus","€/unité",7.0000000000000007E-2,7.0000000000000007E-2,{"$f":"VLOOKUP(J4739,'Codes éco-part'!$C:$E,3,FALSE)","v":"247"},8.4000000000000005E-2]
["REP ABJ",4,"22155620550",null,"Entretien et aménagement du jardin","Structures extérieures non-maçonnées","Dérivés de bois >90%","Compris entre 7 kg et 10 kg exclus","€/unité",0.1,0.1,{"$f":"VLOOKUP(J4740,'Codes éco-part'!$C:$E,3,FALSE)","v":"094"},0.12]
["REP ABJ",4,"22155620560",null,"Entretien et aménagement du jardin","Structures extérieures non-maçonnées","Dérivés de bois >90%","Compris entre 10 kg et 15 kg exclus","€/unité",0.15,0.15,{"$f":"VLOOKUP(J4741,'Codes éco-part'!$C:$E,3,FALSE)","v":"050"},0.18]
["REP ABJ",4,"22155620570",null,"Entretien et aménagement du jardin","Structures extérieures non-maçonnées","Dérivés de bois >90%","Compris entre 15 kg et 20 kg exclus","€/unité",0.2,0.2,{"$f":"VLOOKUP(J4742,'Codes éco-part'!$C:$E,3,FALSE)","v":"101"},0.24]
["REP ABJ",4,"22155620580",null,"Entretien et aménagement du jardin","Structures extérieures non-maçonnées","Dérivés de bois >90%","Compris entre 20 kg et 25 kg exclus","€/unité",0.25,0.25,{"$f":"VLOOKUP(J4743,'Codes éco-part'!$C:$E,3,FALSE)","v":"095"},0.3]
["REP ABJ",4,"22155620590",null,"Entretien et aménagement du jardin","Structures extérieures non-maçonnées","Dérivés de bois >90%","Compris entre 25 kg et 30 kg exclus","€/unité",0.3,0.3,{"$f":"VLOOKUP(J4744,'Codes éco-part'!$C:$E,3,FALSE)","v":"446"},0.36]
["REP ABJ",4,"22155620600",null,"Entretien et aménagement du jardin","Structures extérieures non-maçonnées","Dérivés de bois >90%","Compris entre 40 kg et 50 kg exclus","€/unité",0.5,0.5,{"$f":"VLOOKUP(J4745,'Codes éco-part'!$C:$E,3,FALSE)","v":"053"},0.6]
["REP ABJ",4,"22155630000",null,"Entretien et aménagement du jardin","Structures extérieures non-maçonnées","Caoutchouc naturel >90%","Eléments de toutes dimensions et poids","€ / Tonne",30,30,{"$f":"VLOOKUP(J4746,'Codes éco-part'!$C:$E,3,FALSE)","v":"153"},36]
["REP ABJ",4,"22155630200",null,"Entretien et aménagement du jardin","Structures extérieures non-maçonnées","Caoutchouc naturel >90%","Inférieur strictement à 0,5 kg","€/unité",0.01,0.01,{"$f":"VLOOKUP(J4747,'Codes éco-part'!$C:$E,3,FALSE)","v":"260"},1.2E-2]
["REP ABJ",4,"22155630210",null,"Entretien et aménagement du jardin","Structures extérieures non-maçonnées","Caoutchouc naturel >90%","Compris entre 0,5 kg et 1 kg exclus","€/unité",0.02,0.02,{"$f":"VLOOKUP(J4748,'Codes éco-part'!$C:$E,3,FALSE)","v":"047"},2.4E-2]
["REP ABJ",4,"22155630220",null,"Entretien et aménagement du jardin","Structures extérieures non-maçonnées","Caoutchouc naturel >90%","Compris entre 1 kg et 2 kg exclus","€/unité",0.05,0.05,{"$f":"VLOOKUP(J4749,'Codes éco-part'!$C:$E,3,FALSE)","v":"048"},0.06]
["REP ABJ",4,"22155630270",null,"Entretien et aménagement du jardin","Structures extérieures non-maçonnées","Caoutchouc naturel >90%","Compris entre 30 kg et 40 kg exclus","€/unité",1.2,1.2,{"$f":"VLOOKUP(J4750,'Codes éco-part'!$C:$E,3,FALSE)","v":"505"},1.44]
["REP ABJ",4,"22155630520",null,"Entretien et aménagement du jardin","Structures extérieures non-maçonnées","Caoutchouc naturel >90%","Compris entre 2 kg et 3 kg exclus","€/unité",0.08,0.08,{"$f":"VLOOKUP(J4751,'Codes éco-part'!$C:$E,3,FALSE)","v":"003"},9.6000000000000002E-2]
["REP ABJ",4,"22155630530",null,"Entretien et aménagement du jardin","Structures extérieures non-maçonnées","Caoutchouc naturel >90%","Compris entre 3 kg et 5 kg exclus","€/unité",0.12,0.12,{"$f":"VLOOKUP(J4752,'Codes éco-part'!$C:$E,3,FALSE)","v":"097"},0.14399999999999999]
["REP ABJ",4,"22155630540",null,"Entretien et aménagement du jardin","Structures extérieures non-maçonnées","Caoutchouc naturel >90%","Compris entre 5 kg et 7 kg exclus","€/unité",0.21,0.21,{"$f":"VLOOKUP(J4753,'Codes éco-part'!$C:$E,3,FALSE)","v":"051"},0.252]
["REP ABJ",4,"22155630550",null,"Entretien et aménagement du jardin","Structures extérieures non-maçonnées","Caoutchouc naturel >90%","Compris entre 7 kg et 10 kg exclus","€/unité",0.3,0.3,{"$f":"VLOOKUP(J4754,'Codes éco-part'!$C:$E,3,FALSE)","v":"446"},0.36]
["REP ABJ",4,"22155630560",null,"Entretien et aménagement du jardin","Structures extérieures non-maçonnées","Caoutchouc naturel >90%","Compris entre 10 kg et 15 kg exclus","€/unité",0.45,0.45,{"$f":"VLOOKUP(J4755,'Codes éco-part'!$C:$E,3,FALSE)","v":"325"},0.54]
["REP ABJ",4,"22155630570",null,"Entretien et aménagement du jardin","Structures extérieures non-maçonnées","Caoutchouc naturel >90%","Compris entre 15 kg et 20 kg exclus","€/unité",0.6,0.6,{"$f":"VLOOKUP(J4756,'Codes éco-part'!$C:$E,3,FALSE)","v":"327"},0.72]
["REP ABJ",4,"22155630580",null,"Entretien et aménagement du jardin","Structures extérieures non-maçonnées","Caoutchouc naturel >90%","Compris entre 20 kg et 25 kg exclus","€/unité",0.75,0.75,{"$f":"VLOOKUP(J4757,'Codes éco-part'!$C:$E,3,FALSE)","v":"328"},0.89999999999999991]
["REP ABJ",4,"22155630590",null,"Entretien et aménagement du jardin","Structures extérieures non-maçonnées","Caoutchouc naturel >90%","Compris entre 25 kg et 30 kg exclus","€/unité",0.9,0.9,{"$f":"VLOOKUP(J4758,'Codes éco-part'!$C:$E,3,FALSE)","v":"330"},1.08]
["REP ABJ",4,"22155630600",null,"Entretien et aménagement du jardin","Structures extérieures non-maçonnées","Caoutchouc naturel >90%","Compris entre 40 kg et 50 kg exclus","€/unité",1.5,1.5,{"$f":"VLOOKUP(J4759,'Codes éco-part'!$C:$E,3,FALSE)","v":"059"},1.7999999999999998]
["REP ABJ",4,"22155640000",null,"Entretien et aménagement du jardin","Structures extérieures non-maçonnées","Caoutchouc naturel >50%","Eléments de toutes dimensions et poids","€ / Tonne",75,75,{"$f":"VLOOKUP(J4760,'Codes éco-part'!$C:$E,3,FALSE)","v":"192"},90]
["REP ABJ",4,"22155640200",null,"Entretien et aménagement du jardin","Structures extérieures non-maçonnées","Caoutchouc naturel >50%","Inférieur strictement à 0,5 kg","€/unité",0.02,0.02,{"$f":"VLOOKUP(J4761,'Codes éco-part'!$C:$E,3,FALSE)","v":"047"},{"$f":"J4761*1.2","v":2.4E-2}]
["REP ABJ",4,"22155640210",null,"Entretien et aménagement du jardin","Structures extérieures non-maçonnées","Caoutchouc naturel >50%","Compris entre 0,5 kg et 1 kg exclus","€/unité",0.06,0.06,{"$f":"VLOOKUP(J4762,'Codes éco-part'!$C:$E,3,FALSE)","v":"096"},7.1999999999999995E-2]
["REP ABJ",4,"22155640220",null,"Entretien et aménagement du jardin","Structures extérieures non-maçonnées","Caoutchouc naturel >50%","Compris entre 1 kg et 2 kg exclus","€/unité",0.11,0.11,{"$f":"VLOOKUP(J4763,'Codes éco-part'!$C:$E,3,FALSE)","v":"262"},0.13200000000000001]
["REP ABJ",4,"22155640270",null,"Entretien et aménagement du jardin","Structures extérieures non-maçonnées","Caoutchouc naturel >50%","Compris entre 30 kg et 40 kg exclus","€/unité",3,3,{"$f":"VLOOKUP(J4764,'Codes éco-part'!$C:$E,3,FALSE)","v":"474"},3.5999999999999996]
["REP ABJ",4,"22155640520",null,"Entretien et aménagement du jardin","Structures extérieures non-maçonnées","Caoutchouc naturel >50%","Compris entre 2 kg et 3 kg exclus","€/unité",0.19,0.19,{"$f":"VLOOKUP(J4765,'Codes éco-part'!$C:$E,3,FALSE)","v":"291"},0.22799999999999998]
["REP ABJ",4,"22155640530",null,"Entretien et aménagement du jardin","Structures extérieures non-maçonnées","Caoutchouc naturel >50%","Compris entre 3 kg et 5 kg exclus","€/unité",0.3,0.3,{"$f":"VLOOKUP(J4766,'Codes éco-part'!$C:$E,3,FALSE)","v":"446"},0.36]
["REP ABJ",4,"22155640540",null,"Entretien et aménagement du jardin","Structures extérieures non-maçonnées","Caoutchouc naturel >50%","Compris entre 5 kg et 7 kg exclus","€/unité",0.53,0.53,{"$f":"VLOOKUP(J4767,'Codes éco-part'!$C:$E,3,FALSE)","v":"451"},0.63600000000000001]
["REP ABJ",4,"22155640550",null,"Entretien et aménagement du jardin","Structures extérieures non-maçonnées","Caoutchouc naturel >50%","Compris entre 7 kg et 10 kg exclus","€/unité",0.75,0.75,{"$f":"VLOOKUP(J4768,'Codes éco-part'!$C:$E,3,FALSE)","v":"328"},0.89999999999999991]
["REP ABJ",4,"22155640560",null,"Entretien et aménagement du jardin","Structures extérieures non-maçonnées","Caoutchouc naturel >50%","Compris entre 10 kg et 15 kg exclus","€/unité",1.1299999999999999,1.1299999999999999,{"$f":"VLOOKUP(J4769,'Codes éco-part'!$C:$E,3,FALSE)","v":"331"},1.3559999999999999]
["REP ABJ",4,"22155640570",null,"Entretien et aménagement du jardin","Structures extérieures non-maçonnées","Caoutchouc naturel >50%","Compris entre 15 kg et 20 kg exclus","€/unité",1.5,1.5,{"$f":"VLOOKUP(J4770,'Codes éco-part'!$C:$E,3,FALSE)","v":"059"},1.7999999999999998]
["REP ABJ",4,"22155640580",null,"Entretien et aménagement du jardin","Structures extérieures non-maçonnées","Caoutchouc naturel >50%","Compris entre 20 kg et 25 kg exclus","€/unité",1.88,1.88,{"$f":"VLOOKUP(J4771,'Codes éco-part'!$C:$E,3,FALSE)","v":"335"},2.2559999999999998]
["REP ABJ",4,"22155640590",null,"Entretien et aménagement du jardin","Structures extérieures non-maçonnées","Caoutchouc naturel >50%","Compris entre 25 kg et 30 kg exclus","€/unité",2.25,2.25,{"$f":"VLOOKUP(J4772,'Codes éco-part'!$C:$E,3,FALSE)","v":"118"},2.6999999999999997]
["REP ABJ",4,"22155640600",null,"Entretien et aménagement du jardin","Structures extérieures non-maçonnées","Caoutchouc naturel >50%","Compris entre 40 kg et 50 kg exclus","€/unité",3.75,3.75,{"$f":"VLOOKUP(J4773,'Codes éco-part'!$C:$E,3,FALSE)","v":"015"},4.5]
["REP ABJ",4,"22155650000",null,"Entretien et aménagement du jardin","Structures extérieures non-maçonnées","Matériaux ou fibres synthétiques >90%","Eléments de toutes dimensions et poids","€ / Tonne",50,50,{"$f":"VLOOKUP(J4774,'Codes éco-part'!$C:$E,3,FALSE)","v":"173"},60]
["REP ABJ",4,"22155650200",null,"Entretien et aménagement du jardin","Structures extérieures non-maçonnées","Matériaux ou fibres synthétiques >90%","Inférieur strictement à 0,5 kg","€/unité",0.01,0.01,{"$f":"VLOOKUP(J4775,'Codes éco-part'!$C:$E,3,FALSE)","v":"260"},1.2E-2]
["REP ABJ",4,"22155650210",null,"Entretien et aménagement du jardin","Structures extérieures non-maçonnées","Matériaux ou fibres synthétiques >90%","Compris entre 0,5 kg et 1 kg exclus","€/unité",0.04,0.04,{"$f":"VLOOKUP(J4776,'Codes éco-part'!$C:$E,3,FALSE)","v":"002"},4.8000000000000001E-2]
["REP ABJ",4,"22155650220",null,"Entretien et aménagement du jardin","Structures extérieures non-maçonnées","Matériaux ou fibres synthétiques >90%","Compris entre 1 kg et 2 kg exclus","€/unité",0.08,0.08,{"$f":"VLOOKUP(J4777,'Codes éco-part'!$C:$E,3,FALSE)","v":"003"},9.6000000000000002E-2]
["REP ABJ",4,"22155650270",null,"Entretien et aménagement du jardin","Structures extérieures non-maçonnées","Matériaux ou fibres synthétiques >90%","Compris entre 30 kg et 40 kg exclus","€/unité",2,2,{"$f":"VLOOKUP(J4778,'Codes éco-part'!$C:$E,3,FALSE)","v":"061"},2.4]
["REP ABJ",4,"22155650520",null,"Entretien et aménagement du jardin","Structures extérieures non-maçonnées","Matériaux ou fibres synthétiques >90%","Compris entre 2 kg et 3 kg exclus","€/unité",0.13,0.13,{"$f":"VLOOKUP(J4779,'Codes éco-part'!$C:$E,3,FALSE)","v":"004"},0.156]
["REP ABJ",4,"22155650530",null,"Entretien et aménagement du jardin","Structures extérieures non-maçonnées","Matériaux ou fibres synthétiques >90%","Compris entre 3 kg et 5 kg exclus","€/unité",0.2,0.2,{"$f":"VLOOKUP(J4780,'Codes éco-part'!$C:$E,3,FALSE)","v":"101"},0.24]
["REP ABJ",4,"22155650540",null,"Entretien et aménagement du jardin","Structures extérieures non-maçonnées","Matériaux ou fibres synthétiques >90%","Compris entre 5 kg et 7 kg exclus","€/unité",0.35,0.35,{"$f":"VLOOKUP(J4781,'Codes éco-part'!$C:$E,3,FALSE)","v":"448"},0.42]
["REP ABJ",4,"22155650550",null,"Entretien et aménagement du jardin","Structures extérieures non-maçonnées","Matériaux ou fibres synthétiques >90%","Compris entre 7 kg et 10 kg exclus","€/unité",0.5,0.5,{"$f":"VLOOKUP(J4782,'Codes éco-part'!$C:$E,3,FALSE)","v":"053"},0.6]
["REP ABJ",4,"22155650560",null,"Entretien et aménagement du jardin","Structures extérieures non-maçonnées","Matériaux ou fibres synthétiques >90%","Compris entre 10 kg et 15 kg exclus","€/unité",0.75,0.75,{"$f":"VLOOKUP(J4783,'Codes éco-part'!$C:$E,3,FALSE)","v":"328"},0.89999999999999991]
["REP ABJ",4,"22155650570",null,"Entretien et aménagement du jardin","Structures extérieures non-maçonnées","Matériaux ou fibres synthétiques >90%","Compris entre 15 kg et 20 kg exclus","€/unité",1,1,{"$f":"VLOOKUP(J4784,'Codes éco-part'!$C:$E,3,FALSE)","v":"056"},1.2]
["REP ABJ",4,"22155650580",null,"Entretien et aménagement du jardin","Structures extérieures non-maçonnées","Matériaux ou fibres synthétiques >90%","Compris entre 20 kg et 25 kg exclus","€/unité",1.25,1.25,{"$f":"VLOOKUP(J4785,'Codes éco-part'!$C:$E,3,FALSE)","v":"009"},1.5]
["REP ABJ",4,"22155650590",null,"Entretien et aménagement du jardin","Structures extérieures non-maçonnées","Matériaux ou fibres synthétiques >90%","Compris entre 25 kg et 30 kg exclus","€/unité",1.5,1.5,{"$f":"VLOOKUP(J4786,'Codes éco-part'!$C:$E,3,FALSE)","v":"059"},1.7999999999999998]
["REP ABJ",4,"22155650600",null,"Entretien et aménagement du jardin","Structures extérieures non-maçonnées","Matériaux ou fibres synthétiques >90%","Compris entre 40 kg et 50 kg exclus","€/unité",2.5,2.5,{"$f":"VLOOKUP(J4787,'Codes éco-part'!$C:$E,3,FALSE)","v":"012"},3]
["REP ABJ",4,"22155670000",null,"Entretien et aménagement du jardin","Structures extérieures non-maçonnées","Assemblage matériaux ou fibres synthétiques >50% avec d'autres matériaux","Eléments de toutes dimensions et poids","€ / Tonne",75,75,{"$f":"VLOOKUP(J4788,'Codes éco-part'!$C:$E,3,FALSE)","v":"192"},90]
["REP ABJ",4,"22155670200",null,"Entretien et aménagement du jardin","Structures extérieures non-maçonnées","Assemblage matériaux ou fibres synthétiques >50% avec d'autres matériaux","Inférieur strictement à 0,5 kg","€/unité",0.02,0.02,{"$f":"VLOOKUP(J4789,'Codes éco-part'!$C:$E,3,FALSE)","v":"047"},2.4E-2]
["REP ABJ",4,"22155670210",null,"Entretien et aménagement du jardin","Structures extérieures non-maçonnées","Assemblage matériaux ou fibres synthétiques >50% avec d'autres matériaux","Compris entre 0,5 kg et 1 kg exclus","€/unité",0.06,0.06,{"$f":"VLOOKUP(J4790,'Codes éco-part'!$C:$E,3,FALSE)","v":"096"},7.1999999999999995E-2]
["REP ABJ",4,"22155670220",null,"Entretien et aménagement du jardin","Structures extérieures non-maçonnées","Assemblage matériaux ou fibres synthétiques >50% avec d'autres matériaux","Compris entre 1 kg et 2 kg exclus","€/unité",0.11,0.11,{"$f":"VLOOKUP(J4791,'Codes éco-part'!$C:$E,3,FALSE)","v":"262"},0.13200000000000001]
["REP ABJ",4,"22155670270",null,"Entretien et aménagement du jardin","Structures extérieures non-maçonnées","Assemblage matériaux ou fibres synthétiques >50% avec d'autres matériaux","Compris entre 30 kg et 40 kg exclus","€/unité",3,3,{"$f":"VLOOKUP(J4792,'Codes éco-part'!$C:$E,3,FALSE)","v":"474"},3.5999999999999996]
["REP ABJ",4,"22155670520",null,"Entretien et aménagement du jardin","Structures extérieures non-maçonnées","Assemblage matériaux ou fibres synthétiques >50% avec d'autres matériaux","Compris entre 2 kg et 3 kg exclus","€/unité",0.19,0.19,{"$f":"VLOOKUP(J4793,'Codes éco-part'!$C:$E,3,FALSE)","v":"291"},0.22799999999999998]
["REP ABJ",4,"22155670530",null,"Entretien et aménagement du jardin","Structures extérieures non-maçonnées","Assemblage matériaux ou fibres synthétiques >50% avec d'autres matériaux","Compris entre 3 kg et 5 kg exclus","€/unité",0.3,0.3,{"$f":"VLOOKUP(J4794,'Codes éco-part'!$C:$E,3,FALSE)","v":"446"},0.36]
["REP ABJ",4,"22155670540",null,"Entretien et aménagement du jardin","Structures extérieures non-maçonnées","Assemblage matériaux ou fibres synthétiques >50% avec d'autres matériaux","Compris entre 5 kg et 7 kg exclus","€/unité",0.53,0.53,{"$f":"VLOOKUP(J4795,'Codes éco-part'!$C:$E,3,FALSE)","v":"451"},0.63600000000000001]
["REP ABJ",4,"22155670550",null,"Entretien et aménagement du jardin","Structures extérieures non-maçonnées","Assemblage matériaux ou fibres synthétiques >50% avec d'autres matériaux","Compris entre 7 kg et 10 kg exclus","€/unité",0.75,0.75,{"$f":"VLOOKUP(J4796,'Codes éco-part'!$C:$E,3,FALSE)","v":"328"},0.89999999999999991]
["REP ABJ",4,"22155670560",null,"Entretien et aménagement du jardin","Structures extérieures non-maçonnées","Assemblage matériaux ou fibres synthétiques >50% avec d'autres matériaux","Compris entre 10 kg et 15 kg exclus","€/unité",1.1299999999999999,1.1299999999999999,{"$f":"VLOOKUP(J4797,'Codes éco-part'!$C:$E,3,FALSE)","v":"331"},1.3559999999999999]
["REP ABJ",4,"22155670570",null,"Entretien et aménagement du jardin","Structures extérieures non-maçonnées","Assemblage matériaux ou fibres synthétiques >50% avec d'autres matériaux","Compris entre 15 kg et 20 kg exclus","€/unité",1.5,1.5,{"$f":"VLOOKUP(J4798,'Codes éco-part'!$C:$E,3,FALSE)","v":"059"},1.7999999999999998]
["REP ABJ",4,"22155670580",null,"Entretien et aménagement du jardin","Structures extérieures non-maçonnées","Assemblage matériaux ou fibres synthétiques >50% avec d'autres matériaux","Compris entre 20 kg et 25 kg exclus","€/unité",1.88,1.88,{"$f":"VLOOKUP(J4799,'Codes éco-part'!$C:$E,3,FALSE)","v":"335"},2.2559999999999998]
["REP ABJ",4,"22155670590",null,"Entretien et aménagement du jardin","Structures extérieures non-maçonnées","Assemblage matériaux ou fibres synthétiques >50% avec d'autres matériaux","Compris entre 25 kg et 30 kg exclus","€/unité",2.25,2.25,{"$f":"VLOOKUP(J4800,'Codes éco-part'!$C:$E,3,FALSE)","v":"118"},2.6999999999999997]
["REP ABJ",4,"22155670600",null,"Entretien et aménagement du jardin","Structures extérieures non-maçonnées","Assemblage matériaux ou fibres synthétiques >50% avec d'autres matériaux","Compris entre 40 kg et 50 kg exclus","€/unité",3.75,3.75,{"$f":"VLOOKUP(J4801,'Codes éco-part'!$C:$E,3,FALSE)","v":"015"},4.5]
["REP ABJ",4,"22155680000",null,"Entretien et aménagement du jardin","Structures extérieures non-maçonnées","Verre >90%","Eléments de toutes dimensions et poids","€ / Tonne",5,5,{"$f":"VLOOKUP(J4802,'Codes éco-part'!$C:$E,3,FALSE)","v":"042"},6]
["REP ABJ",4,"22155680200",null,"Entretien et aménagement du jardin","Structures extérieures non-maçonnées","Verre >90%","Inférieur strictement à 0,5 kg","€/unité",0.01,0.01,{"$f":"VLOOKUP(J4803,'Codes éco-part'!$C:$E,3,FALSE)","v":"260"},1.2E-2]
["REP ABJ",4,"22155680210",null,"Entretien et aménagement du jardin","Structures extérieures non-maçonnées","Verre >90%","Compris entre 0,5 kg et 1 kg exclus","€/unité",0.01,0.01,{"$f":"VLOOKUP(J4804,'Codes éco-part'!$C:$E,3,FALSE)","v":"260"},1.2E-2]
["REP ABJ",4,"22155680220",null,"Entretien et aménagement du jardin","Structures extérieures non-maçonnées","Verre >90%","Compris entre 1 kg et 2 kg exclus","€/unité",0.01,0.01,{"$f":"VLOOKUP(J4805,'Codes éco-part'!$C:$E,3,FALSE)","v":"260"},1.2E-2]
["REP ABJ",4,"22155680270",null,"Entretien et aménagement du jardin","Structures extérieures non-maçonnées","Verre >90%","Compris entre 30 kg et 40 kg exclus","€/unité",0.2,0.2,{"$f":"VLOOKUP(J4806,'Codes éco-part'!$C:$E,3,FALSE)","v":"101"},0.24]
["REP ABJ",4,"22155680520",null,"Entretien et aménagement du jardin","Structures extérieures non-maçonnées","Verre >90%","Compris entre 2 kg et 3 kg exclus","€/unité",0.01,0.01,{"$f":"VLOOKUP(J4807,'Codes éco-part'!$C:$E,3,FALSE)","v":"260"},1.2E-2]
["REP ABJ",4,"22155680530",null,"Entretien et aménagement du jardin","Structures extérieures non-maçonnées","Verre >90%","Compris entre 3 kg et 5 kg exclus","€/unité",0.02,0.02,{"$f":"VLOOKUP(J4808,'Codes éco-part'!$C:$E,3,FALSE)","v":"047"},2.4E-2]
["REP ABJ",4,"22155680540",null,"Entretien et aménagement du jardin","Structures extérieures non-maçonnées","Verre >90%","Compris entre 5 kg et 7 kg exclus","€/unité",0.04,0.04,{"$f":"VLOOKUP(J4809,'Codes éco-part'!$C:$E,3,FALSE)","v":"002"},4.8000000000000001E-2]
["REP ABJ",4,"22155680550",null,"Entretien et aménagement du jardin","Structures extérieures non-maçonnées","Verre >90%","Compris entre 7 kg et 10 kg exclus","€/unité",0.05,0.05,{"$f":"VLOOKUP(J4810,'Codes éco-part'!$C:$E,3,FALSE)","v":"048"},0.06]
["REP ABJ",4,"22155680560",null,"Entretien et aménagement du jardin","Structures extérieures non-maçonnées","Verre >90%","Compris entre 10 kg et 15 kg exclus","€/unité",0.08,0.08,{"$f":"VLOOKUP(J4811,'Codes éco-part'!$C:$E,3,FALSE)","v":"003"},9.6000000000000002E-2]
["REP ABJ",4,"22155680570",null,"Entretien et aménagement du jardin","Structures extérieures non-maçonnées","Verre >90%","Compris entre 15 kg et 20 kg exclus","€/unité",0.1,0.1,{"$f":"VLOOKUP(J4812,'Codes éco-part'!$C:$E,3,FALSE)","v":"094"},0.12]
["REP ABJ",4,"22155680580",null,"Entretien et aménagement du jardin","Structures extérieures non-maçonnées","Verre >90%","Compris entre 20 kg et 25 kg exclus","€/unité",0.13,0.13,{"$f":"VLOOKUP(J4813,'Codes éco-part'!$C:$E,3,FALSE)","v":"004"},0.156]
["REP ABJ",4,"22155680590",null,"Entretien et aménagement du jardin","Structures extérieures non-maçonnées","Verre >90%","Compris entre 25 kg et 30 kg exclus","€/unité",0.15,0.15,{"$f":"VLOOKUP(J4814,'Codes éco-part'!$C:$E,3,FALSE)","v":"050"},0.18]
["REP ABJ",4,"22155680600",null,"Entretien et aménagement du jardin","Structures extérieures non-maçonnées","Verre >90%","Compris entre 40 kg et 50 kg exclus","€/unité",0.25,0.25,{"$f":"VLOOKUP(J4815,'Codes éco-part'!$C:$E,3,FALSE)","v":"095"},0.3]
["REP ABJ",4,"22155700000",null,"Entretien et aménagement du jardin","Structures extérieures non-maçonnées","Assemblage verre à plus de 50% avec métal","Eléments de toutes dimensions et poids","€ / Tonne",75,75,{"$f":"VLOOKUP(J4816,'Codes éco-part'!$C:$E,3,FALSE)","v":"192"},90]
["REP ABJ",4,"22155700200",null,"Entretien et aménagement du jardin","Structures extérieures non-maçonnées","Assemblage verre à plus de 50% avec métal","Inférieur strictement à 0,5 kg","€/unité",0.02,0.02,{"$f":"VLOOKUP(J4817,'Codes éco-part'!$C:$E,3,FALSE)","v":"047"},2.4E-2]
["REP ABJ",4,"22155700210",null,"Entretien et aménagement du jardin","Structures extérieures non-maçonnées","Assemblage verre à plus de 50% avec métal","Compris entre 0,5 kg et 1 kg exclus","€/unité",0.06,0.06,{"$f":"VLOOKUP(J4818,'Codes éco-part'!$C:$E,3,FALSE)","v":"096"},7.1999999999999995E-2]
["REP ABJ",4,"22155700220",null,"Entretien et aménagement du jardin","Structures extérieures non-maçonnées","Assemblage verre à plus de 50% avec métal","Compris entre 1 kg et 2 kg exclus","€/unité",0.11,0.11,{"$f":"VLOOKUP(J4819,'Codes éco-part'!$C:$E,3,FALSE)","v":"262"},0.13200000000000001]
["REP ABJ",4,"22155700270",null,"Entretien et aménagement du jardin","Structures extérieures non-maçonnées","Assemblage verre à plus de 50% avec métal","Compris entre 30 kg et 40 kg exclus","€/unité",3,3,{"$f":"VLOOKUP(J4820,'Codes éco-part'!$C:$E,3,FALSE)","v":"474"},3.5999999999999996]
["REP ABJ",4,"22155700520",null,"Entretien et aménagement du jardin","Structures extérieures non-maçonnées","Assemblage verre à plus de 50% avec métal","Compris entre 2 kg et 3 kg exclus","€/unité",0.19,0.19,{"$f":"VLOOKUP(J4821,'Codes éco-part'!$C:$E,3,FALSE)","v":"291"},0.22799999999999998]
["REP ABJ",4,"22155700530",null,"Entretien et aménagement du jardin","Structures extérieures non-maçonnées","Assemblage verre à plus de 50% avec métal","Compris entre 3 kg et 5 kg exclus","€/unité",0.3,0.3,{"$f":"VLOOKUP(J4822,'Codes éco-part'!$C:$E,3,FALSE)","v":"446"},0.36]
["REP ABJ",4,"22155700540",null,"Entretien et aménagement du jardin","Structures extérieures non-maçonnées","Assemblage verre à plus de 50% avec métal","Compris entre 5 kg et 7 kg exclus","€/unité",0.53,0.53,{"$f":"VLOOKUP(J4823,'Codes éco-part'!$C:$E,3,FALSE)","v":"451"},0.63600000000000001]
["REP ABJ",4,"22155700550",null,"Entretien et aménagement du jardin","Structures extérieures non-maçonnées","Assemblage verre à plus de 50% avec métal","Compris entre 7 kg et 10 kg exclus","€/unité",0.75,0.75,{"$f":"VLOOKUP(J4824,'Codes éco-part'!$C:$E,3,FALSE)","v":"328"},0.89999999999999991]
["REP ABJ",4,"22155700560",null,"Entretien et aménagement du jardin","Structures extérieures non-maçonnées","Assemblage verre à plus de 50% avec métal","Compris entre 10 kg et 15 kg exclus","€/unité",1.1299999999999999,1.1299999999999999,{"$f":"VLOOKUP(J4825,'Codes éco-part'!$C:$E,3,FALSE)","v":"331"},{"$f":"J4825*1.2","v":1.3559999999999999}]
["REP ABJ",4,"22155700570",null,"Entretien et aménagement du jardin","Structures extérieures non-maçonnées","Assemblage verre à plus de 50% avec métal","Compris entre 15 kg et 20 kg exclus","€/unité",1.5,1.5,{"$f":"VLOOKUP(J4826,'Codes éco-part'!$C:$E,3,FALSE)","v":"059"},1.7999999999999998]
["REP ABJ",4,"22155700580",null,"Entretien et aménagement du jardin","Structures extérieures non-maçonnées","Assemblage verre à plus de 50% avec métal","Compris entre 20 kg et 25 kg exclus","€/unité",1.88,1.88,{"$f":"VLOOKUP(J4827,'Codes éco-part'!$C:$E,3,FALSE)","v":"335"},2.2559999999999998]
["REP ABJ",4,"22155700590",null,"Entretien et aménagement du jardin","Structures extérieures non-maçonnées","Assemblage verre à plus de 50% avec métal","Compris entre 25 kg et 30 kg exclus","€/unité",2.25,2.25,{"$f":"VLOOKUP(J4828,'Codes éco-part'!$C:$E,3,FALSE)","v":"118"},2.6999999999999997]
["REP ABJ",4,"22155700600",null,"Entretien et aménagement du jardin","Structures extérieures non-maçonnées","Assemblage verre à plus de 50% avec métal","Compris entre 40 kg et 50 kg exclus","€/unité",3.75,3.75,{"$f":"VLOOKUP(J4829,'Codes éco-part'!$C:$E,3,FALSE)","v":"015"},4.5]
["REP ABJ",4,"22155710000",null,"Entretien et aménagement du jardin","Structures extérieures non-maçonnées","Assemblage verre à plus de 50% avec Inerte","Eléments de toutes dimensions et poids","€ / Tonne",75,75,{"$f":"VLOOKUP(J4830,'Codes éco-part'!$C:$E,3,FALSE)","v":"192"},90]
["REP ABJ",4,"22155710200",null,"Entretien et aménagement du jardin","Structures extérieures non-maçonnées","Assemblage verre à plus de 50% avec Inerte","Inférieur strictement à 0,5 kg","€/unité",0.02,0.02,{"$f":"VLOOKUP(J4831,'Codes éco-part'!$C:$E,3,FALSE)","v":"047"},2.4E-2]
["REP ABJ",4,"22155710210",null,"Entretien et aménagement du jardin","Structures extérieures non-maçonnées","Assemblage verre à plus de 50% avec Inerte","Compris entre 0,5 kg et 1 kg exclus","€/unité",0.06,0.06,{"$f":"VLOOKUP(J4832,'Codes éco-part'!$C:$E,3,FALSE)","v":"096"},7.1999999999999995E-2]
["REP ABJ",4,"22155710220",null,"Entretien et aménagement du jardin","Structures extérieures non-maçonnées","Assemblage verre à plus de 50% avec Inerte","Compris entre 1 kg et 2 kg exclus","€/unité",0.11,0.11,{"$f":"VLOOKUP(J4833,'Codes éco-part'!$C:$E,3,FALSE)","v":"262"},0.13200000000000001]
["REP ABJ",4,"22155710270",null,"Entretien et aménagement du jardin","Structures extérieures non-maçonnées","Assemblage verre à plus de 50% avec Inerte","Compris entre 30 kg et 40 kg exclus","€/unité",3,3,{"$f":"VLOOKUP(J4834,'Codes éco-part'!$C:$E,3,FALSE)","v":"474"},3.5999999999999996]
["REP ABJ",4,"22155710520",null,"Entretien et aménagement du jardin","Structures extérieures non-maçonnées","Assemblage verre à plus de 50% avec Inerte","Compris entre 2 kg et 3 kg exclus","€/unité",0.19,0.19,{"$f":"VLOOKUP(J4835,'Codes éco-part'!$C:$E,3,FALSE)","v":"291"},0.22799999999999998]
["REP ABJ",4,"22155710530",null,"Entretien et aménagement du jardin","Structures extérieures non-maçonnées","Assemblage verre à plus de 50% avec Inerte","Compris entre 3 kg et 5 kg exclus","€/unité",0.3,0.3,{"$f":"VLOOKUP(J4836,'Codes éco-part'!$C:$E,3,FALSE)","v":"446"},0.36]
["REP ABJ",4,"22155710540",null,"Entretien et aménagement du jardin","Structures extérieures non-maçonnées","Assemblage verre à plus de 50% avec Inerte","Compris entre 5 kg et 7 kg exclus","€/unité",0.53,0.53,{"$f":"VLOOKUP(J4837,'Codes éco-part'!$C:$E,3,FALSE)","v":"451"},0.63600000000000001]
["REP ABJ",4,"22155710550",null,"Entretien et aménagement du jardin","Structures extérieures non-maçonnées","Assemblage verre à plus de 50% avec Inerte","Compris entre 7 kg et 10 kg exclus","€/unité",0.75,0.75,{"$f":"VLOOKUP(J4838,'Codes éco-part'!$C:$E,3,FALSE)","v":"328"},0.89999999999999991]
["REP ABJ",4,"22155710560",null,"Entretien et aménagement du jardin","Structures extérieures non-maçonnées","Assemblage verre à plus de 50% avec Inerte","Compris entre 10 kg et 15 kg exclus","€/unité",1.1299999999999999,1.1299999999999999,{"$f":"VLOOKUP(J4839,'Codes éco-part'!$C:$E,3,FALSE)","v":"331"},1.3559999999999999]
["REP ABJ",4,"22155710570",null,"Entretien et aménagement du jardin","Structures extérieures non-maçonnées","Assemblage verre à plus de 50% avec Inerte","Compris entre 15 kg et 20 kg exclus","€/unité",1.5,1.5,{"$f":"VLOOKUP(J4840,'Codes éco-part'!$C:$E,3,FALSE)","v":"059"},1.7999999999999998]
["REP ABJ",4,"22155710580",null,"Entretien et aménagement du jardin","Structures extérieures non-maçonnées","Assemblage verre à plus de 50% avec Inerte","Compris entre 20 kg et 25 kg exclus","€/unité",1.88,1.88,{"$f":"VLOOKUP(J4841,'Codes éco-part'!$C:$E,3,FALSE)","v":"335"},2.2559999999999998]
["REP ABJ",4,"22155710590",null,"Entretien et aménagement du jardin","Structures extérieures non-maçonnées","Assemblage verre à plus de 50% avec Inerte","Compris entre 25 kg et 30 kg exclus","€/unité",2.25,2.25,{"$f":"VLOOKUP(J4842,'Codes éco-part'!$C:$E,3,FALSE)","v":"118"},2.6999999999999997]
["REP ABJ",4,"22155710600",null,"Entretien et aménagement du jardin","Structures extérieures non-maçonnées","Assemblage verre à plus de 50% avec Inerte","Compris entre 40 kg et 50 kg exclus","€/unité",3.75,3.75,{"$f":"VLOOKUP(J4843,'Codes éco-part'!$C:$E,3,FALSE)","v":"015"},4.5]
["REP ABJ",4,"22155720000",null,"Entretien et aménagement du jardin","Structures extérieures non-maçonnées","Assemblage verre à plus de 50% avec bois ou dérivés de bois","Eléments de toutes dimensions et poids","€ / Tonne",75,75,{"$f":"VLOOKUP(J4844,'Codes éco-part'!$C:$E,3,FALSE)","v":"192"},90]
["REP ABJ",4,"22155720200",null,"Entretien et aménagement du jardin","Structures extérieures non-maçonnées","Assemblage verre à plus de 50% avec bois ou dérivés de bois","Inférieur strictement à 0,5 kg","€/unité",0.02,0.02,{"$f":"VLOOKUP(J4845,'Codes éco-part'!$C:$E,3,FALSE)","v":"047"},2.4E-2]
["REP ABJ",4,"22155720210",null,"Entretien et aménagement du jardin","Structures extérieures non-maçonnées","Assemblage verre à plus de 50% avec bois ou dérivés de bois","Compris entre 0,5 kg et 1 kg exclus","€/unité",0.06,0.06,{"$f":"VLOOKUP(J4846,'Codes éco-part'!$C:$E,3,FALSE)","v":"096"},7.1999999999999995E-2]
["REP ABJ",4,"22155720220",null,"Entretien et aménagement du jardin","Structures extérieures non-maçonnées","Assemblage verre à plus de 50% avec bois ou dérivés de bois","Compris entre 1 kg et 2 kg exclus","€/unité",0.11,0.11,{"$f":"VLOOKUP(J4847,'Codes éco-part'!$C:$E,3,FALSE)","v":"262"},0.13200000000000001]
["REP ABJ",4,"22155720270",null,"Entretien et aménagement du jardin","Structures extérieures non-maçonnées","Assemblage verre à plus de 50% avec bois ou dérivés de bois","Compris entre 30 kg et 40 kg exclus","€/unité",3,3,{"$f":"VLOOKUP(J4848,'Codes éco-part'!$C:$E,3,FALSE)","v":"474"},3.5999999999999996]
["REP ABJ",4,"22155720520",null,"Entretien et aménagement du jardin","Structures extérieures non-maçonnées","Assemblage verre à plus de 50% avec bois ou dérivés de bois","Compris entre 2 kg et 3 kg exclus","€/unité",0.19,0.19,{"$f":"VLOOKUP(J4849,'Codes éco-part'!$C:$E,3,FALSE)","v":"291"},0.22799999999999998]
["REP ABJ",4,"22155720530",null,"Entretien et aménagement du jardin","Structures extérieures non-maçonnées","Assemblage verre à plus de 50% avec bois ou dérivés de bois","Compris entre 3 kg et 5 kg exclus","€/unité",0.3,0.3,{"$f":"VLOOKUP(J4850,'Codes éco-part'!$C:$E,3,FALSE)","v":"446"},0.36]
["REP ABJ",4,"22155720540",null,"Entretien et aménagement du jardin","Structures extérieures non-maçonnées","Assemblage verre à plus de 50% avec bois ou dérivés de bois","Compris entre 5 kg et 7 kg exclus","€/unité",0.53,0.53,{"$f":"VLOOKUP(J4851,'Codes éco-part'!$C:$E,3,FALSE)","v":"451"},0.63600000000000001]
["REP ABJ",4,"22155720550",null,"Entretien et aménagement du jardin","Structures extérieures non-maçonnées","Assemblage verre à plus de 50% avec bois ou dérivés de bois","Compris entre 7 kg et 10 kg exclus","€/unité",0.75,0.75,{"$f":"VLOOKUP(J4852,'Codes éco-part'!$C:$E,3,FALSE)","v":"328"},0.89999999999999991]
["REP ABJ",4,"22155720560",null,"Entretien et aménagement du jardin","Structures extérieures non-maçonnées","Assemblage verre à plus de 50% avec bois ou dérivés de bois","Compris entre 10 kg et 15 kg exclus","€/unité",1.1299999999999999,1.1299999999999999,{"$f":"VLOOKUP(J4853,'Codes éco-part'!$C:$E,3,FALSE)","v":"331"},1.3559999999999999]
["REP ABJ",4,"22155720570",null,"Entretien et aménagement du jardin","Structures extérieures non-maçonnées","Assemblage verre à plus de 50% avec bois ou dérivés de bois","Compris entre 15 kg et 20 kg exclus","€/unité",1.5,1.5,{"$f":"VLOOKUP(J4854,'Codes éco-part'!$C:$E,3,FALSE)","v":"059"},1.7999999999999998]
["REP ABJ",4,"22155720580",null,"Entretien et aménagement du jardin","Structures extérieures non-maçonnées","Assemblage verre à plus de 50% avec bois ou dérivés de bois","Compris entre 20 kg et 25 kg exclus","€/unité",1.88,1.88,{"$f":"VLOOKUP(J4855,'Codes éco-part'!$C:$E,3,FALSE)","v":"335"},2.2559999999999998]
["REP ABJ",4,"22155720590",null,"Entretien et aménagement du jardin","Structures extérieures non-maçonnées","Assemblage verre à plus de 50% avec bois ou dérivés de bois","Compris entre 25 kg et 30 kg exclus","€/unité",2.25,2.25,{"$f":"VLOOKUP(J4856,'Codes éco-part'!$C:$E,3,FALSE)","v":"118"},2.6999999999999997]
["REP ABJ",4,"22155720600",null,"Entretien et aménagement du jardin","Structures extérieures non-maçonnées","Assemblage verre à plus de 50% avec bois ou dérivés de bois","Compris entre 40 kg et 50 kg exclus","€/unité",3.75,3.75,{"$f":"VLOOKUP(J4857,'Codes éco-part'!$C:$E,3,FALSE)","v":"015"},4.5]
["REP ABJ",4,"22155730000",null,"Entretien et aménagement du jardin","Structures extérieures non-maçonnées","Assemblage verre à plus de 50% avec plastique","Eléments de toutes dimensions et poids","€ / Tonne",75,75,{"$f":"VLOOKUP(J4858,'Codes éco-part'!$C:$E,3,FALSE)","v":"192"},90]
["REP ABJ",4,"22155730200",null,"Entretien et aménagement du jardin","Structures extérieures non-maçonnées","Assemblage verre à plus de 50% avec plastique","Inférieur strictement à 0,5 kg","€/unité",0.02,0.02,{"$f":"VLOOKUP(J4859,'Codes éco-part'!$C:$E,3,FALSE)","v":"047"},2.4E-2]
["REP ABJ",4,"22155730210",null,"Entretien et aménagement du jardin","Structures extérieures non-maçonnées","Assemblage verre à plus de 50% avec plastique","Compris entre 0,5 kg et 1 kg exclus","€/unité",0.06,0.06,{"$f":"VLOOKUP(J4860,'Codes éco-part'!$C:$E,3,FALSE)","v":"096"},7.1999999999999995E-2]
["REP ABJ",4,"22155730220",null,"Entretien et aménagement du jardin","Structures extérieures non-maçonnées","Assemblage verre à plus de 50% avec plastique","Compris entre 1 kg et 2 kg exclus","€/unité",0.11,0.11,{"$f":"VLOOKUP(J4861,'Codes éco-part'!$C:$E,3,FALSE)","v":"262"},0.13200000000000001]
["REP ABJ",4,"22155730270",null,"Entretien et aménagement du jardin","Structures extérieures non-maçonnées","Assemblage verre à plus de 50% avec plastique","Compris entre 30 kg et 40 kg exclus","€/unité",3,3,{"$f":"VLOOKUP(J4862,'Codes éco-part'!$C:$E,3,FALSE)","v":"474"},3.5999999999999996]
["REP ABJ",4,"22155730520",null,"Entretien et aménagement du jardin","Structures extérieures non-maçonnées","Assemblage verre à plus de 50% avec plastique","Compris entre 2 kg et 3 kg exclus","€/unité",0.19,0.19,{"$f":"VLOOKUP(J4863,'Codes éco-part'!$C:$E,3,FALSE)","v":"291"},0.22799999999999998]
["REP ABJ",4,"22155730530",null,"Entretien et aménagement du jardin","Structures extérieures non-maçonnées","Assemblage verre à plus de 50% avec plastique","Compris entre 3 kg et 5 kg exclus","€/unité",0.3,0.3,{"$f":"VLOOKUP(J4864,'Codes éco-part'!$C:$E,3,FALSE)","v":"446"},0.36]
["REP ABJ",4,"22155730540",null,"Entretien et aménagement du jardin","Structures extérieures non-maçonnées","Assemblage verre à plus de 50% avec plastique","Compris entre 5 kg et 7 kg exclus","€/unité",0.53,0.53,{"$f":"VLOOKUP(J4865,'Codes éco-part'!$C:$E,3,FALSE)","v":"451"},0.63600000000000001]
["REP ABJ",4,"22155730550",null,"Entretien et aménagement du jardin","Structures extérieures non-maçonnées","Assemblage verre à plus de 50% avec plastique","Compris entre 7 kg et 10 kg exclus","€/unité",0.75,0.75,{"$f":"VLOOKUP(J4866,'Codes éco-part'!$C:$E,3,FALSE)","v":"328"},0.89999999999999991]
["REP ABJ",4,"22155730560",null,"Entretien et aménagement du jardin","Structures extérieures non-maçonnées","Assemblage verre à plus de 50% avec plastique","Compris entre 10 kg et 15 kg exclus","€/unité",1.1299999999999999,1.1299999999999999,{"$f":"VLOOKUP(J4867,'Codes éco-part'!$C:$E,3,FALSE)","v":"331"},1.3559999999999999]
["REP ABJ",4,"22155730570",null,"Entretien et aménagement du jardin","Structures extérieures non-maçonnées","Assemblage verre à plus de 50% avec plastique","Compris entre 15 kg et 20 kg exclus","€/unité",1.5,1.5,{"$f":"VLOOKUP(J4868,'Codes éco-part'!$C:$E,3,FALSE)","v":"059"},1.7999999999999998]
["REP ABJ",4,"22155730580",null,"Entretien et aménagement du jardin","Structures extérieures non-maçonnées","Assemblage verre à plus de 50% avec plastique","Compris entre 20 kg et 25 kg exclus","€/unité",1.88,1.88,{"$f":"VLOOKUP(J4869,'Codes éco-part'!$C:$E,3,FALSE)","v":"335"},2.2559999999999998]
["REP ABJ",4,"22155730590",null,"Entretien et aménagement du jardin","Structures extérieures non-maçonnées","Assemblage verre à plus de 50% avec plastique","Compris entre 25 kg et 30 kg exclus","€/unité",2.25,2.25,{"$f":"VLOOKUP(J4870,'Codes éco-part'!$C:$E,3,FALSE)","v":"118"},2.6999999999999997]
["REP ABJ",4,"22155730600",null,"Entretien et aménagement du jardin","Structures extérieures non-maçonnées","Assemblage verre à plus de 50% avec plastique","Compris entre 40 kg et 50 kg exclus","€/unité",3.75,3.75,{"$f":"VLOOKUP(J4871,'Codes éco-part'!$C:$E,3,FALSE)","v":"015"},4.5]
["REP ABJ",4,"22155740000",null,"Entretien et aménagement du jardin","Structures extérieures non-maçonnées","Béton >90%","Eléments de toutes dimensions et poids","€ / Tonne",5,5,{"$f":"VLOOKUP(J4872,'Codes éco-part'!$C:$E,3,FALSE)","v":"042"},6]
["REP ABJ",4,"22155740200",null,"Entretien et aménagement du jardin","Structures extérieures non-maçonnées","Béton >90%","Inférieur strictement à 0,5 kg","€/unité",0.01,0.01,{"$f":"VLOOKUP(J4873,'Codes éco-part'!$C:$E,3,FALSE)","v":"260"},1.2E-2]
["REP ABJ",4,"22155740210",null,"Entretien et aménagement du jardin","Structures extérieures non-maçonnées","Béton >90%","Compris entre 0,5 kg et 1 kg exclus","€/unité",0.01,0.01,{"$f":"VLOOKUP(J4874,'Codes éco-part'!$C:$E,3,FALSE)","v":"260"},1.2E-2]
["REP ABJ",4,"22155740220",null,"Entretien et aménagement du jardin","Structures extérieures non-maçonnées","Béton >90%","Compris entre 1 kg et 2 kg exclus","€/unité",0.01,0.01,{"$f":"VLOOKUP(J4875,'Codes éco-part'!$C:$E,3,FALSE)","v":"260"},1.2E-2]
["REP ABJ",4,"22155740270",null,"Entretien et aménagement du jardin","Structures extérieures non-maçonnées","Béton >90%","Compris entre 30 kg et 40 kg exclus","€/unité",0.2,0.2,{"$f":"VLOOKUP(J4876,'Codes éco-part'!$C:$E,3,FALSE)","v":"101"},0.24]
["REP ABJ",4,"22155740520",null,"Entretien et aménagement du jardin","Structures extérieures non-maçonnées","Béton >90%","Compris entre 2 kg et 3 kg exclus","€/unité",0.01,0.01,{"$f":"VLOOKUP(J4877,'Codes éco-part'!$C:$E,3,FALSE)","v":"260"},1.2E-2]
["REP ABJ",4,"22155740530",null,"Entretien et aménagement du jardin","Structures extérieures non-maçonnées","Béton >90%","Compris entre 3 kg et 5 kg exclus","€/unité",0.02,0.02,{"$f":"VLOOKUP(J4878,'Codes éco-part'!$C:$E,3,FALSE)","v":"047"},2.4E-2]
["REP ABJ",4,"22155740540",null,"Entretien et aménagement du jardin","Structures extérieures non-maçonnées","Béton >90%","Compris entre 5 kg et 7 kg exclus","€/unité",0.04,0.04,{"$f":"VLOOKUP(J4879,'Codes éco-part'!$C:$E,3,FALSE)","v":"002"},4.8000000000000001E-2]
["REP ABJ",4,"22155740550",null,"Entretien et aménagement du jardin","Structures extérieures non-maçonnées","Béton >90%","Compris entre 7 kg et 10 kg exclus","€/unité",0.05,0.05,{"$f":"VLOOKUP(J4880,'Codes éco-part'!$C:$E,3,FALSE)","v":"048"},0.06]
["REP ABJ",4,"22155740560",null,"Entretien et aménagement du jardin","Structures extérieures non-maçonnées","Béton >90%","Compris entre 10 kg et 15 kg exclus","€/unité",0.08,0.08,{"$f":"VLOOKUP(J4881,'Codes éco-part'!$C:$E,3,FALSE)","v":"003"},9.6000000000000002E-2]
["REP ABJ",4,"22155740570",null,"Entretien et aménagement du jardin","Structures extérieures non-maçonnées","Béton >90%","Compris entre 15 kg et 20 kg exclus","€/unité",0.1,0.1,{"$f":"VLOOKUP(J4882,'Codes éco-part'!$C:$E,3,FALSE)","v":"094"},0.12]
["REP ABJ",4,"22155740580",null,"Entretien et aménagement du jardin","Structures extérieures non-maçonnées","Béton >90%","Compris entre 20 kg et 25 kg exclus","€/unité",0.13,0.13,{"$f":"VLOOKUP(J4883,'Codes éco-part'!$C:$E,3,FALSE)","v":"004"},0.156]
["REP ABJ",4,"22155740590",null,"Entretien et aménagement du jardin","Structures extérieures non-maçonnées","Béton >90%","Compris entre 25 kg et 30 kg exclus","€/unité",0.15,0.15,{"$f":"VLOOKUP(J4884,'Codes éco-part'!$C:$E,3,FALSE)","v":"050"},0.18]
["REP ABJ",4,"22155740600",null,"Entretien et aménagement du jardin","Structures extérieures non-maçonnées","Béton >90%","Compris entre 40 kg et 50 kg exclus","€/unité",0.25,0.25,{"$f":"VLOOKUP(J4885,'Codes éco-part'!$C:$E,3,FALSE)","v":"095"},0.3]
["REP ABJ",4,"22155810000",null,"Entretien et aménagement du jardin","Structures extérieures non-maçonnées","Assemblage dont la composition conjointe en bois, dérivés de bois et en métal dépasse 90%","Eléments de toutes dimensions et poids","€ / Tonne",10,10,{"$f":"VLOOKUP(J4886,'Codes éco-part'!$C:$E,3,FALSE)","v":"138"},12]
["REP ABJ",4,"22155810200",null,"Entretien et aménagement du jardin","Structures extérieures non-maçonnées","Assemblage dont la composition conjointe en bois, dérivés de bois et en métal dépasse 90%","Inférieur strictement à 0,5 kg","€/unité",0.01,0.01,{"$f":"VLOOKUP(J4887,'Codes éco-part'!$C:$E,3,FALSE)","v":"260"},1.2E-2]
["REP ABJ",4,"22155810210",null,"Entretien et aménagement du jardin","Structures extérieures non-maçonnées","Assemblage dont la composition conjointe en bois, dérivés de bois et en métal dépasse 90%","Compris entre 0,5 kg et 1 kg exclus","€/unité",0.01,0.01,{"$f":"VLOOKUP(J4888,'Codes éco-part'!$C:$E,3,FALSE)","v":"260"},1.2E-2]
["REP ABJ",4,"22155810220",null,"Entretien et aménagement du jardin","Structures extérieures non-maçonnées","Assemblage dont la composition conjointe en bois, dérivés de bois et en métal dépasse 90%","Compris entre 1 kg et 2 kg exclus","€/unité",0.02,0.02,{"$f":"VLOOKUP(J4889,'Codes éco-part'!$C:$E,3,FALSE)","v":"047"},{"$f":"J4889*1.2","v":2.4E-2}]
["REP ABJ",4,"22155810270",null,"Entretien et aménagement du jardin","Structures extérieures non-maçonnées","Assemblage dont la composition conjointe en bois, dérivés de bois et en métal dépasse 90%","Compris entre 30 kg et 40 kg exclus","€/unité",0.4,0.4,{"$f":"VLOOKUP(J4890,'Codes éco-part'!$C:$E,3,FALSE)","v":"105"},0.48]
["REP ABJ",4,"22155810520",null,"Entretien et aménagement du jardin","Structures extérieures non-maçonnées","Assemblage dont la composition conjointe en bois, dérivés de bois et en métal dépasse 90%","Compris entre 2 kg et 3 kg exclus","€/unité",0.03,0.03,{"$f":"VLOOKUP(J4891,'Codes éco-part'!$C:$E,3,FALSE)","v":"092"},3.5999999999999997E-2]
["REP ABJ",4,"22155810530",null,"Entretien et aménagement du jardin","Structures extérieures non-maçonnées","Assemblage dont la composition conjointe en bois, dérivés de bois et en métal dépasse 90%","Compris entre 3 kg et 5 kg exclus","€/unité",0.04,0.04,{"$f":"VLOOKUP(J4892,'Codes éco-part'!$C:$E,3,FALSE)","v":"002"},4.8000000000000001E-2]
["REP ABJ",4,"22155810540",null,"Entretien et aménagement du jardin","Structures extérieures non-maçonnées","Assemblage dont la composition conjointe en bois, dérivés de bois et en métal dépasse 90%","Compris entre 5 kg et 7 kg exclus","€/unité",7.0000000000000007E-2,7.0000000000000007E-2,{"$f":"VLOOKUP(J4893,'Codes éco-part'!$C:$E,3,FALSE)","v":"247"},8.4000000000000005E-2]
["REP ABJ",4,"22155810550",null,"Entretien et aménagement du jardin","Structures extérieures non-maçonnées","Assemblage dont la composition conjointe en bois, dérivés de bois et en métal dépasse 90%","Compris entre 7 kg et 10 kg exclus","€/unité",0.1,0.1,{"$f":"VLOOKUP(J4894,'Codes éco-part'!$C:$E,3,FALSE)","v":"094"},0.12]
["REP ABJ",4,"22155810560",null,"Entretien et aménagement du jardin","Structures extérieures non-maçonnées","Assemblage dont la composition conjointe en bois, dérivés de bois et en métal dépasse 90%","Compris entre 10 kg et 15 kg exclus","€/unité",0.15,0.15,{"$f":"VLOOKUP(J4895,'Codes éco-part'!$C:$E,3,FALSE)","v":"050"},0.18]
["REP ABJ",4,"22155810570",null,"Entretien et aménagement du jardin","Structures extérieures non-maçonnées","Assemblage dont la composition conjointe en bois, dérivés de bois et en métal dépasse 90%","Compris entre 15 kg et 20 kg exclus","€/unité",0.2,0.2,{"$f":"VLOOKUP(J4896,'Codes éco-part'!$C:$E,3,FALSE)","v":"101"},0.24]
["REP ABJ",4,"22155810580",null,"Entretien et aménagement du jardin","Structures extérieures non-maçonnées","Assemblage dont la composition conjointe en bois, dérivés de bois et en métal dépasse 90%","Compris entre 20 kg et 25 kg exclus","€/unité",0.25,0.25,{"$f":"VLOOKUP(J4897,'Codes éco-part'!$C:$E,3,FALSE)","v":"095"},0.3]
["REP ABJ",4,"22155810590",null,"Entretien et aménagement du jardin","Structures extérieures non-maçonnées","Assemblage dont la composition conjointe en bois, dérivés de bois et en métal dépasse 90%","Compris entre 25 kg et 30 kg exclus","€/unité",0.3,0.3,{"$f":"VLOOKUP(J4898,'Codes éco-part'!$C:$E,3,FALSE)","v":"446"},0.36]
["REP ABJ",4,"22155810600",null,"Entretien et aménagement du jardin","Structures extérieures non-maçonnées","Assemblage dont la composition conjointe en bois, dérivés de bois et en métal dépasse 90%","Compris entre 40 kg et 50 kg exclus","€/unité",0.5,0.5,{"$f":"VLOOKUP(J4899,'Codes éco-part'!$C:$E,3,FALSE)","v":"053"},0.6]
["REP ABJ",4,"22155820000",null,"Entretien et aménagement du jardin","Structures extérieures non-maçonnées","Assemblage de 3 matériaux ou plus sans un matériau à plus de 50%","Eléments de toutes dimensions et poids","€ / Tonne",75,75,{"$f":"VLOOKUP(J4900,'Codes éco-part'!$C:$E,3,FALSE)","v":"192"},90]
["REP ABJ",4,"22155820200",null,"Entretien et aménagement du jardin","Structures extérieures non-maçonnées","Assemblage de 3 matériaux ou plus sans un matériau à plus de 50%","Inférieur strictement à 0,5 kg","€/unité",0.02,0.02,{"$f":"VLOOKUP(J4901,'Codes éco-part'!$C:$E,3,FALSE)","v":"047"},2.4E-2]
["REP ABJ",4,"22155820210",null,"Entretien et aménagement du jardin","Structures extérieures non-maçonnées","Assemblage de 3 matériaux ou plus sans un matériau à plus de 50%","Compris entre 0,5 kg et 1 kg exclus","€/unité",0.06,0.06,{"$f":"VLOOKUP(J4902,'Codes éco-part'!$C:$E,3,FALSE)","v":"096"},7.1999999999999995E-2]
["REP ABJ",4,"22155820220",null,"Entretien et aménagement du jardin","Structures extérieures non-maçonnées","Assemblage de 3 matériaux ou plus sans un matériau à plus de 50%","Compris entre 1 kg et 2 kg exclus","€/unité",0.11,0.11,{"$f":"VLOOKUP(J4903,'Codes éco-part'!$C:$E,3,FALSE)","v":"262"},0.13200000000000001]
["REP ABJ",4,"22155820270",null,"Entretien et aménagement du jardin","Structures extérieures non-maçonnées","Assemblage de 3 matériaux ou plus sans un matériau à plus de 50%","Compris entre 30 kg et 40 kg exclus","€/unité",3,3,{"$f":"VLOOKUP(J4904,'Codes éco-part'!$C:$E,3,FALSE)","v":"474"},3.5999999999999996]
["REP ABJ",4,"22155820520",null,"Entretien et aménagement du jardin","Structures extérieures non-maçonnées","Assemblage de 3 matériaux ou plus sans un matériau à plus de 50%","Compris entre 2 kg et 3 kg exclus","€/unité",0.19,0.19,{"$f":"VLOOKUP(J4905,'Codes éco-part'!$C:$E,3,FALSE)","v":"291"},0.22799999999999998]
["REP ABJ",4,"22155820530",null,"Entretien et aménagement du jardin","Structures extérieures non-maçonnées","Assemblage de 3 matériaux ou plus sans un matériau à plus de 50%","Compris entre 3 kg et 5 kg exclus","€/unité",0.3,0.3,{"$f":"VLOOKUP(J4906,'Codes éco-part'!$C:$E,3,FALSE)","v":"446"},0.36]
["REP ABJ",4,"22155820540",null,"Entretien et aménagement du jardin","Structures extérieures non-maçonnées","Assemblage de 3 matériaux ou plus sans un matériau à plus de 50%","Compris entre 5 kg et 7 kg exclus","€/unité",0.53,0.53,{"$f":"VLOOKUP(J4907,'Codes éco-part'!$C:$E,3,FALSE)","v":"451"},0.63600000000000001]
["REP ABJ",4,"22155820550",null,"Entretien et aménagement du jardin","Structures extérieures non-maçonnées","Assemblage de 3 matériaux ou plus sans un matériau à plus de 50%","Compris entre 7 kg et 10 kg exclus","€/unité",0.75,0.75,{"$f":"VLOOKUP(J4908,'Codes éco-part'!$C:$E,3,FALSE)","v":"328"},0.89999999999999991]
["REP ABJ",4,"22155820560",null,"Entretien et aménagement du jardin","Structures extérieures non-maçonnées","Assemblage de 3 matériaux ou plus sans un matériau à plus de 50%","Compris entre 10 kg et 15 kg exclus","€/unité",1.1299999999999999,1.1299999999999999,{"$f":"VLOOKUP(J4909,'Codes éco-part'!$C:$E,3,FALSE)","v":"331"},1.3559999999999999]
["REP ABJ",4,"22155820570",null,"Entretien et aménagement du jardin","Structures extérieures non-maçonnées","Assemblage de 3 matériaux ou plus sans un matériau à plus de 50%","Compris entre 15 kg et 20 kg exclus","€/unité",1.5,1.5,{"$f":"VLOOKUP(J4910,'Codes éco-part'!$C:$E,3,FALSE)","v":"059"},1.7999999999999998]
["REP ABJ",4,"22155820580",null,"Entretien et aménagement du jardin","Structures extérieures non-maçonnées","Assemblage de 3 matériaux ou plus sans un matériau à plus de 50%","Compris entre 20 kg et 25 kg exclus","€/unité",1.88,1.88,{"$f":"VLOOKUP(J4911,'Codes éco-part'!$C:$E,3,FALSE)","v":"335"},2.2559999999999998]
["REP ABJ",4,"22155820590",null,"Entretien et aménagement du jardin","Structures extérieures non-maçonnées","Assemblage de 3 matériaux ou plus sans un matériau à plus de 50%","Compris entre 25 kg et 30 kg exclus","€/unité",2.25,2.25,{"$f":"VLOOKUP(J4912,'Codes éco-part'!$C:$E,3,FALSE)","v":"118"},2.6999999999999997]
["REP ABJ",4,"22155820600",null,"Entretien et aménagement du jardin","Structures extérieures non-maçonnées","Assemblage de 3 matériaux ou plus sans un matériau à plus de 50%","Compris entre 40 kg et 50 kg exclus","€/unité",3.75,3.75,{"$f":"VLOOKUP(J4913,'Codes éco-part'!$C:$E,3,FALSE)","v":"015"},4.5]
["REP ABJ",4,"22155840000",null,"Entretien et aménagement du jardin","Structures extérieures non-maçonnées","Ardoise >90%","Eléments de toutes dimensions et poids","€ / Tonne",5,5,{"$f":"VLOOKUP(J4914,'Codes éco-part'!$C:$E,3,FALSE)","v":"042"},6]
["REP ABJ",4,"22155840200",null,"Entretien et aménagement du jardin","Structures extérieures non-maçonnées","Ardoise >90%","Inférieur strictement à 0,5 kg","€/unité",0.01,0.01,{"$f":"VLOOKUP(J4915,'Codes éco-part'!$C:$E,3,FALSE)","v":"260"},1.2E-2]
["REP ABJ",4,"22155840210",null,"Entretien et aménagement du jardin","Structures extérieures non-maçonnées","Ardoise >90%","Compris entre 0,5 kg et 1 kg exclus","€/unité",0.01,0.01,{"$f":"VLOOKUP(J4916,'Codes éco-part'!$C:$E,3,FALSE)","v":"260"},1.2E-2]
["REP ABJ",4,"22155840220",null,"Entretien et aménagement du jardin","Structures extérieures non-maçonnées","Ardoise >90%","Compris entre 1 kg et 2 kg exclus","€/unité",0.01,0.01,{"$f":"VLOOKUP(J4917,'Codes éco-part'!$C:$E,3,FALSE)","v":"260"},1.2E-2]
["REP ABJ",4,"22155840270",null,"Entretien et aménagement du jardin","Structures extérieures non-maçonnées","Ardoise >90%","Compris entre 30 kg et 40 kg exclus","€/unité",0.2,0.2,{"$f":"VLOOKUP(J4918,'Codes éco-part'!$C:$E,3,FALSE)","v":"101"},0.24]
["REP ABJ",4,"22155840520",null,"Entretien et aménagement du jardin","Structures extérieures non-maçonnées","Ardoise >90%","Compris entre 2 kg et 3 kg exclus","€/unité",0.01,0.01,{"$f":"VLOOKUP(J4919,'Codes éco-part'!$C:$E,3,FALSE)","v":"260"},1.2E-2]
["REP ABJ",4,"22155840530",null,"Entretien et aménagement du jardin","Structures extérieures non-maçonnées","Ardoise >90%","Compris entre 3 kg et 5 kg exclus","€/unité",0.02,0.02,{"$f":"VLOOKUP(J4920,'Codes éco-part'!$C:$E,3,FALSE)","v":"047"},2.4E-2]
["REP ABJ",4,"22155840540",null,"Entretien et aménagement du jardin","Structures extérieures non-maçonnées","Ardoise >90%","Compris entre 5 kg et 7 kg exclus","€/unité",0.04,0.04,{"$f":"VLOOKUP(J4921,'Codes éco-part'!$C:$E,3,FALSE)","v":"002"},4.8000000000000001E-2]
["REP ABJ",4,"22155840550",null,"Entretien et aménagement du jardin","Structures extérieures non-maçonnées","Ardoise >90%","Compris entre 7 kg et 10 kg exclus","€/unité",0.05,0.05,{"$f":"VLOOKUP(J4922,'Codes éco-part'!$C:$E,3,FALSE)","v":"048"},0.06]
["REP ABJ",4,"22155840560",null,"Entretien et aménagement du jardin","Structures extérieures non-maçonnées","Ardoise >90%","Compris entre 10 kg et 15 kg exclus","€/unité",0.08,0.08,{"$f":"VLOOKUP(J4923,'Codes éco-part'!$C:$E,3,FALSE)","v":"003"},9.6000000000000002E-2]
["REP ABJ",4,"22155840570",null,"Entretien et aménagement du jardin","Structures extérieures non-maçonnées","Ardoise >90%","Compris entre 15 kg et 20 kg exclus","€/unité",0.1,0.1,{"$f":"VLOOKUP(J4924,'Codes éco-part'!$C:$E,3,FALSE)","v":"094"},0.12]
["REP ABJ",4,"22155840580",null,"Entretien et aménagement du jardin","Structures extérieures non-maçonnées","Ardoise >90%","Compris entre 20 kg et 25 kg exclus","€/unité",0.13,0.13,{"$f":"VLOOKUP(J4925,'Codes éco-part'!$C:$E,3,FALSE)","v":"004"},0.156]
["REP ABJ",4,"22155840590",null,"Entretien et aménagement du jardin","Structures extérieures non-maçonnées","Ardoise >90%","Compris entre 25 kg et 30 kg exclus","€/unité",0.15,0.15,{"$f":"VLOOKUP(J4926,'Codes éco-part'!$C:$E,3,FALSE)","v":"050"},0.18]
["REP ABJ",4,"22155840600",null,"Entretien et aménagement du jardin","Structures extérieures non-maçonnées","Ardoise >90%","Compris entre 40 kg et 50 kg exclus","€/unité",0.25,0.25,{"$f":"VLOOKUP(J4927,'Codes éco-part'!$C:$E,3,FALSE)","v":"095"},0.3]
["REP ABJ",4,"22155860000",null,"Entretien et aménagement du jardin","Structures extérieures non-maçonnées","Pierre calcaire >90%","Eléments de toutes dimensions et poids","€ / Tonne",5,5,{"$f":"VLOOKUP(J4928,'Codes éco-part'!$C:$E,3,FALSE)","v":"042"},6]
["REP ABJ",4,"22155860200",null,"Entretien et aménagement du jardin","Structures extérieures non-maçonnées","Pierre calcaire >90%","Inférieur strictement à 0,5 kg","€/unité",0.01,0.01,{"$f":"VLOOKUP(J4929,'Codes éco-part'!$C:$E,3,FALSE)","v":"260"},1.2E-2]
["REP ABJ",4,"22155860210",null,"Entretien et aménagement du jardin","Structures extérieures non-maçonnées","Pierre calcaire >90%","Compris entre 0,5 kg et 1 kg exclus","€/unité",0.01,0.01,{"$f":"VLOOKUP(J4930,'Codes éco-part'!$C:$E,3,FALSE)","v":"260"},1.2E-2]
["REP ABJ",4,"22155860220",null,"Entretien et aménagement du jardin","Structures extérieures non-maçonnées","Pierre calcaire >90%","Compris entre 1 kg et 2 kg exclus","€/unité",0.01,0.01,{"$f":"VLOOKUP(J4931,'Codes éco-part'!$C:$E,3,FALSE)","v":"260"},1.2E-2]
["REP ABJ",4,"22155860270",null,"Entretien et aménagement du jardin","Structures extérieures non-maçonnées","Pierre calcaire >90%","Compris entre 30 kg et 40 kg exclus","€/unité",0.2,0.2,{"$f":"VLOOKUP(J4932,'Codes éco-part'!$C:$E,3,FALSE)","v":"101"},0.24]
["REP ABJ",4,"22155860520",null,"Entretien et aménagement du jardin","Structures extérieures non-maçonnées","Pierre calcaire >90%","Compris entre 2 kg et 3 kg exclus","€/unité",0.01,0.01,{"$f":"VLOOKUP(J4933,'Codes éco-part'!$C:$E,3,FALSE)","v":"260"},1.2E-2]
["REP ABJ",4,"22155860530",null,"Entretien et aménagement du jardin","Structures extérieures non-maçonnées","Pierre calcaire >90%","Compris entre 3 kg et 5 kg exclus","€/unité",0.02,0.02,{"$f":"VLOOKUP(J4934,'Codes éco-part'!$C:$E,3,FALSE)","v":"047"},2.4E-2]
["REP ABJ",4,"22155860540",null,"Entretien et aménagement du jardin","Structures extérieures non-maçonnées","Pierre calcaire >90%","Compris entre 5 kg et 7 kg exclus","€/unité",0.04,0.04,{"$f":"VLOOKUP(J4935,'Codes éco-part'!$C:$E,3,FALSE)","v":"002"},4.8000000000000001E-2]
["REP ABJ",4,"22155860550",null,"Entretien et aménagement du jardin","Structures extérieures non-maçonnées","Pierre calcaire >90%","Compris entre 7 kg et 10 kg exclus","€/unité",0.05,0.05,{"$f":"VLOOKUP(J4936,'Codes éco-part'!$C:$E,3,FALSE)","v":"048"},0.06]
["REP ABJ",4,"22155860560",null,"Entretien et aménagement du jardin","Structures extérieures non-maçonnées","Pierre calcaire >90%","Compris entre 10 kg et 15 kg exclus","€/unité",0.08,0.08,{"$f":"VLOOKUP(J4937,'Codes éco-part'!$C:$E,3,FALSE)","v":"003"},9.6000000000000002E-2]
["REP ABJ",4,"22155860570",null,"Entretien et aménagement du jardin","Structures extérieures non-maçonnées","Pierre calcaire >90%","Compris entre 15 kg et 20 kg exclus","€/unité",0.1,0.1,{"$f":"VLOOKUP(J4938,'Codes éco-part'!$C:$E,3,FALSE)","v":"094"},0.12]
["REP ABJ",4,"22155860580",null,"Entretien et aménagement du jardin","Structures extérieures non-maçonnées","Pierre calcaire >90%","Compris entre 20 kg et 25 kg exclus","€/unité",0.13,0.13,{"$f":"VLOOKUP(J4939,'Codes éco-part'!$C:$E,3,FALSE)","v":"004"},0.156]
["REP ABJ",4,"22155860590",null,"Entretien et aménagement du jardin","Structures extérieures non-maçonnées","Pierre calcaire >90%","Compris entre 25 kg et 30 kg exclus","€/unité",0.15,0.15,{"$f":"VLOOKUP(J4940,'Codes éco-part'!$C:$E,3,FALSE)","v":"050"},0.18]
["REP ABJ",4,"22155860600",null,"Entretien et aménagement du jardin","Structures extérieures non-maçonnées","Pierre calcaire >90%","Compris entre 40 kg et 50 kg exclus","€/unité",0.25,0.25,{"$f":"VLOOKUP(J4941,'Codes éco-part'!$C:$E,3,FALSE)","v":"095"},0.3]
["REP ABJ",4,"22155870000",null,"Entretien et aménagement du jardin","Structures extérieures non-maçonnées","Lave >90%","Eléments de toutes dimensions et poids","€ / Tonne",5,5,{"$f":"VLOOKUP(J4942,'Codes éco-part'!$C:$E,3,FALSE)","v":"042"},6]
["REP ABJ",4,"22155870200",null,"Entretien et aménagement du jardin","Structures extérieures non-maçonnées","Lave >90%","Inférieur strictement à 0,5 kg","€/unité",0.01,0.01,{"$f":"VLOOKUP(J4943,'Codes éco-part'!$C:$E,3,FALSE)","v":"260"},1.2E-2]
["REP ABJ",4,"22155870210",null,"Entretien et aménagement du jardin","Structures extérieures non-maçonnées","Lave >90%","Compris entre 0,5 kg et 1 kg exclus","€/unité",0.01,0.01,{"$f":"VLOOKUP(J4944,'Codes éco-part'!$C:$E,3,FALSE)","v":"260"},1.2E-2]
["REP ABJ",4,"22155870220",null,"Entretien et aménagement du jardin","Structures extérieures non-maçonnées","Lave >90%","Compris entre 1 kg et 2 kg exclus","€/unité",0.01,0.01,{"$f":"VLOOKUP(J4945,'Codes éco-part'!$C:$E,3,FALSE)","v":"260"},1.2E-2]
["REP ABJ",4,"22155870270",null,"Entretien et aménagement du jardin","Structures extérieures non-maçonnées","Lave >90%","Compris entre 30 kg et 40 kg exclus","€/unité",0.2,0.2,{"$f":"VLOOKUP(J4946,'Codes éco-part'!$C:$E,3,FALSE)","v":"101"},0.24]
["REP ABJ",4,"22155870520",null,"Entretien et aménagement du jardin","Structures extérieures non-maçonnées","Lave >90%","Compris entre 2 kg et 3 kg exclus","€/unité",0.01,0.01,{"$f":"VLOOKUP(J4947,'Codes éco-part'!$C:$E,3,FALSE)","v":"260"},1.2E-2]
["REP ABJ",4,"22155870530",null,"Entretien et aménagement du jardin","Structures extérieures non-maçonnées","Lave >90%","Compris entre 3 kg et 5 kg exclus","€/unité",0.02,0.02,{"$f":"VLOOKUP(J4948,'Codes éco-part'!$C:$E,3,FALSE)","v":"047"},2.4E-2]
["REP ABJ",4,"22155870540",null,"Entretien et aménagement du jardin","Structures extérieures non-maçonnées","Lave >90%","Compris entre 5 kg et 7 kg exclus","€/unité",0.04,0.04,{"$f":"VLOOKUP(J4949,'Codes éco-part'!$C:$E,3,FALSE)","v":"002"},4.8000000000000001E-2]
["REP ABJ",4,"22155870550",null,"Entretien et aménagement du jardin","Structures extérieures non-maçonnées","Lave >90%","Compris entre 7 kg et 10 kg exclus","€/unité",0.05,0.05,{"$f":"VLOOKUP(J4950,'Codes éco-part'!$C:$E,3,FALSE)","v":"048"},0.06]
["REP ABJ",4,"22155870560",null,"Entretien et aménagement du jardin","Structures extérieures non-maçonnées","Lave >90%","Compris entre 10 kg et 15 kg exclus","€/unité",0.08,0.08,{"$f":"VLOOKUP(J4951,'Codes éco-part'!$C:$E,3,FALSE)","v":"003"},9.6000000000000002E-2]
["REP ABJ",4,"22155870570",null,"Entretien et aménagement du jardin","Structures extérieures non-maçonnées","Lave >90%","Compris entre 15 kg et 20 kg exclus","€/unité",0.1,0.1,{"$f":"VLOOKUP(J4952,'Codes éco-part'!$C:$E,3,FALSE)","v":"094"},0.12]
["REP ABJ",4,"22155870580",null,"Entretien et aménagement du jardin","Structures extérieures non-maçonnées","Lave >90%","Compris entre 20 kg et 25 kg exclus","€/unité",0.13,0.13,{"$f":"VLOOKUP(J4953,'Codes éco-part'!$C:$E,3,FALSE)","v":"004"},{"$f":"J4953*1.2","v":0.156}]
["REP ABJ",4,"22155870590",null,"Entretien et aménagement du jardin","Structures extérieures non-maçonnées","Lave >90%","Compris entre 25 kg et 30 kg exclus","€/unité",0.15,0.15,{"$f":"VLOOKUP(J4954,'Codes éco-part'!$C:$E,3,FALSE)","v":"050"},0.18]
["REP ABJ",4,"22155870600",null,"Entretien et aménagement du jardin","Structures extérieures non-maçonnées","Lave >90%","Compris entre 40 kg et 50 kg exclus","€/unité",0.25,0.25,{"$f":"VLOOKUP(J4955,'Codes éco-part'!$C:$E,3,FALSE)","v":"095"},0.3]
["REP ABJ",4,"22155890000",null,"Entretien et aménagement du jardin","Structures extérieures non-maçonnées","Terre cuite ou crue >90%","Eléments de toutes dimensions et poids","€ / Tonne",5,5,{"$f":"VLOOKUP(J4956,'Codes éco-part'!$C:$E,3,FALSE)","v":"042"},6]
["REP ABJ",4,"22155890200",null,"Entretien et aménagement du jardin","Structures extérieures non-maçonnées","Terre cuite ou crue >90%","Inférieur strictement à 0,5 kg","€/unité",0.01,0.01,{"$f":"VLOOKUP(J4957,'Codes éco-part'!$C:$E,3,FALSE)","v":"260"},1.2E-2]
["REP ABJ",4,"22155890210",null,"Entretien et aménagement du jardin","Structures extérieures non-maçonnées","Terre cuite ou crue >90%","Compris entre 0,5 kg et 1 kg exclus","€/unité",0.01,0.01,{"$f":"VLOOKUP(J4958,'Codes éco-part'!$C:$E,3,FALSE)","v":"260"},1.2E-2]
["REP ABJ",4,"22155890220",null,"Entretien et aménagement du jardin","Structures extérieures non-maçonnées","Terre cuite ou crue >90%","Compris entre 1 kg et 2 kg exclus","€/unité",0.01,0.01,{"$f":"VLOOKUP(J4959,'Codes éco-part'!$C:$E,3,FALSE)","v":"260"},1.2E-2]
["REP ABJ",4,"22155890270",null,"Entretien et aménagement du jardin","Structures extérieures non-maçonnées","Terre cuite ou crue >90%","Compris entre 30 kg et 40 kg exclus","€/unité",0.2,0.2,{"$f":"VLOOKUP(J4960,'Codes éco-part'!$C:$E,3,FALSE)","v":"101"},0.24]
["REP ABJ",4,"22155890520",null,"Entretien et aménagement du jardin","Structures extérieures non-maçonnées","Terre cuite ou crue >90%","Compris entre 2 kg et 3 kg exclus","€/unité",0.01,0.01,{"$f":"VLOOKUP(J4961,'Codes éco-part'!$C:$E,3,FALSE)","v":"260"},1.2E-2]
["REP ABJ",4,"22155890530",null,"Entretien et aménagement du jardin","Structures extérieures non-maçonnées","Terre cuite ou crue >90%","Compris entre 3 kg et 5 kg exclus","€/unité",0.02,0.02,{"$f":"VLOOKUP(J4962,'Codes éco-part'!$C:$E,3,FALSE)","v":"047"},2.4E-2]
["REP ABJ",4,"22155890540",null,"Entretien et aménagement du jardin","Structures extérieures non-maçonnées","Terre cuite ou crue >90%","Compris entre 5 kg et 7 kg exclus","€/unité",0.04,0.04,{"$f":"VLOOKUP(J4963,'Codes éco-part'!$C:$E,3,FALSE)","v":"002"},4.8000000000000001E-2]
["REP ABJ",4,"22155890550",null,"Entretien et aménagement du jardin","Structures extérieures non-maçonnées","Terre cuite ou crue >90%","Compris entre 7 kg et 10 kg exclus","€/unité",0.05,0.05,{"$f":"VLOOKUP(J4964,'Codes éco-part'!$C:$E,3,FALSE)","v":"048"},0.06]
["REP ABJ",4,"22155890560",null,"Entretien et aménagement du jardin","Structures extérieures non-maçonnées","Terre cuite ou crue >90%","Compris entre 10 kg et 15 kg exclus","€/unité",0.08,0.08,{"$f":"VLOOKUP(J4965,'Codes éco-part'!$C:$E,3,FALSE)","v":"003"},9.6000000000000002E-2]
["REP ABJ",4,"22155890570",null,"Entretien et aménagement du jardin","Structures extérieures non-maçonnées","Terre cuite ou crue >90%","Compris entre 15 kg et 20 kg exclus","€/unité",0.1,0.1,{"$f":"VLOOKUP(J4966,'Codes éco-part'!$C:$E,3,FALSE)","v":"094"},0.12]
["REP ABJ",4,"22155890580",null,"Entretien et aménagement du jardin","Structures extérieures non-maçonnées","Terre cuite ou crue >90%","Compris entre 20 kg et 25 kg exclus","€/unité",0.13,0.13,{"$f":"VLOOKUP(J4967,'Codes éco-part'!$C:$E,3,FALSE)","v":"004"},0.156]
["REP ABJ",4,"22155890590",null,"Entretien et aménagement du jardin","Structures extérieures non-maçonnées","Terre cuite ou crue >90%","Compris entre 25 kg et 30 kg exclus","€/unité",0.15,0.15,{"$f":"VLOOKUP(J4968,'Codes éco-part'!$C:$E,3,FALSE)","v":"050"},0.18]
["REP ABJ",4,"22155890600",null,"Entretien et aménagement du jardin","Structures extérieures non-maçonnées","Terre cuite ou crue >90%","Compris entre 40 kg et 50 kg exclus","€/unité",0.25,0.25,{"$f":"VLOOKUP(J4969,'Codes éco-part'!$C:$E,3,FALSE)","v":"095"},0.3]
["REP ABJ",4,"22155900000",null,"Entretien et aménagement du jardin","Structures extérieures non-maçonnées","Ciment >90%","Eléments de toutes dimensions et poids","€ / Tonne",5,5,{"$f":"VLOOKUP(J4970,'Codes éco-part'!$C:$E,3,FALSE)","v":"042"},6]
["REP ABJ",4,"22155900200",null,"Entretien et aménagement du jardin","Structures extérieures non-maçonnées","Ciment >90%","Inférieur strictement à 0,5 kg","€/unité",0.01,0.01,{"$f":"VLOOKUP(J4971,'Codes éco-part'!$C:$E,3,FALSE)","v":"260"},1.2E-2]
["REP ABJ",4,"22155900210",null,"Entretien et aménagement du jardin","Structures extérieures non-maçonnées","Ciment >90%","Compris entre 0,5 kg et 1 kg exclus","€/unité",0.01,0.01,{"$f":"VLOOKUP(J4972,'Codes éco-part'!$C:$E,3,FALSE)","v":"260"},1.2E-2]
["REP ABJ",4,"22155900220",null,"Entretien et aménagement du jardin","Structures extérieures non-maçonnées","Ciment >90%","Compris entre 1 kg et 2 kg exclus","€/unité",0.01,0.01,{"$f":"VLOOKUP(J4973,'Codes éco-part'!$C:$E,3,FALSE)","v":"260"},1.2E-2]
["REP ABJ",4,"22155900270",null,"Entretien et aménagement du jardin","Structures extérieures non-maçonnées","Ciment >90%","Compris entre 30 kg et 40 kg exclus","€/unité",0.2,0.2,{"$f":"VLOOKUP(J4974,'Codes éco-part'!$C:$E,3,FALSE)","v":"101"},0.24]
["REP ABJ",4,"22155900520",null,"Entretien et aménagement du jardin","Structures extérieures non-maçonnées","Ciment >90%","Compris entre 2 kg et 3 kg exclus","€/unité",0.01,0.01,{"$f":"VLOOKUP(J4975,'Codes éco-part'!$C:$E,3,FALSE)","v":"260"},1.2E-2]
["REP ABJ",4,"22155900530",null,"Entretien et aménagement du jardin","Structures extérieures non-maçonnées","Ciment >90%","Compris entre 3 kg et 5 kg exclus","€/unité",0.02,0.02,{"$f":"VLOOKUP(J4976,'Codes éco-part'!$C:$E,3,FALSE)","v":"047"},2.4E-2]
["REP ABJ",4,"22155900540",null,"Entretien et aménagement du jardin","Structures extérieures non-maçonnées","Ciment >90%","Compris entre 5 kg et 7 kg exclus","€/unité",0.04,0.04,{"$f":"VLOOKUP(J4977,'Codes éco-part'!$C:$E,3,FALSE)","v":"002"},4.8000000000000001E-2]
["REP ABJ",4,"22155900550",null,"Entretien et aménagement du jardin","Structures extérieures non-maçonnées","Ciment >90%","Compris entre 7 kg et 10 kg exclus","€/unité",0.05,0.05,{"$f":"VLOOKUP(J4978,'Codes éco-part'!$C:$E,3,FALSE)","v":"048"},0.06]
["REP ABJ",4,"22155900560",null,"Entretien et aménagement du jardin","Structures extérieures non-maçonnées","Ciment >90%","Compris entre 10 kg et 15 kg exclus","€/unité",0.08,0.08,{"$f":"VLOOKUP(J4979,'Codes éco-part'!$C:$E,3,FALSE)","v":"003"},9.6000000000000002E-2]
["REP ABJ",4,"22155900570",null,"Entretien et aménagement du jardin","Structures extérieures non-maçonnées","Ciment >90%","Compris entre 15 kg et 20 kg exclus","€/unité",0.1,0.1,{"$f":"VLOOKUP(J4980,'Codes éco-part'!$C:$E,3,FALSE)","v":"094"},0.12]
["REP ABJ",4,"22155900580",null,"Entretien et aménagement du jardin","Structures extérieures non-maçonnées","Ciment >90%","Compris entre 20 kg et 25 kg exclus","€/unité",0.13,0.13,{"$f":"VLOOKUP(J4981,'Codes éco-part'!$C:$E,3,FALSE)","v":"004"},0.156]
["REP ABJ",4,"22155900590",null,"Entretien et aménagement du jardin","Structures extérieures non-maçonnées","Ciment >90%","Compris entre 25 kg et 30 kg exclus","€/unité",0.15,0.15,{"$f":"VLOOKUP(J4982,'Codes éco-part'!$C:$E,3,FALSE)","v":"050"},0.18]
["REP ABJ",4,"22155900600",null,"Entretien et aménagement du jardin","Structures extérieures non-maçonnées","Ciment >90%","Compris entre 40 kg et 50 kg exclus","€/unité",0.25,0.25,{"$f":"VLOOKUP(J4983,'Codes éco-part'!$C:$E,3,FALSE)","v":"095"},0.3]
["REP ABJ",4,"22155910000",null,"Entretien et aménagement du jardin","Structures extérieures non-maçonnées","Granit >90%","Eléments de toutes dimensions et poids","€ / Tonne",5,5,{"$f":"VLOOKUP(J4984,'Codes éco-part'!$C:$E,3,FALSE)","v":"042"},6]
["REP ABJ",4,"22155910200",null,"Entretien et aménagement du jardin","Structures extérieures non-maçonnées","Granit >90%","Inférieur strictement à 0,5 kg","€/unité",0.01,0.01,{"$f":"VLOOKUP(J4985,'Codes éco-part'!$C:$E,3,FALSE)","v":"260"},1.2E-2]
["REP ABJ",4,"22155910210",null,"Entretien et aménagement du jardin","Structures extérieures non-maçonnées","Granit >90%","Compris entre 0,5 kg et 1 kg exclus","€/unité",0.01,0.01,{"$f":"VLOOKUP(J4986,'Codes éco-part'!$C:$E,3,FALSE)","v":"260"},1.2E-2]
["REP ABJ",4,"22155910220",null,"Entretien et aménagement du jardin","Structures extérieures non-maçonnées","Granit >90%","Compris entre 1 kg et 2 kg exclus","€/unité",0.01,0.01,{"$f":"VLOOKUP(J4987,'Codes éco-part'!$C:$E,3,FALSE)","v":"260"},1.2E-2]
["REP ABJ",4,"22155910270",null,"Entretien et aménagement du jardin","Structures extérieures non-maçonnées","Granit >90%","Compris entre 30 kg et 40 kg exclus","€/unité",0.2,0.2,{"$f":"VLOOKUP(J4988,'Codes éco-part'!$C:$E,3,FALSE)","v":"101"},0.24]
["REP ABJ",4,"22155910520",null,"Entretien et aménagement du jardin","Structures extérieures non-maçonnées","Granit >90%","Compris entre 2 kg et 3 kg exclus","€/unité",0.01,0.01,{"$f":"VLOOKUP(J4989,'Codes éco-part'!$C:$E,3,FALSE)","v":"260"},1.2E-2]
["REP ABJ",4,"22155910530",null,"Entretien et aménagement du jardin","Structures extérieures non-maçonnées","Granit >90%","Compris entre 3 kg et 5 kg exclus","€/unité",0.02,0.02,{"$f":"VLOOKUP(J4990,'Codes éco-part'!$C:$E,3,FALSE)","v":"047"},2.4E-2]
["REP ABJ",4,"22155910540",null,"Entretien et aménagement du jardin","Structures extérieures non-maçonnées","Granit >90%","Compris entre 5 kg et 7 kg exclus","€/unité",0.04,0.04,{"$f":"VLOOKUP(J4991,'Codes éco-part'!$C:$E,3,FALSE)","v":"002"},4.8000000000000001E-2]
["REP ABJ",4,"22155910550",null,"Entretien et aménagement du jardin","Structures extérieures non-maçonnées","Granit >90%","Compris entre 7 kg et 10 kg exclus","€/unité",0.05,0.05,{"$f":"VLOOKUP(J4992,'Codes éco-part'!$C:$E,3,FALSE)","v":"048"},0.06]
["REP ABJ",4,"22155910560",null,"Entretien et aménagement du jardin","Structures extérieures non-maçonnées","Granit >90%","Compris entre 10 kg et 15 kg exclus","€/unité",0.08,0.08,{"$f":"VLOOKUP(J4993,'Codes éco-part'!$C:$E,3,FALSE)","v":"003"},9.6000000000000002E-2]
["REP ABJ",4,"22155910570",null,"Entretien et aménagement du jardin","Structures extérieures non-maçonnées","Granit >90%","Compris entre 15 kg et 20 kg exclus","€/unité",0.1,0.1,{"$f":"VLOOKUP(J4994,'Codes éco-part'!$C:$E,3,FALSE)","v":"094"},0.12]
["REP ABJ",4,"22155910580",null,"Entretien et aménagement du jardin","Structures extérieures non-maçonnées","Granit >90%","Compris entre 20 kg et 25 kg exclus","€/unité",0.13,0.13,{"$f":"VLOOKUP(J4995,'Codes éco-part'!$C:$E,3,FALSE)","v":"004"},0.156]
["REP ABJ",4,"22155910590",null,"Entretien et aménagement du jardin","Structures extérieures non-maçonnées","Granit >90%","Compris entre 25 kg et 30 kg exclus","€/unité",0.15,0.15,{"$f":"VLOOKUP(J4996,'Codes éco-part'!$C:$E,3,FALSE)","v":"050"},0.18]
["REP ABJ",4,"22155910600",null,"Entretien et aménagement du jardin","Structures extérieures non-maçonnées","Granit >90%","Compris entre 40 kg et 50 kg exclus","€/unité",0.25,0.25,{"$f":"VLOOKUP(J4997,'Codes éco-part'!$C:$E,3,FALSE)","v":"095"},0.3]
["REP ABJ",4,"22155940000",null,"Entretien et aménagement du jardin","Structures extérieures non-maçonnées","Grès >90%","Eléments de toutes dimensions et poids","€ / Tonne",5,5,{"$f":"VLOOKUP(J4998,'Codes éco-part'!$C:$E,3,FALSE)","v":"042"},6]
["REP ABJ",4,"22155940200",null,"Entretien et aménagement du jardin","Structures extérieures non-maçonnées","Grès >90%","Inférieur strictement à 0,5 kg","€/unité",0.01,0.01,{"$f":"VLOOKUP(J4999,'Codes éco-part'!$C:$E,3,FALSE)","v":"260"},1.2E-2]
["REP ABJ",4,"22155940210",null,"Entretien et aménagement du jardin","Structures extérieures non-maçonnées","Grès >90%","Compris entre 0,5 kg et 1 kg exclus","€/unité",0.01,0.01,{"$f":"VLOOKUP(J5000,'Codes éco-part'!$C:$E,3,FALSE)","v":"260"},1.2E-2]
["REP ABJ",4,"22155940220",null,"Entretien et aménagement du jardin","Structures extérieures non-maçonnées","Grès >90%","Compris entre 1 kg et 2 kg exclus","€/unité",0.01,0.01,{"$f":"VLOOKUP(J5001,'Codes éco-part'!$C:$E,3,FALSE)","v":"260"},1.2E-2]
["REP ABJ",4,"22155940270",null,"Entretien et aménagement du jardin","Structures extérieures non-maçonnées","Grès >90%","Compris entre 30 kg et 40 kg exclus","€/unité",0.2,0.2,{"$f":"VLOOKUP(J5002,'Codes éco-part'!$C:$E,3,FALSE)","v":"101"},0.24]
["REP ABJ",4,"22155940520",null,"Entretien et aménagement du jardin","Structures extérieures non-maçonnées","Grès >90%","Compris entre 2 kg et 3 kg exclus","€/unité",0.01,0.01,{"$f":"VLOOKUP(J5003,'Codes éco-part'!$C:$E,3,FALSE)","v":"260"},1.2E-2]
["REP ABJ",4,"22155940530",null,"Entretien et aménagement du jardin","Structures extérieures non-maçonnées","Grès >90%","Compris entre 3 kg et 5 kg exclus","€/unité",0.02,0.02,{"$f":"VLOOKUP(J5004,'Codes éco-part'!$C:$E,3,FALSE)","v":"047"},2.4E-2]
["REP ABJ",4,"22155940540",null,"Entretien et aménagement du jardin","Structures extérieures non-maçonnées","Grès >90%","Compris entre 5 kg et 7 kg exclus","€/unité",0.04,0.04,{"$f":"VLOOKUP(J5005,'Codes éco-part'!$C:$E,3,FALSE)","v":"002"},4.8000000000000001E-2]
["REP ABJ",4,"22155940550",null,"Entretien et aménagement du jardin","Structures extérieures non-maçonnées","Grès >90%","Compris entre 7 kg et 10 kg exclus","€/unité",0.05,0.05,{"$f":"VLOOKUP(J5006,'Codes éco-part'!$C:$E,3,FALSE)","v":"048"},0.06]
["REP ABJ",4,"22155940560",null,"Entretien et aménagement du jardin","Structures extérieures non-maçonnées","Grès >90%","Compris entre 10 kg et 15 kg exclus","€/unité",0.08,0.08,{"$f":"VLOOKUP(J5007,'Codes éco-part'!$C:$E,3,FALSE)","v":"003"},9.6000000000000002E-2]
["REP ABJ",4,"22155940570",null,"Entretien et aménagement du jardin","Structures extérieures non-maçonnées","Grès >90%","Compris entre 15 kg et 20 kg exclus","€/unité",0.1,0.1,{"$f":"VLOOKUP(J5008,'Codes éco-part'!$C:$E,3,FALSE)","v":"094"},0.12]
["REP ABJ",4,"22155940580",null,"Entretien et aménagement du jardin","Structures extérieures non-maçonnées","Grès >90%","Compris entre 20 kg et 25 kg exclus","€/unité",0.13,0.13,{"$f":"VLOOKUP(J5009,'Codes éco-part'!$C:$E,3,FALSE)","v":"004"},0.156]
["REP ABJ",4,"22155940590",null,"Entretien et aménagement du jardin","Structures extérieures non-maçonnées","Grès >90%","Compris entre 25 kg et 30 kg exclus","€/unité",0.15,0.15,{"$f":"VLOOKUP(J5010,'Codes éco-part'!$C:$E,3,FALSE)","v":"050"},0.18]
["REP ABJ",4,"22155940600",null,"Entretien et aménagement du jardin","Structures extérieures non-maçonnées","Grès >90%","Compris entre 40 kg et 50 kg exclus","€/unité",0.25,0.25,{"$f":"VLOOKUP(J5011,'Codes éco-part'!$C:$E,3,FALSE)","v":"095"},0.3]
["REP ABJ",4,"22155970000",null,"Entretien et aménagement du jardin","Structures extérieures non-maçonnées","Céramique >90%","Eléments de toutes dimensions et poids","€ / Tonne",10,10,{"$f":"VLOOKUP(J5012,'Codes éco-part'!$C:$E,3,FALSE)","v":"138"},12]
["REP ABJ",4,"22155970200",null,"Entretien et aménagement du jardin","Structures extérieures non-maçonnées","Céramique >90%","Inférieur strictement à 0,5 kg","€/unité",0.01,0.01,{"$f":"VLOOKUP(J5013,'Codes éco-part'!$C:$E,3,FALSE)","v":"260"},1.2E-2]
["REP ABJ",4,"22155970210",null,"Entretien et aménagement du jardin","Structures extérieures non-maçonnées","Céramique >90%","Compris entre 0,5 kg et 1 kg exclus","€/unité",0.01,0.01,{"$f":"VLOOKUP(J5014,'Codes éco-part'!$C:$E,3,FALSE)","v":"260"},1.2E-2]
["REP ABJ",4,"22155970220",null,"Entretien et aménagement du jardin","Structures extérieures non-maçonnées","Céramique >90%","Compris entre 1 kg et 2 kg exclus","€/unité",0.02,0.02,{"$f":"VLOOKUP(J5015,'Codes éco-part'!$C:$E,3,FALSE)","v":"047"},2.4E-2]
["REP ABJ",4,"22155970270",null,"Entretien et aménagement du jardin","Structures extérieures non-maçonnées","Céramique >90%","Compris entre 30 kg et 40 kg exclus","€/unité",0.4,0.4,{"$f":"VLOOKUP(J5016,'Codes éco-part'!$C:$E,3,FALSE)","v":"105"},0.48]
["REP ABJ",4,"22155970520",null,"Entretien et aménagement du jardin","Structures extérieures non-maçonnées","Céramique >90%","Compris entre 2 kg et 3 kg exclus","€/unité",0.03,0.03,{"$f":"VLOOKUP(J5017,'Codes éco-part'!$C:$E,3,FALSE)","v":"092"},{"$f":"J5017*1.2","v":3.5999999999999997E-2}]
["REP ABJ",4,"22155970530",null,"Entretien et aménagement du jardin","Structures extérieures non-maçonnées","Céramique >90%","Compris entre 3 kg et 5 kg exclus","€/unité",0.04,0.04,{"$f":"VLOOKUP(J5018,'Codes éco-part'!$C:$E,3,FALSE)","v":"002"},4.8000000000000001E-2]
["REP ABJ",4,"22155970540",null,"Entretien et aménagement du jardin","Structures extérieures non-maçonnées","Céramique >90%","Compris entre 5 kg et 7 kg exclus","€/unité",7.0000000000000007E-2,7.0000000000000007E-2,{"$f":"VLOOKUP(J5019,'Codes éco-part'!$C:$E,3,FALSE)","v":"247"},8.4000000000000005E-2]
["REP ABJ",4,"22155970550",null,"Entretien et aménagement du jardin","Structures extérieures non-maçonnées","Céramique >90%","Compris entre 7 kg et 10 kg exclus","€/unité",0.1,0.1,{"$f":"VLOOKUP(J5020,'Codes éco-part'!$C:$E,3,FALSE)","v":"094"},0.12]
["REP ABJ",4,"22155970560",null,"Entretien et aménagement du jardin","Structures extérieures non-maçonnées","Céramique >90%","Compris entre 10 kg et 15 kg exclus","€/unité",0.15,0.15,{"$f":"VLOOKUP(J5021,'Codes éco-part'!$C:$E,3,FALSE)","v":"050"},0.18]
["REP ABJ",4,"22155970570",null,"Entretien et aménagement du jardin","Structures extérieures non-maçonnées","Céramique >90%","Compris entre 15 kg et 20 kg exclus","€/unité",0.2,0.2,{"$f":"VLOOKUP(J5022,'Codes éco-part'!$C:$E,3,FALSE)","v":"101"},0.24]
["REP ABJ",4,"22155970580",null,"Entretien et aménagement du jardin","Structures extérieures non-maçonnées","Céramique >90%","Compris entre 20 kg et 25 kg exclus","€/unité",0.25,0.25,{"$f":"VLOOKUP(J5023,'Codes éco-part'!$C:$E,3,FALSE)","v":"095"},0.3]
["REP ABJ",4,"22155970590",null,"Entretien et aménagement du jardin","Structures extérieures non-maçonnées","Céramique >90%","Compris entre 25 kg et 30 kg exclus","€/unité",0.3,0.3,{"$f":"VLOOKUP(J5024,'Codes éco-part'!$C:$E,3,FALSE)","v":"446"},0.36]
["REP ABJ",4,"22155970600",null,"Entretien et aménagement du jardin","Structures extérieures non-maçonnées","Céramique >90%","Compris entre 40 kg et 50 kg exclus","€/unité",0.5,0.5,{"$f":"VLOOKUP(J5025,'Codes éco-part'!$C:$E,3,FALSE)","v":"053"},0.6]
["REP ABJ",4,"22155980000",null,"Entretien et aménagement du jardin","Structures extérieures non-maçonnées","Pierre artificielle >90%","Eléments de toutes dimensions et poids","€ / Tonne",5,5,{"$f":"VLOOKUP(J5026,'Codes éco-part'!$C:$E,3,FALSE)","v":"042"},6]
["REP ABJ",4,"22155980200",null,"Entretien et aménagement du jardin","Structures extérieures non-maçonnées","Pierre artificielle >90%","Inférieur strictement à 0,5 kg","€/unité",0.01,0.01,{"$f":"VLOOKUP(J5027,'Codes éco-part'!$C:$E,3,FALSE)","v":"260"},1.2E-2]
["REP ABJ",4,"22155980210",null,"Entretien et aménagement du jardin","Structures extérieures non-maçonnées","Pierre artificielle >90%","Compris entre 0,5 kg et 1 kg exclus","€/unité",0.01,0.01,{"$f":"VLOOKUP(J5028,'Codes éco-part'!$C:$E,3,FALSE)","v":"260"},1.2E-2]
["REP ABJ",4,"22155980220",null,"Entretien et aménagement du jardin","Structures extérieures non-maçonnées","Pierre artificielle >90%","Compris entre 1 kg et 2 kg exclus","€/unité",0.01,0.01,{"$f":"VLOOKUP(J5029,'Codes éco-part'!$C:$E,3,FALSE)","v":"260"},1.2E-2]
["REP ABJ",4,"22155980270",null,"Entretien et aménagement du jardin","Structures extérieures non-maçonnées","Pierre artificielle >90%","Compris entre 30 kg et 40 kg exclus","€/unité",0.2,0.2,{"$f":"VLOOKUP(J5030,'Codes éco-part'!$C:$E,3,FALSE)","v":"101"},0.24]
["REP ABJ",4,"22155980520",null,"Entretien et aménagement du jardin","Structures extérieures non-maçonnées","Pierre artificielle >90%","Compris entre 2 kg et 3 kg exclus","€/unité",0.01,0.01,{"$f":"VLOOKUP(J5031,'Codes éco-part'!$C:$E,3,FALSE)","v":"260"},1.2E-2]
["REP ABJ",4,"22155980530",null,"Entretien et aménagement du jardin","Structures extérieures non-maçonnées","Pierre artificielle >90%","Compris entre 3 kg et 5 kg exclus","€/unité",0.02,0.02,{"$f":"VLOOKUP(J5032,'Codes éco-part'!$C:$E,3,FALSE)","v":"047"},2.4E-2]
["REP ABJ",4,"22155980540",null,"Entretien et aménagement du jardin","Structures extérieures non-maçonnées","Pierre artificielle >90%","Compris entre 5 kg et 7 kg exclus","€/unité",0.04,0.04,{"$f":"VLOOKUP(J5033,'Codes éco-part'!$C:$E,3,FALSE)","v":"002"},4.8000000000000001E-2]
["REP ABJ",4,"22155980550",null,"Entretien et aménagement du jardin","Structures extérieures non-maçonnées","Pierre artificielle >90%","Compris entre 7 kg et 10 kg exclus","€/unité",0.05,0.05,{"$f":"VLOOKUP(J5034,'Codes éco-part'!$C:$E,3,FALSE)","v":"048"},0.06]
["REP ABJ",4,"22155980560",null,"Entretien et aménagement du jardin","Structures extérieures non-maçonnées","Pierre artificielle >90%","Compris entre 10 kg et 15 kg exclus","€/unité",0.08,0.08,{"$f":"VLOOKUP(J5035,'Codes éco-part'!$C:$E,3,FALSE)","v":"003"},9.6000000000000002E-2]
["REP ABJ",4,"22155980570",null,"Entretien et aménagement du jardin","Structures extérieures non-maçonnées","Pierre artificielle >90%","Compris entre 15 kg et 20 kg exclus","€/unité",0.1,0.1,{"$f":"VLOOKUP(J5036,'Codes éco-part'!$C:$E,3,FALSE)","v":"094"},0.12]
["REP ABJ",4,"22155980580",null,"Entretien et aménagement du jardin","Structures extérieures non-maçonnées","Pierre artificielle >90%","Compris entre 20 kg et 25 kg exclus","€/unité",0.13,0.13,{"$f":"VLOOKUP(J5037,'Codes éco-part'!$C:$E,3,FALSE)","v":"004"},0.156]
["REP ABJ",4,"22155980590",null,"Entretien et aménagement du jardin","Structures extérieures non-maçonnées","Pierre artificielle >90%","Compris entre 25 kg et 30 kg exclus","€/unité",0.15,0.15,{"$f":"VLOOKUP(J5038,'Codes éco-part'!$C:$E,3,FALSE)","v":"050"},0.18]
["REP ABJ",4,"22155980600",null,"Entretien et aménagement du jardin","Structures extérieures non-maçonnées","Pierre artificielle >90%","Compris entre 40 kg et 50 kg exclus","€/unité",0.25,0.25,{"$f":"VLOOKUP(J5039,'Codes éco-part'!$C:$E,3,FALSE)","v":"095"},0.3]

{"sheet":"PMCB - Grille d'éco-part","index":7,"n_rows":55,"n_cols":7,"rows_kept":55,"cut":false,"hidden":true,"merged":[[6,1,9,1],[2,2,3,2],[2,4,3,4],[2,5,3,5],[2,6,3,6],[4,1,5,1],[35,1,36,1],[38,1,39,1],[11,1,14,1],[15,1,20,1],[21,1,26,1],[27,1,28,1],[29,1,31,1],[33,1,34,1]]}
["Grille d'éco-participation ecomaison par matériau"]
[]
[null,"Contribution applicable au matériau en € par kg.","#",null,"Toutes catégories de produits (pour le détail des produits concernés voir le fichier Grille Détaillée)","En euros/ kG","En euros/ To"]
[null,"Applicable à compter du 1er janvier 2023."]
[null,"1 - Métal (Cat. a du décret)",{"$f":"VLOOKUP(E5,'Comprendre la codification'!$D$49:$F$126,3,FALSE)","v":28},{"$f":"\"40310\"&C5&\"0000\"","v":"40310280000"},"Métal >90%",5.0000000000000001E-4,{"$f":"F5*1000","v":0.5}]
[null,null,{"$f":"VLOOKUP(E6,'Comprendre la codification'!$D$49:$F$126,3,FALSE)","v":"02"},{"$f":"\"40310\"&C6&\"0000\"","v":"40310020000"},"Assemblage avec métal >50% et autres matériaux",3.0000000000000001E-3,{"$f":"F6*1000","v":3}]
[null,"2 - Bois et dérivés de bois. (Cat. b du décret)",{"$f":"VLOOKUP(E7,'Comprendre la codification'!$D$49:$F$126,3,FALSE)","v":53},"40310530000","Massif et assimilés >90%",8.0000000000000002E-3,8]
[null,null,{"$f":"VLOOKUP(E8,'Comprendre la codification'!$D$49:$F$126,3,FALSE)","v":61},"40310610000","Panneaux de particules ou OSB >90%",8.0000000000000002E-3,8]
[null,null,{"$f":"VLOOKUP(E9,'Comprendre la codification'!$D$49:$F$126,3,FALSE)","v":62},"40310620000","Dérivés de bois >90%",8.0000000000000002E-3,8]
[null,null,{"$f":"VLOOKUP(E10,'Comprendre la codification'!$D$49:$F$126,3,FALSE)","v":"01"},"40310010000","Assemblage de bois, dérivés de bois à plus de 50% avec d'autres matériaux ou bois composite (hors verre)",8.9999999999999993E-3,9]
[null,"3 - Papier carton (Cat. j du décret)",{"$f":"VLOOKUP(E11,'Comprendre la codification'!$D$49:$F$126,3,FALSE)","v":"19"},"40310190000","Papier carton >50% avec d'autres matériaux (hors verre)",1.7000000000000001E-2,17]
[null,"4 - Matériaux et fibres d'origine végétal ou animal autres que bois et papier, carton (Cat. j du décret)",{"$f":"VLOOKUP(E12,'Comprendre la codification'!$D$49:$F$126,3,FALSE)","v":55},"40310550000","Matériaux bio sourcés ou textiles non synthétiques >90%",4.0000000000000001E-3,4]
[null,null,{"$f":"VLOOKUP(E13,'Comprendre la codification'!$D$49:$F$126,3,FALSE)","v":"04"},"40310040000","Matériaux bio sourcés ou textiles non synthétiques >50%",4.0000000000000001E-3,4]
[null,null,{"$f":"VLOOKUP(E14,'Comprendre la codification'!$D$49:$F$126,3,FALSE)","v":63},"40310630000","Caoutchouc naturel >90%",8.9999999999999993E-3,9]
[null,null,{"$f":"VLOOKUP(E15,'Comprendre la codification'!$D$49:$F$126,3,FALSE)","v":64},"40310640000","Caoutchouc naturel >50%",8.9999999999999993E-3,9]
[null,"5 - Plastique, matériaux et fibres synthétiques (Cat. f du décret)",{"$f":"VLOOKUP(E16,'Comprendre la codification'!$D$49:$F$126,3,FALSE)","v":41},"40310410000","Plastiques (mono résine) >90%",8.9999999999999993E-3,9]
[null,null,{"$f":"VLOOKUP(E17,'Comprendre la codification'!$D$49:$F$126,3,FALSE)","v":"05"},"40310050000","Plastiques ou autres matériaux synthétiques >50%",0.03,30]
[null,null,{"$f":"VLOOKUP(E18,'Comprendre la codification'!$D$49:$F$126,3,FALSE)","v":49},"40310490000","Caoutchouc synthétique >90%",8.9999999999999993E-3,9]
[null,null,{"$f":"VLOOKUP(E19,'Comprendre la codification'!$D$49:$F$126,3,FALSE)","v":40},"40310400000","Assemblage caoutchouc synthétique ou latex >50% avec d'autres matériaux",0.03,30]
[null,null,{"$f":"VLOOKUP(E20,'Comprendre la codification'!$D$49:$F$126,3,FALSE)","v":65},"40310650000","Matériaux ou fibres synthétiques >90%",0.03,30]
[null,null,{"$f":"VLOOKUP(E21,'Comprendre la codification'!$D$49:$F$126,3,FALSE)","v":67},"40310670000","Assemblage matériaux ou fibres synthétiques >50% avec d'autres matériaux",0.03,30]
[null,"6 - Verre et parois vitrées (Cat. d du décret)",{"$f":"VLOOKUP(E22,'Comprendre la codification'!$D$49:$F$126,3,FALSE)","v":68},"40310680000","Verre >90%",8.9999999999999993E-3,9]
[null,null,{"$f":"VLOOKUP(E23,'Comprendre la codification'!$D$49:$F$126,3,FALSE)","v":70},"40310700000","Assemblage verre à plus de 50% avec métal",8.9999999999999993E-3,9]
[null,null,{"$f":"VLOOKUP(E24,'Comprendre la codification'!$D$49:$F$126,3,FALSE)","v":71},"40310710000","Assemblage verre à plus de 50% avec Inerte",8.9999999999999993E-3,9]
[null,null,{"$f":"VLOOKUP(E25,'Comprendre la codification'!$D$49:$F$126,3,FALSE)","v":72},"40310720000","Assemblage verre à plus de 50% avec bois ou dérivés de bois",8.9999999999999993E-3,9]
[null,null,{"$f":"VLOOKUP(E26,'Comprendre la codification'!$D$49:$F$126,3,FALSE)","v":73},"40310730000","Assemblage verre à plus de 50% avec plastique",8.9999999999999993E-3,9]
[null,null,{"$f":"VLOOKUP(E27,'Comprendre la codification'!$D$49:$F$126,3,FALSE)","v":69},"40310690000","Miroir >90%",0.03,30]
[null,"7 - Plâtre (Cat. e du décret)",{"$f":"VLOOKUP(E28,'Comprendre la codification'!$D$49:$F$126,3,FALSE)","v":75},"40310750000","Plâtre >90%",3.0000000000000001E-3,3]
[null,null,{"$f":"VLOOKUP(E29,'Comprendre la codification'!$D$49:$F$126,3,FALSE)","v":76},"40310760000","Plâtre >50%",4.0000000000000001E-3,4]
[null,"8- Laines de verre et laines de roches (Cat. h et i du décret)",{"$f":"VLOOKUP(E30,'Comprendre la codification'!$D$49:$F$126,3,FALSE)","v":77},"40310770000","Laines de roche à plus de 90 %",5.0000000000000001E-3,5]
[null,null,{"$f":"VLOOKUP(E31,'Comprendre la codification'!$D$49:$F$126,3,FALSE)","v":78},"40310780000","Laine de verre à plus de 90 %",5.0000000000000001E-3,5]
[null,null,{"$f":"VLOOKUP(E32,'Comprendre la codification'!$D$49:$F$126,3,FALSE)","v":79},"40310790000","Assemblage de laines de verre ou laines de roches à plus de 50% et d'autres matériaux",0.03,30]
[null,"9 - Membranes bitumineuses (Cat. g du décret)",{"$f":"VLOOKUP(E33,'Comprendre la codification'!$D$49:$F$126,3,FALSE)","v":80},"40310800000","Membranes bitumineuses à plus de 90 %",0.03,30]
[null,"10 - Autres mix matériaux ou matériaux non classés ou non spécifiés (produits appartenant aux catégories a,b, d, e, f, g, h, i et j et non spécifiés par l'entreprise)",{"$f":"VLOOKUP(E34,'Comprendre la codification'!$D$49:$F$126,3,FALSE)","v":82},"40310820000","Assemblage de 3 matériaux ou plus sans un matériau à plus de 50%",0.03,30]
[null,null,{"$f":"VLOOKUP(E35,'Comprendre la codification'!$D$49:$F$126,3,FALSE)","v":"00"},"40310000000","Non connu ou non spécifié par l'entreprise",0.03,30]
[null,"11 - Mortiers, enduits, peintures, vernis, résines, produits de préparation (Cat. c du décret)",{"$f":"VLOOKUP(E36,'Comprendre la codification'!#REF!,2,FALSE)","v":{"$error":"#REF!"}},{"$f":"\"50\"&C36&\"000000\"","v":{"$error":"#REF!"}},"Sous-couches, préparation des sols et étanchéité",5.5E-2,55]
[null,null,{"$f":"VLOOKUP(E37,'Comprendre la codification'!#REF!,2,FALSE)","v":{"$error":"#REF!"}},{"$f":"\"50\"&C37&\"000000\"","v":{"$error":"#REF!"}},"Peintures extérieures",7.0999999999999994E-2,71]
[null,null,{"$f":"VLOOKUP(E38,'Comprendre la codification'!#REF!,2,FALSE)","v":{"$error":"#REF!"}},{"$error":"#REF!"},"Traitements des murs et toitures",1.2E-2,12]
[null,null,{"$f":"VLOOKUP(E39,'Comprendre la codification'!#REF!,2,FALSE)","v":{"$error":"#REF!"}},{"$error":"#REF!"},"Peintures intérieures",7.0999999999999994E-2,71]
[null,null,{"$f":"VLOOKUP(E40,'Comprendre la codification'!#REF!,2,FALSE)","v":{"$error":"#REF!"}},{"$error":"#REF!"},"Colles et adhésifs",2.9000000000000001E-2,29]
[null,null,{"$f":"VLOOKUP(E41,'Comprendre la codification'!#REF!,2,FALSE)","v":{"$error":"#REF!"}},{"$error":"#REF!"},"Résines PU et expansive (aérosol)",0.04,40]
[null,null,{"$f":"VLOOKUP(E42,'Comprendre la codification'!#REF!,2,FALSE)","v":{"$error":"#REF!"}},{"$error":"#REF!"},"Mastic, joints et mousses polyuréthanes",1.2999999999999999E-2,13]
[null,null,{"$f":"VLOOKUP(E43,'Comprendre la codification'!#REF!,2,FALSE)","v":{"$error":"#REF!"}},{"$error":"#REF!"},"Adjuvants",2.9000000000000001E-2,29]
[null,null,{"$f":"VLOOKUP(E44,'Comprendre la codification'!#REF!,2,FALSE)","v":{"$error":"#REF!"}},{"$error":"#REF!"},"Traitements bois",7.5999999999999998E-2,76]
[null,null,{"$f":"VLOOKUP(E45,'Comprendre la codification'!#REF!,2,FALSE)","v":{"$error":"#REF!"}},{"$error":"#REF!"},"Traitement des matériaux  (aérosol)",4.1000000000000002E-2,41]
[null,null,{"$f":"VLOOKUP(E46,'Comprendre la codification'!#REF!,2,FALSE)","v":{"$error":"#REF!"}},{"$error":"#REF!"},"Traitement des matériaux hors bois ",8.9999999999999993E-3,9]
[null,null,{"$f":"VLOOKUP(E47,'Comprendre la codification'!#REF!,2,FALSE)","v":{"$error":"#REF!"}},{"$error":"#REF!"},"Vernis et vitrificateurs",7.0000000000000007E-2,70]
[null,null,{"$f":"VLOOKUP(E48,'Comprendre la codification'!#REF!,2,FALSE)","v":{"$error":"#REF!"}},{"$error":"#REF!"},"Vernis et vitrificateurs et dérivés (aérosols)",4.1000000000000002E-2,41]
[null,null,{"$f":"VLOOKUP(E49,'Comprendre la codification'!#REF!,2,FALSE)","v":{"$error":"#REF!"}},{"$error":"#REF!"},"Enduits poudre",2E-3,2]
[null,null,{"$f":"VLOOKUP(E50,'Comprendre la codification'!#REF!,2,FALSE)","v":{"$error":"#REF!"}},{"$error":"#REF!"},"Enduits pate",5.0000000000000001E-3,5]
[]
[null,"1 -  Aluminium, Acier, fonte, fer, laiton, bronze, tole, cuivre, nickel, titane, zinc, et autres alliages…."]
[null,"2 - Massif = massif, contrecollé, lamellé, plaqué/  Dérivés de bois = bois composite, MDF, HDF, alvéolaire, stratifé, HPL…."]
[null,"5 :  Plastiques et autres matériaux synthétiques : acrylique, PP, PE, PS, XPS, EPS, PER, Nylon, Polyamide, PU, PVC, vinyle, époxy, fibres synthétiques, PL, matériaux composites, carbone…."]
[null,"4 : Matériaux d'origine animale ou végétale autres que le Bois et le Papier Carton : Liège, chanvre, lin, coton, cuir, laine, soie, paille, rafia…."]

{"sheet":"PMCB - Grille forfaitaire","index":8,"n_rows":137,"n_cols":4,"rows_kept":137,"cut":false,"hidden":true,"merged":[[1,0,1,4],[41,0,41,4],[96,0,96,4],[118,0,118,4],[3,0,4,0],[3,1,3,3],[16,0,17,0],[16,1,16,2],[69,0,70,0],[69,1,69,2],[98,1,99,1],[69,3,70,3]]}
[]
["Tarifs en € HT par m2 "]
[]
["Menuiseries Extérieures ","Tarif € HT par unité de vente"]
[null,"Fenêtre <= 1,5 m2","1,5m² < Fenêtre < 3,5 m²"," Fenêtre >= 3,5m²"]
["Fenêtre et porte fenêtre (cadre en métal)",0.2,0.35,0.6]
["Fenêtre et porte fenêtre (cadre en Bois et Dérivés de bois)",0.2,0.35,0.6]
["Fenêtre et porte fenêtre en Plastiques (monorésine)",0.2,0.35,0.6]
["Fenêtre et porte fenêtre (Assemblage de 3 matériaux ou plus sans un matériau à plus de 50% )",0.2,0.5,0.6]
["Volet battant (métal à plus de 90 %)",5.0000000000000001E-3,1.7500000000000002E-2,0.03]
["Volet battant (bois et dérivés de bois à plus de 90 %)",0.1,0.15,0.2]
["Volet battant en Plastiques (monorésine à plus de 90%) ",8.5714285714285715E-2,0.14285714285714285,0.18]
["Volet battant en Plastiques (assemblage de plus de 3 matériaux et matériaux non spécifiés)",0.27,0.35,0.6]
["Volet roulant",0.03,0.05,0.06]
[]
[]
["Plâtre, élément en platre, cloisonnement, plafonds","Tarif en € HT par m²"]
[null,"Ep. <= 13 mm","Ep. > 13 mm"]
["Plâtre > 90 %",0.03,0.06]
["Plâtre > 50% (ex : plaque de platre doublé polystène)",0.06,0.12]
[]
["Revêtement mural","Tarif en € HT par m²"]
["Revêtement mural avec fibre de verre",0.01]
["Revêtement en matériaux bio sourcés ou textiles non synthétiques",0.05]
["Lambris (en bois massif et assimilé et Dérivés de bois > 90 %)",0.04]
["Lambris Plastiques monorésine à plus de 90% (PVC)",0.02]
["Lambris (assemblage de plus de 3 matériaux et matériaux non spécifiés)",0.06]
[]
["Parquets, terrasses bois et autres lames","Tarif en € HT par m²"]
["Bois massif et assimilés > 90 %",0.1]
["Dérivés de bois > 90% (stratifié)",0.08]
["Assemblage de Bois, dérivés de bois à plus de 50% avec d'autres matériaux ou bois composite (hors verre)",0.08]
["Matériaux bio sourcés ou textiles non synthétiques  > 90%",0.01]
[]
["Autres revetements de sols ","Tarif en € HT par m²"]
["Caoutchouc naturel > 90 %",0.15]
["Caoutchouc synthétique > 90 %",0.15]
["Assemblage Matériaux ou  fibres synthétiques > 50% avec d'autres matériaux",0.15]
["Plastiques (mono résine*) > 90 %",0.03]
["Matériaux bio sourcés ou textiles non synthétiques  > 90%",0.01]
[]
["Tarifs en € HT par unité"]
[]
["Menuiseries intérieures (Portes)","Tarif en  €/HT par unité de vente"]
["Huisserie métallique",0.04]
["Huisserie bois",0.08]
["Huisserie Plastiques (monorésine)",0.08]
["Huisserie (assemblage de plus de 3 matériaux et matériaux non spécifiés)",0.24]
["Ventail porte alvéolaire (Assemblage de bois, dérivés de bois à plus de 50% ou bois composite)",0.13]
["Ventail porte en Bois et dérivés de bois",0.36]
["Ventail porte en métal",0.13]
["Ventail porte vitrées",0.38]
["Ventail porte en verre (>90%)",0.32]
["Ventail porte en Plastiques (monorésine)",0.38]
["Trappes en métal",0.01]
["Trappes en Bois et dérivés de bois",0.05]
["Trappes en Plastiques (monorésine)",0.01]
[]
["Escalier ","Tarif en  €/HT par unité de vente"]
["Massif et assimilés > 90 %",0.8]
["Métal (1) > 90%",0.8]
[]
["Quincallerie et accessoires divers toute catégorie","Tarif en  €/HT par unité de vente"]
["Quincaillerie et accessoires en métal à plus de 90%, par lot ou par unité jusqu'à 5 kg ",0.01]
["Quincaillerie et accessoires en bois ou dérivés de bois, par lot ou par unité jusqu'à 1 kg ",0.01]
["Quincaillerie et accessoires en plastique (mono résine à plus de 90%), par lot ou par unité < 300 g ",0.01]
[]
[]
[]
["Equipements sanitaires pour salle de bain, cuisine et WC","Tarif en  €/HT par unité de vente"]
[null,"Largeur <= 1m","Largeur > 1m"]
["Evier, lavabo et vasque en céramique","ECOMINERO","ECOMINERO"]
["Evier, lavabo et vasque en métal à plus de 90 %",0.01,0.02]
["Evier, lavabo et vasque en bois à plus de 90 %",0.02,0.04]
["Evier, lavabo et vasque en mono résine plastique",{"$f":"0.35/30*9","v":0.10499999999999998},{"$f":"0.6/30*9","v":0.18}]
["Evier, lavabo et vasque en verre à plus de 90 %",0.17,0.3]
["Evier, lavabo et vasque en plastiques et autres matériaux synthétiques",0.17,0.3]
[]
["Equipements sanitaires pour salle de bain, cuisine et WC","Tarif en  €/HT par unité de vente"]
["Receveur de douche en céramique","ECOMINERO"]
["Receveur de douche en métal à plus de 90 %",0.01]
["Receveur de douche en mono résine plastique",0.3]
["Bloc WC en céramique","ECOMINERO"]
["Bloc WC en métal à plus de 90 %",0.1]
["Bloc WC  en plastiques et autres matériaux synthétiques",0.3]
["Baignoire en céramique","ECOMINERO"]
["Baignoire * en métal à plus de 90 %",0.3]
["Baignoire * en bois à plus de 90 %",0.45]
["Baignoire * en plastiques et autres matériaux synthétiques",0.45]
["Baignoire * en mono résine plastique",0.3]
["* hors baignoire balnéo"]
[]
["Chauffage ","Tarif en  €/HT par unité de vente"]
["Radiateur en métal à plus de 90 % < 1 mètre (plus grande largeur ou hauteur)",0.01]
["Radiateur en métal à plus de 90 % > 1 mètre (plus grande largeur ou hauteur)",0.03]
[]
["Tarifs en € HT par kg pour les produits spécifiques"]
[]
["11 - Mortiers, enduits, peintures, vernis, résines, produits de préparation (Cat. c du décret) : tarif en € HT / kg ","En euros HT/ kG"]
["Applicable en 2023."]
["Sous couches, préparation des sols et étanchéité",5.5E-2]
["Peintures extérieures",7.0999999999999994E-2]
["Traitement des sols et toitures",1.2E-2]
["Peintures intérieures",7.0999999999999994E-2]
["Colles et adhésifs",2.9000000000000001E-2]
["Résines PU et expansive (aérosol)",0.04]
["Mastics, joints et mousses PU",1.2999999999999999E-2]
["Adjuvants ",2.9000000000000001E-2]
["Traitement des bois ",7.5999999999999998E-2]
["Traitement des matériaux  (aérosol)",4.1000000000000002E-2]
["Traitement des matériaux hors bois ",8.9999999999999993E-3]
["Vernis et vitrificateurs et dérivés",7.0000000000000007E-2]
["Vernis et vitrificateurs et dérivés (aérosols)",4.1000000000000002E-2]
["Enduits poudre",2E-3]
["Enduits pate",5.0000000000000001E-3]
[]
["Liste complète des produits disponibles dans le fichier générateur des Tarifs et Codes"]
[]
["Tarifs en € HT par m3 ou ml"]
[]
["Tarifs en € HT par m3 ou ml"]
[]
["Bois de charpente et panneaux Bois et dérivés de bois ","Tarif en €/HT par m3"]
["Massif et assimilés > 90 %",4]
["Panneaux de particules ou OSB > 90%",5]
["Dérivés de bois > 90%",5.84]
[]
["Plinthes","Tarif en €/HT par ml"]
["Plastiques (mono résine*) > 90 %",0.01]
["Massif et assimilés > 90 %",0.01]
[]
["Portail","Tarif en €/HT par ml"]
["Massif et assimilés > 90 %",0.09]
["Panneaux de particules ou OSB > 90%",0.09]
["Métal (1) > 90%",0.01]
["Plastiques (mono résine*) > 90 % (PVC)",0.11]
["Assemblage de 3 matériaux ou plus sans un matériau à plus de 50% ",0.33]

{"sheet":"Codes petits producteurs","index":9,"n_rows":20,"n_cols":3,"rows_kept":20,"cut":false,"hidden":false,"merged":[[13,1,13,2],[0,0,0,3],[2,0,3,0],[2,1,3,1],[2,2,3,2],[5,1,5,2]]}
["Codification simplifiée"]
[]
["Eco-participations par lot de 10 unités","Tarif par lot de 10 unités","Code correspondant"]
[]
[]
["Cat.3 – Bricolage"]
["1. Outillage à main et leurs accessoires",4.3,"21100000900"]
["2. Gros objets et machines non électriques/thermiques et leurs accessoires",11.25,"21101000900"]
["3. Outils et supports de travail en hauteur",11.25,"21102000900"]
["4. Equipement personnel et accessoires de protection de bricolage",4.3,"21103000900"]
["5. Bâches de bricolage",15.05,"21104000900"]
["6. Seaux, auges et contenants",10.199999999999999,"21105000900"]
[]
["Cat.4 - Entretien et aménagement du jardin"]
["7. Outils à main d'entretien du jardin",4.3,"22150000900"]
["8. Equipement personnel de jardinage",4.3,"22151000900"]
["9. Pots de fleur et contenants",10.199999999999999,"22152000900"]
["10. Bâches, housses, films et filets",15.05,"22153000900"]
["11. Equipement de plein air",30,"22154000900"]
["12. Structures extérieures non maçonnées",150,"22155000900"]

{"sheet":"ABJ - Grille d'éco-part","index":10,"n_rows":82,"n_cols":17,"rows_kept":82,"cut":false,"hidden":false,"merged":[[64,1,65,1],[64,2,65,2],[67,1,67,2],[75,1,75,2],[62,0,62,8],[64,0,65,0],[3,0,3,8],[10,0,10,5],[11,0,11,8],[0,0,1,0],[0,8,1,8],[0,1,0,2],[0,3,0,4],[0,5,0,6],[19,0,19,8],[22,1,22,2],[22,3,22,4],[22,5,22,6],[22,8,23,8],[49,8,50,8],[39,1,39,2],[39,3,39,4],[39,5,39,6],[39,8,40,8],[39,0,40,0],[22,0,23,0],[49,1,49,2],[49,3,49,4],[49,5,49,6],[49,0,50,0]]}
["Eco-participations à l’€ / Tonne","Monomatériau (90%)",null,"Majorité (>50%)",null,"Monomatériau (90%)",null,"Majorité (>50%)","Mix matériaux ou Assemblage de plus de 3 matériaux sans matériau majoritaire (hors ceux colonne E) ou composites ou non spécifié"]
[null,"Matériaux inertes hors céramique","Céramique","Métal","Bois ou Bois + Métal"," Textile non synthétique ou matériaux biosourcés (Carton, papier, lin, chanvre…)","Textile synthétique, polymères ou Plastique monorésine","Textile synthétique ou Plastique"]
[]
["Cat.3 – Bricolage"]
["1. Outillage à main et leurs accessoires","-","-",10,45,50,165,215,215,null,{"$f":"D5/1000","v":0.01},{"$f":"E5/1000","v":4.4999999999999998E-2},0.05,0.16500000000000001,0.215,0.215,0]
["2. Gros objets et machines non électriques/thermiques et leurs accessoires","-","-",3,10,30,50,75,75]
["3. Outils et supports de travail en hauteur","-","-",3,10,30,50,75,75]
["4. Equipement personnel et accessoires de protection de bricolage","-","-",10,45,50,165,215,215]
["5. Bâches de bricolage","-","-","-","-",50,165,215,215]
["6. Seaux, auges et contenants",5,10,10,20,50,130,170,170]
[]
["Cat.4 - Entretien et aménagement du jardin"]
["7. Outils à main d'entretien du jardin",5,10,10,45,50,165,215,215]
["8. Equipement personnel de jardinage","-","-",10,45,50,165,215,215]
["9. Pots de fleur et contenants",5,10,10,20,50,130,170,170]
["10. Bâches, housses, films et filets","-","-","-","-",50,165,215,215]
["11. Equipement de plein air",5,10,3,10,30,50,75,75]
["12. Structures extérieures non maçonnées",5,10,3,10,30,50,75,75]
[]
["Barème alternatif par tranches de poids"]
[]
[]
["Gros objets, supports de travail en hauteur, équipements de plein air et structures extérieures","Monomatériau (90%)",null,"Majorité (>50%)",null,"Monomatériau (90%)",null,"Majorité (>50%)","Mix matériaux ou Assemblage de plus de 3 matériaux sans matériau majoritaire (hors ceux colonne E) ou composites ou non spécifié"]
[null,"Matériaux inertes hors céramique","Céramique","Métal","Bois ou Bois + Métal"," Textile non synthétique ou matériaux biosourcés (Carton, papier, lin, chanvre…)","Textile synthétique, polymères ou Plastique monorésine","Textile synthétique ou Plastique"]
["inférieur strictement à 0,5 kg",0.01,0.01,0.01,0.01,0.01,0.01,0.02,0.02]
["compris entre 0,5 kg et 1 kg exclus",0.01,0.01,0.01,0.01,0.02,0.04,0.06,0.06]
["compris entre 1 kg et 2 kg exclus",0.01,0.02,0.01,0.02,0.05,0.08,0.11,0.11]
["compris entre 2 kg et 3 kg exclus",0.01,0.03,0.01,0.03,0.08,0.13,0.19,0.19]
["compris entre 3 kg et 5 kg exclus",0.02,0.04,0.01,0.04,0.12,0.2,0.3,0.3]
["compris entre 5 kg et 7 kg exclus",0.04,7.0000000000000007E-2,0.02,7.0000000000000007E-2,0.21,0.35,0.53,0.53]
["compris entre 7 kg et 10 kg exclus",0.05,0.1,0.03,0.1,0.3,0.5,0.75,0.75]
["compris entre 10 kg et 15 kg exclus",0.08,0.15,0.05,0.15,0.45,0.75,1.1299999999999999,1.1299999999999999]
["compris entre 15 kg et 20 kg exclus",0.1,0.2,0.06,0.2,0.6,1,1.5,1.5]
["compris entre 20 kg et 25 kg exclus",0.13,0.25,0.08,0.25,0.75,1.25,1.88,1.88]
["compris entre 25 kg et 30 kg exclus",0.15,0.3,0.09,0.3,0.9,1.5,2.25,2.25]
["compris entre 30 kg et 40 kg exclus",0.2,0.4,0.12,0.4,1.2,2,3,3]
["compris entre 40 kg et 50 kg exclus",0.25,0.5,0.15,0.5,1.5,2.5,3.75,3.75]
[]
[]
["Outils, bâches et équipement de protection","Monomatériau (90%)",null,"Majorité (>50%)",null,"Monomatériau (90%)",null,"Majorité (>50%)","Mix matériaux ou Assemblage de plus de 3 matériaux sans matériau majoritaire (hors ceux colonne E) ou composites ou non spécifié"]
[null,"Matériaux inertes hors céramique","Céramique","Métal","Bois ou Bois + Métal"," Textile non synthétique ou matériaux biosourcés (Carton, papier, lin, chanvre…)","Textile synthétique, polymères ou Plastique monorésine","Textile synthétique ou Plastique"]
["inférieur strictement à 0,5 kg",0.01,0.01,0.01,0.01,0.01,0.04,0.05,0.05]
["compris entre 0,5 kg et 1 kg exclus",0.01,0.01,0.01,0.03,0.04,0.12,0.16,0.16]
["compris entre 1 kg et 2 kg exclus",0.01,0.02,0.02,7.0000000000000007E-2,0.08,0.25,0.32,0.32]
["compris entre 2 kg et 3 kg exclus",0.01,0.03,0.03,0.11,0.13,0.41,0.54,0.54]
["compris entre 3 kg et 5 kg exclus",0.02,0.04,0.04,0.18,0.2,0.66,0.86,0.86]
["compris entre 5 kg et 7 kg exclus",0.04,7.0000000000000007E-2,7.0000000000000007E-2,0.32,0.35,1.1599999999999999,1.51,1.51]
[]
[]
["Pots de fleur et contenants","Monomatériau (90%)",null,"Majorité (>50%)",null,"Monomatériau (90%)",null,"Majorité (>50%)","Mix matériaux ou Assemblage de plus de 3 matériaux sans matériau majoritaire (hors ceux colonne E) ou composites ou non spécifié"]
[null,"Matériaux inertes hors céramique","Céramique","Métal","Bois ou Bois + Métal"," Textile non synthétique ou matériaux biosourcés (Carton, papier, lin, chanvre…)","Textile synthétique, polymères ou Plastique monorésine","Textile synthétique ou Plastique"]
["inférieur strictement à 0,5 kg",0.01,0.01,0.01,0.01,0.01,0.03,0.04,0.04]
["compris entre 0,5 kg et 1 kg exclus",0.01,0.01,0.01,0.02,0.04,0.1,0.13,0.13]
["compris entre 1 kg et 2 kg exclus",0.01,0.02,0.02,0.03,0.08,0.2,0.26,0.26]
["compris entre 2 kg et 3 kg exclus",0.01,0.03,0.03,0.05,0.13,0.33,0.43,0.43]
["compris entre 3 kg et 5 kg exclus",0.02,0.04,0.04,0.08,0.2,0.52,0.68,0.68]
["compris entre 5 kg et 7 kg exclus",0.04,7.0000000000000007E-2,7.0000000000000007E-2,0.14000000000000001,0.35,0.91,1.19,1.19]
["compris entre 7 kg et 10 kg exclus",0.05,0.1,0.1,0.2,0.5,1.3,1.7,1.7]
["compris entre 10 kg et 15 kg exclus",0.08,0.15,0.15,0.3,0.75,1.95,2.5499999999999998,2.5499999999999998]
["compris entre 15 kg et 20 kg exclus",0.1,0.2,0.2,0.4,1,2.6,3.4,3.4]
[]
[]
["Codification simplifiée"]
[]
["Eco-participations par lot de 10 unités","Tarif par lot de 10 unités","Code correspondant"]
[null,null,null,null,null,null,null,null,null,null,null,null,"Tarif alloti"]
[]
["Cat.3 – Bricolage"]
["1. Outillage à main et leurs accessoires",4.3,"21100000900",null,null,null,null,null,null,null,null,null,4.3]
["2. Gros objets et machines non électriques/thermiques et leurs accessoires",11.25,"21101000900",null,null,null,null,null,null,null,null,null,11.25]
["3. Outils et supports de travail en hauteur",11.25,"21102000900",null,null,null,null,null,null,null,null,null,11.25]
["4. Equipement personnel et accessoires de protection de bricolage",4.3,"21103000900",null,null,null,null,null,null,null,null,null,4.3]
["5. Bâches de bricolage",15.05,"21104000900",null,null,null,null,null,null,null,null,null,15.05]
["6. Seaux, auges et contenants",10.199999999999999,"21105000900"]
[]
["Cat.4 - Entretien et aménagement du jardin"]
["7. Outils à main d'entretien du jardin",4.3,"22150000900",null,null,null,null,null,null,null,null,null,4.3]
["8. Equipement personnel de jardinage",4.3,"22151000900",null,null,null,null,null,null,null,null,null,4.3]
["9. Pots de fleur et contenants",10.199999999999999,"22152000900",null,null,null,null,null,null,null,null,null,10.199999999999999]
["10. Bâches, housses, films et filets",15.05,"22153000900",null,null,null,null,null,null,null,null,null,15.05]
["11. Equipement de plein air",30,"22154000900",null,null,null,null,null,null,null,null,null,30]
["12. Structures extérieures non maçonnées",150,"22155000900",null,null,null,null,null,null,null,null,null,150]

{"sheet":"Régime simplifié PMCB","index":11,"n_rows":3,"n_cols":2,"rows_kept":3,"cut":false,"hidden":true,"merged":[]}
[]
[null,"Régime « petits producteurs »"]
[null,"Modalités de déclarations simplifiées "]